BEGIN:VCALENDAR
VERSION:2.0
PRODID:-//Prairie Communications, LLC - ECPv6.15.20//NONSGML v1.0//EN
CALSCALE:GREGORIAN
METHOD:PUBLISH
X-WR-CALNAME:Prairie Communications, LLC
X-ORIGINAL-URL:https://977wmoi.com
X-WR-CALDESC:Events for Prairie Communications, LLC
REFRESH-INTERVAL;VALUE=DURATION:PT1H
X-Robots-Tag:noindex
X-PUBLISHED-TTL:PT1H
BEGIN:VTIMEZONE
TZID:America/Chicago
BEGIN:DAYLIGHT
TZOFFSETFROM:-0600
TZOFFSETTO:-0500
TZNAME:CDT
DTSTART:20200308T080000
END:DAYLIGHT
BEGIN:STANDARD
TZOFFSETFROM:-0500
TZOFFSETTO:-0600
TZNAME:CST
DTSTART:20201101T070000
END:STANDARD
BEGIN:DAYLIGHT
TZOFFSETFROM:-0600
TZOFFSETTO:-0500
TZNAME:CDT
DTSTART:20210314T080000
END:DAYLIGHT
BEGIN:STANDARD
TZOFFSETFROM:-0500
TZOFFSETTO:-0600
TZNAME:CST
DTSTART:20211107T070000
END:STANDARD
BEGIN:DAYLIGHT
TZOFFSETFROM:-0600
TZOFFSETTO:-0500
TZNAME:CDT
DTSTART:20220313T080000
END:DAYLIGHT
BEGIN:STANDARD
TZOFFSETFROM:-0500
TZOFFSETTO:-0600
TZNAME:CST
DTSTART:20221106T070000
END:STANDARD
END:VTIMEZONE
BEGIN:VEVENT
DTSTART;TZID=America/Chicago:20211111T190000
DTEND;TZID=America/Chicago:20211111T190000
DTSTAMP:20260419T185622
CREATED:20211007T164108Z
LAST-MODIFIED:20211007T164108Z
UID:398736-1636657200-1636657200@977wmoi.com
SUMMARY:Maple Leaf Community Concert Series: The Diamonds
DESCRIPTION:The concert is located at Monmouth College’s historical Dahl Chapel\, 700 E. Broadway\, Monmouth\, Illinois\, which provides the audience with warm surroundings and amazing acoustics\, which creates a remarkable\, memorable concert experience! About The Diamonds: In 1957 THE DIAMONDS released an instant million selling hit called Little Darlin’. The song has been dubbed\, “the National Anthem of Rock and Roll.” The Diamonds’ many accomplishments over the years include: \n33 appearances on American Bandstand;  3 certified Gold Records;\nSoundtrack of “American Graffiti”; and\nSoundtrack of “Happy Days.” \nSince the release of “Little Darlin’” THE DIAMONDS have learned one important lesson—the durability of this classic rock and roll music is as much about the future as it is about the past. As a result\, THE DIAMONDS continue to expand their audience to this day\, performing in a variety of venues and settings worldwide.
URL:https://977wmoi.com/event/maple-leaf-community-concert-series-the-diamonds/
END:VEVENT
BEGIN:VEVENT
DTSTART;TZID=America/Chicago:20211111T100000
DTEND;TZID=America/Chicago:20211111T110000
DTSTAMP:20260419T185622
CREATED:20211102T134549Z
LAST-MODIFIED:20211102T134549Z
UID:400057-1636624800-1636628400@977wmoi.com
SUMMARY:Monmouth VFW Veteran's Day Program
DESCRIPTION:The annual veteran’s day program is back in-person at the Monmouth VFW. For those who are not able to attend the event in-person\, you can listen to the program on AM 1330 WRAM and FM 94.1 on or online on your device. The program is a warm and wonderful tribute to our local veterans and respectively Honor the time they served the United States of America.
URL:https://977wmoi.com/event/monmouth-vfw-veterans-day-program/
END:VEVENT
BEGIN:VEVENT
DTSTART;TZID=America/Chicago:20211110T180000
DTEND;TZID=America/Chicago:20211110T190000
DTSTAMP:20260419T185622
CREATED:20211101T131252Z
LAST-MODIFIED:20211101T131252Z
UID:399974-1636567200-1636570800@977wmoi.com
SUMMARY:Digital Safety Education Series Virtual Event
DESCRIPTION:Most teens have various ways to get online\, Smartphones\, tablets\, and laptops all can be used in private. It’s very easy for teens to create and share personal photos and videos of themselves without their parents knowing about it. This webinar discusses the widespread phenomenon of taking and sending explicit images. Suggestions are offered for avoiding these issues and how to stay safe from potential risks.\n\n\nRegistration: https://forms.gle/Awy4j2Utp7zg5okX7 or visit ROE33’s Family Support University (FSU) at www.roe33.net/fsu\n\n\nRegional Office of Education #33 in partnership with ICAC (Internet Crimes Against Children Task Force)
URL:https://977wmoi.com/event/digital-safety-education-series-virtual-event/
END:VEVENT
BEGIN:VEVENT
DTSTART;TZID=America/Chicago:20211110T130000
DTEND;TZID=America/Chicago:20211110T150000
DTSTAMP:20260419T185622
CREATED:20211101T181951Z
LAST-MODIFIED:20211101T181951Z
UID:400006-1636549200-1636556400@977wmoi.com
SUMMARY:Oquawka Strom Center BINGO
DESCRIPTION:Each person is allowed up to 4 cards for free and each additional card is 25 cents. Refreshments will be served during the afternoon. Feel free to bring your own lunch to enjoy before BINGO at 12:15.
URL:https://977wmoi.com/event/oquawka-strom-center-bingo-5/
END:VEVENT
BEGIN:VEVENT
DTSTART;TZID=America/Chicago:20211110T090000
DTEND;TZID=America/Chicago:20211110T130000
DTSTAMP:20260419T185622
CREATED:20211028T182428Z
LAST-MODIFIED:20211101T181327Z
UID:399889-1636534800-1636549200@977wmoi.com
SUMMARY:Free A1C Screenings at Strom Center
DESCRIPTION:In conjunction with OSF Holy Family HealthCare\, Diabetes/A1C screenings will be offered for free at Strom Center in Monmouth. Fasting is not required. Registration is not necessary.
URL:https://977wmoi.com/event/free-a1c-screenings-at-strom-center/
END:VEVENT
BEGIN:VEVENT
DTSTART;TZID=America/Chicago:20211110T083000
DTEND;TZID=America/Chicago:20211110T160000
DTSTAMP:20260419T185622
CREATED:20211022T132735Z
LAST-MODIFIED:20211025T184011Z
UID:399418-1636533000-1636560000@977wmoi.com
SUMMARY:Warren County Health Department COVID Vaccination Clinic
DESCRIPTION:Held at the 1st Christian Church\, 514 North Sunny Lane in Monmouth. Pfizer\, Moderna\, and Johnson & Johnson vaccines will all be available. Boosters are currently available if you have previously received Pfizer or Moderna more than 6 months ago. Johnson & Johnson boosters are available if you received you initial dose at least 2 months ago. Appointments must be scheduled prior to receiving  vaccine by calling 309-734-0823 during regular business hours.
URL:https://977wmoi.com/event/warren-county-health-department-covid-vaccination-clinic-4/
END:VEVENT
BEGIN:VEVENT
DTSTART;TZID=America/Chicago:20211110T080000
DTEND;TZID=America/Chicago:20211110T100000
DTSTAMP:20260419T185622
CREATED:20211018T204605Z
LAST-MODIFIED:20211018T204605Z
UID:399183-1636531200-1636538400@977wmoi.com
SUMMARY:Henderson County Health Department Flu Vaccine Clinic
DESCRIPTION:It will be a walk-in clinic from 8-10am every Wednesday morning through December.\n\n\nPlease bring your Medicare or Medicaid card with you.\n\n\nWith out insurance\, it will be $35 for regular Flublock and $55 for the over age 65 Fluzone HD.
URL:https://977wmoi.com/event/henderson-county-health-department-flu-vaccine-clinic-4/
END:VEVENT
BEGIN:VEVENT
DTSTART;TZID=America/Chicago:20211109T170000
DTEND;TZID=America/Chicago:20211109T190000
DTSTAMP:20260419T185622
CREATED:20211103T133653Z
LAST-MODIFIED:20211103T133653Z
UID:400104-1636477200-1636484400@977wmoi.com
SUMMARY:Business After Hours
DESCRIPTION:The Galesburg Area Chamber of Commerce’s next Business After Hours will happen at The Hub\, 143 East Main Street in Galesburg. Bring your business card and enjoy the return of networking with other local contacts.
URL:https://977wmoi.com/event/business-after-hours-10/
END:VEVENT
BEGIN:VEVENT
DTSTART;TZID=America/Chicago:20211109T133000
DTEND;TZID=America/Chicago:20211109T153000
DTSTAMP:20260419T185622
CREATED:20211109T141209Z
LAST-MODIFIED:20211109T141209Z
UID:400348-1636464600-1636471800@977wmoi.com
SUMMARY:Knox County COVID-19 Vaccination Clinic
DESCRIPTION:At the Unified Command Vaccine Center 1:30pm-3:30pm Moderna\, Pfizer & Janssen (12 years of age and up)
URL:https://977wmoi.com/event/knox-county-covid-19-vaccination-clinic-5/
END:VEVENT
BEGIN:VEVENT
DTSTART;TZID=America/Chicago:20211109T120000
DTEND;TZID=America/Chicago:20211109T130000
DTSTAMP:20260419T185622
CREATED:20211101T183605Z
LAST-MODIFIED:20211105T142320Z
UID:400017-1636459200-1636462800@977wmoi.com
SUMMARY:Cyber-Security Forum
DESCRIPTION:Learn how to protect yourself or your business from scams\, identity theft\, malware\, ransomware\, phishing\, and data breaches. Hear the forum on AM 1330/FM 94.1 WRAM or on this website. Just click Listen Live and choose WRAM.
URL:https://977wmoi.com/event/cyber-security-forum/
END:VEVENT
BEGIN:VEVENT
DTSTART;TZID=America/Chicago:20211109T080000
DTEND;TZID=America/Chicago:20211109T093000
DTSTAMP:20260419T185622
CREATED:20211007T191357Z
LAST-MODIFIED:20211007T191357Z
UID:398746-1636444800-1636450200@977wmoi.com
SUMMARY:Free Children’s Orthopedic Assessment Clinic
DESCRIPTION:Illinois Elks Children’s Care Corporation will sponsor a Free children’s orthopedic assessment clinic on Tuesday\, November 9\, 2021 in Galesburg.   The Clinic is 8:00 AM to 9:30 AM and by appointment only.  To make an appointment call the Illinois Elks Children’s Care office at 1-800-272-0074 between the hours of 9:00 AM to 4:00 PM Monday through Friday.  There are no charges for any services at this clinic. \nThe Elks will hold the clinic at the OSF Galesburg Clinic\, 3315 North Seminary Drive in Galesburg\, IL.   Dr. Steven Potaczek will be the clinician in charge. \nNo medical referral is necessary for the clinic but physicians are welcome to refer patients to the clinic for a specific reason or second opinion.  School nurses are welcome to refer children and families to the clinic. The clinic is an ideal time to have a child reviewed for bone and joint development.
URL:https://977wmoi.com/event/free-childrens-orthopedic-assessment-clinic/
END:VEVENT
BEGIN:VEVENT
DTSTART;TZID=America/Chicago:20211106T163000
DTEND;TZID=America/Chicago:20211106T163000
DTSTAMP:20260419T185622
CREATED:20211103T130432Z
LAST-MODIFIED:20211103T130432Z
UID:400087-1636216200-1636216200@977wmoi.com
SUMMARY:2021 Basketball Fundraiser
DESCRIPTION:A fundraising basketball game between the Galesburg Police Department and the Knox County Special Olympics Minions team will square off on the court in the Lombard School Gym\, 1220 East Knox Street in Galesburg. Free will donation.
URL:https://977wmoi.com/event/2021-basketball-fundraiser/
END:VEVENT
BEGIN:VEVENT
DTSTART;TZID=America/Chicago:20211105T170000
DTEND;TZID=America/Chicago:20211105T190000
DTSTAMP:20260419T185622
CREATED:20211103T160952Z
LAST-MODIFIED:20211103T160952Z
UID:400122-1636131600-1636138800@977wmoi.com
SUMMARY:Monmouth VFW Taco Dinner
DESCRIPTION:All are welcome to attend.
URL:https://977wmoi.com/event/monmouth-vfw-taco-dinner/
END:VEVENT
BEGIN:VEVENT
DTSTART;TZID=America/Chicago:20211105T170000
DTEND;TZID=America/Chicago:20211105T170000
DTSTAMP:20260419T185622
CREATED:20211025T130452Z
LAST-MODIFIED:20211025T130854Z
UID:399544-1636131600-1636131600@977wmoi.com
SUMMARY:Quarter Auction Fundraiser for Monmouth-Roseville After Prom Event
DESCRIPTION:Come out for an evening of fun at the Monmouth Country Club to help Monmouth Roseville After Prom Committee and try your luck at winning fabulous items. Get a start to your holiday shopping while supporting local small businesses owners. \nA Quarter Auction combines the thrill of an auction with the luck of a raffle when you buy a numbered paddle & bid 1 to 4 quarters to enter in an attempt to win items/baskets worth $10 to $75+.(High valued items may require more quarters) \nDoors open at 5pm for viewing auction items\, purchasing paddles\, and shopping participating vendors. Auction begins at 6p.m. and ends when all items have been auctioned off– Paddle sales begin at 5pm.– cost: $3 each or 2 for $5. \nProceeds from the quarter auction go towards planned after prom events for the Monmouth Roseville students. \nConcessions will be available for purchase!
URL:https://977wmoi.com/event/quarter-auction-fundraiser-for-monmouth-roseville-after-prom-event/
END:VEVENT
BEGIN:VEVENT
DTSTART;TZID=America/Chicago:20211104T180000
DTEND;TZID=America/Chicago:20211104T190000
DTSTAMP:20260419T185622
CREATED:20211027T203609Z
LAST-MODIFIED:20211027T203609Z
UID:399835-1636048800-1636052400@977wmoi.com
SUMMARY:CASA Virtual Trivia Night
DESCRIPTION:Join us for our first Virtual Trivia Night fundraiser! Sign up by yourself or with a group of any size. This event is online\, so make a team of friends from all across the world! Scores are averaged to determine your team standing\, and the highest scoring team wins the trophy! Tickets are $10 per person. To purchase tickets\, visit casaofwestcentralillinois.org. Zoom link will be sent out prior to event and will open at 6:45 pm. Proceeds will benefit CASA of West Central Illinois.
URL:https://977wmoi.com/event/casa-virtual-trivia-night/
END:VEVENT
BEGIN:VEVENT
DTSTART;TZID=America/Chicago:20211104T180000
DTEND;TZID=America/Chicago:20211104T180000
DTSTAMP:20260419T185622
CREATED:20211027T191600Z
LAST-MODIFIED:20211027T191600Z
UID:399831-1636048800-1636048800@977wmoi.com
SUMMARY:Warren County Democrats Campaign Kickoff
DESCRIPTION:Join the Warren County Democrats for a campaign kickoff with Representative Michael Halpin. Mike is currently the State Representative from Rock Island County and will be running for State Senator in the new district. The event is free and open to anyone in the public. The event will be held at the Buchanan Center for the Arts\, 64 Public Square in Downtown Monmouth. Light refreshments will be provided. Donations are accepted but not required.
URL:https://977wmoi.com/event/warren-county-democrats-campaign-kickoff/
END:VEVENT
BEGIN:VEVENT
DTSTART;TZID=America/Chicago:20211104T110000
DTEND;TZID=America/Chicago:20211104T180000
DTSTAMP:20260419T185622
CREATED:20211026T210926Z
LAST-MODIFIED:20211026T210926Z
UID:399714-1636023600-1636048800@977wmoi.com
SUMMARY:Calvary Baptist Church Turkey Dinner
DESCRIPTION:Carry out and delivery are available from the Calvary Baptist Church\, 1000 South 1st Street in Monmouth. A donation of $12 is welcome. All are welcome to attend.
URL:https://977wmoi.com/event/calvary-baptist-church-turkey-dinner/
END:VEVENT
BEGIN:VEVENT
DTSTART;TZID=America/Chicago:20211103T120000
DTEND;TZID=America/Chicago:20211103T130000
DTSTAMP:20260419T185622
CREATED:20211025T183205Z
LAST-MODIFIED:20211025T183205Z
UID:399608-1635940800-1635944400@977wmoi.com
SUMMARY:Monmouth Chamber Connections Luncheon
DESCRIPTION:At Meks on Main\, 201 North Main Street in Monmouth. Sponsored by Stanton Insurance. Catered by Alfano’s Pizza. The guest speaker will be Dirk Lefler\, Apprenticeship Navigator with the Western IL Workforce\, “Apprenticeships: Recruit\, Train\, Retain.”
URL:https://977wmoi.com/event/monmouth-chamber-connections-luncheon/
END:VEVENT
BEGIN:VEVENT
DTSTART;TZID=America/Chicago:20211103T083000
DTEND;TZID=America/Chicago:20211103T160000
DTSTAMP:20260419T185622
CREATED:20211022T132651Z
LAST-MODIFIED:20211025T183926Z
UID:399416-1635928200-1635955200@977wmoi.com
SUMMARY:Warren County Health Department COVID Vaccination Clinic
DESCRIPTION:Held at the 1st Christian Church\, 514 North Sunny Lane in Monmouth. Pfizer\, Moderna\, and Johnson & Johnson vaccines will all be available. Boosters are currently available if you have previously received Pfizer or Moderna more than 6 months ago. Johnson & Johnson boosters are available if you received you initial dose at least 2 months ago. Appointments must be scheduled prior to receiving  vaccine by calling 309-734-0823 during regular business hours.
URL:https://977wmoi.com/event/warren-county-health-department-covid-vaccination-clinic-3/
END:VEVENT
BEGIN:VEVENT
DTSTART;TZID=America/Chicago:20211103T080000
DTEND;TZID=America/Chicago:20211103T100000
DTSTAMP:20260419T185622
CREATED:20211018T204526Z
LAST-MODIFIED:20211018T204526Z
UID:399181-1635926400-1635933600@977wmoi.com
SUMMARY:Henderson County Health Department Flu Vaccine Clinic
DESCRIPTION:It will be a walk-in clinic from 8-10am every Wednesday morning through December.\n\n\nPlease bring your Medicare or Medicaid card with you.\n\n\nWith out insurance\, it will be $35 for regular Flublock and $55 for the over age 65 Fluzone HD.
URL:https://977wmoi.com/event/henderson-county-health-department-flu-vaccine-clinic-3/
END:VEVENT
BEGIN:VEVENT
DTSTART;TZID=America/Chicago:20211102T173000
DTEND;TZID=America/Chicago:20211102T190000
DTSTAMP:20260419T185622
CREATED:20211101T131147Z
LAST-MODIFIED:20211101T131147Z
UID:399972-1635874200-1635879600@977wmoi.com
SUMMARY:Introduction to Positive Psychology Virtual Event
DESCRIPTION:For many years\, psychology has focused on pathology and pain with a goal of curing illnesses. Positive psychology takes a different approach; instead\, focusing on what is right with people and what makes life worth living. During this session\, participants will learn key concepts and topics as well as simple techniques to start flourishing and thriving in life. \nVirtual Webinar Event\nDate: Tuesday- November 2nd\nTime: 5:30pm – 7:00pm\nHeld Via Zoom\n\nRegistration is required: https://forms.gle/uVkYvwYr5z3crQYu6 or scan QR code on the flyer or visit Family Support University (FSU) at www.roe33.net/fsu
URL:https://977wmoi.com/event/introduction-to-positive-psychology-virtual-event/
END:VEVENT
BEGIN:VEVENT
DTSTART;TZID=America/Chicago:20211101T173000
DTEND;TZID=America/Chicago:20211101T190000
DTSTAMP:20260419T185622
CREATED:20211101T131023Z
LAST-MODIFIED:20211101T131023Z
UID:399970-1635787800-1635793200@977wmoi.com
SUMMARY:Introduction to Positive Psychology
DESCRIPTION:For many years\, psychology has focused on pathology and pain with a goal of curing illnesses. Positive psychology takes a different approach; instead\, focusing on what is right with people and what makes life worth living. During this session\, participants will learn key concepts and topics as well as simple techniques to start flourishing and thriving in life. \nIn-Person Event: Food & Beverages Provided\nDate: Monday- November 1st\nTime: 5:30pm – 7:00pm\nLocation: RAES East Building / 235 E. Main St. (directly next to Jimmy Johns)\n\nRegistration is required: https://forms.gle/uVkYvwYr5z3crQYu6 or scan QR code on the flyer or visit Family Support University (FSU) at www.roe33.net/fsu
URL:https://977wmoi.com/event/introduction-to-positive-psychology/
END:VEVENT
BEGIN:VEVENT
DTSTART;TZID=America/Chicago:20211101T170000
DTEND;TZID=America/Chicago:20211101T183000
DTSTAMP:20260419T185622
CREATED:20210920T201954Z
LAST-MODIFIED:20211029T201711Z
UID:397882-1635786000-1635791400@977wmoi.com
SUMMARY:Monmouth American Legion Soup Supper
DESCRIPTION:All you can eat. Serving chili\, chicken and noodle\, cheeseburger soup\, and chili dogs. Each meal comes with dessert\, drink\, and great friends to enjoy your meal with. A 50/50 raffle will be drawn at 6 pm. Cost is $8 for adults and $3 for children.
URL:https://977wmoi.com/event/monmouth-american-legion-soup-supper-3/
END:VEVENT
BEGIN:VEVENT
DTSTART;TZID=America/Chicago:20211031T173000
DTEND;TZID=America/Chicago:20211031T200000
DTSTAMP:20260419T185622
CREATED:20211022T130141Z
LAST-MODIFIED:20211022T130141Z
UID:399409-1635701400-1635710400@977wmoi.com
SUMMARY:Open House and Trunk-or-Treat
DESCRIPTION:At the Monmouth Fire Department\, 601 Industrial Park Road. A great stop for the kids to come see the trucks and equipment\, hear fire prevention and public safety talks\, as well as get some candy! The Monmouth Evening Lions Club will also be handing out hot dogs and chips.
URL:https://977wmoi.com/event/open-house-and-trunk-or-treat/
END:VEVENT
BEGIN:VEVENT
DTSTART;TZID=America/Chicago:20211031T173000
DTEND;TZID=America/Chicago:20211031T200000
DTSTAMP:20260419T185622
CREATED:20211005T135409Z
LAST-MODIFIED:20211005T135409Z
UID:398565-1635701400-1635710400@977wmoi.com
SUMMARY:City of Monmouth Trick-or-Treating Hours
DESCRIPTION:
URL:https://977wmoi.com/event/city-of-monmouth-trick-or-treating-hours/
END:VEVENT
BEGIN:VEVENT
DTSTART;TZID=America/Chicago:20211031T173000
DTEND;TZID=America/Chicago:20211031T193000
DTSTAMP:20260419T185622
CREATED:20211006T134527Z
LAST-MODIFIED:20211006T134527Z
UID:398656-1635701400-1635708600@977wmoi.com
SUMMARY:Trick-or-Treating in Stronghurst
DESCRIPTION:
URL:https://977wmoi.com/event/trick-or-treating-in-stronghurst/
END:VEVENT
BEGIN:VEVENT
DTSTART;TZID=America/Chicago:20211031T170000
DTEND;TZID=America/Chicago:20211031T200000
DTSTAMP:20260419T185622
CREATED:20211022T183057Z
LAST-MODIFIED:20211022T183057Z
UID:399460-1635699600-1635710400@977wmoi.com
SUMMARY:Kirkwood Fire Department Trunk-or-Treat
DESCRIPTION:
URL:https://977wmoi.com/event/kirkwood-fire-department-trunk-or-treat/
END:VEVENT
BEGIN:VEVENT
DTSTART;TZID=America/Chicago:20211031T170000
DTEND;TZID=America/Chicago:20211031T200000
DTSTAMP:20260419T185622
CREATED:20211021T191124Z
LAST-MODIFIED:20211021T191124Z
UID:399385-1635699600-1635710400@977wmoi.com
SUMMARY:City of Macomb Trick-or-Treating
DESCRIPTION:
URL:https://977wmoi.com/event/city-of-macomb-trick-or-treating-2/
END:VEVENT
BEGIN:VEVENT
DTSTART;TZID=America/Chicago:20211031T170000
DTEND;TZID=America/Chicago:20211031T200000
DTSTAMP:20260419T185622
CREATED:20211013T163015Z
LAST-MODIFIED:20211013T163015Z
UID:398967-1635699600-1635710400@977wmoi.com
SUMMARY:City of Galesburg Trick-or-Treating Hours
DESCRIPTION:
URL:https://977wmoi.com/event/city-of-galesburg-trick-or-treating-hours/
END:VEVENT
BEGIN:VEVENT
DTSTART;TZID=America/Chicago:20211031T170000
DTEND;TZID=America/Chicago:20211031T200000
DTSTAMP:20260419T185622
CREATED:20210930T205236Z
LAST-MODIFIED:20210930T205236Z
UID:398394-1635699600-1635710400@977wmoi.com
SUMMARY:Village of Oquawka Trick-or-Treating
DESCRIPTION:
URL:https://977wmoi.com/event/village-of-oquawka-trick-or-treating/
END:VEVENT
END:VCALENDAR