BEGIN:VCALENDAR
VERSION:2.0
PRODID:-//Prairie Communications, LLC - ECPv6.15.20//NONSGML v1.0//EN
CALSCALE:GREGORIAN
METHOD:PUBLISH
X-WR-CALNAME:Prairie Communications, LLC
X-ORIGINAL-URL:https://977wmoi.com
X-WR-CALDESC:Events for Prairie Communications, LLC
REFRESH-INTERVAL;VALUE=DURATION:PT1H
X-Robots-Tag:noindex
X-PUBLISHED-TTL:PT1H
BEGIN:VTIMEZONE
TZID:America/Chicago
BEGIN:DAYLIGHT
TZOFFSETFROM:-0600
TZOFFSETTO:-0500
TZNAME:CDT
DTSTART:20210314T080000
END:DAYLIGHT
BEGIN:STANDARD
TZOFFSETFROM:-0500
TZOFFSETTO:-0600
TZNAME:CST
DTSTART:20211107T070000
END:STANDARD
BEGIN:DAYLIGHT
TZOFFSETFROM:-0600
TZOFFSETTO:-0500
TZNAME:CDT
DTSTART:20220313T080000
END:DAYLIGHT
BEGIN:STANDARD
TZOFFSETFROM:-0500
TZOFFSETTO:-0600
TZNAME:CST
DTSTART:20221106T070000
END:STANDARD
BEGIN:DAYLIGHT
TZOFFSETFROM:-0600
TZOFFSETTO:-0500
TZNAME:CDT
DTSTART:20230312T080000
END:DAYLIGHT
BEGIN:STANDARD
TZOFFSETFROM:-0500
TZOFFSETTO:-0600
TZNAME:CST
DTSTART:20231105T070000
END:STANDARD
END:VTIMEZONE
BEGIN:VEVENT
DTSTART;TZID=America/Chicago:20220611T180000
DTEND;TZID=America/Chicago:20220611T220000
DTSTAMP:20260420T021550
CREATED:20220510T125756Z
LAST-MODIFIED:20220510T125756Z
UID:408567-1654970400-1654984800@977wmoi.com
SUMMARY:Relay For Life of Knox County Annual Event
DESCRIPTION:Relay For Life of Knox County will host their annual community event in support of the American Cancer Society. This free event will be celebrated at the Galesburg High School practice field on Saturday\, June 11th 6-10pm. The event will celebrate cancer survivors with a special lap\, recognize Relay teams who have conducted fundraising all year\, and honor those touched by cancer with a dedicated luminaria lap at 9pm. Food\, entertainment\, a silent auction and activities are also planned. Interested survivors may register for the event on the website\, http://relayforlife.com/knoxil\, although everyone is welcome to the event. Luminaria in honor or memory of loved ones may be purchased on the website by June 10th and will be displayed at the event. Join in the celebration by following Relay For Life of Knox County on Facebook (@relayforlifekc).
URL:https://977wmoi.com/event/relay-for-life-of-knox-county-annual-event/
END:VEVENT
BEGIN:VEVENT
DTSTART;TZID=America/Chicago:20220611T080000
DTEND;TZID=America/Chicago:20220611T140000
DTSTAMP:20260420T021550
CREATED:20220602T134747Z
LAST-MODIFIED:20220602T134747Z
UID:409588-1654934400-1654956000@977wmoi.com
SUMMARY:Friends of the Library Book Sale
DESCRIPTION:Friends of the Library Book Sale\nWarren County Public Library\n62 Public Square\, Monmouth\nJune 11\, 8:00 a.m. – 2:00 p.m.\nFreewill donations accepted\nBook bags $10
URL:https://977wmoi.com/event/friends-of-the-library-book-sale-4/
END:VEVENT
BEGIN:VEVENT
DTSTART;VALUE=DATE:20220611
DTEND;VALUE=DATE:20220612
DTSTAMP:20260420T021550
CREATED:20220420T200432Z
LAST-MODIFIED:20220420T200432Z
UID:407718-1654905600-1654991999@977wmoi.com
SUMMARY:Village of Kirkwood City-Wide Clean Up Day
DESCRIPTION:Jackson Disposal will offer a city-wide cleanup day for residents in the Village of Kirkwood. Accepted items include couches\, chairs\, table\, other furniture\, grills without tanks\, lawn mowers without gasoline in them\, carpeting in no longer than 5-foot rolls\, and small amounts of construction. Only a pickup size load at each residence will be collected. All garbage needs to be out on the curb by 4 am. For more information\, contact Jackson Disposal at 1-866-686-4410.
URL:https://977wmoi.com/event/village-of-kirkwood-city-wide-clean-up-day/
END:VEVENT
BEGIN:VEVENT
DTSTART;VALUE=DATE:20220611
DTEND;VALUE=DATE:20220613
DTSTAMP:20260420T021550
CREATED:20220412T132433Z
LAST-MODIFIED:20220412T132433Z
UID:407285-1654905600-1655078399@977wmoi.com
SUMMARY:Maple City Antique Tractor Club Association Annual Tractor Show
DESCRIPTION:All makes and models welcome. Located at Tractor Supply Company and Lowe’s\, Carl Sandburg Drive in Galesburg. There will be a John Deere 4430 Pedal Tractor raffle\, food on grounds for purchase\, and vendor tables available. Free daily entry.
URL:https://977wmoi.com/event/maple-city-antique-tractor-club-association-annual-tractor-show/
END:VEVENT
BEGIN:VEVENT
DTSTART;TZID=America/Chicago:20220610T170000
DTEND;TZID=America/Chicago:20220610T190000
DTSTAMP:20260420T021550
CREATED:20220510T210127Z
LAST-MODIFIED:20220511T134639Z
UID:408631-1654880400-1654887600@977wmoi.com
SUMMARY:Monmouth Farmer's Market
DESCRIPTION:Monmouth Area Chamber of Commerce’s Farmer’s Market will be held Fridays in the Fortress Bank Parking Lot\, 300 Block of North Main in Monmouth.
URL:https://977wmoi.com/event/monmouth-farmers-market-4/
END:VEVENT
BEGIN:VEVENT
DTSTART;TZID=America/Chicago:20220610T120000
DTEND;TZID=America/Chicago:20220610T120000
DTSTAMP:20260420T021550
CREATED:20220422T130958Z
LAST-MODIFIED:20220422T130958Z
UID:407792-1654862400-1654862400@977wmoi.com
SUMMARY:COSTA Catholic School Golf Outing
DESCRIPTION:Open to all COSTA alumni. Golf outing will be held at Gibson Woods Golf Course. $30 per person for teams of four in a best ball format. Registration begins at noon. Shotgun start at 1:00.
URL:https://977wmoi.com/event/costa-catholic-school-golf-outing/
END:VEVENT
BEGIN:VEVENT
DTSTART;TZID=America/Chicago:20220609T170000
DTEND;TZID=America/Chicago:20220609T190000
DTSTAMP:20260420T021550
CREATED:20220523T165028Z
LAST-MODIFIED:20220523T165028Z
UID:409182-1654794000-1654801200@977wmoi.com
SUMMARY:First Lutheran Church Annual Strawberry Festival
DESCRIPTION:The First Lutheran Church\, 116 South B Street in Monmouth\, will hold their annual Strawberry Festival in the basement Fellowship Hall. Serving BBQ sandwiches\, chips\, strawberries\, ice cream\, cake and drinks. Suggested donations are $8 for adults and $5 for children ten and under. The Monmouth Municipal Band will play beginning at 7 pm. Proceeds will go towards the Church and Women of the Evangelical Lutheran Church in America projects.
URL:https://977wmoi.com/event/first-lutheran-church-annual-strawberry-festival/
END:VEVENT
BEGIN:VEVENT
DTSTART;VALUE=DATE:20220608
DTEND;VALUE=DATE:20220610
DTSTAMP:20260420T021550
CREATED:20220504T204001Z
LAST-MODIFIED:20220504T204001Z
UID:408403-1654646400-1654819199@977wmoi.com
SUMMARY:Farm Bureau Summer Ag Institute Days for Area Teachers
DESCRIPTION:Area educators note: On Wednesday\, June 8th (Quad Cities) and Thursday\, June 9th (Peoria)\, “Ag in a Day” teacher workshops will be held\, hosted by Bureau\, Henry\, Knox\, Mercer\, Stark\, and Warren-Henderson county farm bureaus. These workshops and tours are intended to help teachers learn about ag topics and local agricultural products in surrounding counties. Professional development credits will be available to attendees. The workshops are $10/teacher per day\, teachers are invited to attend one or both days; workshops are open to all teachers & educators. \nRegistration opens April 18th: registration numbers will be capped\, be sure to register early! \nClick here for more information and to register.
URL:https://977wmoi.com/event/farm-bureau-summer-ag-institute-days-for-area-teachers/
END:VEVENT
BEGIN:VEVENT
DTSTART;TZID=America/Chicago:20220607T163000
DTEND;TZID=America/Chicago:20220607T183000
DTSTAMP:20260420T021550
CREATED:20220524T201651Z
LAST-MODIFIED:20220524T201651Z
UID:409272-1654619400-1654626600@977wmoi.com
SUMMARY:Warren County 4-H BBQ
DESCRIPTION:Dine in\, drive thru\, or carry out at the Warren-Henderson Farm Bureau\, 1000 North Main Street in Monmouth. Serving a pork chop sandwich\, baked beans\, applesauce\, chips\, dessert\, and drink. Tickets are $8.
URL:https://977wmoi.com/event/warren-county-4-h-bbq/
END:VEVENT
BEGIN:VEVENT
DTSTART;TZID=America/Chicago:20220607T160000
DTEND;TZID=America/Chicago:20220607T183000
DTSTAMP:20260420T021550
CREATED:20220607T180250Z
LAST-MODIFIED:20220607T180250Z
UID:409793-1654617600-1654626600@977wmoi.com
SUMMARY:Alexis Farmer's Market
DESCRIPTION:Held every Tuesday in the Alexis Park. Stop\, shop\, browse\, and chat. Eight vendors\, including Lee’s Bakery will be set up from 4 to 6:30 pm. New vendors are always welcome. Call 309-635-4666 to get involved.
URL:https://977wmoi.com/event/alexis-farmers-market-26/
END:VEVENT
BEGIN:VEVENT
DTSTART;TZID=America/Chicago:20220606T170000
DTEND;TZID=America/Chicago:20220606T200000
DTSTAMP:20260420T021550
CREATED:20220412T183011Z
LAST-MODIFIED:20220412T183011Z
UID:407349-1654534800-1654545600@977wmoi.com
SUMMARY:Stronghurst Farmers Market
DESCRIPTION:Held Monday nights in downtown Stronghurst on Broadway Street. Sponsored by the Stronghurst Booster Club.
URL:https://977wmoi.com/event/stronghurst-farmers-market-3/
END:VEVENT
BEGIN:VEVENT
DTSTART;TZID=America/Chicago:20220606T120000
DTEND;TZID=America/Chicago:20220606T130000
DTSTAMP:20260420T021550
CREATED:20220602T134636Z
LAST-MODIFIED:20220602T134636Z
UID:409586-1654516800-1654520400@977wmoi.com
SUMMARY:Esther Joy King Meet & Greet
DESCRIPTION:A meet & greet with Esther Joy King\, candidate for IL – 17th congressional district will be held Monday\, June 6th from Noon – 1 p.m. at Dew Ag Repair\, 115 N. Broadway\, Kirkwood.  The public is invited.
URL:https://977wmoi.com/event/esther-joy-king-meet-greet/
END:VEVENT
BEGIN:VEVENT
DTSTART;TZID=America/Chicago:20220604T160000
DTEND;TZID=America/Chicago:20220604T190000
DTSTAMP:20260420T021550
CREATED:20220429T154933Z
LAST-MODIFIED:20220429T154933Z
UID:408136-1654358400-1654369200@977wmoi.com
SUMMARY:Henderson County 4-H BBQ
DESCRIPTION:Take a night off from cooking and support 4-H youth at the Henderson County Fairgrounds in Stronghurst. \nDine-in or carry out a delicious pork chop sandwich\, potato salad or potato chips\, baked beans\, applesauce\, dessert\, and a drink. \nTickets are available in advance for a donation through your friendly neighborhood 4-H member. You may also purchase them at the door. \nWe will see you at the fairgrounds!
URL:https://977wmoi.com/event/henderson-county-4-h-bbq/
END:VEVENT
BEGIN:VEVENT
DTSTART;TZID=America/Chicago:20220604T130000
DTEND;TZID=America/Chicago:20220604T130000
DTSTAMP:20260420T021550
CREATED:20220524T194737Z
LAST-MODIFIED:20220524T194737Z
UID:409270-1654347600-1654347600@977wmoi.com
SUMMARY:Gerlaw Cemetery History Walk
DESCRIPTION:Harvey Ponder of Lackey Monument will be the guest speaker. Join to learn about monuments from different time periods and also about the movers and shakers of the Gerlaw Community.
URL:https://977wmoi.com/event/gerlaw-cemetery-history-walk/
END:VEVENT
BEGIN:VEVENT
DTSTART;TZID=America/Chicago:20220604T113000
DTEND;TZID=America/Chicago:20220604T190000
DTSTAMP:20260420T021550
CREATED:20220524T125903Z
LAST-MODIFIED:20220524T125903Z
UID:409208-1654342200-1654369200@977wmoi.com
SUMMARY:Good Hope-Sciota Firemen Fish Fry & Chicken Dinner
DESCRIPTION:At the Good Hope Fire Station\, 145 West Main Street. Dinner is $15 and $10 for kids. Serving 11:30 to 2 pm and then 4 pm to 7 pm.
URL:https://977wmoi.com/event/good-hope-sciota-firemen-fish-fry-chicken-dinner/
END:VEVENT
BEGIN:VEVENT
DTSTART;TZID=America/Chicago:20220604T083000
DTEND;TZID=America/Chicago:20220604T083000
DTSTAMP:20260420T021550
CREATED:20220531T130722Z
LAST-MODIFIED:20220531T130722Z
UID:409463-1654331400-1654331400@977wmoi.com
SUMMARY:Maple City Antique Tractor Association Tractor Drive
DESCRIPTION:The Maple City Antique Tractor Association is holding a Tractor Drive on Saturday\, June 4th\, starting in Abingdon. For more details\, contact Mike\, Bill\, or Curt at the phone numbers at the bottom of the flyer! We hope to see you there!
URL:https://977wmoi.com/event/maple-city-antique-tractor-association-tractor-drive/
END:VEVENT
BEGIN:VEVENT
DTSTART;TZID=America/Chicago:20220604T080000
DTEND;TZID=America/Chicago:20220604T150000
DTSTAMP:20260420T021550
CREATED:20220330T130610Z
LAST-MODIFIED:20220330T130610Z
UID:406489-1654329600-1654354800@977wmoi.com
SUMMARY:Household Hazardous Waste Collection Day in Macomb
DESCRIPTION:The McDonough County Health Department\, in conjunction with IEPA and WIU will be hosting a Household Hazardous Waste disposal event on June 4th.  Details about the event\, items allowed and registration information are available in the attached flyer.
URL:https://977wmoi.com/event/household-hazardous-waste-collection-day-in-macomb/
END:VEVENT
BEGIN:VEVENT
DTSTART;TZID=America/Chicago:20220604T080000
DTEND;TZID=America/Chicago:20220604T120000
DTSTAMP:20260420T021550
CREATED:20220524T130427Z
LAST-MODIFIED:20220524T130427Z
UID:409213-1654329600-1654344000@977wmoi.com
SUMMARY:Monmouth Police Department FOP Cops & Bobbers Fishing Derby
DESCRIPTION:The 16th Annual Cops and Bobbers fishing derby will be held at Citizen’s Lake in Monmouth for ages 2 to 15 years old. Anyone 16 and older assisting will be required to have a valid fishing license.
URL:https://977wmoi.com/event/monmouth-police-department-fop-cops-bobbers-fishing-derby/
END:VEVENT
BEGIN:VEVENT
DTSTART;TZID=America/Chicago:20220604T080000
DTEND;TZID=America/Chicago:20220604T090000
DTSTAMP:20260420T021550
CREATED:20220601T131016Z
LAST-MODIFIED:20220601T131016Z
UID:409543-1654329600-1654333200@977wmoi.com
SUMMARY:Lake Warren Annual Youth Fishing Derby
DESCRIPTION:Registration begins at 7:30 am by the boat ramp. Children age 16 and younger are invited to join the annual fishing derby at the big dam. Donuts and juice will be provided by the Hickory Grove Lake Co Board and worms are provided by DMF Bait Co. Kids will begin fishing at 8:00 am. This event is free for members and their guests.
URL:https://977wmoi.com/event/lake-warren-annual-youth-fishing-derby/
END:VEVENT
BEGIN:VEVENT
DTSTART;TZID=America/Chicago:20220604T080000
DTEND;TZID=America/Chicago:20220604T080000
DTSTAMP:20260420T021550
CREATED:20220511T170154Z
LAST-MODIFIED:20220511T170154Z
UID:408729-1654329600-1654329600@977wmoi.com
SUMMARY:Eagle View Community Health System Golf Tournament
DESCRIPTION:Eagle View’s annual fundraising golf tournament will be held at Gibson Woods in Monmouth.
URL:https://977wmoi.com/event/eagle-view-community-health-system-golf-tournament/
END:VEVENT
BEGIN:VEVENT
DTSTART;VALUE=DATE:20220604
DTEND;VALUE=DATE:20220605
DTSTAMP:20260420T021550
CREATED:20220513T130712Z
LAST-MODIFIED:20220513T130712Z
UID:408815-1654300800-1654387199@977wmoi.com
SUMMARY:Co-Ed Softball Tournament in Kirkwood
DESCRIPTION:
URL:https://977wmoi.com/event/co-ed-softball-tournament-in-kirkwood/
END:VEVENT
BEGIN:VEVENT
DTSTART;TZID=America/Chicago:20220603T170000
DTEND;TZID=America/Chicago:20220603T190000
DTSTAMP:20260420T021550
CREATED:20220531T130829Z
LAST-MODIFIED:20220531T130829Z
UID:409466-1654275600-1654282800@977wmoi.com
SUMMARY:Monmouth VFW Dinner
DESCRIPTION:Friday June 3 Monmouth VFW will be serving Black Angus Hamburgers\, French Fries\, and Baked Beans. Serving from 5:00-7:00. Public is welcome.
URL:https://977wmoi.com/event/monmouth-vfw-dinner-13/
END:VEVENT
BEGIN:VEVENT
DTSTART;TZID=America/Chicago:20220603T170000
DTEND;TZID=America/Chicago:20220603T190000
DTSTAMP:20260420T021550
CREATED:20220510T204751Z
LAST-MODIFIED:20220511T134722Z
UID:408626-1654275600-1654282800@977wmoi.com
SUMMARY:Monmouth Farmer's Market
DESCRIPTION:Monmouth Area Chamber of Commerce’s Farmer’s Market will be held Fridays in the Fortress Bank Parking Lot\, 300 Block of North Main in Monmouth.
URL:https://977wmoi.com/event/monmouth-farmers-market-3/
END:VEVENT
BEGIN:VEVENT
DTSTART;TZID=America/Chicago:20220603T130000
DTEND;TZID=America/Chicago:20220603T130000
DTSTAMP:20260420T021550
CREATED:20220321T130517Z
LAST-MODIFIED:20220419T131441Z
UID:406055-1654261200-1654261200@977wmoi.com
SUMMARY:2022 Banking on a Cure
DESCRIPTION:Annual golf outing will be held at Gibson Woods in Monmouth.
URL:https://977wmoi.com/event/2022-banking-on-a-cure/
END:VEVENT
BEGIN:VEVENT
DTSTART;TZID=America/Chicago:20220602T140000
DTEND;TZID=America/Chicago:20220602T150000
DTSTAMP:20260420T021550
CREATED:20220601T125951Z
LAST-MODIFIED:20220601T125951Z
UID:409541-1654178400-1654182000@977wmoi.com
SUMMARY:Niabi Zoo Presents: Ocean Adventures
DESCRIPTION:At the Warren County Public Library come see the creatures of the sea that have bizarre shapes and forms. Through the use of preserved specimens\, participants can interact with sea horses\, coral\, sea stars\, shark teeth\, a squid beak\, an eel skull and more! We are directly connected to the oceans by the Mississippi River. Learn about our impact on the oceans and how we can help protect the world’s most precious natural resource.
URL:https://977wmoi.com/event/niabi-zoo-presents-ocean-adventures/
END:VEVENT
BEGIN:VEVENT
DTSTART;TZID=America/Chicago:20220530T100000
DTEND;TZID=America/Chicago:20220530T100000
DTSTAMP:20260420T021550
CREATED:20220516T155204Z
LAST-MODIFIED:20220516T155204Z
UID:408893-1653904800-1653904800@977wmoi.com
SUMMARY:Biggsville Memorial Day Service
DESCRIPTION:The Biggsville American Legion will be having a Memorial Day Service at the Biggsville cemetery on May 30th at 10am. In case of rain the service will be held at the Biggsville community building at 10am. Lawn chairs are recommended.
URL:https://977wmoi.com/event/biggsville-memorial-day-service/
END:VEVENT
BEGIN:VEVENT
DTSTART;TZID=America/Chicago:20220530T060000
DTEND;TZID=America/Chicago:20220530T100000
DTSTAMP:20260420T021550
CREATED:20220517T134839Z
LAST-MODIFIED:20220517T134839Z
UID:408941-1653890400-1653904800@977wmoi.com
SUMMARY:Kirkwood Fire Department Memorial Day Breakfast
DESCRIPTION:Come on out and support the Kirkwood Fire Department and enjoy a hot breakfast. Serving biscuits and gravy\, pancakes\, scrambled eggs\, bacon\, sausage\, and drinks.
URL:https://977wmoi.com/event/kirkwood-fire-department-memorial-day-breakfast/
END:VEVENT
BEGIN:VEVENT
DTSTART;TZID=America/Chicago:20220529T120000
DTEND;TZID=America/Chicago:20220529T120000
DTSTAMP:20260420T021550
CREATED:20220523T165320Z
LAST-MODIFIED:20220523T165320Z
UID:409184-1653825600-1653825600@977wmoi.com
SUMMARY:Silent Home Cemetery Memorial Day Service
DESCRIPTION:Gather at the cemetery will begin at noon. At 12:15 the Honor Guard and Firing Squad from the Monmouth American Legion Post 136. MC will be Paula Danforth Bowling. Frank Youngquist\, a retired teacher and coach at Rock Island High School\, will be the speaker. Jeanne Gittings Robeson will provide the Veteran roll call.
URL:https://977wmoi.com/event/silent-home-cemetery-memorial-day-service-2/
END:VEVENT
BEGIN:VEVENT
DTSTART;TZID=America/Chicago:20220528T160000
DTEND;TZID=America/Chicago:20220528T190000
DTSTAMP:20260420T021550
CREATED:20220502T135343Z
LAST-MODIFIED:20220502T135343Z
UID:408185-1653753600-1653764400@977wmoi.com
SUMMARY:69th Annual Roseville Fire Department Fish and Chicken Fry
DESCRIPTION:All you can eat catfish fillets\, scored carp\, chicken\, potato salad\, baked beans\, and drinks. Event will be held at the Roseville Fire Station\, 571 State Highway 116 in Roseville. Free will donation accepted.
URL:https://977wmoi.com/event/69th-annual-roseville-fire-department-fish-and-chicken-fry/
END:VEVENT
BEGIN:VEVENT
DTSTART;TZID=America/Chicago:20220528T090000
DTEND;TZID=America/Chicago:20220528T120000
DTSTAMP:20260420T021550
CREATED:20220429T130757Z
LAST-MODIFIED:20220429T130757Z
UID:408111-1653728400-1653739200@977wmoi.com
SUMMARY:43rd Annual Scott Jennings Fishing Contest
DESCRIPTION:
URL:https://977wmoi.com/event/43rd-annual-scott-jennings-fishing-contest/
END:VEVENT
END:VCALENDAR