BEGIN:VCALENDAR
VERSION:2.0
PRODID:-//Prairie Communications, LLC - ECPv6.15.20//NONSGML v1.0//EN
CALSCALE:GREGORIAN
METHOD:PUBLISH
X-WR-CALNAME:Prairie Communications, LLC
X-ORIGINAL-URL:https://977wmoi.com
X-WR-CALDESC:Events for Prairie Communications, LLC
REFRESH-INTERVAL;VALUE=DURATION:PT1H
X-Robots-Tag:noindex
X-PUBLISHED-TTL:PT1H
BEGIN:VTIMEZONE
TZID:America/Chicago
BEGIN:DAYLIGHT
TZOFFSETFROM:-0600
TZOFFSETTO:-0500
TZNAME:CDT
DTSTART:20230312T080000
END:DAYLIGHT
BEGIN:STANDARD
TZOFFSETFROM:-0500
TZOFFSETTO:-0600
TZNAME:CST
DTSTART:20231105T070000
END:STANDARD
BEGIN:DAYLIGHT
TZOFFSETFROM:-0600
TZOFFSETTO:-0500
TZNAME:CDT
DTSTART:20240310T080000
END:DAYLIGHT
BEGIN:STANDARD
TZOFFSETFROM:-0500
TZOFFSETTO:-0600
TZNAME:CST
DTSTART:20241103T070000
END:STANDARD
BEGIN:DAYLIGHT
TZOFFSETFROM:-0600
TZOFFSETTO:-0500
TZNAME:CDT
DTSTART:20250309T080000
END:DAYLIGHT
BEGIN:STANDARD
TZOFFSETFROM:-0500
TZOFFSETTO:-0600
TZNAME:CST
DTSTART:20251102T070000
END:STANDARD
END:VTIMEZONE
BEGIN:VEVENT
DTSTART;TZID=America/Chicago:20241221T190000
DTEND;TZID=America/Chicago:20241221T190000
DTSTAMP:20260424T020019
CREATED:20241115T145405Z
LAST-MODIFIED:20241115T145405Z
UID:457607-1734807600-1734807600@977wmoi.com
SUMMARY:Christmas on the Air: A Live Radio Play at The Orpheum Theatre
DESCRIPTION:December 21st at 7pm \nSponsored by Blick Art Materials! \nhttps://ci.ovationtix.com/35922
URL:https://977wmoi.com/event/christmas-on-the-air-a-live-radio-play-at-the-orpheum-theatre/
END:VEVENT
BEGIN:VEVENT
DTSTART;TZID=America/Chicago:20241220T123000
DTEND;TZID=America/Chicago:20241220T153000
DTSTAMP:20260424T020020
CREATED:20241202T142017Z
LAST-MODIFIED:20241202T142017Z
UID:458242-1734697800-1734708600@977wmoi.com
SUMMARY:Strom Center's Annual Christmas Party
DESCRIPTION:Warren and Henderson County seniors are invited to Strom Center’s Annual Christmas Party at the Monmouth location\, 211 South A Street. Enjoy games\, entertainment\, Christmas Carols\, goodies\, a gift exchange\, and more! RSVP by December 13th by calling 309-734-5677.
URL:https://977wmoi.com/event/strom-centers-annual-christmas-party-4/
END:VEVENT
BEGIN:VEVENT
DTSTART;VALUE=DATE:20241220
DTEND;VALUE=DATE:20241222
DTSTAMP:20260424T020020
CREATED:20241203T213424Z
LAST-MODIFIED:20241203T213424Z
UID:458380-1734652800-1734825599@977wmoi.com
SUMMARY:The Buchanan Community Chorus Presents The Peace at Christmas
DESCRIPTION:Join the Buchanan Community Chorus at the First Lutheran Church in Galesburg on December 20th at 7pm for The Peace at Christmas and December 21st at 3pm at the First United Methodist Church in Monmouth.
URL:https://977wmoi.com/event/the-buchanan-community-chorus-presents-the-peace-at-christmas/
END:VEVENT
BEGIN:VEVENT
DTSTART;TZID=America/Chicago:20241219T160000
DTEND;TZID=America/Chicago:20241219T160000
DTSTAMP:20260424T020020
CREATED:20241204T142546Z
LAST-MODIFIED:20241204T142546Z
UID:458403-1734624000-1734624000@977wmoi.com
SUMMARY:Bring Your Own Book Discussion
DESCRIPTION:All are invited to come and chat about what you are reading at the Warren County Public Library!
URL:https://977wmoi.com/event/bring-your-own-book-discussion/
END:VEVENT
BEGIN:VEVENT
DTSTART;VALUE=DATE:20241219
DTEND;VALUE=DATE:20241221
DTSTAMP:20260424T020020
CREATED:20241115T145231Z
LAST-MODIFIED:20241115T145232Z
UID:457605-1734566400-1734739199@977wmoi.com
SUMMARY:Dancer’s Studio Presents: The Nutcracker at The Orpheum Theatre
DESCRIPTION:December 19th & 20th at 7pm \nhttps://ci.ovationtix.com/35922/production/1217503
URL:https://977wmoi.com/event/dancers-studio-presents-the-nutcracker-at-the-orpheum-theatre/
END:VEVENT
BEGIN:VEVENT
DTSTART;TZID=America/Chicago:20241218T180000
DTEND;TZID=America/Chicago:20241218T180000
DTSTAMP:20260424T020020
CREATED:20241206T142651Z
LAST-MODIFIED:20241206T142651Z
UID:458482-1734544800-1734544800@977wmoi.com
SUMMARY:M-R High School FAFSA Night
DESCRIPTION:MRHS has partnered with ISAC and Monmouth College to host a FAFSA Night in the Library Media Center. Bring a device to complete the form online\, social security number\, registration numbers\, federal tax information\, account balances\, records of untaxed information\, and investments. Questions can be asked at 309-734-5118.
URL:https://977wmoi.com/event/m-r-high-school-fafsa-night/
END:VEVENT
BEGIN:VEVENT
DTSTART;TZID=America/Chicago:20241218T163000
DTEND;TZID=America/Chicago:20241218T183000
DTSTAMP:20260424T020020
CREATED:20241206T141938Z
LAST-MODIFIED:20241206T141938Z
UID:458477-1734539400-1734546600@977wmoi.com
SUMMARY:Holiday Chamber Cheers Networking Event
DESCRIPTION:Join the Monmouth Area Chamber of Commerce and members for a networking event at the Patton Block Grill & Brew Pub. A cash bar hors d’oeuvres will be provided.
URL:https://977wmoi.com/event/holiday-chamber-cheers-networking-event/
END:VEVENT
BEGIN:VEVENT
DTSTART;VALUE=DATE:20241218
DTEND;VALUE=DATE:20241219
DTSTAMP:20260424T020020
CREATED:20241218T143034Z
LAST-MODIFIED:20241218T143034Z
UID:459036-1734480000-1734566399@977wmoi.com
SUMMARY:U of I Extension Tech Tutoring
DESCRIPTION:All are invited for free one on one digital help at the Galesburg Public Library.
URL:https://977wmoi.com/event/u-of-i-extension-tech-tutoring/
END:VEVENT
BEGIN:VEVENT
DTSTART;VALUE=DATE:20241218
DTEND;VALUE=DATE:20241219
DTSTAMP:20260424T020020
CREATED:20240823T185558Z
LAST-MODIFIED:20240823T185558Z
UID:452395-1734480000-1734566399@977wmoi.com
SUMMARY:Galesburg Rescue Mission & Women's Shelter Public Clothing Giveaway Day
DESCRIPTION:Men and women adults\, teen\, and children’s clothing giveaway with selection of styles\, sizes\, and quantities available. Please bring your own bag to take home your selections. The Galesburg Rescue Mission and Women’s Shelter is located at 547 North Farnham Street. Persons attending this giveaway service in the Chapel/Library need to be seated by 1:30 pm.
URL:https://977wmoi.com/event/galesburg-rescue-mission-womens-shelter-public-clothing-giveaway-day-8/
END:VEVENT
BEGIN:VEVENT
DTSTART;TZID=America/Chicago:20241216T140000
DTEND;TZID=America/Chicago:20241216T150000
DTSTAMP:20260424T020020
CREATED:20241204T142816Z
LAST-MODIFIED:20241204T142816Z
UID:458405-1734357600-1734361200@977wmoi.com
SUMMARY:Fall Workshops with Tessa Hobbs-Curley
DESCRIPTION:Join Tessa and the University of Illinois Extension at the Warren County Public Library for a Fall Workshop\, discussing resiliency in yourself and your organization.
URL:https://977wmoi.com/event/fall-workshops-with-tessa-hobbs-curley-2/
END:VEVENT
BEGIN:VEVENT
DTSTART;TZID=America/Chicago:20241216T103000
DTEND;TZID=America/Chicago:20241216T113000
DTSTAMP:20260424T020020
CREATED:20241004T140006Z
LAST-MODIFIED:20241015T140125Z
UID:454817-1734345000-1734348600@977wmoi.com
SUMMARY:Wits Fitness: Brain Exercise Class
DESCRIPTION:Join University of Illinois Educator Tessa Hobbs-Curley as she leads participants through interactive activities designed to promote socialization\, reduce isolation\, and promote intellectual engagement in older adults. Classes will be held at Strom Center in Monmouth\, 211 South A Street\, on Mondays from 10:30 am to 11:30 am. To register\, call 309-337-0921. After class\, enjoy a delicious\, nutritious lunch at 11:30 AM—a perfect way to fuel your body\, as part of Jamieson Community Center’s Senior Nutrition program. For more info\, visit jamiesoncommunitycenter.org.
URL:https://977wmoi.com/event/wits-fitness-brain-exercise-class-3/
END:VEVENT
BEGIN:VEVENT
DTSTART;VALUE=DATE:20241216
DTEND;VALUE=DATE:20241223
DTSTAMP:20260424T020020
CREATED:20241104T140709Z
LAST-MODIFIED:20241104T140709Z
UID:456986-1734307200-1734911999@977wmoi.com
SUMMARY:EMT-Basic Class
DESCRIPTION:The Galesburg Hospital Ambulance Service will host a Spring EMT-Basic Class on Mondays and Wednesday from 5 pm to 9 pm. Cost is $1\,200 and includes textbooks and all classroom materials. Classes begin January 13th\, 2025 and go through May 21st\, 2025. For additional information\, contact Richard Springer\, Director of Operations\, at 309-342-5144 extension 227 or email rspringer@ghasems.com.
URL:https://977wmoi.com/event/emt-basic-class-2/
END:VEVENT
BEGIN:VEVENT
DTSTART;TZID=America/Chicago:20241215T190000
DTEND;TZID=America/Chicago:20241215T190000
DTSTAMP:20260424T020020
CREATED:20241115T145108Z
LAST-MODIFIED:20241115T145108Z
UID:457603-1734289200-1734289200@977wmoi.com
SUMMARY:Sidewalk Prophets: Great Big Family Christmas at The Orpheum Theatre
DESCRIPTION:December 15th at 7pm \nhttps://ci.ovationtix.com/35922/production/1216326
URL:https://977wmoi.com/event/sidewalk-prophets-great-big-family-christmas-at-the-orpheum-theatre/
END:VEVENT
BEGIN:VEVENT
DTSTART;TZID=America/Chicago:20241215T180000
DTEND;TZID=America/Chicago:20241215T180000
DTSTAMP:20260424T020020
CREATED:20241212T200834Z
LAST-MODIFIED:20241212T200834Z
UID:458761-1734285600-1734285600@977wmoi.com
SUMMARY:The Crossing: Blue Christmas Worship Service
DESCRIPTION:The Crossing Church in Monmouth invites all for an evening worship service for those who are grieving.
URL:https://977wmoi.com/event/the-crossing-blue-christmas-worship-service/
END:VEVENT
BEGIN:VEVENT
DTSTART;TZID=America/Chicago:20241215T130000
DTEND;TZID=America/Chicago:20241215T150000
DTSTAMP:20260424T020020
CREATED:20241205T141119Z
LAST-MODIFIED:20241205T141119Z
UID:458435-1734267600-1734274800@977wmoi.com
SUMMARY:FREE Microchip Clinic at Pet Supplies Plus
DESCRIPTION:Sunday\, December 15th\, 2024 from 1pm-3pm for our next FREE Microchip Clinic at Pet Supplies Plus in Galesburg\, IL.A few things to remember: \nThey will be set up in the back of the store for this free clinic. If for some reason the line appears to be outside\, please wait in your vehicle until you can stay inside the store. Dogs & Cats from any county are welcome! \n*Cats must be in carriers and dogs must be leashed or in a carrier. If you have any questions please feel free to message or email freedomrideanimalrescue@gmail.com. \nYou don’t need to pre-register for this event. Just show up between 1pm-3pm. Free Lifetime Registration and updates are included along with your Free Microchip. Help spread the word and share this great Free event! Monetary donations for Freedom Ride Animal Rescue will be accepted.
URL:https://977wmoi.com/event/free-microchip-clinic-at-pet-supplies-plus/
END:VEVENT
BEGIN:VEVENT
DTSTART;TZID=America/Chicago:20241215T080000
DTEND;TZID=America/Chicago:20241215T103000
DTSTAMP:20260424T020020
CREATED:20241212T201447Z
LAST-MODIFIED:20241212T201447Z
UID:458763-1734249600-1734258600@977wmoi.com
SUMMARY:Frozen Breakfast Event
DESCRIPTION:Join Boxcar Express in Galesburg for a Frozen Breakfast with Anna\, Elsa\, Olaf\, and Kristoff\, with picture opportunities\, kids activities\, a breakfast buffet\, and coloring contest. $10 for adults and $8 for children.
URL:https://977wmoi.com/event/frozen-breakfast-event/
END:VEVENT
BEGIN:VEVENT
DTSTART;TZID=America/Chicago:20241214T190000
DTEND;TZID=America/Chicago:20241214T220000
DTSTAMP:20260424T020020
CREATED:20241210T152421Z
LAST-MODIFIED:20241210T152956Z
UID:458614-1734202800-1734213600@977wmoi.com
SUMMARY:Karaoke at the Pump House in Alexis
DESCRIPTION:The Pump House Pub & Grub in Alexis is hosting free karaoke this Saturday at 7 pm. \n  \nAlso\, enjoy a Butches pizza for $8.
URL:https://977wmoi.com/event/karaoke-at-the-pump-house-in-alexis/
END:VEVENT
BEGIN:VEVENT
DTSTART;TZID=America/Chicago:20241214T183000
DTEND;TZID=America/Chicago:20241214T183000
DTSTAMP:20260424T020020
CREATED:20241210T161906Z
LAST-MODIFIED:20241210T161906Z
UID:458621-1734201000-1734201000@977wmoi.com
SUMMARY:Sounds of Christmas at the First United Methodist Church in Monmouth
DESCRIPTION:The Sounds of Christmas will be held in the Sanctuary on Saturday\, December 14 at 6:30 p.m. The evening will feature the Monmouth-Roseville Madrigals\, Orion High School Choir\, Knox Galesburg Symphony Holiday Brass Quintet\, and include congregational singing. Refreshments will be served following the concert.
URL:https://977wmoi.com/event/sounds-of-christmas-at-the-first-united-methodist-church-in-monmouth/
END:VEVENT
BEGIN:VEVENT
DTSTART;TZID=America/Chicago:20241214T173000
DTEND;TZID=America/Chicago:20241214T193000
DTSTAMP:20260424T020020
CREATED:20241011T170637Z
LAST-MODIFIED:20241011T170637Z
UID:455868-1734197400-1734204600@977wmoi.com
SUMMARY:Conservation Christmas
DESCRIPTION:The Warren County Conservation District is hosting Conservation Christmas on December 14th from 5:30 to 7:30. Join for a meal and live music at the Patton Block. \nTickets for this event are just $20 each with a cash bar available. \nYou can message us here\, text Shawnee at 309-299-5171\, call the office at 309-734-9308 ext 101\, or follow the link below to purchase your ticket for that evening! \nhttps://www.warrencoswcd.com/eve…/conservation-christmas-1 \n 
URL:https://977wmoi.com/event/conservation-christmas/
END:VEVENT
BEGIN:VEVENT
DTSTART;TZID=America/Chicago:20241214T173000
DTEND;TZID=America/Chicago:20241214T193000
DTSTAMP:20260424T020020
CREATED:20241008T133103Z
LAST-MODIFIED:20241008T133103Z
UID:455550-1734197400-1734204600@977wmoi.com
SUMMARY:Warren County Soil and Water Conservation Christmas
DESCRIPTION:Event will be held at the Patton Block Grill and Brew Pub with dinner\, drinks\, and live musical entertainment. Tickets are $20 per ticket and includes your meal. Cash bar available. RSVP to Shawnee by December 6th at 309-299-5171 or 309-734-9308\, extension 101.
URL:https://977wmoi.com/event/warren-county-soil-and-water-conservation-christmas/
END:VEVENT
BEGIN:VEVENT
DTSTART;TZID=America/Chicago:20241214T173000
DTEND;TZID=America/Chicago:20241214T173000
DTSTAMP:20260424T020020
CREATED:20241008T134754Z
LAST-MODIFIED:20241008T134754Z
UID:455564-1734197400-1734197400@977wmoi.com
SUMMARY:M-R Sports Boosters: A Pop Culture Christmas Trivia Night
DESCRIPTION:The Monmouth-Roseville Titans Sports Boosters will host A Pop Culture Christmas Trivia Night at the Monmouth Country Club. Wear your favorite Ugly Christmas Sweater! Cost is $120 per table of 8 players. Soup\, salad\, and fresh bread dinner for a free will donation. Silent action. Christmas gift grab bags. Doors open at 5:30 pm. Trivia starts at 6:30 pm. Contact Jamie Adkisson to register\, 309-255-5405.
URL:https://977wmoi.com/event/m-r-sports-boosters-a-pop-culture-christmas-trivia-night/
END:VEVENT
BEGIN:VEVENT
DTSTART;TZID=America/Chicago:20241214T170000
DTEND;TZID=America/Chicago:20241214T170000
DTSTAMP:20260424T020020
CREATED:20241112T141124Z
LAST-MODIFIED:20241112T141124Z
UID:457387-1734195600-1734195600@977wmoi.com
SUMMARY:Christmas in the Shire
DESCRIPTION:All are invited for Christmas in the Shire at the Smithshire United Methodist Church.
URL:https://977wmoi.com/event/christmas-in-the-shire/
END:VEVENT
BEGIN:VEVENT
DTSTART;TZID=America/Chicago:20241214T090000
DTEND;TZID=America/Chicago:20241214T103000
DTSTAMP:20260424T020020
CREATED:20241206T142904Z
LAST-MODIFIED:20241206T142904Z
UID:458484-1734166800-1734172200@977wmoi.com
SUMMARY:Santa Claus at the Roseville Fire Station
DESCRIPTION:Join the Roseville Fire Department and Santa Claus for a community breakfast\, serving breakfast casserole\, bacon\, sausage\, pancakes\, and more. Santa will arrive on a fire truck at 9:30 am.
URL:https://977wmoi.com/event/santa-claus-at-the-roseville-fire-station/
END:VEVENT
BEGIN:VEVENT
DTSTART;TZID=America/Chicago:20241214T090000
DTEND;TZID=America/Chicago:20241214T090000
DTSTAMP:20260424T020020
CREATED:20241101T135347Z
LAST-MODIFIED:20241101T135347Z
UID:456926-1734166800-1734166800@977wmoi.com
SUMMARY:Monmouth Country Club's Santa Breakfast
DESCRIPTION:Enjoy breakfast with Santa\, crafts\, and story time at the Monmouth County Club. $10 for adults and $6 for children. RSVP by November 30th to Lynsey Temple at 309-219-5892.
URL:https://977wmoi.com/event/monmouth-country-clubs-santa-breakfast/
END:VEVENT
BEGIN:VEVENT
DTSTART;TZID=America/Chicago:20241212T160000
DTEND;TZID=America/Chicago:20241212T160000
DTSTAMP:20260424T020020
CREATED:20241203T142527Z
LAST-MODIFIED:20241203T142527Z
UID:458335-1734019200-1734019200@977wmoi.com
SUMMARY:Fill Your Own Ornament
DESCRIPTION:The Warren County Public Library in Monmouth is hosting an adult craft: Fill Your Own Ornament. Enjoy holiday music\, good company\, and fun!
URL:https://977wmoi.com/event/fill-your-own-ornament/
END:VEVENT
BEGIN:VEVENT
DTSTART;VALUE=DATE:20241211
DTEND;VALUE=DATE:20241212
DTSTAMP:20260424T020020
CREATED:20241202T142321Z
LAST-MODIFIED:20241202T142321Z
UID:458244-1733875200-1733961599@977wmoi.com
SUMMARY:Holiday Meal for Henderson County Seniors
DESCRIPTION:The Henderson County Health Department will be hosting a holiday meal for all Henderson County seniors. RSVP by December 6th by calling 309-627-2812. Choose either an 11:15 am or 12:15 pm meal time. Carryouts also available.
URL:https://977wmoi.com/event/holiday-meal-for-henderson-county-seniors/
END:VEVENT
BEGIN:VEVENT
DTSTART;TZID=America/Chicago:20241210T093000
DTEND;TZID=America/Chicago:20241210T163000
DTSTAMP:20260424T020020
CREATED:20241127T163444Z
LAST-MODIFIED:20241127T193344Z
UID:458195-1733823000-1733848200@977wmoi.com
SUMMARY:Planning Farm Succession Workshops
DESCRIPTION:Planning for the future of your farm isn’t just about crops and livestock; it’s about ensuring your legacy and protecting the values your farm represents. To help families navigate the complexities of farm estate planning\, the University of Illinois Extension will host a free educational program on \n\nDecember 10th\, 9:30 AM – 11:30 AM\, Knox Ag Center\, 180 S Soangetaha Rd.\, Galesburg\, IL 61401\nDecember 10th\, 2:00-4:00PM\, McDonough County Fairgrounds\, 3022 West Jackson\, Macomb\, IL 61455\n\nLed by experienced Extension Educator Kevin Brooks. \nThis interactive workshop will equip farmers and landowners with the essential knowledge and tools needed to make informed decisions about their property’s future. Attendees will gain valuable insight on: \n\nDeveloping a comprehensive estate plan: Understanding legal documents\, land transfer options\, and strategies for asset allocation.\nTax implications and financial planning: Exploring tax benefits\, minimizing liabilities\, and ensuring financial stability for future generations.\nFamily communication and succession planning: Facilitating open conversations with family members\, identifying potential conflicts\, and establishing a smooth transition process.\nBuilding a resilient farm business: Incorporating farm management practices and financial strategies to strengthen the farm’s long-term viability.
URL:https://977wmoi.com/event/planning-farm-succession-workshops/
END:VEVENT
BEGIN:VEVENT
DTSTART;VALUE=DATE:20241210
DTEND;VALUE=DATE:20241213
DTSTAMP:20260424T020020
CREATED:20241209T170741Z
LAST-MODIFIED:20241209T170742Z
UID:458577-1733788800-1734047999@977wmoi.com
SUMMARY:Looking for Christmas Cards?
DESCRIPTION:Bridgeway is taking orders through December 13th for handmade Christmas cards\, designed by Bridgeway clients. Proceeds will go towards a greenhouse and Christmas gifts for clients. 6 cards at $10. 12 cards are $18 and 24 cards are $35. Email Alyssa Hart at alyssaha@bway.org to order.
URL:https://977wmoi.com/event/looking-for-christmas-cards/
END:VEVENT
BEGIN:VEVENT
DTSTART;VALUE=DATE:20241210
DTEND;VALUE=DATE:20241211
DTSTAMP:20260424T020020
CREATED:20241111T204054Z
LAST-MODIFIED:20241111T204054Z
UID:457377-1733788800-1733875199@977wmoi.com
SUMMARY:University of Illinois Extension Farm Estate Planning Seminars
DESCRIPTION:Planning for the future of your farm isn’t just about crops and livestock; it’s about ensuring your legacy and protecting the values your farm represents. To help families navigate the complexities of farm estate planning\, the University of Illinois Extension will host free educational programs: \nDecember 10th\, 9:30 AM – 11:30 AM\, Knox Ag Center\, 180 S Soangetaha Rd.\, Galesburg\, IL 61401\nDecember 10th\, 2:00-4:00PM\, McDonough County Fairgrounds\, 3022 West Jackson\, Macomb\, IL 61455
URL:https://977wmoi.com/event/university-of-illinois-extension-farm-estate-planning-seminars/
END:VEVENT
BEGIN:VEVENT
DTSTART;TZID=America/Chicago:20241208T080000
DTEND;TZID=America/Chicago:20241208T113000
DTSTAMP:20260424T020020
CREATED:20241125T141951Z
LAST-MODIFIED:20241125T141951Z
UID:458022-1733644800-1733657400@977wmoi.com
SUMMARY:ICS Santa Breakfast and Feast Day of the Immaculate Conception
DESCRIPTION:Join at ICS on December 8th from 8 a.m. to 11:30 a.m. for a fresh\, delicious breakfast\, a chance to see Santa\, and a chance to celebrate the Feast Day of the parish and school namesake!!\nFamilies can also visit the SANTA SHOP\, do some Christmas shopping from local VENDORS\, pick up a delicious treat at the BAKE SALE\, decorate cookies with the PTO\, have fun at a coloring station….and don’t forget a picture with SANTA!
URL:https://977wmoi.com/event/ics-santa-breakfast-and-feast-day-of-the-immaculate-conception/
END:VEVENT
END:VCALENDAR