BEGIN:VCALENDAR
VERSION:2.0
PRODID:-//Prairie Communications, LLC - ECPv6.15.20//NONSGML v1.0//EN
CALSCALE:GREGORIAN
METHOD:PUBLISH
X-WR-CALNAME:Prairie Communications, LLC
X-ORIGINAL-URL:https://977wmoi.com
X-WR-CALDESC:Events for Prairie Communications, LLC
REFRESH-INTERVAL;VALUE=DURATION:PT1H
X-Robots-Tag:noindex
X-PUBLISHED-TTL:PT1H
BEGIN:VTIMEZONE
TZID:America/Chicago
BEGIN:DAYLIGHT
TZOFFSETFROM:-0600
TZOFFSETTO:-0500
TZNAME:CDT
DTSTART:20200308T080000
END:DAYLIGHT
BEGIN:STANDARD
TZOFFSETFROM:-0500
TZOFFSETTO:-0600
TZNAME:CST
DTSTART:20201101T070000
END:STANDARD
BEGIN:DAYLIGHT
TZOFFSETFROM:-0600
TZOFFSETTO:-0500
TZNAME:CDT
DTSTART:20210314T080000
END:DAYLIGHT
BEGIN:STANDARD
TZOFFSETFROM:-0500
TZOFFSETTO:-0600
TZNAME:CST
DTSTART:20211107T070000
END:STANDARD
BEGIN:DAYLIGHT
TZOFFSETFROM:-0600
TZOFFSETTO:-0500
TZNAME:CDT
DTSTART:20220313T080000
END:DAYLIGHT
BEGIN:STANDARD
TZOFFSETFROM:-0500
TZOFFSETTO:-0600
TZNAME:CST
DTSTART:20221106T070000
END:STANDARD
END:VTIMEZONE
BEGIN:VEVENT
DTSTART;VALUE=DATE:20211001
DTEND;VALUE=DATE:20211018
DTSTAMP:20260421T040626
CREATED:20210920T203955Z
LAST-MODIFIED:20210920T203955Z
UID:397898-1633046400-1634515199@977wmoi.com
SUMMARY:Adult Volleyball Fall/Winter League
DESCRIPTION:Begins November 3rd and runs through February 23\, 2022. No games will be held November 24th\, December 29th\, or January 5th. 11 games and a double elimination tournament in competitive and non-competitive teams will be played at the Hawthorne gym and Lakeside Recreation Center. Early bird registration before October 3rd is $350\, but after cost is $390 per team. Registration ends October 17th. For more information\, contact the Galesburg Parks and Rec at 309-345-3683.
URL:https://977wmoi.com/event/adult-volleyball-fall-winter-league/
END:VEVENT
BEGIN:VEVENT
DTSTART;VALUE=DATE:20211007
DTEND;VALUE=DATE:20211027
DTSTAMP:20260421T040626
CREATED:20210920T203607Z
LAST-MODIFIED:20210920T203607Z
UID:397896-1633564800-1635292799@977wmoi.com
SUMMARY:Galesburg Parks & Rec Swim Lessons
DESCRIPTION:Learn to swim with private or semi-private swim lessons for all ages at the Hawthorne Pool on Tuesdays and Thursdays during October beginning October 7th through October 26th. Times for the lessons are 4:30 pm to 5 pm or 7 pm to 7:30 pm. Semi-private lessons are $79 plus $33 for each additional. Private lessons are $79 a session. Privately scheduled lessons for 6 sessions are 30 minutes each with one instructor and 1 to 3 students. A parent or guardian must be in the water for children ages 3 and under.
URL:https://977wmoi.com/event/galesburg-parks-rec-swim-lessons/
END:VEVENT
BEGIN:VEVENT
DTSTART;VALUE=DATE:20211009
DTEND;VALUE=DATE:20211010
DTSTAMP:20260421T040626
CREATED:20210903T134756Z
LAST-MODIFIED:20210903T134756Z
UID:397150-1633737600-1633823999@977wmoi.com
SUMMARY:Bacon\, Bourbon\, and Brews
DESCRIPTION:Come celebrate another Make it Monmouth by making bacon in the Maple City. Several downtown businesses will have specials\, giveaways\, games\, discounts\, entertainment\, and of course bacon!
URL:https://977wmoi.com/event/bacon-bourbon-and-brews/
END:VEVENT
BEGIN:VEVENT
DTSTART;TZID=America/Chicago:20211009T090000
DTEND;TZID=America/Chicago:20211009T110000
DTSTAMP:20260421T040626
CREATED:20210806T193630Z
LAST-MODIFIED:20210806T193630Z
UID:395946-1633770000-1633777200@977wmoi.com
SUMMARY:Galesburg Parks & Rec 'Creature Feature: Owls'
DESCRIPTION:Free nature program open to everyone in the public at the Lakeside Nature Center\, 1033 South Lake Storey Road in Galesburg. Activities are geared toward families and children\, but all ages are welcome. Pre-registration is recommended but not required. Dress for outdoor adventures! Learn the basics of fishing! Limited poles are available\, so bring your own if you have one. A fishing license is required for those 16 years and above. Based on attendance\, location may be moved to Lincoln Park Lagoons.
URL:https://977wmoi.com/event/galesburg-parks-rec-creature-feature-owls/
END:VEVENT
BEGIN:VEVENT
DTSTART;TZID=America/Chicago:20211009T110000
DTEND;TZID=America/Chicago:20211009T140000
DTSTAMP:20260421T040626
CREATED:20211006T134412Z
LAST-MODIFIED:20211006T134412Z
UID:398654-1633777200-1633788000@977wmoi.com
SUMMARY:Monmouth-Roseville High School After Prom Charity Cookout at Fareway
DESCRIPTION:Support the Monmouth-Roseville High School students After Prom during a charity cookout at Fareway in Monmouth. Tenderized pork chop sandwiches\, bratwurst\, beef burgers\, chips\, and a drinks will all be available.
URL:https://977wmoi.com/event/monmouth-roseville-high-school-after-prom-charity-cookout-at-fareway/
END:VEVENT
BEGIN:VEVENT
DTSTART;TZID=America/Chicago:20211009T120000
DTEND;TZID=America/Chicago:20211009T140000
DTSTAMP:20260421T040626
CREATED:20210922T135203Z
LAST-MODIFIED:20210922T135203Z
UID:397977-1633780800-1633788000@977wmoi.com
SUMMARY:First Christian Church in Monmouth Chili Cook-Off
DESCRIPTION:Save the date for the first annual FCC chili cook-off. Set-up will begin at noon with judging at 12:30 pm.
URL:https://977wmoi.com/event/first-christian-church-in-monmouth-chili-cook-off/
END:VEVENT
BEGIN:VEVENT
DTSTART;TZID=America/Chicago:20211012T130000
DTEND;TZID=America/Chicago:20211012T130000
DTSTAMP:20260421T040626
CREATED:20210930T204821Z
LAST-MODIFIED:20210930T204821Z
UID:398386-1634043600-1634043600@977wmoi.com
SUMMARY:BINGO at the Monmouth Strom Center
DESCRIPTION:Feel free to bring your own lunch to enjoy at noon before BINGO begins at 1 pm.
URL:https://977wmoi.com/event/bingo-at-the-monmouth-strom-center/
END:VEVENT
BEGIN:VEVENT
DTSTART;TZID=America/Chicago:20211012T133000
DTEND;TZID=America/Chicago:20211012T153000
DTSTAMP:20260421T040626
CREATED:20211006T131536Z
LAST-MODIFIED:20211006T131536Z
UID:398636-1634045400-1634052600@977wmoi.com
SUMMARY:Knox County COVID-19 Vaccination Clinic
DESCRIPTION:At the Unified Command Vaccine Center 1:30pm-3:30pm Pfizer & Janssen (12 years of age and up)
URL:https://977wmoi.com/event/knox-county-covid-19-vaccination-clinic-3/
END:VEVENT
BEGIN:VEVENT
DTSTART;TZID=America/Chicago:20211012T160000
DTEND;TZID=America/Chicago:20211012T183000
DTSTAMP:20260421T040626
CREATED:20210628T185703Z
LAST-MODIFIED:20210628T185703Z
UID:394326-1634054400-1634063400@977wmoi.com
SUMMARY:Alexis Farmer's Market
DESCRIPTION:Every Tuesday from May  through Oct\n4:00-6:30\nIn the Alexis Park\nRain or Shine\nVendors take Cash or Checks. Some Use Square\nHas a Variety of Crafters with their Own Unique Style\nThe only market where you’ll find Amish Baked Goods from Lee’s Bakery\nPlus many Other Vendors
URL:https://977wmoi.com/event/alexis-farmers-market-23/
END:VEVENT
BEGIN:VEVENT
DTSTART;TZID=America/Chicago:20211012T190000
DTEND;TZID=America/Chicago:20211012T190000
DTSTAMP:20260421T040626
CREATED:20210924T180650Z
LAST-MODIFIED:20210924T180650Z
UID:398126-1634065200-1634065200@977wmoi.com
SUMMARY:Knox County Right to Life Meeting
DESCRIPTION:The meeting will be held at the First Baptist Church in Galesburg on the corner of South Cherry and Tompkins. Use the Tompkins Street entrance. The meeting will also include education and letter writing.
URL:https://977wmoi.com/event/knox-county-right-to-life-meeting-12/
END:VEVENT
BEGIN:VEVENT
DTSTART;TZID=America/Chicago:20211013T080000
DTEND;TZID=America/Chicago:20211013T100000
DTSTAMP:20260421T040626
CREATED:20210913T150037Z
LAST-MODIFIED:20210913T150037Z
UID:397528-1634112000-1634119200@977wmoi.com
SUMMARY:Henderson County Health Department COVID-19 Vaccine Clinic
DESCRIPTION:COVID 19 Vaccine Clinic every Wednesday from 8am- 10am. \nJohnson & Johnson\, Pfizer  and Moderna vaccine will be available. \nhttps://www.hendersoncountyhealthdepartmentillinois.org
URL:https://977wmoi.com/event/henderson-county-health-department-covid-19-vaccine-clinic-5/
END:VEVENT
BEGIN:VEVENT
DTSTART;TZID=America/Chicago:20211013T113000
DTEND;TZID=America/Chicago:20211013T133000
DTSTAMP:20260421T040626
CREATED:20211006T131615Z
LAST-MODIFIED:20211006T131615Z
UID:398638-1634124600-1634131800@977wmoi.com
SUMMARY:Knox County COVID-19 Vaccination Clinic
DESCRIPTION:At Carl Sandburg College Crist Center 11:30am-1:30pm Pfizer\, Moderna & Janssen
URL:https://977wmoi.com/event/knox-county-covid-19-vaccination-clinic-4/
END:VEVENT
BEGIN:VEVENT
DTSTART;TZID=America/Chicago:20211013T113000
DTEND;TZID=America/Chicago:20211013T163000
DTSTAMP:20260421T040626
CREATED:20210927T125542Z
LAST-MODIFIED:20210927T125542Z
UID:398144-1634124600-1634142600@977wmoi.com
SUMMARY:Monmouth American Red Cross Blood Drive
DESCRIPTION:Held at the American Legion\, 1110 N. 11th St in Monmouth.
URL:https://977wmoi.com/event/monmouth-american-red-cross-blood-drive/
END:VEVENT
BEGIN:VEVENT
DTSTART;TZID=America/Chicago:20211013T130000
DTEND;TZID=America/Chicago:20211013T150000
DTSTAMP:20260421T040626
CREATED:20210930T205409Z
LAST-MODIFIED:20210930T205409Z
UID:398396-1634130000-1634137200@977wmoi.com
SUMMARY:BINGO at the Oquawka Senior Center
DESCRIPTION:Each person is allowed up to 4 cards free and each additional card is 25 cents each. Refreshments will be served during the afternoon. Feel free to bring your own lunch to enjoy beforehand at 12:15.
URL:https://977wmoi.com/event/bingo-at-the-oquawka-senior-center/
END:VEVENT
BEGIN:VEVENT
DTSTART;TZID=America/Chicago:20211013T130000
DTEND;TZID=America/Chicago:20211013T153000
DTSTAMP:20260421T040626
CREATED:20210923T160507Z
LAST-MODIFIED:20210923T160507Z
UID:398052-1634130000-1634139000@977wmoi.com
SUMMARY:Warren County Health Department COVID-19 Vaccination Clinic
DESCRIPTION:Held at the WCHD\, 240 South Main Street in Monmouth. Pfizer\, Moderna\, and Johnson & Johnson vaccines will all be available. Appointments must be scheduled prior to receiving  vaccine by calling 309-734-0823 during regular business hours.
URL:https://977wmoi.com/event/warren-county-health-department-covid-19-vaccination-clinic-2/
END:VEVENT
BEGIN:VEVENT
DTSTART;TZID=America/Chicago:20211014T083000
DTEND;TZID=America/Chicago:20211014T103000
DTSTAMP:20260421T040626
CREATED:20211013T131914Z
LAST-MODIFIED:20211013T131914Z
UID:398947-1634200200-1634207400@977wmoi.com
SUMMARY:Knox County COVID Vaccination Clinic
DESCRIPTION:At the Unified Command Vaccine Center 8:30am-10:30am Moderna & Janssen (18 years of age and up)
URL:https://977wmoi.com/event/knox-county-covid-vaccination-clinic/
END:VEVENT
BEGIN:VEVENT
DTSTART;TZID=America/Chicago:20211014T130000
DTEND;TZID=America/Chicago:20211014T130000
DTSTAMP:20260421T040626
CREATED:20210930T204452Z
LAST-MODIFIED:20210930T204452Z
UID:398382-1634216400-1634216400@977wmoi.com
SUMMARY:Warren County TRIAD Meeting
DESCRIPTION:Strom Center Director Carol McCrery will be the October TRIAD Meeting speaker to inform participants about Medicare and Medicare D. The meeting will be held at Strom Center in Monmouth.
URL:https://977wmoi.com/event/warren-county-triad-meeting-2/
END:VEVENT
BEGIN:VEVENT
DTSTART;TZID=America/Chicago:20211014T170000
DTEND;TZID=America/Chicago:20211014T190000
DTSTAMP:20260421T040626
CREATED:20211011T195304Z
LAST-MODIFIED:20211014T172358Z
UID:398885-1634230800-1634238000@977wmoi.com
SUMMARY:Knox-Warren Transition Planning Committee Agency Fair
DESCRIPTION:The Knox-Warren Transition Planning Committee agency fair will be held at the Monmouth-Roseville High School in the Library/Media Center on October 14th from 5:00 to 7:00 p.m for parents of students with disabilities.
URL:https://977wmoi.com/event/knox-warren-transition-planning-committee-agency-fair/
END:VEVENT
BEGIN:VEVENT
DTSTART;TZID=America/Chicago:20211014T170000
DTEND;TZID=America/Chicago:20211014T200000
DTSTAMP:20260421T040626
CREATED:20210915T204844Z
LAST-MODIFIED:20210915T204844Z
UID:397685-1634230800-1634241600@977wmoi.com
SUMMARY:Discovery Depot Boos and Brews
DESCRIPTION:Come enjoy a night out with beer and wine tastings at the Iron Spike\, 150 East Simmons Street in Galesburg. Be sure to tip your favorite bartender as there will be a competition going on as well as raffles and auction items. Advance tickets are $25 and includes beer and wine samples.
URL:https://977wmoi.com/event/discovery-depot-boos-and-brews/
END:VEVENT
BEGIN:VEVENT
DTSTART;VALUE=DATE:20211015
DTEND;VALUE=DATE:20211018
DTSTAMP:20260421T040626
CREATED:20210924T130307Z
LAST-MODIFIED:20210924T130307Z
UID:398077-1634256000-1634515199@977wmoi.com
SUMMARY:2021 National Cornhusking Contest
DESCRIPTION:The 2021 Oakley Corn Festival will be held the third weekend in October (10-15 thru 10-17) and includes Saturday night entertainment and on Sunday the National Cornhusking Championship.\nMore information at Cornhusking.com
URL:https://977wmoi.com/event/2021-national-cornhusking-contest/
END:VEVENT
BEGIN:VEVENT
DTSTART;TZID=America/Chicago:20211015T170000
DTEND;TZID=America/Chicago:20211015T190000
DTSTAMP:20260421T040626
CREATED:20210924T131505Z
LAST-MODIFIED:20210924T131505Z
UID:398086-1634317200-1634324400@977wmoi.com
SUMMARY:Downtown Monmouth Farmer's Market
DESCRIPTION:Held in the Fortress Bank Parking lot\, next to Dairy Queen and Save-A-Lot on North Main Street.
URL:https://977wmoi.com/event/downtown-monmouth-farmers-market-21/
END:VEVENT
BEGIN:VEVENT
DTSTART;TZID=America/Chicago:20211015T190000
DTEND;TZID=America/Chicago:20211015T220000
DTSTAMP:20260421T040626
CREATED:20211007T132716Z
LAST-MODIFIED:20211007T132716Z
UID:398711-1634324400-1634335200@977wmoi.com
SUMMARY:Friday Night Fever Dance
DESCRIPTION:The Historic Ellisville Restoration Organization (H.E.R.O.) is inviting the public to attend the Friday Night Fever dance upstairs at the Ellisville Opera House on Main St.\, Ellisville IL\, Friday\, October 15 from 7:45 to 10:00 p.m.  Hustle dance lessons will precede the main event from 7:00 to 7:45 pm. by Jon Young of Young Dance\, Inc. \nDeck yourself in your finest 70s attire hustle the night away!  The cost is $10 for singles and $15 for couples payable at the door.  Bottled water\, pop\, and chips will be available for purchase. \nThis is a non-profit (501c3) organization\, so all proceeds and donations are tax-deductible and will benefit the Historic Ellisville Restoration Organization (H.E.R.O.) Opera House Lift Project. The dance is hosted by Young Dance\, Inc.
URL:https://977wmoi.com/event/friday-night-fever-dance/
END:VEVENT
BEGIN:VEVENT
DTSTART;TZID=America/Chicago:20211016T070000
DTEND;TZID=America/Chicago:20211016T070000
DTSTAMP:20260421T040626
CREATED:20211007T132754Z
LAST-MODIFIED:20211007T132754Z
UID:398713-1634367600-1634367600@977wmoi.com
SUMMARY:100Km Scenic Bicycle Ride
DESCRIPTION:Come join us Saturday\, October 16 beginning at 7 a.m. for a 100Km scenic ride along the beautiful Spoon River from Ellisville to Bernadotte\, IL in North Fulton\, County\, IL. \nThis is an at your own pace ride\, not a race. No prizes will be offered. The ride is 70% gravel\, so a gravel or mountain bike is recommended\, and helmet required. Rides and first aid will be available if you have bike trouble or minor injuries but prepare to be your own mechanic and medic! There will be a water and snack stop midway.  GPS is required! Coordinates can be found on the Strava App (Spoon River Scenic Ride Final). \nThe Historic Ellisville Restoration Organization (H.E.R.O.) will have drinks and a light meal available to purchase at the end of the ride but pack enough food and water for the trip as stops along the route are limited.
URL:https://977wmoi.com/event/100km-scenic-bicycle-ride/
END:VEVENT
BEGIN:VEVENT
DTSTART;TZID=America/Chicago:20211016T080000
DTEND;TZID=America/Chicago:20211016T140000
DTSTAMP:20260421T040626
CREATED:20211013T163133Z
LAST-MODIFIED:20211013T163133Z
UID:398969-1634371200-1634392800@977wmoi.com
SUMMARY:Warren County Public Library Book Sale
DESCRIPTION:Book Sale \nFriends of the Warren County Public Library \nSaturday\, October 16 \n8:00 AM – 2:00 PM \n62 Public Square\, Monmouth \nFreewill donations accepted
URL:https://977wmoi.com/event/warren-county-public-library-book-sale/
END:VEVENT
BEGIN:VEVENT
DTSTART;TZID=America/Chicago:20211016T120000
DTEND;TZID=America/Chicago:20211016T120000
DTSTAMP:20260421T040626
CREATED:20210930T204708Z
LAST-MODIFIED:20210930T204708Z
UID:398384-1634385600-1634385600@977wmoi.com
SUMMARY:Strom Center Potluck
DESCRIPTION:Just bring a dish to pass at the last potluck of this year at the Monmouth Strom Center. BINGO will be enjoyed following the meal.
URL:https://977wmoi.com/event/strom-center-potluck-5/
END:VEVENT
BEGIN:VEVENT
DTSTART;TZID=America/Chicago:20211018T090000
DTEND;TZID=America/Chicago:20211018T110000
DTSTAMP:20260421T040626
CREATED:20211013T132001Z
LAST-MODIFIED:20211013T132001Z
UID:398949-1634547600-1634554800@977wmoi.com
SUMMARY:Knox County COVID Vaccination Clinic
DESCRIPTION:At the Abingdon Methodist Church\, 401 N Washington St\, Abingdon\, 9:00am-11:00am Pfizer\, Moderna & Janssen
URL:https://977wmoi.com/event/knox-county-covid-vaccination-clinic-2/
END:VEVENT
BEGIN:VEVENT
DTSTART;TZID=America/Chicago:20211018T120000
DTEND;TZID=America/Chicago:20211018T133000
DTSTAMP:20260421T040626
CREATED:20210917T205250Z
LAST-MODIFIED:20210917T205250Z
UID:397778-1634558400-1634563800@977wmoi.com
SUMMARY:12th Annual Fall Leadership Luncheon
DESCRIPTION:“Hearing from Our Very Own.” Lunch will be catered by M&E Catering at the Warren County History Museum. The Keynote Speaker will be Ken McMillan. Tickets are $15 per person and can be purchased at Warren Achievement Center\, Midwest Bank\, and the Monmouth Area Chamber of Commerce.
URL:https://977wmoi.com/event/12th-annual-fall-leadership-luncheon/
END:VEVENT
BEGIN:VEVENT
DTSTART;TZID=America/Chicago:20211018T170000
DTEND;TZID=America/Chicago:20211018T190000
DTSTAMP:20260421T040626
CREATED:20210927T130719Z
LAST-MODIFIED:20210927T130719Z
UID:398157-1634576400-1634583600@977wmoi.com
SUMMARY:WIRC Free Budgeting Class in Macomb
DESCRIPTION:During the two-hour class\, attendees will learn about basic money management\, how to design a budget\, and how to track their progress. Instruction for each class will be provided by Tessa Hobbs-Curley\, who is an experienced Family Life Extension Educator at University of Illinois Extension. \nThe class in Macomb will be held on Monday\, October 18\, 2021 from 5:00 – 7:00 p.m. at Village at Wheeler Clubhouse\, 1641 East Wheeler Circle. The follow-up class will be held on Tuesday\, January 18\, 2022 at the same time and location.
URL:https://977wmoi.com/event/wirc-free-budgeting-class-in-macomb/
END:VEVENT
BEGIN:VEVENT
DTSTART;TZID=America/Chicago:20211019T160000
DTEND;TZID=America/Chicago:20211019T183000
DTSTAMP:20260421T040626
CREATED:20210628T185736Z
LAST-MODIFIED:20210628T185736Z
UID:394328-1634659200-1634668200@977wmoi.com
SUMMARY:Alexis Farmer's Market
DESCRIPTION:Every Tuesday from May  through Oct\n4:00-6:30\nIn the Alexis Park\nRain or Shine\nVendors take Cash or Checks. Some Use Square\nHas a Variety of Crafters with their Own Unique Style\nThe only market where you’ll find Amish Baked Goods from Lee’s Bakery\nPlus many Other Vendors
URL:https://977wmoi.com/event/alexis-farmers-market-24/
END:VEVENT
BEGIN:VEVENT
DTSTART;TZID=America/Chicago:20211019T170000
DTEND;TZID=America/Chicago:20211019T190000
DTSTAMP:20260421T040626
CREATED:20210927T130811Z
LAST-MODIFIED:20210927T130811Z
UID:398159-1634662800-1634670000@977wmoi.com
SUMMARY:WIRC Free Budgeting Class in Galesburg
DESCRIPTION:During the two-hour class\, attendees will learn about basic money management\, how to design a budget\, and how to track their progress. Instruction for each class will be provided by Tessa Hobbs-Curley\, who is an experienced Family Life Extension Educator at University of Illinois Extension. \nThe Galesburg class will be held on Tuesday\, October 19\, 2021 from 5:00 – 7:00 p.m. at Knox County United Way Meeting Room\, 1215 Monmouth Boulevard. The follow-up class will be held at the same time and location on Thursday\, January 20\, 2022.
URL:https://977wmoi.com/event/wirc-free-budgeting-class-in-galesburg/
END:VEVENT
END:VCALENDAR