BEGIN:VCALENDAR
VERSION:2.0
PRODID:-//Prairie Communications, LLC - ECPv6.15.20//NONSGML v1.0//EN
CALSCALE:GREGORIAN
METHOD:PUBLISH
X-WR-CALNAME:Prairie Communications, LLC
X-ORIGINAL-URL:https://977wmoi.com
X-WR-CALDESC:Events for Prairie Communications, LLC
REFRESH-INTERVAL;VALUE=DURATION:PT1H
X-Robots-Tag:noindex
X-PUBLISHED-TTL:PT1H
BEGIN:VTIMEZONE
TZID:America/Chicago
BEGIN:DAYLIGHT
TZOFFSETFROM:-0600
TZOFFSETTO:-0500
TZNAME:CDT
DTSTART:20200308T080000
END:DAYLIGHT
BEGIN:STANDARD
TZOFFSETFROM:-0500
TZOFFSETTO:-0600
TZNAME:CST
DTSTART:20201101T070000
END:STANDARD
BEGIN:DAYLIGHT
TZOFFSETFROM:-0600
TZOFFSETTO:-0500
TZNAME:CDT
DTSTART:20210314T080000
END:DAYLIGHT
BEGIN:STANDARD
TZOFFSETFROM:-0500
TZOFFSETTO:-0600
TZNAME:CST
DTSTART:20211107T070000
END:STANDARD
BEGIN:DAYLIGHT
TZOFFSETFROM:-0600
TZOFFSETTO:-0500
TZNAME:CDT
DTSTART:20220313T080000
END:DAYLIGHT
BEGIN:STANDARD
TZOFFSETFROM:-0500
TZOFFSETTO:-0600
TZNAME:CST
DTSTART:20221106T070000
END:STANDARD
END:VTIMEZONE
BEGIN:VEVENT
DTSTART;VALUE=DATE:20211030
DTEND;VALUE=DATE:20211231
DTSTAMP:20260419T133925
CREATED:20210824T173628Z
LAST-MODIFIED:20210824T173628Z
UID:396633-1635552000-1640908799@977wmoi.com
SUMMARY:40th Annual Security Savings Bank Photography Show
DESCRIPTION:ATTENTION PHOTOGRAPHERS! The Buchanan Center for the Arts invites you to enter our 40th-Annual Security Savings Bank Photography Show November 9 through December 30\, 2021. Categories this year include Agriculture & Farm Life\, Animals & Creatures\, Capturing Light & Shadows\, Faces\, The Four Seasons\, and the Peggy Kuczewski Floral Award (new to this year’s show). Deadline for entry is 2pm Saturday\, October 30. Our juror for this year’s show is Natalie Jackson of Nat Jack Studios in Peoria\, Illinois. Visit http://bcaarts.org for entry details and to download an entry form. To learn more about our juror\, visit https://www.nataliejacksonphotography.com/.
URL:https://977wmoi.com/event/40th-annual-security-savings-bank-photography-show/
END:VEVENT
BEGIN:VEVENT
DTSTART;TZID=America/Chicago:20211112T190000
DTEND;TZID=America/Chicago:20211112T190000
DTSTAMP:20260419T133925
CREATED:20211028T125916Z
LAST-MODIFIED:20211028T125916Z
UID:399841-1636743600-1636743600@977wmoi.com
SUMMARY:The Surprising Stephen A. Douglas Lecture
DESCRIPTION:At the Warren County History Museum. Acclaimed Biographer Reg Ankrom of Quincy will be speaking on his most recent book\, “Steven Douglas\, Western Man: The Early Years in Congress.”
URL:https://977wmoi.com/event/the-surprising-stephen-a-douglas-lecture/
END:VEVENT
BEGIN:VEVENT
DTSTART;TZID=America/Chicago:20211113T070000
DTEND;TZID=America/Chicago:20211113T110000
DTSTAMP:20260419T133925
CREATED:20211101T181629Z
LAST-MODIFIED:20211101T181629Z
UID:400002-1636786800-1636801200@977wmoi.com
SUMMARY:Oquawka Fire Dept. Drive-Up Breakfast
DESCRIPTION:Serving biscuits and gravy\, scrambled eggs\, sausage links\, pancakes\, and drink at the Oquawka Fire Department on the corner of 5th and Warren. Free will donation. Proceeds will benefit the Oquawka Toy Drive.
URL:https://977wmoi.com/event/oquawka-fire-dept-drive-up-breakfast/
END:VEVENT
BEGIN:VEVENT
DTSTART;TZID=America/Chicago:20211113T080000
DTEND;TZID=America/Chicago:20211113T120000
DTSTAMP:20260419T133925
CREATED:20211109T141309Z
LAST-MODIFIED:20211109T141309Z
UID:400350-1636790400-1636804800@977wmoi.com
SUMMARY:Knox County COVID-19 Pediatric Vaccination Clinic
DESCRIPTION:At the Unified Command Vaccine Center 8:00am-12:00pm Pfizer 5–11-year old’s Pediatric Clinic. Registration is required.
URL:https://977wmoi.com/event/knox-county-covid-19-pediatric-vaccination-clinic/
END:VEVENT
BEGIN:VEVENT
DTSTART;TZID=America/Chicago:20211113T090000
DTEND;TZID=America/Chicago:20211113T110000
DTSTAMP:20260419T133925
CREATED:20210806T193746Z
LAST-MODIFIED:20210806T193746Z
UID:395948-1636794000-1636801200@977wmoi.com
SUMMARY:Galesburg Parks & Rec 'Winter is Coming'
DESCRIPTION:Free nature program open to everyone in the public at the Lakeside Nature Center\, 1033 South Lake Storey Road in Galesburg. Activities are geared toward families and children\, but all ages are welcome. Pre-registration is recommended but not required. Dress for outdoor adventures! Investigate Illinois rocks and talk about the lumps and bumps of the Earth with a resident naturalist!
URL:https://977wmoi.com/event/galesburg-parks-rec-winter-is-coming/
END:VEVENT
BEGIN:VEVENT
DTSTART;TZID=America/Chicago:20211113T090000
DTEND;TZID=America/Chicago:20211113T120000
DTSTAMP:20260419T133925
CREATED:20211108T204328Z
LAST-MODIFIED:20211108T204328Z
UID:400334-1636794000-1636804800@977wmoi.com
SUMMARY:WCHD Pediatric Pfizer COVID-19 Vaccination Clinic
DESCRIPTION:The Warren County Health Department is offering a COVID-19 vaccination clinic for children aged 5 to 11 at the Health Department\, 240 South Main Street in Monmouth. Appointment is required by calling 309-734-0823 during business hours. The health department is closed November 11th and 12th.
URL:https://977wmoi.com/event/wchd-pediatric-pfizer-covid-19-vaccination-clinic/
END:VEVENT
BEGIN:VEVENT
DTSTART;TZID=America/Chicago:20211113T160000
DTEND;TZID=America/Chicago:20211113T220000
DTSTAMP:20260419T133925
CREATED:20211021T201915Z
LAST-MODIFIED:20211021T201915Z
UID:399393-1636819200-1636840800@977wmoi.com
SUMMARY:Cancer Benefit for TJ Lodwick
DESCRIPTION:At the Monmouth American Legion. There will be a silent auction\, food\, 50/50 drawing\, booze raffle\, bake sale\, DJ\, and t-shirts.
URL:https://977wmoi.com/event/cancer-benefit-for-tj-lodwick/
END:VEVENT
BEGIN:VEVENT
DTSTART;TZID=America/Chicago:20211113T170000
DTEND;TZID=America/Chicago:20211113T170000
DTSTAMP:20260419T133925
CREATED:20211025T183446Z
LAST-MODIFIED:20211025T183446Z
UID:399610-1636822800-1636822800@977wmoi.com
SUMMARY:Henderson County Auxiliary Police Trivia Night
DESCRIPTION:Held at Mama’s Place\, 1002 North 7th Street in Oquawka. $10 per person with up to 10 people per team. Doors open at 5 pm. Game starts at 6 pm. Reserve your table by contacting Tammy Bundy at 319-850-0111.
URL:https://977wmoi.com/event/henderson-county-auxiliary-police-trivia-night/
END:VEVENT
BEGIN:VEVENT
DTSTART;TZID=America/Chicago:20211113T180000
DTEND;TZID=America/Chicago:20211113T210000
DTSTAMP:20260419T133925
CREATED:20210928T183220Z
LAST-MODIFIED:20210928T183220Z
UID:398243-1636826400-1636837200@977wmoi.com
SUMMARY:BCA Taste of the Arts Gala 'You Oughta Be In Pictures'
DESCRIPTION:That’s right! You Oughta Be In Pictures. But if you’re too shy or would rather be part of the audience\, that’s okay! We still want you to be a part of our annual Taste of the Arts fundraiser 6-9pm Saturday\, November 13. As you may have guessed\, our theme this year is You Oughta Be In Pictures. The evening will feature dinner\, live music\, and silent and live auctions. \nOur goal for 2021 is to raise $30\,000 to support and grow arts opportunities in the Warren County region. Funds raised support the Buchanan Community Chorus\, Immaculate Conception School Theater Program\, Rural Education Initiative Summer Camp\, Warren Achievement Center\, Art Presenter Program in our public and private schools\, The Good Gang Book Club\, and Home School Arts. Funds raised also support BCA gallery exhibitions\, music & theater productions\, internships\, and educational classes. \nPlease consider supporting the arts in our community through a monetary sponsorship or by donating an auction item by October 1. Visit bcaarts.org “Special Events” or simply stop by the BCA.
URL:https://977wmoi.com/event/bca-taste-of-the-arts-gala-you-oughta-be-in-pictures/
END:VEVENT
BEGIN:VEVENT
DTSTART;TZID=America/Chicago:20211114T073000
DTEND;TZID=America/Chicago:20211114T103000
DTSTAMP:20260419T133925
CREATED:20211005T192349Z
LAST-MODIFIED:20211005T192349Z
UID:398607-1636875000-1636885800@977wmoi.com
SUMMARY:Monmouth VFW Breakfast Buffet
DESCRIPTION:Enjoy a delicious breakfast while supporting the Monmouth-Roseville High School After Prom and the VFW Auxiliary. Adults are $8 and children under the age of 6 are $4. Breakfast is open to the public at the Monmouth VFW\, 830 North G Street.
URL:https://977wmoi.com/event/monmouth-vfw-breakfast-buffet-3/
END:VEVENT
BEGIN:VEVENT
DTSTART;TZID=America/Chicago:20211114T170000
DTEND;TZID=America/Chicago:20211114T183000
DTSTAMP:20260419T133925
CREATED:20211103T130122Z
LAST-MODIFIED:20211103T130122Z
UID:400085-1636909200-1636914600@977wmoi.com
SUMMARY:First Lutheran Church Annual Chili and Oyster Stew Supper
DESCRIPTION:Chili or oyster stew\, hot dogs\, dessert\, and drinks will all be available for a free will offering at the First Lutheran Church\, 116 South B Street in Monmouth. Inside take-out also available. Proceeds will benefit local projects of Women of the ELCA.
URL:https://977wmoi.com/event/first-lutheran-church-annual-chili-and-oyster-stew-supper/
END:VEVENT
BEGIN:VEVENT
DTSTART;TZID=America/Chicago:20211116T070000
DTEND;TZID=America/Chicago:20211116T113000
DTSTAMP:20260419T133925
CREATED:20211109T141406Z
LAST-MODIFIED:20211109T141406Z
UID:400352-1637046000-1637062200@977wmoi.com
SUMMARY:Knox County COVID-19 Vaccination Clinic
DESCRIPTION:Walk-in Booster Clinic at the Unified Command Vaccine Center 7:00am-11:30am Moderna\, Pfizer & Janssen (12 years of age and up).
URL:https://977wmoi.com/event/knox-county-covid-19-vaccination-clinic-6/
END:VEVENT
BEGIN:VEVENT
DTSTART;TZID=America/Chicago:20211116T133000
DTEND;TZID=America/Chicago:20211116T153000
DTSTAMP:20260419T133925
CREATED:20211109T141450Z
LAST-MODIFIED:20211109T141450Z
UID:400354-1637069400-1637076600@977wmoi.com
SUMMARY:Knox County COVID-19 Vaccination Clinic
DESCRIPTION:At the Unified Command Vaccine Center 1:30pm-3:30pm Moderna\, Pfizer & Janssen (12 years of age and up).
URL:https://977wmoi.com/event/knox-county-covid-19-vaccination-clinic-7/
END:VEVENT
BEGIN:VEVENT
DTSTART;TZID=America/Chicago:20211117T080000
DTEND;TZID=America/Chicago:20211117T100000
DTSTAMP:20260419T133925
CREATED:20211018T204641Z
LAST-MODIFIED:20211018T204641Z
UID:399185-1637136000-1637143200@977wmoi.com
SUMMARY:Henderson County Health Department Flu Vaccine Clinic
DESCRIPTION:It will be a walk-in clinic from 8-10am every Wednesday morning through December.\n\n\nPlease bring your Medicare or Medicaid card with you.\n\n\nWith out insurance\, it will be $35 for regular Flublock and $55 for the over age 65 Fluzone HD.
URL:https://977wmoi.com/event/henderson-county-health-department-flu-vaccine-clinic-5/
END:VEVENT
BEGIN:VEVENT
DTSTART;TZID=America/Chicago:20211117T083000
DTEND;TZID=America/Chicago:20211117T160000
DTSTAMP:20260419T133925
CREATED:20211022T132823Z
LAST-MODIFIED:20211025T184047Z
UID:399420-1637137800-1637164800@977wmoi.com
SUMMARY:Warren County Health Department COVID Vaccination Clinic
DESCRIPTION:Held at the 1st Christian Church\, 514 North Sunny Lane in Monmouth. Pfizer\, Moderna\, and Johnson & Johnson vaccines will all be available. Boosters are currently available if you have previously received Pfizer or Moderna more than 6 months ago. Johnson & Johnson boosters are available if you received you initial dose at least 2 months ago. Appointments must be scheduled prior to receiving  vaccine by calling 309-734-0823 during regular business hours.
URL:https://977wmoi.com/event/warren-county-health-department-covid-vaccination-clinic-5/
END:VEVENT
BEGIN:VEVENT
DTSTART;VALUE=DATE:20211118
DTEND;VALUE=DATE:20211122
DTSTAMP:20260419T133925
CREATED:20211019T183526Z
LAST-MODIFIED:20211109T202851Z
UID:399265-1637193600-1637539199@977wmoi.com
SUMMARY:A Christmas Carol Monmouth College & BCA Production
DESCRIPTION:Tickets are available for A Christmas Carol online at www.monmouthcollege.edu/box-office or at the Wells Theatre box office on Monmouth College campus M-W-F 3-4pm and T-TH 2-3pm. Performances are Thursday\, November 18-Saturday\, November 20 at 7:30 p.m.; Saturday\, November 20-Sunday\, November 21 at 2 p.m. Once again\, the Department of Theatre teams up with The Buchanan Center for the Arts(opens in a new tab) to present a large-scale community production of the holiday classic. Directed by Senior Theatre Major Melanie Delbridge. At the Wells Theater
URL:https://977wmoi.com/event/a-christmas-carol-monmouth-college-production/
END:VEVENT
BEGIN:VEVENT
DTSTART;TZID=America/Chicago:20211119T170000
DTEND;TZID=America/Chicago:20211119T190000
DTSTAMP:20260419T133925
CREATED:20211025T125917Z
LAST-MODIFIED:20211025T125917Z
UID:399539-1637341200-1637348400@977wmoi.com
SUMMARY:Stronghurst Christmas Open House
DESCRIPTION:Kick off your Holiday season by visiting downtown Stronghurst for the annual Christmas Open House. Our little town is sure to be merry and bright that night! Visit local businesses\, sample free food and drinks\, visit Santa\, take a wagon ride\, enjoy holiday music\, buy a ticket for a 50/50 raffle\, participate in a scavenger hunt\, and just enjoy the atmosphere! Please follow this event for more details!
URL:https://977wmoi.com/event/stronghurst-christmas-open-house/
END:VEVENT
BEGIN:VEVENT
DTSTART;TZID=America/Chicago:20211119T170000
DTEND;TZID=America/Chicago:20211119T190000
DTSTAMP:20260419T133925
CREATED:20211101T181749Z
LAST-MODIFIED:20211101T181749Z
UID:400004-1637341200-1637348400@977wmoi.com
SUMMARY:Stronghurst Christmas Walk
DESCRIPTION:Get in the holiday spirit during the annual Stronghurst Booster Club Christmas Walk in downtown Stronghurst.
URL:https://977wmoi.com/event/stronghurst-christmas-walk/
END:VEVENT
BEGIN:VEVENT
DTSTART;TZID=America/Chicago:20211119T173000
DTEND;TZID=America/Chicago:20211119T173000
DTSTAMP:20260419T133925
CREATED:20211028T183430Z
LAST-MODIFIED:20211028T183430Z
UID:399891-1637343000-1637343000@977wmoi.com
SUMMARY:Special Olympics Friday Night Lights
DESCRIPTION:Dinner and auction fundraiser for Special Olympics of Illinois Region F. Kick off is at 5:30 pm featuring a steak dinner and appetizers prepared by M&E Catering. Tickets are $30 or $280 for a reserved table. The event will be held at Meks on Main\, 201 North Main. For more information\, call 309-734-5903.
URL:https://977wmoi.com/event/special-olympics-friday-night-lights/
END:VEVENT
BEGIN:VEVENT
DTSTART;TZID=America/Chicago:20211122T083000
DTEND;TZID=America/Chicago:20211122T160000
DTSTAMP:20260419T133925
CREATED:20211022T132913Z
LAST-MODIFIED:20211025T184116Z
UID:399422-1637569800-1637596800@977wmoi.com
SUMMARY:Warren County Health Department COVID Vaccination Clinic
DESCRIPTION:Held at the 1st Christian Church\, 514 North Sunny Lane in Monmouth. Pfizer\, Moderna\, and Johnson & Johnson vaccines will all be available. Boosters are currently available if you have previously received Pfizer or Moderna more than 6 months ago. Johnson & Johnson boosters are available if you received you initial dose at least 2 months ago. Appointments must be scheduled prior to receiving  vaccine by calling 309-734-0823 during regular business hours.
URL:https://977wmoi.com/event/warren-county-health-department-covid-vaccination-clinic-6/
END:VEVENT
BEGIN:VEVENT
DTSTART;TZID=America/Chicago:20211122T113000
DTEND;TZID=America/Chicago:20211122T130000
DTSTAMP:20260419T133925
CREATED:20210806T180824Z
LAST-MODIFIED:20211014T204004Z
UID:395938-1637580600-1637586000@977wmoi.com
SUMMARY:Galesburg Area Chamber 43rd Annual Thanksgiving Luncheon
DESCRIPTION:Held at the Cedar Creek Hall in Galesburg. Event includes the presentation of the Thomas B. Herring award. Reserve your table of 8 or individual tickets by calling 309-343-1194. \nVirtual tickets remain available:\n Individual Virtual with Meal Delivery (in city limits)\n Virtual Only (no meal)
URL:https://977wmoi.com/event/galesburg-area-chamber-43rd-annual-thanksgiving-luncheon/
END:VEVENT
BEGIN:VEVENT
DTSTART;TZID=America/Chicago:20211124T080000
DTEND;TZID=America/Chicago:20211124T100000
DTSTAMP:20260419T133925
CREATED:20211018T204716Z
LAST-MODIFIED:20211018T204716Z
UID:399187-1637740800-1637748000@977wmoi.com
SUMMARY:Henderson County Health Department Flu Vaccine Clinic
DESCRIPTION:It will be a walk-in clinic from 8-10am every Wednesday morning through December.\n\n\nPlease bring your Medicare or Medicaid card with you.\n\n\nWith out insurance\, it will be $35 for regular Flublock and $55 for the over age 65 Fluzone HD.
URL:https://977wmoi.com/event/henderson-county-health-department-flu-vaccine-clinic-6/
END:VEVENT
BEGIN:VEVENT
DTSTART;TZID=America/Chicago:20211124T130000
DTEND;TZID=America/Chicago:20211124T150000
DTSTAMP:20260419T133925
CREATED:20211101T182114Z
LAST-MODIFIED:20211101T182114Z
UID:400008-1637758800-1637766000@977wmoi.com
SUMMARY:Oquawka Strom Center BINGO
DESCRIPTION:Each person is allowed up to 4 cards for free and each additional card is 25 cents. Refreshments will be served during the afternoon. Feel free to bring your own lunch to enjoy before BINGO at 12:15.
URL:https://977wmoi.com/event/oquawka-strom-center-bingo-6/
END:VEVENT
BEGIN:VEVENT
DTSTART;TZID=America/Chicago:20211125T080000
DTEND;TZID=America/Chicago:20211125T080000
DTSTAMP:20260419T133925
CREATED:20211026T130824Z
LAST-MODIFIED:20211026T130824Z
UID:399648-1637827200-1637827200@977wmoi.com
SUMMARY:10th Annual Good Hope Turkey Trot
DESCRIPTION:10K run at 8 am\, 5K run/walk at 8:30 am\, 1K kids fun run at 9 am. Race day registration begins a half hour prior to start time. Registration is $30 and $35 the day of race. Packet pick up is at the Good Hope-Sciota Firehouse on November 24th from 5:30 pm to 6:30 pm. Race location begins at the Good Hope Fire Station\, 145 West Main Street. Funds benefit the Good Hope-Sciota Fire Protection District.
URL:https://977wmoi.com/event/10th-annual-good-hope-turkey-trot/
END:VEVENT
BEGIN:VEVENT
DTSTART;TZID=America/Chicago:20211125T120000
DTEND;TZID=America/Chicago:20211125T133000
DTSTAMP:20260419T133925
CREATED:20211109T203258Z
LAST-MODIFIED:20211115T162657Z
UID:400395-1637841600-1637847000@977wmoi.com
SUMMARY:Community Thanksgiving Dinner
DESCRIPTION:Highpoint Church will host a Community Thanksgiving Dinner at the Monmouth American Legion\, 1110 North 11th Street. Dine in from noon to 1:30 pm. Delivery begins at 11:30 am and takeout starts at 11:45 am. For deliveries\, contact 309-536-3242 by Nov. 24th. For more information or to volunteer\, email areynolds@highpoint.church.
URL:https://977wmoi.com/event/community-thanksgiving-dinner/
LOCATION:American Legion Monmouth IL\, 1110 North 11th Street\, Monmouth\, IL\, 61462\, United States
END:VEVENT
BEGIN:VEVENT
DTSTART;VALUE=DATE:20211127
DTEND;VALUE=DATE:20211128
DTSTAMP:20260419T133925
CREATED:20211108T172706Z
LAST-MODIFIED:20211108T172706Z
UID:400312-1637971200-1638057599@977wmoi.com
SUMMARY:Small Business Saturday
DESCRIPTION:Think big and shop Small Business Saturday in Monmouth as local businesses will offer specials\, discounts\, giveaways\, and more including Alfano’s Pizza\, Dame Fine Coffee\, El Merkadito\, Flowers are Us\, Market Alley Wines\, Maude Specklebelly’s\, Meks on Main\, Patton Block\, Reworks\, and the Tin Cup. See it here. Buy it here. Eat it here. Keep them here.
URL:https://977wmoi.com/event/small-business-saturday-2/
END:VEVENT
BEGIN:VEVENT
DTSTART;TZID=America/Chicago:20211127T090000
DTEND;TZID=America/Chicago:20211127T130000
DTSTAMP:20260419T133925
CREATED:20211117T141659Z
LAST-MODIFIED:20211117T141659Z
UID:400695-1638003600-1638018000@977wmoi.com
SUMMARY:Holiday Sip & Shop
DESCRIPTION:Join for a day of shopping and socializing at Meks on Main in Monmouth. Local vendors will have cash and carry items for your holiday gift needs. Enjoy a drink and shop with friends! There will be something for everyone including raffles\, giveaways\, cash bar\, and more! Make it Monmouth and shop local!
URL:https://977wmoi.com/event/holiday-sip-shop/
END:VEVENT
BEGIN:VEVENT
DTSTART;TZID=America/Chicago:20211128T080000
DTEND;TZID=America/Chicago:20211128T120000
DTSTAMP:20260419T133925
CREATED:20211104T204720Z
LAST-MODIFIED:20211104T204720Z
UID:400187-1638086400-1638100800@977wmoi.com
SUMMARY:Galesburg Knights of Columbus Pancake and Sausage Breakfast
DESCRIPTION:The Galesburg Knights of Columbus will be hosting a pancake and sausage breakfast fundraiser at the Knights of Columbus Hall in Galesburg to help the local Father Deus raise money to complete high eighth church that is being constructed in Tanzania.
URL:https://977wmoi.com/event/galesburg-knights-of-columbus-pancake-and-sausage-breakfast/
END:VEVENT
BEGIN:VEVENT
DTSTART;VALUE=DATE:20211129
DTEND;VALUE=DATE:20211130
DTSTAMP:20260419T133925
CREATED:20211109T141903Z
LAST-MODIFIED:20211109T141903Z
UID:400358-1638144000-1638230399@977wmoi.com
SUMMARY:Representative Swanson hosts Farmland Assessment Meetings
DESCRIPTION:8:30am-10:30am   (Knox) Carl Sandburg College\, 2400 Tom L. Wilson Blvd.\, Galesburg \n1:00pm-3:00pm    (Henry) Lavender Crest Winery\, 5401 US Highway 6\, Colona \n5:00pm-7:00pm    (Bureau) Bureau County Metro Center\, 837 Park Avenue West\, Princeton \nAll farmland owners or farm managers are invited to attend\, residency in the three host counties is not required. \nTo accommodate seating and materials\, please pre-register with the Knox County Farm Bureau (309) 342-2036\, Bureau County Farm Bureau (815) 875-6468\, or Henry County Farm Bureau (309) 937-2411. \n74th District residents can learn more about state legislative issues at Representative Swanson’s website at repswanson.com.
URL:https://977wmoi.com/event/representative-swanson-hosts-farmland-assessment-meetings/
END:VEVENT
BEGIN:VEVENT
DTSTART;VALUE=DATE:20211130
DTEND;VALUE=DATE:20211204
DTSTAMP:20260419T133925
CREATED:20211130T140535Z
LAST-MODIFIED:20211130T140535Z
UID:401148-1638230400-1638575999@977wmoi.com
SUMMARY:Jamieson Center Angel Tree
DESCRIPTION:Spread Christmas Cheer to local children in need. Angels can be selected off the tree at Midwest Bank in Monmouth. In addition to gifts\, cash donations to purchase a $20 gift are also being accepted. All gifts and donations must be received by Friday\, December 3rd.
URL:https://977wmoi.com/event/jamieson-center-angel-tree/
END:VEVENT
END:VCALENDAR