BEGIN:VCALENDAR
VERSION:2.0
PRODID:-//Prairie Communications, LLC - ECPv6.15.20//NONSGML v1.0//EN
CALSCALE:GREGORIAN
METHOD:PUBLISH
X-WR-CALNAME:Prairie Communications, LLC
X-ORIGINAL-URL:https://977wmoi.com
X-WR-CALDESC:Events for Prairie Communications, LLC
REFRESH-INTERVAL;VALUE=DURATION:PT1H
X-Robots-Tag:noindex
X-PUBLISHED-TTL:PT1H
BEGIN:VTIMEZONE
TZID:America/Chicago
BEGIN:DAYLIGHT
TZOFFSETFROM:-0600
TZOFFSETTO:-0500
TZNAME:CDT
DTSTART:20200308T080000
END:DAYLIGHT
BEGIN:STANDARD
TZOFFSETFROM:-0500
TZOFFSETTO:-0600
TZNAME:CST
DTSTART:20201101T070000
END:STANDARD
BEGIN:DAYLIGHT
TZOFFSETFROM:-0600
TZOFFSETTO:-0500
TZNAME:CDT
DTSTART:20210314T080000
END:DAYLIGHT
BEGIN:STANDARD
TZOFFSETFROM:-0500
TZOFFSETTO:-0600
TZNAME:CST
DTSTART:20211107T070000
END:STANDARD
BEGIN:DAYLIGHT
TZOFFSETFROM:-0600
TZOFFSETTO:-0500
TZNAME:CDT
DTSTART:20220313T080000
END:DAYLIGHT
BEGIN:STANDARD
TZOFFSETFROM:-0500
TZOFFSETTO:-0600
TZNAME:CST
DTSTART:20221106T070000
END:STANDARD
END:VTIMEZONE
BEGIN:VEVENT
DTSTART;VALUE=DATE:20211030
DTEND;VALUE=DATE:20211231
DTSTAMP:20260420T180735
CREATED:20210824T173628Z
LAST-MODIFIED:20210824T173628Z
UID:396633-1635552000-1640908799@977wmoi.com
SUMMARY:40th Annual Security Savings Bank Photography Show
DESCRIPTION:ATTENTION PHOTOGRAPHERS! The Buchanan Center for the Arts invites you to enter our 40th-Annual Security Savings Bank Photography Show November 9 through December 30\, 2021. Categories this year include Agriculture & Farm Life\, Animals & Creatures\, Capturing Light & Shadows\, Faces\, The Four Seasons\, and the Peggy Kuczewski Floral Award (new to this year’s show). Deadline for entry is 2pm Saturday\, October 30. Our juror for this year’s show is Natalie Jackson of Nat Jack Studios in Peoria\, Illinois. Visit http://bcaarts.org for entry details and to download an entry form. To learn more about our juror\, visit https://www.nataliejacksonphotography.com/.
URL:https://977wmoi.com/event/40th-annual-security-savings-bank-photography-show/
END:VEVENT
BEGIN:VEVENT
DTSTART;TZID=America/Chicago:20211122T083000
DTEND;TZID=America/Chicago:20211122T160000
DTSTAMP:20260420T180735
CREATED:20211022T132913Z
LAST-MODIFIED:20211025T184116Z
UID:399422-1637569800-1637596800@977wmoi.com
SUMMARY:Warren County Health Department COVID Vaccination Clinic
DESCRIPTION:Held at the 1st Christian Church\, 514 North Sunny Lane in Monmouth. Pfizer\, Moderna\, and Johnson & Johnson vaccines will all be available. Boosters are currently available if you have previously received Pfizer or Moderna more than 6 months ago. Johnson & Johnson boosters are available if you received you initial dose at least 2 months ago. Appointments must be scheduled prior to receiving  vaccine by calling 309-734-0823 during regular business hours.
URL:https://977wmoi.com/event/warren-county-health-department-covid-vaccination-clinic-6/
END:VEVENT
BEGIN:VEVENT
DTSTART;TZID=America/Chicago:20211122T113000
DTEND;TZID=America/Chicago:20211122T130000
DTSTAMP:20260420T180735
CREATED:20210806T180824Z
LAST-MODIFIED:20211014T204004Z
UID:395938-1637580600-1637586000@977wmoi.com
SUMMARY:Galesburg Area Chamber 43rd Annual Thanksgiving Luncheon
DESCRIPTION:Held at the Cedar Creek Hall in Galesburg. Event includes the presentation of the Thomas B. Herring award. Reserve your table of 8 or individual tickets by calling 309-343-1194. \nVirtual tickets remain available:\n Individual Virtual with Meal Delivery (in city limits)\n Virtual Only (no meal)
URL:https://977wmoi.com/event/galesburg-area-chamber-43rd-annual-thanksgiving-luncheon/
END:VEVENT
BEGIN:VEVENT
DTSTART;TZID=America/Chicago:20211124T080000
DTEND;TZID=America/Chicago:20211124T100000
DTSTAMP:20260420T180735
CREATED:20211018T204716Z
LAST-MODIFIED:20211018T204716Z
UID:399187-1637740800-1637748000@977wmoi.com
SUMMARY:Henderson County Health Department Flu Vaccine Clinic
DESCRIPTION:It will be a walk-in clinic from 8-10am every Wednesday morning through December.\n\n\nPlease bring your Medicare or Medicaid card with you.\n\n\nWith out insurance\, it will be $35 for regular Flublock and $55 for the over age 65 Fluzone HD.
URL:https://977wmoi.com/event/henderson-county-health-department-flu-vaccine-clinic-6/
END:VEVENT
BEGIN:VEVENT
DTSTART;TZID=America/Chicago:20211124T130000
DTEND;TZID=America/Chicago:20211124T150000
DTSTAMP:20260420T180735
CREATED:20211101T182114Z
LAST-MODIFIED:20211101T182114Z
UID:400008-1637758800-1637766000@977wmoi.com
SUMMARY:Oquawka Strom Center BINGO
DESCRIPTION:Each person is allowed up to 4 cards for free and each additional card is 25 cents. Refreshments will be served during the afternoon. Feel free to bring your own lunch to enjoy before BINGO at 12:15.
URL:https://977wmoi.com/event/oquawka-strom-center-bingo-6/
END:VEVENT
BEGIN:VEVENT
DTSTART;TZID=America/Chicago:20211125T080000
DTEND;TZID=America/Chicago:20211125T080000
DTSTAMP:20260420T180735
CREATED:20211026T130824Z
LAST-MODIFIED:20211026T130824Z
UID:399648-1637827200-1637827200@977wmoi.com
SUMMARY:10th Annual Good Hope Turkey Trot
DESCRIPTION:10K run at 8 am\, 5K run/walk at 8:30 am\, 1K kids fun run at 9 am. Race day registration begins a half hour prior to start time. Registration is $30 and $35 the day of race. Packet pick up is at the Good Hope-Sciota Firehouse on November 24th from 5:30 pm to 6:30 pm. Race location begins at the Good Hope Fire Station\, 145 West Main Street. Funds benefit the Good Hope-Sciota Fire Protection District.
URL:https://977wmoi.com/event/10th-annual-good-hope-turkey-trot/
END:VEVENT
BEGIN:VEVENT
DTSTART;TZID=America/Chicago:20211125T120000
DTEND;TZID=America/Chicago:20211125T133000
DTSTAMP:20260420T180735
CREATED:20211109T203258Z
LAST-MODIFIED:20211115T162657Z
UID:400395-1637841600-1637847000@977wmoi.com
SUMMARY:Community Thanksgiving Dinner
DESCRIPTION:Highpoint Church will host a Community Thanksgiving Dinner at the Monmouth American Legion\, 1110 North 11th Street. Dine in from noon to 1:30 pm. Delivery begins at 11:30 am and takeout starts at 11:45 am. For deliveries\, contact 309-536-3242 by Nov. 24th. For more information or to volunteer\, email areynolds@highpoint.church.
URL:https://977wmoi.com/event/community-thanksgiving-dinner/
LOCATION:American Legion Monmouth IL\, 1110 North 11th Street\, Monmouth\, IL\, 61462\, United States
END:VEVENT
BEGIN:VEVENT
DTSTART;VALUE=DATE:20211127
DTEND;VALUE=DATE:20211128
DTSTAMP:20260420T180735
CREATED:20211108T172706Z
LAST-MODIFIED:20211108T172706Z
UID:400312-1637971200-1638057599@977wmoi.com
SUMMARY:Small Business Saturday
DESCRIPTION:Think big and shop Small Business Saturday in Monmouth as local businesses will offer specials\, discounts\, giveaways\, and more including Alfano’s Pizza\, Dame Fine Coffee\, El Merkadito\, Flowers are Us\, Market Alley Wines\, Maude Specklebelly’s\, Meks on Main\, Patton Block\, Reworks\, and the Tin Cup. See it here. Buy it here. Eat it here. Keep them here.
URL:https://977wmoi.com/event/small-business-saturday-2/
END:VEVENT
BEGIN:VEVENT
DTSTART;TZID=America/Chicago:20211127T090000
DTEND;TZID=America/Chicago:20211127T130000
DTSTAMP:20260420T180735
CREATED:20211117T141659Z
LAST-MODIFIED:20211117T141659Z
UID:400695-1638003600-1638018000@977wmoi.com
SUMMARY:Holiday Sip & Shop
DESCRIPTION:Join for a day of shopping and socializing at Meks on Main in Monmouth. Local vendors will have cash and carry items for your holiday gift needs. Enjoy a drink and shop with friends! There will be something for everyone including raffles\, giveaways\, cash bar\, and more! Make it Monmouth and shop local!
URL:https://977wmoi.com/event/holiday-sip-shop/
END:VEVENT
BEGIN:VEVENT
DTSTART;TZID=America/Chicago:20211128T080000
DTEND;TZID=America/Chicago:20211128T120000
DTSTAMP:20260420T180735
CREATED:20211104T204720Z
LAST-MODIFIED:20211104T204720Z
UID:400187-1638086400-1638100800@977wmoi.com
SUMMARY:Galesburg Knights of Columbus Pancake and Sausage Breakfast
DESCRIPTION:The Galesburg Knights of Columbus will be hosting a pancake and sausage breakfast fundraiser at the Knights of Columbus Hall in Galesburg to help the local Father Deus raise money to complete high eighth church that is being constructed in Tanzania.
URL:https://977wmoi.com/event/galesburg-knights-of-columbus-pancake-and-sausage-breakfast/
END:VEVENT
BEGIN:VEVENT
DTSTART;VALUE=DATE:20211129
DTEND;VALUE=DATE:20211130
DTSTAMP:20260420T180735
CREATED:20211109T141903Z
LAST-MODIFIED:20211109T141903Z
UID:400358-1638144000-1638230399@977wmoi.com
SUMMARY:Representative Swanson hosts Farmland Assessment Meetings
DESCRIPTION:8:30am-10:30am   (Knox) Carl Sandburg College\, 2400 Tom L. Wilson Blvd.\, Galesburg \n1:00pm-3:00pm    (Henry) Lavender Crest Winery\, 5401 US Highway 6\, Colona \n5:00pm-7:00pm    (Bureau) Bureau County Metro Center\, 837 Park Avenue West\, Princeton \nAll farmland owners or farm managers are invited to attend\, residency in the three host counties is not required. \nTo accommodate seating and materials\, please pre-register with the Knox County Farm Bureau (309) 342-2036\, Bureau County Farm Bureau (815) 875-6468\, or Henry County Farm Bureau (309) 937-2411. \n74th District residents can learn more about state legislative issues at Representative Swanson’s website at repswanson.com.
URL:https://977wmoi.com/event/representative-swanson-hosts-farmland-assessment-meetings/
END:VEVENT
BEGIN:VEVENT
DTSTART;VALUE=DATE:20211130
DTEND;VALUE=DATE:20211204
DTSTAMP:20260420T180735
CREATED:20211130T140535Z
LAST-MODIFIED:20211130T140535Z
UID:401148-1638230400-1638575999@977wmoi.com
SUMMARY:Jamieson Center Angel Tree
DESCRIPTION:Spread Christmas Cheer to local children in need. Angels can be selected off the tree at Midwest Bank in Monmouth. In addition to gifts\, cash donations to purchase a $20 gift are also being accepted. All gifts and donations must be received by Friday\, December 3rd.
URL:https://977wmoi.com/event/jamieson-center-angel-tree/
END:VEVENT
BEGIN:VEVENT
DTSTART;TZID=America/Chicago:20211201T080000
DTEND;TZID=America/Chicago:20211201T100000
DTSTAMP:20260420T180735
CREATED:20211018T204755Z
LAST-MODIFIED:20211018T204755Z
UID:399189-1638345600-1638352800@977wmoi.com
SUMMARY:Henderson County Health Department Flu Vaccine Clinic
DESCRIPTION:It will be a walk-in clinic from 8-10am every Wednesday morning through December.\n\n\nPlease bring your Medicare or Medicaid card with you.\n\n\nWith out insurance\, it will be $35 for regular Flublock and $55 for the over age 65 Fluzone HD.
URL:https://977wmoi.com/event/henderson-county-health-department-flu-vaccine-clinic-7/
END:VEVENT
BEGIN:VEVENT
DTSTART;TZID=America/Chicago:20211201T150000
DTEND;TZID=America/Chicago:20211201T160000
DTSTAMP:20260420T180735
CREATED:20211116T140746Z
LAST-MODIFIED:20211116T140746Z
UID:400609-1638370800-1638374400@977wmoi.com
SUMMARY:Coffee With CASA
DESCRIPTION:Join CASA of West Central Illinois for a Volunteer Open House! Stop by to learn more about becoming a Court Appointed Special Advocate and enjoy a coffee on us! At Innkeeper’s Coffee in Galesburg.
URL:https://977wmoi.com/event/coffee-with-casa/
END:VEVENT
BEGIN:VEVENT
DTSTART;TZID=America/Chicago:20211202T100000
DTEND;TZID=America/Chicago:20211202T140000
DTSTAMP:20260420T180735
CREATED:20211118T212934Z
LAST-MODIFIED:20211118T212934Z
UID:400789-1638439200-1638453600@977wmoi.com
SUMMARY:21st Annual Freezing for Food Community Food Drive
DESCRIPTION:Join members of the community at Save A Lot Food Store in Monmouth in collecting cash donations for the Jamieson Community Center Food Pantry and the Roseville Helping Hands Food Pantry.
URL:https://977wmoi.com/event/21st-annual-freezing-for-food-community-food-drive/
END:VEVENT
BEGIN:VEVENT
DTSTART;TZID=America/Chicago:20211202T170000
DTEND;TZID=America/Chicago:20211202T210000
DTSTAMP:20260420T180735
CREATED:20211122T141137Z
LAST-MODIFIED:20211122T141137Z
UID:400894-1638464400-1638478800@977wmoi.com
SUMMARY:22nd Annual Festival of Trees
DESCRIPTION:At the Discovery Depot in Galesburg. Doors open at 5. Complimentary food and drinks. Live and silent auction. Tickets are $40 in advance and $45 at the door.
URL:https://977wmoi.com/event/22nd-annual-festival-of-trees/
END:VEVENT
BEGIN:VEVENT
DTSTART;TZID=America/Chicago:20211203T080000
DTEND;TZID=America/Chicago:20211203T110000
DTSTAMP:20260420T180735
CREATED:20211122T172127Z
LAST-MODIFIED:20211122T172127Z
UID:400930-1638518400-1638529200@977wmoi.com
SUMMARY:OSF Holy Family Auxiliary Bake Sale
DESCRIPTION:In the Wellness Classroom at OSF Holy Family Medical Center. Enter from the Specialty Clinic’s north parking lot. In addition\, they will be taking orders for Rada Knives and Cutlery.
URL:https://977wmoi.com/event/osf-holy-family-auxiliary-bake-sale-2/
END:VEVENT
BEGIN:VEVENT
DTSTART;TZID=America/Chicago:20211203T090000
DTEND;TZID=America/Chicago:20211203T120000
DTSTAMP:20260420T180735
CREATED:20211118T215118Z
LAST-MODIFIED:20211118T215118Z
UID:400799-1638522000-1638532800@977wmoi.com
SUMMARY:WCHD 12+ COVID-19 Vaccine Clinic
DESCRIPTION:Held at the Warren County Health Department\, 240 South Main Street in Monmouth. Pfizer\, Moderna\, and Johnson and Johnson will all be available. Pfizer and Moderna booster vaccines are also available. To schedule an appointment\, call 309-734-0823.
URL:https://977wmoi.com/event/wchd-12-covid-19-vaccine-clinic/
END:VEVENT
BEGIN:VEVENT
DTSTART;TZID=America/Chicago:20211203T100000
DTEND;TZID=America/Chicago:20211203T140000
DTSTAMP:20260420T180735
CREATED:20211118T213016Z
LAST-MODIFIED:20211118T213016Z
UID:400791-1638525600-1638540000@977wmoi.com
SUMMARY:21st Annual Freezing for Food Community Food Drive
DESCRIPTION:Join members of the community at Save A Lot Food Store in Monmouth in collecting cash donations for the Jamieson Community Center Food Pantry and the Roseville Helping Hands Food Pantry.
URL:https://977wmoi.com/event/21st-annual-freezing-for-food-community-food-drive-2/
END:VEVENT
BEGIN:VEVENT
DTSTART;TZID=America/Chicago:20211203T103000
DTEND;TZID=America/Chicago:20211203T113000
DTSTAMP:20260420T180735
CREATED:20211118T213337Z
LAST-MODIFIED:20211118T213337Z
UID:400793-1638527400-1638531000@977wmoi.com
SUMMARY:Little Sprouts at the Lakeside Nature Center
DESCRIPTION:Join the monthly preschool-age nature program for the theme of “Animals in Winter.” Class will be held inside the Lakeside Nature Center. Cost is $5 per child.
URL:https://977wmoi.com/event/little-sprouts-at-the-lakeside-nature-center/
END:VEVENT
BEGIN:VEVENT
DTSTART;TZID=America/Chicago:20211203T170000
DTEND;TZID=America/Chicago:20211203T200000
DTSTAMP:20260420T180735
CREATED:20211026T130345Z
LAST-MODIFIED:20211026T130345Z
UID:399646-1638550800-1638561600@977wmoi.com
SUMMARY:Monmouth Chamber's 4th Annual Christmas on the Square
DESCRIPTION:SAVE THE DATE because we need EVERYONE’S help. Rumor has it that the GRINCH is coming to Monmouth to try and steal our CHRISTMAS. Join us Friday December 3rd from 5:00-8:00 pm. This is a FAMILY event you will NOT want to miss. So many details will be released soon… but until then… get your calendar’s marked for a FUN-FILLED evening no one will soon forget!!
URL:https://977wmoi.com/event/monmouth-chambers-4th-annual-christmas-on-the-square/
END:VEVENT
BEGIN:VEVENT
DTSTART;TZID=America/Chicago:20211203T173000
DTEND;TZID=America/Chicago:20211203T173000
DTSTAMP:20260420T180735
CREATED:20211129T164615Z
LAST-MODIFIED:20211129T164615Z
UID:401119-1638552600-1638552600@977wmoi.com
SUMMARY:Stronghurst Lighted Christmas Parade
DESCRIPTION:The lighted Christmas parade will be this Friday\, December 3rd. Parade starts at 5:30 pm. This year the route will begin at the Fairgrounds\, will head North on Hwy 94\, will turn onto Main Street\, turn at Fishers/Bank of Stronghurst onto Broadway Street and will head towards the park. The park will be the end of the parade allowing floats/parade participants to continue straight back to the fairgrounds. Stop by the park after the parade to visit with Santa and Mrs. Clause and have the littles make a bag of reindeer food to take home!
URL:https://977wmoi.com/event/stronghurst-lighted-christmas-parade/
END:VEVENT
BEGIN:VEVENT
DTSTART;TZID=America/Chicago:20211203T180000
DTEND;TZID=America/Chicago:20211203T180000
DTSTAMP:20260420T180735
CREATED:20211122T140453Z
LAST-MODIFIED:20211122T140453Z
UID:400887-1638554400-1638554400@977wmoi.com
SUMMARY:United FFA Alumni Dinner and Auction
DESCRIPTION:The United FFA Alumni Dinner and Auction will be held on Friday\, December 3\, 2021 at United High School in the old gym.\nA locally-catered dinner will begin at 6:00 pm.  Cost is a free will donation.\nThe auction will begin at 7:00 pm.  All items are provided by local businesses and students.
URL:https://977wmoi.com/event/united-ffa-alumni-dinner-and-auction/
END:VEVENT
BEGIN:VEVENT
DTSTART;TZID=America/Chicago:20211203T180000
DTEND;TZID=America/Chicago:20211203T210000
DTSTAMP:20260420T180735
CREATED:20211027T130851Z
LAST-MODIFIED:20211027T130851Z
UID:399725-1638554400-1638565200@977wmoi.com
SUMMARY:Dickens on the Square in Macomb
DESCRIPTION:A Magical Holiday Event featuring living windows\, Santa Claus\, light shows\, carolers\, children’s shopping mall\, horse drawn trolley rides\, Victorian characters\, Reindeer sleigh rides\, Festival of Trees\, and so much more!
URL:https://977wmoi.com/event/dickens-on-the-square-in-macomb/
END:VEVENT
BEGIN:VEVENT
DTSTART;TZID=America/Chicago:20211203T182000
DTEND;TZID=America/Chicago:20211203T182000
DTSTAMP:20260420T180735
CREATED:20211202T140557Z
LAST-MODIFIED:20211202T140557Z
UID:401310-1638555600-1638555600@977wmoi.com
SUMMARY:Holiday Light Show at Chandler Park in Macomb
DESCRIPTION:City of Macomb Downtown Development announces the grand opening\nholiday light show ceremony at the Gazebo in Chandler Park on Friday\, December 3\, 2021\nat approximately 6:20PM to kick off Dickens on the Square in Downtown Macomb. The\nshow was implemented and designed by Macomb resident\, Monte Colley. Join us at the\nGazebo to officially turn on the lights to the show for the season. The Holiday light show\nwill go from 5:00PM-10:00PM Daily until January 1\, 2022.
URL:https://977wmoi.com/event/holiday-light-show-at-chandler-park-in-macomb/
END:VEVENT
BEGIN:VEVENT
DTSTART;TZID=America/Chicago:20211203T193000
DTEND;TZID=America/Chicago:20211204T193000
DTSTAMP:20260420T180735
CREATED:20211101T130351Z
LAST-MODIFIED:20211101T130351Z
UID:399962-1638559800-1638646200@977wmoi.com
SUMMARY:The Outsider Performed in Burlington
DESCRIPTION:Players Workshop will open the hilarious political satire The Outsider by Paul Slade Smith on the first weekend in December at Players Workshop Theater\, 1431 Grove St.\, Burlington. \n                The Outsider\, which “skewers politics and celebrates democracy\,” will have audiences rolling as it shares the story of Ned Newley\, possibly the worst candidate to ever run for a political office—unless\, of course\, people are looking for the worst person ever to run for political office! According to its review in Broadway World it is an “insightful\, witty satire about modern American politics. Funny\, timely\, and – dare we say – entirely possible . . . .” \n            The Outsider will be performed on December 3-4 and 9-11 at 7:30 p.m.\, and on Dec. 5 and 12 at 2:00 p.m.  The box office opens at 7:00 p.m.\, except for matinees\, when the box office opens at noon. The play is produced by special arrangement with Playscripts\, Inc. (www.playscripts.com). \n                Masks will be required for audience members entering the theatre\, and social distancing will be maintained as much as possible.  PW highly recommends audience members remain masked for the entirety of the performance. \n                For more information call 753-6623\, go to the Players Workshop Facebook page\, or visit the PW  website at www.playersworkshoptheater.com.  Players Workshop is a 501(c)3 organization.
URL:https://977wmoi.com/event/the-outsider-performed-in-burlington/
END:VEVENT
BEGIN:VEVENT
DTSTART;VALUE=DATE:20211204
DTEND;VALUE=DATE:20211205
DTSTAMP:20260420T180735
CREATED:20211027T130937Z
LAST-MODIFIED:20211027T130937Z
UID:399727-1638576000-1638662399@977wmoi.com
SUMMARY:Dickens on the Square in Macomb
DESCRIPTION:A Magical Holiday Event featuring living windows\, Santa Claus\, light shows\, carolers\, children’s shopping mall\, horse drawn trolley rides\, Victorian characters\, Reindeer sleigh rides\, Festival of Trees\, and so much more!
URL:https://977wmoi.com/event/dickens-on-the-square-in-macomb-2/
END:VEVENT
BEGIN:VEVENT
DTSTART;VALUE=DATE:20211204
DTEND;VALUE=DATE:20211205
DTSTAMP:20260420T180735
CREATED:20211102T132150Z
LAST-MODIFIED:20211102T132214Z
UID:400050-1638576000-1638662399@977wmoi.com
SUMMARY:MRHS Madrigal Dinner
DESCRIPTION:Tickets for the 1:00 shows are $15.00 and will be a dessert only.\nTickets for the 6:00 show will be $25.00 and will include a full meal.\n\nDue to COVID restrictions seating is limited.  Call or come into the High School Office and reserve your tickets now.
URL:https://977wmoi.com/event/mrhs-madrigal-dinner/
END:VEVENT
BEGIN:VEVENT
DTSTART;TZID=America/Chicago:20211204T070000
DTEND;TZID=America/Chicago:20211204T213000
DTSTAMP:20260420T180735
CREATED:20210920T204443Z
LAST-MODIFIED:20210920T204708Z
UID:397900-1638601200-1638653400@977wmoi.com
SUMMARY:Michigan Avenue Bus Trip
DESCRIPTION:Start your holiday season with a bus trip to Michigan Avenue for an experience that includes unique shopping\, great food\, and delightful sights! Space is limited\, so reserve your spot early. Open to all ages. Early bird registration is $58 per person by November 12th. After November 12th registration is $70 per person and will close December 1st. Register online here: https://www.amilia.com/store/en/city-of-galesburg-pr/shop/activities/3441495.
URL:https://977wmoi.com/event/michigan-avenue-bus-trip/
END:VEVENT
BEGIN:VEVENT
DTSTART;TZID=America/Chicago:20211204T090000
DTEND;TZID=America/Chicago:20211204T120000
DTSTAMP:20260420T180735
CREATED:20211118T215219Z
LAST-MODIFIED:20211118T215246Z
UID:400801-1638608400-1638619200@977wmoi.com
SUMMARY:WCHD Age 5-11 2nd Dose COVID-19 Vaccine Clinic
DESCRIPTION:Held at the Warren County Health Department\, 240 South Main Street in Monmouth. To schedule an appointment\, call 309-734-0823.
URL:https://977wmoi.com/event/wchd-age-5-11-2nd-dose-covid-19-vaccine-clinic/
END:VEVENT
END:VCALENDAR