BEGIN:VCALENDAR
VERSION:2.0
PRODID:-//Prairie Communications, LLC - ECPv6.15.20//NONSGML v1.0//EN
CALSCALE:GREGORIAN
METHOD:PUBLISH
X-WR-CALNAME:Prairie Communications, LLC
X-ORIGINAL-URL:https://977wmoi.com
X-WR-CALDESC:Events for Prairie Communications, LLC
REFRESH-INTERVAL;VALUE=DURATION:PT1H
X-Robots-Tag:noindex
X-PUBLISHED-TTL:PT1H
BEGIN:VTIMEZONE
TZID:America/Chicago
BEGIN:DAYLIGHT
TZOFFSETFROM:-0600
TZOFFSETTO:-0500
TZNAME:CDT
DTSTART:20210314T080000
END:DAYLIGHT
BEGIN:STANDARD
TZOFFSETFROM:-0500
TZOFFSETTO:-0600
TZNAME:CST
DTSTART:20211107T070000
END:STANDARD
BEGIN:DAYLIGHT
TZOFFSETFROM:-0600
TZOFFSETTO:-0500
TZNAME:CDT
DTSTART:20220313T080000
END:DAYLIGHT
BEGIN:STANDARD
TZOFFSETFROM:-0500
TZOFFSETTO:-0600
TZNAME:CST
DTSTART:20221106T070000
END:STANDARD
BEGIN:DAYLIGHT
TZOFFSETFROM:-0600
TZOFFSETTO:-0500
TZNAME:CDT
DTSTART:20230312T080000
END:DAYLIGHT
BEGIN:STANDARD
TZOFFSETFROM:-0500
TZOFFSETTO:-0600
TZNAME:CST
DTSTART:20231105T070000
END:STANDARD
END:VTIMEZONE
BEGIN:VEVENT
DTSTART;TZID=America/Chicago:20220613T120000
DTEND;TZID=America/Chicago:20220613T120000
DTSTAMP:20260420T002821
CREATED:20220502T150030Z
LAST-MODIFIED:20220502T150030Z
UID:408204-1655121600-1655121600@977wmoi.com
SUMMARY:29th Annual Galesburg Area Chamber Golf Outing
DESCRIPTION: Lake Bracken Country Club\n Registration 12PM/Shotgun Start 1PM\n nearly $𝟏\,𝟎𝟎𝟎 to be had for winning teams & individuals!\nMeal\, door prizes\, and winner announcements after the last team arrives back at the club house!\nSponsorships are selling out fast! Still available is our BRAND NEW for 2022 – 𝙻𝙾𝚃𝚃𝙴𝚁𝚈 𝚂𝙿𝙾𝙽𝚂𝙾𝚁! A lucky random player will be given an umbrella with $100 in lottery tickets attached to it! Sponsor this fun new part of our golf outing!\nReserve your team of 4 or sponsorship participation here https://bit.ly/GACC29thGolfOuting today! Team numbers are limited!
URL:https://977wmoi.com/event/29th-annual-galesburg-area-chamber-golf-outing/
END:VEVENT
BEGIN:VEVENT
DTSTART;TZID=America/Chicago:20220614T160000
DTEND;TZID=America/Chicago:20220614T183000
DTSTAMP:20260420T002821
CREATED:20220607T180709Z
LAST-MODIFIED:20220607T180709Z
UID:409795-1655222400-1655231400@977wmoi.com
SUMMARY:Alexis Farmer's Market
DESCRIPTION:Held every Tuesday in the Alexis Park. Stop\, shop\, browse\, and chat. Eight vendors\, including Lee’s Bakery will be set up from 4 to 6:30 pm. New vendors are always welcome. Call 309-635-4666 to get involved.
URL:https://977wmoi.com/event/alexis-farmers-market-27/
END:VEVENT
BEGIN:VEVENT
DTSTART;TZID=America/Chicago:20220614T163000
DTEND;TZID=America/Chicago:20220614T183000
DTSTAMP:20260420T002821
CREATED:20220531T151252Z
LAST-MODIFIED:20220531T151252Z
UID:409501-1655224200-1655231400@977wmoi.com
SUMMARY:Monmouth Rotary Club Pork Chop BBQ
DESCRIPTION:Drive-up or dine-in with live music at the Pattee Plaza. Free will donation with proceeds benefitting the Buchanan Center for the Arts remodel of the Arts Classroom.
URL:https://977wmoi.com/event/monmouth-rotary-club-pork-chop-bbq-2/
END:VEVENT
BEGIN:VEVENT
DTSTART;TZID=America/Chicago:20220614T190000
DTEND;TZID=America/Chicago:20220614T190000
DTSTAMP:20260420T002821
CREATED:20220523T183704Z
LAST-MODIFIED:20220523T183704Z
UID:409186-1655233200-1655233200@977wmoi.com
SUMMARY:Right to Life Regular Meeting
DESCRIPTION:Meeting will be held at the First Church of the Open Bible\, 521 West Losey Street in Galesburg\, which will also include education and letter writing.
URL:https://977wmoi.com/event/right-to-life-regular-meeting/
END:VEVENT
BEGIN:VEVENT
DTSTART;VALUE=DATE:20220615
DTEND;VALUE=DATE:20220617
DTSTAMP:20260420T002821
CREATED:20220504T203710Z
LAST-MODIFIED:20220614T180031Z
UID:408399-1655251200-1655423999@977wmoi.com
SUMMARY:**CANCELLED** Defensive Driving Course
DESCRIPTION:The Warren-Henderson Farm Bureau® will be hosting a Defensive Driving Course taught by Doug Sommer on June 15th and 16th from 10:00 a.m. to 3:00 p.m. at the Farm Bureau® auditorium in Monmouth\, 1000 N Main St. The registration fee is $10.00 for Farm Bureau® members and $20.00 for non-members.\nThe course is open to anyone with a valid driver’s license. Those 55 and over could be eligible for a discount on their auto insurance after completion of this course: contact your auto insurance carrier to find out. Participants are required to attend both days in order to qualify for the discount.\nPre-registration is required and class size is limited. Contact W-HFB at 309-734-9401 or email whfb@whfarmbureau.org for more information or to register. To read a full write-up\, click here.
URL:https://977wmoi.com/event/defensive-driving-course/
END:VEVENT
BEGIN:VEVENT
DTSTART;TZID=America/Chicago:20220615T110000
DTEND;TZID=America/Chicago:20220615T140000
DTSTAMP:20260420T002821
CREATED:20220607T132307Z
LAST-MODIFIED:20220607T134815Z
UID:409751-1655290800-1655301600@977wmoi.com
SUMMARY:Law Enforcement Torch Run for Special Olympics Fundraiser
DESCRIPTION:Join on June 15 from 11am-2pm for the Torch Run! This is the day that Rock Island runs the torch in and hands off to Galesburg PD! Lenny’s\, 1282 North Henderson Street in Galesburg\, will be donating 10% of sales to the Torch Run for Special Olympics of Illinois.
URL:https://977wmoi.com/event/law-enforcement-torch-run-for-special-olympics-fundraiser/
END:VEVENT
BEGIN:VEVENT
DTSTART;TZID=America/Chicago:20220615T160000
DTEND;TZID=America/Chicago:20220615T160000
DTSTAMP:20260420T002821
CREATED:20220609T191649Z
LAST-MODIFIED:20220609T191649Z
UID:409920-1655308800-1655308800@977wmoi.com
SUMMARY:Bailey/Trussell for Governor Bus Stop at Italian Village
DESCRIPTION:Bailey/ Trussell 102 counties in 14 days tour will make a stop at the Italian Village\, 111 West 1st Avenue in Monmouth. At any given stop one or the other or both will be on that tour stop.
URL:https://977wmoi.com/event/bailey-trussell-for-governor-bus-stop-at-italian-village/
END:VEVENT
BEGIN:VEVENT
DTSTART;VALUE=DATE:20220616
DTEND;VALUE=DATE:20220617
DTSTAMP:20260420T002821
CREATED:20220615T133054Z
LAST-MODIFIED:20220615T133054Z
UID:410126-1655337600-1655423999@977wmoi.com
SUMMARY:Monmouth Lion's Club Ice Cream Social
DESCRIPTION:Join for an ice cream social and the music from the Monmouth Municipal Band at Harmon Park\, 700 North D Street in Monmouth. The concert will begin at 7 pm.
URL:https://977wmoi.com/event/monmouth-lions-club-ice-cream-social/
END:VEVENT
BEGIN:VEVENT
DTSTART;TZID=America/Chicago:20220616T130000
DTEND;TZID=America/Chicago:20220616T130000
DTSTAMP:20260420T002821
CREATED:20220607T195003Z
LAST-MODIFIED:20220607T195003Z
UID:409834-1655384400-1655384400@977wmoi.com
SUMMARY:Strom Center June TRIAD Meeting
DESCRIPTION:Held at Strom Center in Monmouth.
URL:https://977wmoi.com/event/strom-center-june-triad-meeting-2/
END:VEVENT
BEGIN:VEVENT
DTSTART;TZID=America/Chicago:20220616T190000
DTEND;TZID=America/Chicago:20220616T190000
DTSTAMP:20260420T002821
CREATED:20220505T180613Z
LAST-MODIFIED:20220505T180613Z
UID:408452-1655406000-1655406000@977wmoi.com
SUMMARY:The Orpheum Theatre’s Throwback Thursday FREE Summer Movie Series
DESCRIPTION:A highly anticipated Galesburg tradition\, The Orpheum Theatre’s Throwback Thursdays FREE summer movie series will enter its twelfth year of screening films at least 20 years old\, and this year it’s back with the theme of ANIMATED CLASSICS! Thanks to sponsorship from F&M Bank\, The Throwback Thursdays 2022 Summer Movie Series boasts ten features this summer: \n\n6/16                            A Goofy Movie (1995) \n6/23                            The Iron Giant (1999) \n6/30                            Lady and the Tramp (1955) \n7/7                               Spirited Away (2002) \n7/14                            The Road to El Dorado (2000) \n7/21                            Anastasia (1997) \n7/28                            Robin Hood (1973) \n8/4                               Batman: The Mask of the Phantasm (1993) \n8/11                            101 Dalmatians (1961) [SPONSOR PICK] \n8/18                            A Bug’s Life (1998) \n                                                              \nA Goofy Movie will kick off the series on Thursday\, June 16 with a 7pm screening; the rest of the films on the series will screen at both 2pm and 7pm on their respective Thursdays. Tickets are not required for these events; more information on the summer movies can be found on The Orpheum Theatre’s social media accounts\, as well as their website www.galesburgorpheum.org. The Orpheum Theatre is located at 57 South Kellogg Street in Downtown Galesburg\, with office hours Tuesday through Friday\, 10am-2pm.
URL:https://977wmoi.com/event/the-orpheum-theatres-throwback-thursday-free-summer-movie-series/
END:VEVENT
BEGIN:VEVENT
DTSTART;TZID=America/Chicago:20220617T110000
DTEND;TZID=America/Chicago:20220617T130000
DTSTAMP:20260420T002821
CREATED:20220511T145927Z
LAST-MODIFIED:20220609T203703Z
UID:408704-1655463600-1655470800@977wmoi.com
SUMMARY:Midwest Bank Relay for Life Cookout
DESCRIPTION:Cookout will be at Midwest Bank\, 200 East Broadway in Monmouth. All proceeds will benefit Relay for Life of Warren-Henderson.
URL:https://977wmoi.com/event/midwest-bank-relay-for-life-cookout-2/
END:VEVENT
BEGIN:VEVENT
DTSTART;TZID=America/Chicago:20220617T110000
DTEND;TZID=America/Chicago:20220617T180000
DTSTAMP:20260420T002821
CREATED:20220613T171605Z
LAST-MODIFIED:20220613T171605Z
UID:410022-1655463600-1655488800@977wmoi.com
SUMMARY:Calvary Baptist Church Barbeque Dinner
DESCRIPTION:Donation of $12 is suggested per meal. Carryout and delivery are available at the Calvary Baptist Church\, 1000 South 1st Street in Monmouth. All are welcome and all proceeds will benefit the church.
URL:https://977wmoi.com/event/calvary-baptist-church-barbeque-dinner/
END:VEVENT
BEGIN:VEVENT
DTSTART;TZID=America/Chicago:20220617T120000
DTEND;TZID=America/Chicago:20220617T120000
DTSTAMP:20260420T002821
CREATED:20220531T163500Z
LAST-MODIFIED:20220531T163500Z
UID:409524-1655467200-1655467200@977wmoi.com
SUMMARY:Legacy Estates 8th Annual Cow Pie BINGO
DESCRIPTION:$20 per ticket. $1\,000 grand prize! Event will be held in the back lot behind Legacy Estates\, 1200 West Broadway in Monmouth. All proceeds will benefit the St. Jude Children’s Research Hospital.
URL:https://977wmoi.com/event/legacy-estates-8th-annual-cow-pie-bingo/
END:VEVENT
BEGIN:VEVENT
DTSTART;TZID=America/Chicago:20220617T130000
DTEND;TZID=America/Chicago:20220617T150000
DTSTAMP:20260420T002821
CREATED:20220613T130117Z
LAST-MODIFIED:20220613T130142Z
UID:409980-1655470800-1655478000@977wmoi.com
SUMMARY:Knox Community Health Center Health Fair
DESCRIPTION:The event will be held Friday\, June 17th at 1361 W. Fremont St. Galesburg. For more information\, please contact the Knox Community Health Center at 309-344-2225.
URL:https://977wmoi.com/event/knox-community-health-center-health-fair/
END:VEVENT
BEGIN:VEVENT
DTSTART;TZID=America/Chicago:20220617T170000
DTEND;TZID=America/Chicago:20220617T190000
DTSTAMP:20260420T002821
CREATED:20220510T210200Z
LAST-MODIFIED:20220511T134447Z
UID:408633-1655485200-1655492400@977wmoi.com
SUMMARY:Monmouth Farmer's Market
DESCRIPTION:Monmouth Area Chamber of Commerce’s Farmer’s Market will be held Fridays in the Fortress Bank Parking Lot\, 300 Block of North Main in Monmouth.
URL:https://977wmoi.com/event/monmouth-farmers-market-5/
END:VEVENT
BEGIN:VEVENT
DTSTART;TZID=America/Chicago:20220617T180000
DTEND;TZID=America/Chicago:20220617T180000
DTSTAMP:20260420T002821
CREATED:20220504T203843Z
LAST-MODIFIED:20220504T203843Z
UID:408401-1655488800-1655488800@977wmoi.com
SUMMARY:Warren-Henderson Farm Bureau Dueling Pianos Event
DESCRIPTION:Warren-Henderson Farm Bureau® is hosting a Dueling Pianos event on Friday\, June 17th\, at the American Legion in Monmouth (1110 N 11th St.). Doors will open at 6:00pm\, heavy appetizers will be served. After an announcement of the W-HFB Foundation Scholarship recipients and the W-HFB Ag Service Award Winner\, Felix & Fingers will take the stage. Foundation auction items will be on display! \nTickets for the event will be $50 (checks made out to W-HFB)\, with all proceeds going toward Warren-Henderson Farm Bureau Foundation Scholarship and Ag Education Partnership Ag in the Classroom programs. We hope you will join us for an evening of entertainment\, food\, and fun as we hope to socialize and get summer started off together. To reserve a ticket\, contact Warren-Henderson Farm Bureau at 309-734-9401 or email whfb@whfarmbureau.org. Be sure to check back in the coming weeks for more details!
URL:https://977wmoi.com/event/warren-henderson-farm-bureau-dueling-pianos-event/
END:VEVENT
BEGIN:VEVENT
DTSTART;VALUE=DATE:20220618
DTEND;VALUE=DATE:20220619
DTSTAMP:20260420T002821
CREATED:20220419T203505Z
LAST-MODIFIED:20220419T203505Z
UID:407653-1655510400-1655596799@977wmoi.com
SUMMARY:Silvie's Ride Against Child Abuse
DESCRIPTION:Ride will start at the Macomb Elks Lodge. All proceeds will be donated to the WIRC-CAA Victim Services Silvie’s Fund. More information will follow!
URL:https://977wmoi.com/event/silvies-ride-against-child-abuse-2/
END:VEVENT
BEGIN:VEVENT
DTSTART;TZID=America/Chicago:20220618T080000
DTEND;TZID=America/Chicago:20220618T080000
DTSTAMP:20260420T002821
CREATED:20220221T123745Z
LAST-MODIFIED:20220221T123838Z
UID:404741-1655539200-1655539200@977wmoi.com
SUMMARY:Raritan Fire Department Golf Tournament
DESCRIPTION:4 person best ball at the Twin Oaks Golf Course in Blandinsville. Payback to top 4 places. Registration at 8 am. Shotgun start at 9 am. Entry fee of $200 per team of 4. $10 cart rental per person. Includes a meal. Proceeds will benefit the Wounded Warriors Family Support. Sign-up sheet located in the clubhouse or email earl.waller@gmail.com.
URL:https://977wmoi.com/event/raritan-fire-department-golf-tournament/
END:VEVENT
BEGIN:VEVENT
DTSTART;TZID=America/Chicago:20220618T100000
DTEND;TZID=America/Chicago:20220618T100000
DTSTAMP:20260420T002821
CREATED:20220429T125855Z
LAST-MODIFIED:20220429T125855Z
UID:408105-1655546400-1655546400@977wmoi.com
SUMMARY:Bridgeway Anti-Stigma Campaign
DESCRIPTION:
URL:https://977wmoi.com/event/bridgeway-anti-stigma-campaign/
END:VEVENT
BEGIN:VEVENT
DTSTART;TZID=America/Chicago:20220618T130000
DTEND;TZID=America/Chicago:20220618T133000
DTSTAMP:20260420T002821
CREATED:20220531T163705Z
LAST-MODIFIED:20220531T163705Z
UID:409527-1655557200-1655559000@977wmoi.com
SUMMARY:Father's Day Tractor Parade
DESCRIPTION:Members of the Maple City Tractor Club will cruise through Courtyard Estates of Monmouth\, 1 Courtyard Boulevard around 1:15 pm and then will end at Legacy Estates of Monmouth\, 1200 West Broadway around 1:30 pm. The tractors will make two passes in the parking lot at each location.
URL:https://977wmoi.com/event/fathers-day-tractor-parade/
END:VEVENT
BEGIN:VEVENT
DTSTART;TZID=America/Chicago:20220620T170000
DTEND;TZID=America/Chicago:20220620T200000
DTSTAMP:20260420T002821
CREATED:20220412T183058Z
LAST-MODIFIED:20220412T183058Z
UID:407351-1655744400-1655755200@977wmoi.com
SUMMARY:Stronghurst Farmers Market
DESCRIPTION:Held Monday nights in downtown Stronghurst on Broadway Street. Sponsored by the Stronghurst Booster Club.
URL:https://977wmoi.com/event/stronghurst-farmers-market-4/
END:VEVENT
BEGIN:VEVENT
DTSTART;TZID=America/Chicago:20220621T160000
DTEND;TZID=America/Chicago:20220621T183000
DTSTAMP:20260420T002821
CREATED:20220607T180739Z
LAST-MODIFIED:20220607T180739Z
UID:409797-1655827200-1655836200@977wmoi.com
SUMMARY:Alexis Farmer's Market
DESCRIPTION:Held every Tuesday in the Alexis Park. Stop\, shop\, browse\, and chat. Eight vendors\, including Lee’s Bakery will be set up from 4 to 6:30 pm. New vendors are always welcome. Call 309-635-4666 to get involved.
URL:https://977wmoi.com/event/alexis-farmers-market-28/
END:VEVENT
BEGIN:VEVENT
DTSTART;TZID=America/Chicago:20220622T160000
DTEND;TZID=America/Chicago:20220622T230000
DTSTAMP:20260420T002821
CREATED:20220621T133553Z
LAST-MODIFIED:20220621T133553Z
UID:410366-1655913600-1655938800@977wmoi.com
SUMMARY:Alfano's Pizzeria Relay for Life Fundraiser
DESCRIPTION:Customer Appreciation at Alfano’s Pizzeria on Wednesday\, June 22nd. Large one-topping pizzas with original crust only $6.99. Limit 2 per customer. $1 from each pizza sold will be donated to Relay for Life. Call 309-734-1992 to order. Delivery available.
URL:https://977wmoi.com/event/alfanos-pizzeria-relay-for-life-fundraiser/
END:VEVENT
BEGIN:VEVENT
DTSTART;VALUE=DATE:20220623
DTEND;VALUE=DATE:20220624
DTSTAMP:20260420T002821
CREATED:20220505T180702Z
LAST-MODIFIED:20220505T180702Z
UID:408454-1655942400-1656028799@977wmoi.com
SUMMARY:The Orpheum Theatre’s Throwback Thursday FREE Summer Movie Series
DESCRIPTION:A highly anticipated Galesburg tradition\, The Orpheum Theatre’s Throwback Thursdays FREE summer movie series will enter its twelfth year of screening films at least 20 years old\, and this year it’s back with the theme of ANIMATED CLASSICS! Thanks to sponsorship from F&M Bank\, The Throwback Thursdays 2022 Summer Movie Series boasts ten features this summer: \n6/23                            The Iron Giant (1999) \n6/30                            Lady and the Tramp (1955) \n7/7                               Spirited Away (2002) \n7/14                            The Road to El Dorado (2000) \n7/21                            Anastasia (1997) \n7/28                            Robin Hood (1973) \n8/4                               Batman: The Mask of the Phantasm (1993) \n8/11                            101 Dalmatians (1961) [SPONSOR PICK] \n8/18                            A Bug’s Life (1998) \n                                                              \nA Goofy Movie will kick off the series on Thursday\, June 16 with a 7pm screening; the rest of the films on the series will screen at both 2pm and 7pm on their respective Thursdays. Tickets are not required for these events; more information on the summer movies can be found on The Orpheum Theatre’s social media accounts\, as well as their website www.galesburgorpheum.org. The Orpheum Theatre is located at 57 South Kellogg Street in Downtown Galesburg\, with office hours Tuesday through Friday\, 10am-2pm.
URL:https://977wmoi.com/event/the-orpheum-theatres-throwback-thursday-free-summer-movie-series-2/
END:VEVENT
BEGIN:VEVENT
DTSTART;TZID=America/Chicago:20220623T140000
DTEND;TZID=America/Chicago:20220623T140000
DTSTAMP:20260420T002821
CREATED:20220620T150848Z
LAST-MODIFIED:20220620T150848Z
UID:410339-1655992800-1655992800@977wmoi.com
SUMMARY:Jonathan Logemann Meet & Greet
DESCRIPTION:The Warren County Democrats Thursday\, June 23 at 2pm for another opportunity to meet Jonathan Logemann. Jonathan is a candidate for the U.S. Congress\, 17th District. The Primary election is coming soon\, June 28. Jonathan is from Rockford; he is an alderman\, schoolteacher\, and military veteran. The event\, open to the public\, will be held at Danny’s Tap (side room)\, 120 South A St.\, Monmouth. Donations accepted but not required.
URL:https://977wmoi.com/event/jonathan-logemann-meet-greet/
END:VEVENT
BEGIN:VEVENT
DTSTART;TZID=America/Chicago:20220623T190000
DTEND;TZID=America/Chicago:20220623T190000
DTSTAMP:20260420T002821
CREATED:20220620T143919Z
LAST-MODIFIED:20220620T143919Z
UID:410337-1656010800-1656010800@977wmoi.com
SUMMARY:Monmouth Municipal Band Concert at Legacy Estates
DESCRIPTION:Concert will be held in the parking lot and is free to attend.
URL:https://977wmoi.com/event/monmouth-municipal-band-concert-at-legacy-estates/
END:VEVENT
BEGIN:VEVENT
DTSTART;VALUE=DATE:20220624
DTEND;VALUE=DATE:20220625
DTSTAMP:20260420T002821
CREATED:20220511T171050Z
LAST-MODIFIED:20220511T171050Z
UID:408733-1656028800-1656115199@977wmoi.com
SUMMARY:Midwest Bank Relay for Life Bake Sale
DESCRIPTION:Midwest Bank in Monmouth will host a bake sale in their lobby during business hours. Free will donation. All proceeds will benefit Relay for Life of Warren-Henderson.
URL:https://977wmoi.com/event/midwest-bank-relay-for-life-bake-sale/
END:VEVENT
BEGIN:VEVENT
DTSTART;TZID=America/Chicago:20220624T170000
DTEND;TZID=America/Chicago:20220624T190000
DTSTAMP:20260420T002821
CREATED:20220510T210237Z
LAST-MODIFIED:20220511T134406Z
UID:408635-1656090000-1656097200@977wmoi.com
SUMMARY:Monmouth Farmer's Market
DESCRIPTION:Monmouth Area Chamber of Commerce’s Farmer’s Market will be held Fridays in the Fortress Bank Parking Lot\, 300 Block of North Main in Monmouth.
URL:https://977wmoi.com/event/monmouth-farmers-market-6/
END:VEVENT
BEGIN:VEVENT
DTSTART;TZID=America/Chicago:20220624T170000
DTEND;TZID=America/Chicago:20220625T120000
DTSTAMP:20260420T002821
CREATED:20220602T150414Z
LAST-MODIFIED:20220602T150414Z
UID:409597-1656090000-1656158400@977wmoi.com
SUMMARY:Kirkwood Days 2022
DESCRIPTION:Come celebrate welcoming back Kirkwood Days! Friday evening\, the Park District will be hosting a Block Party 5-8PM. After that\, head on over to the Kirkwood Ballpark to watch some Fireworks\, brought to you by the Kirkwood Park District & The Village of Kirkwood. Saturday morning\, drive around town and see what treasures you can find at some yard sales.
URL:https://977wmoi.com/event/kirkwood-days-2022/
END:VEVENT
BEGIN:VEVENT
DTSTART;TZID=America/Chicago:20220625T070000
DTEND;TZID=America/Chicago:20220625T070000
DTSTAMP:20260420T002821
CREATED:20220606T134913Z
LAST-MODIFIED:20220606T134913Z
UID:409702-1656140400-1656140400@977wmoi.com
SUMMARY:Ryde for Ryder
DESCRIPTION:The 6th Annual Group Ryde for Ryder Event is held in honor of Ryder Armstrong who gained his angel wings in 2018. All proceeds help offset the financial burden for other families coping with childhood cancer.\n\n\nRegistration is at 7 am. Shotgun start at 8 am. 15M\, 25M\, and 50M loop options. Cost is $30 and includes a shirt and refreshments. Event will begin at the Patton Block Brew Pub. Rain date is July 9th. To register\, email Brooke at brooke.robinson@mbwi.com.
URL:https://977wmoi.com/event/ryde-for-ryder-2/
END:VEVENT
END:VCALENDAR