BEGIN:VCALENDAR
VERSION:2.0
PRODID:-//Prairie Communications, LLC - ECPv6.15.20//NONSGML v1.0//EN
CALSCALE:GREGORIAN
METHOD:PUBLISH
X-WR-CALNAME:Prairie Communications, LLC
X-ORIGINAL-URL:https://977wmoi.com
X-WR-CALDESC:Events for Prairie Communications, LLC
REFRESH-INTERVAL;VALUE=DURATION:PT1H
X-Robots-Tag:noindex
X-PUBLISHED-TTL:PT1H
BEGIN:VTIMEZONE
TZID:America/Chicago
BEGIN:DAYLIGHT
TZOFFSETFROM:-0600
TZOFFSETTO:-0500
TZNAME:CDT
DTSTART:20210314T080000
END:DAYLIGHT
BEGIN:STANDARD
TZOFFSETFROM:-0500
TZOFFSETTO:-0600
TZNAME:CST
DTSTART:20211107T070000
END:STANDARD
BEGIN:DAYLIGHT
TZOFFSETFROM:-0600
TZOFFSETTO:-0500
TZNAME:CDT
DTSTART:20220313T080000
END:DAYLIGHT
BEGIN:STANDARD
TZOFFSETFROM:-0500
TZOFFSETTO:-0600
TZNAME:CST
DTSTART:20221106T070000
END:STANDARD
BEGIN:DAYLIGHT
TZOFFSETFROM:-0600
TZOFFSETTO:-0500
TZNAME:CDT
DTSTART:20230312T080000
END:DAYLIGHT
BEGIN:STANDARD
TZOFFSETFROM:-0500
TZOFFSETTO:-0600
TZNAME:CST
DTSTART:20231105T070000
END:STANDARD
END:VTIMEZONE
BEGIN:VEVENT
DTSTART;TZID=America/Chicago:20221014T090000
DTEND;TZID=America/Chicago:20221014T150000
DTSTAMP:20260425T142050
CREATED:20221006T143223Z
LAST-MODIFIED:20221006T190540Z
UID:416194-1665738000-1665759600@977wmoi.com
SUMMARY:Collective Goods Event at OSF Holy Family
DESCRIPTION:OSF Holy Family Medical Center Auxiliary is hosting a Books are Fun event in the gift shop hallway. Get some Christmas shopping done early. Bake sale from 9 am to noon.
URL:https://977wmoi.com/event/books-and-gifts-at-osf-holy-family/
END:VEVENT
BEGIN:VEVENT
DTSTART;TZID=America/Chicago:20221014T170000
DTEND;TZID=America/Chicago:20221014T190000
DTSTAMP:20260425T142050
CREATED:20221003T180753Z
LAST-MODIFIED:20221003T180753Z
UID:416049-1665766800-1665774000@977wmoi.com
SUMMARY:United FFA Hog Roast
DESCRIPTION:World famous BBQ pork sandwiches\, baked beans\, chips\, ice cream cup\, and drink ahead of the United vs. Rushville Industry football game for Homecoming Night. Adults are $5. Children 12 and under are $3.
URL:https://977wmoi.com/event/united-ffa-hog-roast-2/
END:VEVENT
BEGIN:VEVENT
DTSTART;TZID=America/Chicago:20221015T173000
DTEND;TZID=America/Chicago:20221015T173000
DTSTAMP:20260425T142050
CREATED:20221006T160006Z
LAST-MODIFIED:20221006T160006Z
UID:416196-1665855000-1665855000@977wmoi.com
SUMMARY:ICS Music Trivia Night
DESCRIPTION:Event will be held at the Monmouth Country Club. Doors open at 5:30 pm. Trivia begins at 6:30 pm. Cash bar. Bring your own snacks. Silent auction will also be held. Email ccmcvey@immaculate-conception.net for more details and to register.
URL:https://977wmoi.com/event/ics-music-trivia-night/
END:VEVENT
BEGIN:VEVENT
DTSTART;VALUE=DATE:20221017
DTEND;VALUE=DATE:20221028
DTSTAMP:20260425T142050
CREATED:20220907T202950Z
LAST-MODIFIED:20220907T202950Z
UID:414410-1665964800-1666915199@977wmoi.com
SUMMARY:Warren County Health Dept. Discounted Labs
DESCRIPTION:$75 lab fee includes: full lipid panel\, hemoglobin A1c\, comprehensive metabolic panel\, and complete blood count. PSA screenings are $30. Vitamin D $40. Vitamin B-12 is $20. Lab work is by appointment only. Call 309-734-1314 ext. 3 to set up an appointment. Fasting is required for these labs\, nothing except water for 12 hours prior to appointment. Cash or check payment. A copy of results will be mailed to you and a copy can be sent to your primary care provider.
URL:https://977wmoi.com/event/warren-county-health-dept-discounted-labs/
END:VEVENT
BEGIN:VEVENT
DTSTART;TZID=America/Chicago:20221017T170000
DTEND;TZID=America/Chicago:20221017T170000
DTSTAMP:20260425T142050
CREATED:20221007T130713Z
LAST-MODIFIED:20221007T130713Z
UID:416228-1666026000-1666026000@977wmoi.com
SUMMARY:Monmouth Park District Ribbon Cutting
DESCRIPTION:The Monmouth Park District will soon occupy their new location at 403 N 11th St and all are invited to help them celebrate with a RIBBON CUTTING with the Monmouth Area Chamber of Commerce.
URL:https://977wmoi.com/event/monmouth-park-district-ribbon-cutting/
END:VEVENT
BEGIN:VEVENT
DTSTART;TZID=America/Chicago:20221020T100000
DTEND;TZID=America/Chicago:20221020T110000
DTSTAMP:20260425T142050
CREATED:20221018T130527Z
LAST-MODIFIED:20221018T130527Z
UID:416803-1666260000-1666263600@977wmoi.com
SUMMARY:Fire Safety Playgroup at the Warren County Public Library
DESCRIPTION:
URL:https://977wmoi.com/event/fire-safety-playgroup-at-the-warren-county-public-library/
END:VEVENT
BEGIN:VEVENT
DTSTART;TZID=America/Chicago:20221020T130000
DTEND;TZID=America/Chicago:20221020T130000
DTSTAMP:20260425T142050
CREATED:20220913T180026Z
LAST-MODIFIED:20220913T180026Z
UID:414697-1666270800-1666270800@977wmoi.com
SUMMARY:HCE Meeting at Farm Bureau
DESCRIPTION:A lesson on lemons will be a feature of the upcoming HCE meeting on October 20th at 1 pm at the Farm Bureau Building in Monmouth. It’s the annual international meeting of the HCE and they will be learning about Italy and sharing lemon dishes and recipes. Also\, a jewelry class will be held at 4 for HCE and friends and then at 6 for 4-h. You can make reservations by calling Diane at 309 335 7839.
URL:https://977wmoi.com/event/hce-meeting-at-farm-bureau/
END:VEVENT
BEGIN:VEVENT
DTSTART;TZID=America/Chicago:20221020T170000
DTEND;TZID=America/Chicago:20221020T190000
DTSTAMP:20260425T142050
CREATED:20221003T153909Z
LAST-MODIFIED:20221003T153909Z
UID:416029-1666285200-1666292400@977wmoi.com
SUMMARY:Galesburg Area Chamber Business After Hours
DESCRIPTION:Join for the next 𝗕𝘂𝘀𝗶𝗻𝗲𝘀𝘀 𝗔𝗳𝘁𝗲𝗿 𝗛𝗼𝘂𝗿𝘀 – sponsored by First Mid Bank & Trust! \n\n\nHope to see you there!\n Thursday\, October 20\, 5-7PM\n 1535 N Henderson St\, Galesburg\, IL\n\n\nFREE for Chamber members to attend! Please RSVP here: https://bit.ly/3LGWEP2.
URL:https://977wmoi.com/event/galesburg-area-chamber-business-after-hours-2/
END:VEVENT
BEGIN:VEVENT
DTSTART;TZID=America/Chicago:20221020T173000
DTEND;TZID=America/Chicago:20221020T173000
DTSTAMP:20260425T142050
CREATED:20221018T125937Z
LAST-MODIFIED:20221018T125937Z
UID:416794-1666287000-1666287000@977wmoi.com
SUMMARY:ICS Bake Sale
DESCRIPTION:During the ICS Girls Basketball home game on Thursday\, ICS will host a bake sale. All proceeds will go to help Tate’s family with travel expenses. Come out\, cheer on the girls and wear your ORANGE to support Tate as he begins his journey to beat leukemia. Free will donation on bake goods and orange glow sticks will be available.\n**Parents\, teachers and friends are welcome to donate bake goods to the sale. Please wrap your baked goods individually and deliver to the ICS concession stand before 4:30pm. on 10/20.
URL:https://977wmoi.com/event/ics-bake-sale/
END:VEVENT
BEGIN:VEVENT
DTSTART;TZID=America/Chicago:20221020T180000
DTEND;TZID=America/Chicago:20221020T180000
DTSTAMP:20260425T142050
CREATED:20221010T143318Z
LAST-MODIFIED:20221010T143318Z
UID:416332-1666288800-1666288800@977wmoi.com
SUMMARY:Bingo Night
DESCRIPTION:50/50. Fun. Prizes. Vendors. All at Meks on Main in Monmouth. $3 cover charge includes 3 Bingo cards. Walking tacos available for $3 each. All proceeds benefit Karla Wallace’s Christmas Toy Drive.
URL:https://977wmoi.com/event/bingo-night-2/
END:VEVENT
BEGIN:VEVENT
DTSTART;TZID=America/Chicago:20221022T090000
DTEND;TZID=America/Chicago:20221022T130000
DTSTAMP:20260425T142050
CREATED:20221014T182850Z
LAST-MODIFIED:20221014T182850Z
UID:416695-1666429200-1666443600@977wmoi.com
SUMMARY:St. James A.M.C. Bake Sale
DESCRIPTION:St. James A.M.C. church will be set up at Save A Lot in Monmouth and also the Casey’s on South Main Street for a bake sale open to the entire public.
URL:https://977wmoi.com/event/st-james-a-m-c-bake-sale/
END:VEVENT
BEGIN:VEVENT
DTSTART;TZID=America/Chicago:20221022T110000
DTEND;TZID=America/Chicago:20221022T130000
DTSTAMP:20260425T142050
CREATED:20221019T155248Z
LAST-MODIFIED:20221019T155248Z
UID:416930-1666436400-1666443600@977wmoi.com
SUMMARY:Knox County Humane Society 3rd Annual Doggie Car Ride
DESCRIPTION:Celebrate the love of pets by taking your for a car ride. Drive around the Knox County Humane Society shelter. This year’s theme is Halloween. All pets are welcome.
URL:https://977wmoi.com/event/knox-county-humane-society-3rd-annual-doggie-car-ride/
END:VEVENT
BEGIN:VEVENT
DTSTART;TZID=America/Chicago:20221022T173000
DTEND;TZID=America/Chicago:20221022T173000
DTSTAMP:20260425T142050
CREATED:20220804T192253Z
LAST-MODIFIED:20220804T192253Z
UID:412412-1666459800-1666459800@977wmoi.com
SUMMARY:Name That Tune Trivia Night
DESCRIPTION:Held at the Knights of Columbus Hall on Fremont Street in Galesburg. $10 per person and up to 10 per team. 50/50 drawing. Pre-register at cptfire@comcast.net. All proceeds benefit the Great Balloon Race in Galesburg. Doors open at 5:30 pm. Trivia begins at 7 pm.
URL:https://977wmoi.com/event/name-that-tune-trivia-night/
END:VEVENT
BEGIN:VEVENT
DTSTART;TZID=America/Chicago:20221024T170000
DTEND;TZID=America/Chicago:20221024T170000
DTSTAMP:20260425T142050
CREATED:20221019T164818Z
LAST-MODIFIED:20221019T164818Z
UID:416942-1666630800-1666630800@977wmoi.com
SUMMARY:OSF Holy Family Diabetes Support Group
DESCRIPTION:OSF Holy Family Medical Center – Wellness Classroom\, 1000 W. Harlem Avenue Monmouth\, IL 61462. Instructor: Tina Canada. Topic will be exercise.
URL:https://977wmoi.com/event/osf-holy-family-diabetes-support-group/
END:VEVENT
BEGIN:VEVENT
DTSTART;TZID=America/Chicago:20221024T173000
DTEND;TZID=America/Chicago:20221024T190000
DTSTAMP:20260425T142050
CREATED:20221020T134002Z
LAST-MODIFIED:20221020T134002Z
UID:417031-1666632600-1666638000@977wmoi.com
SUMMARY:West Central FAFSA Informational Night
DESCRIPTION:A reminder that FAFSA night is Monday\, October 24th from 5:30-7pm at the High School.\n\n\nThe FAFSA is the Free Application for Federal Student Aid for students who are planning to attend a trade school or college after graduation.\n\n\nCarl Sandburg College will be here walking you through the application step by step\, so you can complete this application and know it is done correctly! Here are things you need to bring to complete the application:\n*Social security numbers\n*Federal Tax Information (or tax returns)\n*Records of un-taxed income\n*Cash\, Savings\, and Checking account balances\n*Investments (other than the home in which you live)\n\n\nPlease remember this is a graduation requirement now. This means either this form Has to be filled out\, or the Non-participation form has to be completed and signed. This has to be done by April 1\, 2023.\n\n\nIf your senior is graduating early\, it must be done by December 1\, 2022.\nThere will be light refreshments available.
URL:https://977wmoi.com/event/west-central-fafsa-informational-night/
END:VEVENT
BEGIN:VEVENT
DTSTART;TZID=America/Chicago:20221025T080000
DTEND;TZID=America/Chicago:20221025T153000
DTSTAMP:20260425T142050
CREATED:20221011T131908Z
LAST-MODIFIED:20221011T131908Z
UID:416406-1666684800-1666711800@977wmoi.com
SUMMARY:Understanding and Teaching Children Affected by Poverty Training
DESCRIPTION:In-person training at the Thomas Legacy Center\, 1849 North Seminary Street in Galesburg. This training is designed for educators and community members who wish to build a deeper understanding of the needs of children and families affected by poverty. 6.5 educator PD\, LCPC\, SW\, and RN CEU’s offered. Register at http://bit.ly/roe33poverty.
URL:https://977wmoi.com/event/understanding-and-teaching-children-affected-by-poverty-training/
END:VEVENT
BEGIN:VEVENT
DTSTART;VALUE=DATE:20221026
DTEND;VALUE=DATE:20221027
DTSTAMP:20260425T142050
CREATED:20220901T164955Z
LAST-MODIFIED:20220901T164955Z
UID:414008-1666742400-1666828799@977wmoi.com
SUMMARY:Strom Center's 3rd Annual Pumpkin Decorating Contest
DESCRIPTION:All seniors\, Strom staff\, and disabled persons in Warren and Henderson Counties are invited to participate. Entries are due by noon on October 26th. Awards will be given to top three favorites\, which voting ends at 3 pm October 31st.
URL:https://977wmoi.com/event/strom-centers-3rd-annual-pumpkin-decorating-contest/
END:VEVENT
BEGIN:VEVENT
DTSTART;TZID=America/Chicago:20221026T110000
DTEND;TZID=America/Chicago:20221026T130000
DTSTAMP:20260425T142050
CREATED:20221019T125926Z
LAST-MODIFIED:20221025T131507Z
UID:416867-1666782000-1666789200@977wmoi.com
SUMMARY:Midwest Bank Customer Appreciation Cookout
DESCRIPTION:Stop by the Midwest Bank branch on Seminary Street in Galesburg for a Customer Appreciation Cookout. Serving hamburgers\, hotdogs\, porkchops\, chips\, drink\, and a cookie.
URL:https://977wmoi.com/event/midwest-bank-customer-appreciation-cookout/
END:VEVENT
BEGIN:VEVENT
DTSTART;TZID=America/Chicago:20221026T173000
DTEND;TZID=America/Chicago:20221026T190000
DTSTAMP:20260425T142050
CREATED:20221014T131252Z
LAST-MODIFIED:20221014T131252Z
UID:416649-1666805400-1666810800@977wmoi.com
SUMMARY:Bereavement Support Group
DESCRIPTION:Four consecutive Wednesdays. October 26th – Getting to Know You. November 2nd – Understanding the Grief Process. November 9th – Developing Realistic Memories. November 16th – Healing for the Holidays. Events are free and open to the public and will be held at OSF Holy Family Medical Center\, use the west side door. For more information or to RSVP\, call Doug Gibb at 309-342-3007.
URL:https://977wmoi.com/event/bereavement-support-group/
END:VEVENT
BEGIN:VEVENT
DTSTART;TZID=America/Chicago:20221026T180000
DTEND;TZID=America/Chicago:20221026T190000
DTSTAMP:20260425T142050
CREATED:20221010T164534Z
LAST-MODIFIED:20221010T164534Z
UID:416379-1666807200-1666810800@977wmoi.com
SUMMARY:Courtyard Estates Trick or Treating
DESCRIPTION:Come dressed in your favorite costume and participate in Courtyard Estates of Monmouth Halloween Contest. Best costume will win a $25 gift card. For ages three and older.
URL:https://977wmoi.com/event/courtyard-estates-trick-or-treating/
END:VEVENT
BEGIN:VEVENT
DTSTART;TZID=America/Chicago:20221026T180000
DTEND;TZID=America/Chicago:20221026T190000
DTSTAMP:20260425T142050
CREATED:20221020T131706Z
LAST-MODIFIED:20221020T131706Z
UID:417018-1666807200-1666810800@977wmoi.com
SUMMARY:First Lutheran Church Halloween Fun Night
DESCRIPTION:First Lutheran Church Halloween Fun Night Located in the basement fellowship room of the church itself 116 S B St Monmouth October 26\, 2022 6-7pm Experience the fun of Halloween without being too scary Crafts\, Snacks\, Games\, and more! Don’t forget your costume!
URL:https://977wmoi.com/event/first-lutheran-church-halloween-fun-night/
END:VEVENT
BEGIN:VEVENT
DTSTART;TZID=America/Chicago:20221027T073000
DTEND;TZID=America/Chicago:20221027T090000
DTSTAMP:20260425T142050
CREATED:20221010T133432Z
LAST-MODIFIED:20221010T133432Z
UID:416320-1666855800-1666861200@977wmoi.com
SUMMARY:Business Before Hours
DESCRIPTION:Join members of the Galesburg Area Chamber of Commerce during their Business Before Hours event at the new Orange Cup Java Station Side Hustle. Event is sponsored by the Regional Office of Education.
URL:https://977wmoi.com/event/business-before-hours-2/
END:VEVENT
BEGIN:VEVENT
DTSTART;TZID=America/Chicago:20221027T130000
DTEND;TZID=America/Chicago:20221027T153000
DTSTAMP:20260425T142050
CREATED:20220826T205855Z
LAST-MODIFIED:20220826T205855Z
UID:413644-1666875600-1666884600@977wmoi.com
SUMMARY:Take Charge: Chronic Disease Self-Management Plan
DESCRIPTION:This is a 6 week virtual series begins October 27 and will take place each Thursday through December 8. (No class on Holiday\, November 24). Participants will learn to thrive\, not just survive with your ongoing health conditions. Discover healthy ways to live with chronic conditions such as arthritis\, diabetes\, heart disease and others. Find practical ways to deal with pain and fatigue\, discover better nutrition and exercise choices\, understand treatment choices\, and learn better ways to talk with your doctors and family about your health.
URL:https://977wmoi.com/event/take-charge-chronic-disease-self-management-plan/
END:VEVENT
BEGIN:VEVENT
DTSTART;TZID=America/Chicago:20221028T160000
DTEND;TZID=America/Chicago:20221028T190000
DTSTAMP:20260425T142050
CREATED:20221024T131753Z
LAST-MODIFIED:20221024T131753Z
UID:417222-1666972800-1666983600@977wmoi.com
SUMMARY:Knox County YMCA Childwatch Halloween Party
DESCRIPTION:We will hold our annual Childwatch Halloween Party on Friday\, October 28th from 4-7pm in the McBride Gym!! This event is for 10 years and under. This is FREE for members and $5 per child for non-members. No registration is required. Parents can drop kids off\, but MUST stay on Y property. We hope to see your kid(s) there!!
URL:https://977wmoi.com/event/knox-county-ymca-childwatch-halloween-party/
END:VEVENT
BEGIN:VEVENT
DTSTART;VALUE=DATE:20221029
DTEND;VALUE=DATE:20221030
DTSTAMP:20260425T142050
CREATED:20220126T143459Z
LAST-MODIFIED:20220126T143459Z
UID:403625-1667001600-1667087999@977wmoi.com
SUMMARY:Warren County History Museum: Fractured Spirits
DESCRIPTION:Event will discuss hauntings at the Peoria State Hospital with Sylvia Shults.
URL:https://977wmoi.com/event/warren-county-history-museum-fractured-spirits/
END:VEVENT
BEGIN:VEVENT
DTSTART;TZID=America/Chicago:20221029T090000
DTEND;TZID=America/Chicago:20221029T090000
DTSTAMP:20260425T142050
CREATED:20220824T130845Z
LAST-MODIFIED:20220824T130845Z
UID:413495-1667034000-1667034000@977wmoi.com
SUMMARY:9th Annual Halloween Hustle 5K Run/Walk
DESCRIPTION:Cost: $25 (includes t-shirt & runners bib)\nLocation: Starting line at Oquawka Track\n(Located on the corner of 8th and Knox\, next to Faith Bible Church)\nTime: 9:00 am\n\n\nHow to Register:\n1. Register & pay online by visiting Eagle View Community Health System – Run for the Health of It – Halloween Hustle registration information at GetMeRegistered.com\n\n\nOR\n2. Click here for a printable registration form that can be mailed with payment to:\nEagle View Community Health System\nAttn: Emily Higgins\nP.O Box 198\nOquawka\, IL 61469\nPlease make all checks out to: Eagle View Community Health System
URL:https://977wmoi.com/event/9th-annual-halloween-hustle-5k-run-walk/
END:VEVENT
BEGIN:VEVENT
DTSTART;TZID=America/Chicago:20221029T100000
DTEND;TZID=America/Chicago:20221029T100000
DTSTAMP:20260425T142050
CREATED:20220825T200045Z
LAST-MODIFIED:20220825T200045Z
UID:413591-1667037600-1667037600@977wmoi.com
SUMMARY:Trick or Treat on the Square in Monmouth
DESCRIPTION:The Warren County Public Library will host a Trick or Treating event during their weekly Storey Time around the Square in Downtown Monmouth.
URL:https://977wmoi.com/event/trick-or-treat-on-the-square-in-monmouth/
END:VEVENT
BEGIN:VEVENT
DTSTART;TZID=America/Chicago:20221029T100000
DTEND;TZID=America/Chicago:20221029T100000
DTSTAMP:20260425T142050
CREATED:20220928T132402Z
LAST-MODIFIED:20220928T132402Z
UID:415753-1667037600-1667037600@977wmoi.com
SUMMARY:Trick or Treat on the Monmouth Downtown Square
DESCRIPTION:Show off your costume and trick or treat at local business. Start at the Warren County Public Library to hear a story and then enjoy tricking or treating on the square. This is a free event for children of all ages and their guardians.
URL:https://977wmoi.com/event/trick-or-treat-on-the-monmouth-downtown-square/
END:VEVENT
BEGIN:VEVENT
DTSTART;TZID=America/Chicago:20221029T100000
DTEND;TZID=America/Chicago:20221029T120000
DTSTAMP:20260425T142050
CREATED:20221025T132403Z
LAST-MODIFIED:20221025T132403Z
UID:417312-1667037600-1667044800@977wmoi.com
SUMMARY:Prescription Drug Take Back Day
DESCRIPTION:Where: Galesburg Public Safety Bldg.\n150 S. Broad St. Galesburg\, IL. 61401\nThe National Prescription Drug Take Back Day aims to provide a safe\, convenient and responsible means of disposing of prescription drugs. Last October\, an estimated total weight of 744\,082 lbs. was collected nationwide!
URL:https://977wmoi.com/event/prescription-drug-take-back-day/
END:VEVENT
BEGIN:VEVENT
DTSTART;TZID=America/Chicago:20221029T120000
DTEND;TZID=America/Chicago:20221029T160000
DTSTAMP:20260425T142050
CREATED:20221012T134920Z
LAST-MODIFIED:20221012T134920Z
UID:416511-1667044800-1667059200@977wmoi.com
SUMMARY:WIAR Happy Howloween 5K and 1 Mile Walk
DESCRIPTION:Please join on Saturday\, October 29\, 2022 for the annual Howloween Run. There will be a 5k run/walk along with a 1 mile Fun Walk. Well behaved pets on leashes are welcome to come. Both races will start and finish at WIAR. There will be prizes for 1st\, 2nd and 3rd places finishes in the 5K for Men\, Women and Children. There will also be a prize for the 1st dog across the finish line.\nAfter the race\, join for refreshments\, prize presentation and a costume party for the kids and dogs. There will be prizes for the best child costume and best dog costume. A photo backdrop will be set up for pictures.\n5K Registration fee $25 before October 15\, 2022- $30 after October 16\,2022\n1Mile Registration fee $20 before October 15\, 2022- $25 after October 16\, 2022\nEarly registration must be received by October 15\, 2022 to guarantee your t-shirt on race day.\nSign up at WIAR Rescue.
URL:https://977wmoi.com/event/wiar-happy-howloween-5k-and-1-mile-walk/
END:VEVENT
END:VCALENDAR