BEGIN:VCALENDAR
VERSION:2.0
PRODID:-//Prairie Communications, LLC - ECPv6.15.20//NONSGML v1.0//EN
CALSCALE:GREGORIAN
METHOD:PUBLISH
X-ORIGINAL-URL:https://977wmoi.com
X-WR-CALDESC:Events for Prairie Communications, LLC
REFRESH-INTERVAL;VALUE=DURATION:PT1H
X-Robots-Tag:noindex
X-PUBLISHED-TTL:PT1H
BEGIN:VTIMEZONE
TZID:UTC
BEGIN:STANDARD
TZOFFSETFROM:+0000
TZOFFSETTO:+0000
TZNAME:UTC
DTSTART:20180101T000000
END:STANDARD
END:VTIMEZONE
BEGIN:VEVENT
DTSTART;TZID=UTC:20190502T080000
DTEND;TZID=UTC:20190502T170000
DTSTAMP:20260425T113853
CREATED:20190422T183907Z
LAST-MODIFIED:20190422T183907Z
UID:365603-1556784000-1556816400@977wmoi.com
SUMMARY:Masquerade Fundraising Sale
DESCRIPTION:Jewelry and accessories. To be held at OSF St Mary Medical center in Conference Room 1B. Proceeds benefit Special Projects. Sponsored by OSF St Mary Medical Center Auxiliary.
URL:https://977wmoi.com/event/masquerade-fundraising-sale/
END:VEVENT
BEGIN:VEVENT
DTSTART;TZID=UTC:20190502T090000
DTEND;TZID=UTC:20190502T090000
DTSTAMP:20260425T113853
CREATED:20190426T190909Z
LAST-MODIFIED:20190426T190909Z
UID:365640-1556787600-1556787600@977wmoi.com
SUMMARY:Galesburg Church Women United
DESCRIPTION:The Galesburg Church Women United will meet at the Wings of Mercy\, 2035 Grand Avenue. They will observe May Fellowship Day with a program based on that theme. All women of the area are invited to attend. For more information\, call 309-342-2459.
URL:https://977wmoi.com/event/galesburg-church-women-united/
END:VEVENT
BEGIN:VEVENT
DTSTART;TZID=UTC:20190502T120000
DTEND;TZID=UTC:20190502T180000
DTSTAMP:20260425T113853
CREATED:20190403T182830Z
LAST-MODIFIED:20190403T182830Z
UID:365331-1556798400-1556820000@977wmoi.com
SUMMARY:Geneseo 1st United Methodist Church Blood Drive
DESCRIPTION:At the South Campus Building\, 302 N State Street in Geneseo
URL:https://977wmoi.com/event/geneseo-1st-united-methodist-church-blood-drive/
END:VEVENT
BEGIN:VEVENT
DTSTART;TZID=UTC:20190502T183000
DTEND;TZID=UTC:20190502T200000
DTSTAMP:20260425T113853
CREATED:20190418T204059Z
LAST-MODIFIED:20190418T204059Z
UID:365578-1556821800-1556827200@977wmoi.com
SUMMARY:West Central Head Start Art Show
DESCRIPTION:Will be held at the following locations: Warren County Head Start-321 East Euclid Ave. Henderson County Head Start-199 7th Street in Oquawka. Knox County Head Start I-277 East Tompkins in Galesburg. Knox County Head Start II-515 Iowa Court in Galesburg. Abingdon Head Start-103 South Western Avenue. Knoxville Head Start in the Basement of Grace Lutheran Church-108 South Timber Street in Knoxville.
URL:https://977wmoi.com/event/west-central-head-start-art-show/
END:VEVENT
BEGIN:VEVENT
DTSTART;TZID=UTC:20190503T070000
DTEND;TZID=UTC:20190503T150000
DTSTAMP:20260425T113853
CREATED:20190422T183959Z
LAST-MODIFIED:20190422T183959Z
UID:365605-1556866800-1556895600@977wmoi.com
SUMMARY:Masquerade Fundraising Sale
DESCRIPTION:Jewelry and accessories. To be held at OSF St Mary Medical center in Conference Room 1B. Proceeds benefit Special Projects. Sponsored by OSF St Mary Medical Center Auxiliary.
URL:https://977wmoi.com/event/masquerade-fundraising-sale-2/
END:VEVENT
BEGIN:VEVENT
DTSTART;TZID=UTC:20190503T073000
DTEND;TZID=UTC:20190503T170000
DTSTAMP:20260425T113853
CREATED:20190418T204403Z
LAST-MODIFIED:20190418T204403Z
UID:365580-1556868600-1556902800@977wmoi.com
SUMMARY:Rummage and Bake Sale
DESCRIPTION:At the Missionary Circle of First Christian Church\, 514 North Sunnylane. Delicious homemade pies\, breads\, cakes\, and cookies will be available along with numerous useful household items. All clothing will be sold by the item or by the bag. All proceeds support Worldwide Missions.
URL:https://977wmoi.com/event/rummage-and-bake-sale/
END:VEVENT
BEGIN:VEVENT
DTSTART;TZID=UTC:20190503T090000
DTEND;TZID=UTC:20190503T090000
DTSTAMP:20260425T113853
CREATED:20190417T215959Z
LAST-MODIFIED:20190417T215959Z
UID:365557-1556874000-1556874000@977wmoi.com
SUMMARY:May Friendship Day
DESCRIPTION:May 3\, 2019 – Church Women United of Monmouth and Vicinity will be sponsoring May Friendship Day and invite you to please attend the 9:00 a.m. breakfast celebration day at First Lutheran Church ELCA\, 116 South “B” Street in Monmouth (no reservations needed). The theme\, “The Time Is Now! Agree to Differ” (based on John 4:23a)\, centers on working together despite our differences to address poverty in our community. For further details\, please call 309-734-2106. The scripture reading will be Ephesians 4:2-3 and there will also be a Fellowship of the Least Coin Offering taken. The FLC is an international movement that’s over 60 years old. It’s focus is prayer\, and ecumenical action to support peace and reconciliation.
URL:https://977wmoi.com/event/may-friendship-day/
END:VEVENT
BEGIN:VEVENT
DTSTART;TZID=UTC:20190503T130000
DTEND;TZID=UTC:20190503T180000
DTSTAMP:20260425T113853
CREATED:20190403T182921Z
LAST-MODIFIED:20190403T182921Z
UID:365333-1556888400-1556906400@977wmoi.com
SUMMARY:Galesburg High School Blood Drive
DESCRIPTION:1135 W Fremont in Galesburg
URL:https://977wmoi.com/event/galesburg-high-school-blood-drive/
END:VEVENT
BEGIN:VEVENT
DTSTART;TZID=UTC:20190503T190000
DTEND;TZID=UTC:20190503T190000
DTSTAMP:20260425T113853
CREATED:20190427T010323Z
LAST-MODIFIED:20190427T010323Z
UID:365648-1556910000-1556910000@977wmoi.com
SUMMARY:A Buchanan Chorus Travelogue
DESCRIPTION:Buchanan Community Chorus. Carolyn Kellert\, Chorus Director. Joy Boostrom\, Assistant Chorus Director. Lenna Burnett\, Chorus Accompanist. At the First United Methodist Church in Galesburg. Special guests: Monmouth-Roseville Alumni Chimes\, Central Intermediate Bucket Band\, and Monmouth-Roseville Student performers.
URL:https://977wmoi.com/event/a-buchanan-chorus-travelogue/
END:VEVENT
BEGIN:VEVENT
DTSTART;TZID=UTC:20190504T160000
DTEND;TZID=UTC:20190504T160000
DTSTAMP:20260425T113853
CREATED:20190427T010426Z
LAST-MODIFIED:20190427T010426Z
UID:365650-1556985600-1556985600@977wmoi.com
SUMMARY:A Buchanan Chorus Travelogue
DESCRIPTION:Buchanan Community Chorus. Carolyn Kellert\, Chorus Director. Joy Boostrom\, Assistant Chorus Director. Lenna Burnett\, Chorus Accompanist. At the First United Presbyterian Church in Monmouth. Special guests: Monmouth-Roseville Alumni Chimes\, Central Intermediate Bucket Band\, and Monmouth-Roseville Student performers.
URL:https://977wmoi.com/event/a-buchanan-chorus-travelogue-2/
END:VEVENT
BEGIN:VEVENT
DTSTART;TZID=UTC:20190504T160000
DTEND;TZID=UTC:20190504T220000
DTSTAMP:20260425T113853
CREATED:20190422T184204Z
LAST-MODIFIED:20190422T184204Z
UID:365607-1556985600-1557007200@977wmoi.com
SUMMARY:Relay for Life Knox County
DESCRIPTION:At Knox College in Galesburg. Event is open to the public. Questions\, contact Karoline Kamzic at 708-299-6764. For more information\, visit http://relayforlife.org/knoxil.
URL:https://977wmoi.com/event/relay-for-life-knox-county/
END:VEVENT
BEGIN:VEVENT
DTSTART;VALUE=DATE:20190506
DTEND;VALUE=DATE:20190511
DTSTAMP:20260425T113853
CREATED:20190403T222530Z
LAST-MODIFIED:20190403T222530Z
UID:365338-1557100800-1557532799@977wmoi.com
SUMMARY:Clean-Up Week in Monmouth
DESCRIPTION:No paint. No tires. No electronics. No concrete. Items must be 50 pounds or less\, less than 8 feet in length\, tied together\, or placed in bags. All items need to be on boulevard before regular pick-up day.
URL:https://977wmoi.com/event/clean-up-week-in-monmouth/
END:VEVENT
BEGIN:VEVENT
DTSTART;TZID=UTC:20190506T130000
DTEND;TZID=UTC:20190506T130000
DTSTAMP:20260425T113853
CREATED:20190415T181721Z
LAST-MODIFIED:20190415T181721Z
UID:365478-1557147600-1557147600@977wmoi.com
SUMMARY:Stearman Foundation Golf Outing
DESCRIPTION:At Lake Bracken Golf Course. 1pm shotgun start. $80 per person. $320 per team of 4. Entry fee includes green fees\, cart\, and dinner.
URL:https://977wmoi.com/event/stearman-foundation-golf-outing/
END:VEVENT
BEGIN:VEVENT
DTSTART;TZID=UTC:20190506T170000
DTEND;TZID=UTC:20190506T183000
DTSTAMP:20260425T113853
CREATED:20190403T223936Z
LAST-MODIFIED:20190403T223936Z
UID:365342-1557162000-1557167400@977wmoi.com
SUMMARY:Monmouth American Legion Soup Supper
DESCRIPTION:All you can eat. Chili\, creamy potato soup\, beef and noodles\, mystery soup. Sandwich is a grilled cheese. Each meal comes with dessert\, drink\, and lots of great friends to enjoy your meal with. Raffle drawing begins at 6pm. Tickets are $7 for adults and $1.50 for children.
URL:https://977wmoi.com/event/monmouth-american-legion-soup-supper/
END:VEVENT
BEGIN:VEVENT
DTSTART;TZID=UTC:20190507T153000
DTEND;TZID=UTC:20190507T170000
DTSTAMP:20260425T113853
CREATED:20190418T200846Z
LAST-MODIFIED:20190418T200846Z
UID:365570-1557243000-1557248400@977wmoi.com
SUMMARY:United School District Early Childhood Screenings
DESCRIPTION:North Elementary – 482-3332. For Kindergarten. Birth certificate must be presented at time of screening. Children must be 5 year’s old by September 1st in order to screen for Kindergarten.
URL:https://977wmoi.com/event/united-school-district-early-childhood-screenings/
END:VEVENT
BEGIN:VEVENT
DTSTART;TZID=UTC:20190508T090000
DTEND;TZID=UTC:20190508T120000
DTSTAMP:20260425T113853
CREATED:20190418T204907Z
LAST-MODIFIED:20190418T204907Z
UID:365582-1557306000-1557316800@977wmoi.com
SUMMARY:OSF HealthCare Holy Family Medical Center Blood Drive
DESCRIPTION:In the Wellness Classroom\, located at 1000 W Harlem Ave in Monmouth.
URL:https://977wmoi.com/event/osf-healthcare-holy-family-medical-center-blood-drive/
END:VEVENT
BEGIN:VEVENT
DTSTART;TZID=UTC:20190508T143000
DTEND;TZID=UTC:20190508T173000
DTSTAMP:20260425T113853
CREATED:20190416T191203Z
LAST-MODIFIED:20190416T191203Z
UID:365545-1557325800-1557336600@977wmoi.com
SUMMARY:Abingdon Banking Center Blood Drive
DESCRIPTION:The Abingdon Banking Center will host a community blood drive at 805 N Monroe\, inside the Community Room.
URL:https://977wmoi.com/event/abingdon-banking-center-blood-drive/
END:VEVENT
BEGIN:VEVENT
DTSTART;TZID=UTC:20190508T173000
DTEND;TZID=UTC:20190508T173000
DTSTAMP:20260425T113853
CREATED:20190410T182645Z
LAST-MODIFIED:20190410T182645Z
UID:365437-1557336600-1557336600@977wmoi.com
SUMMARY:Photography Seminar
DESCRIPTION:At the Buchanan Center for the Arts. Juror Rich Ankeney will present four sessions to help you improve your use of creative camera controls\, better your understanding of cameras and lenses\, develop a more intuitive sense of composition and visualization\, and choose and prepare your best images. The first session on May 1st if free. The cost for the remaining sessions is $20 or $15 for BCA members. Reserve your spot by calling 734-3033.
URL:https://977wmoi.com/event/photography-seminar-2/
END:VEVENT
BEGIN:VEVENT
DTSTART;TZID=UTC:20190509T153000
DTEND;TZID=UTC:20190509T170000
DTSTAMP:20260425T113853
CREATED:20190418T202257Z
LAST-MODIFIED:20190418T202257Z
UID:365572-1557415800-1557421200@977wmoi.com
SUMMARY:United School District Early Childhood Screenings
DESCRIPTION:West Elementary – 734-8513. For Kindergarten. Birth certificate must be presented at time of screening. Children must be 5 year’s old by September 1st in order to screen for Kindergarten.
URL:https://977wmoi.com/event/united-school-district-early-childhood-screenings-2/
END:VEVENT
BEGIN:VEVENT
DTSTART;TZID=UTC:20190510T113000
DTEND;TZID=UTC:20190510T143000
DTSTAMP:20260425T113853
CREATED:20190416T222610Z
LAST-MODIFIED:20190416T222610Z
UID:365550-1557487800-1557498600@977wmoi.com
SUMMARY:Galesburg Noon Lions Club Blood Drive
DESCRIPTION:Community blood drive at 55 W Tomkins Street\, inside Galesburg City Hall Lower Level.
URL:https://977wmoi.com/event/galesburg-noon-lions-club-blood-drive/
END:VEVENT
BEGIN:VEVENT
DTSTART;TZID=UTC:20190510T130000
DTEND;TZID=UTC:20190510T130000
DTSTAMP:20260425T113853
CREATED:20190410T184646Z
LAST-MODIFIED:20190410T184646Z
UID:365453-1557493200-1557493200@977wmoi.com
SUMMARY:Painting in the Garden with Cherry Simmons
DESCRIPTION:At the Stewart House\, 1015 E Euclid Ave in Monmouth. Cost is $20\, includes cost of materials. Registration deadline is Monday May 6th. To register\, contact Mary Osborne at 309-734-5154.
URL:https://977wmoi.com/event/painting-in-the-garden-with-cherry-simmons/
END:VEVENT
BEGIN:VEVENT
DTSTART;TZID=UTC:20190510T170000
DTEND;TZID=UTC:20190510T190000
DTSTAMP:20260425T113853
CREATED:20190410T011056Z
LAST-MODIFIED:20190410T011056Z
UID:365423-1557507600-1557514800@977wmoi.com
SUMMARY:Canvas\, Metal\, and More
DESCRIPTION:At the Buchanan Center for the Arts. Featuring the artwork of Paulette Thenhaus and Tom Lytle. This event is free and open to the public. Opening reception will be May 10th 5 to 7. The display opens May 7th and goes through June 21st.
URL:https://977wmoi.com/event/canvas-metal-and-more/
END:VEVENT
BEGIN:VEVENT
DTSTART;VALUE=DATE:20190511
DTEND;VALUE=DATE:20190512
DTSTAMP:20260425T113853
CREATED:20190403T224100Z
LAST-MODIFIED:20190403T224100Z
UID:365344-1557532800-1557619199@977wmoi.com
SUMMARY:Berwick Days
DESCRIPTION:To help bring buyers and sellers together\, anyone can sell anything\, except food\, and pay no set-up or vendor fee. Events include: flea market\, antique and collector car cruise-in\, tractors on display\, pedal tractor pull\, face painting\, parade at 1:30\, music\, Fireman’s breakfast from 7am to 10am\, and more! For more information\, contact John Smith at 309-337-5202.
URL:https://977wmoi.com/event/berwick-days/
END:VEVENT
BEGIN:VEVENT
DTSTART;TZID=UTC:20190511T110000
DTEND;TZID=UTC:20190511T110000
DTSTAMP:20260425T113853
CREATED:20190417T221035Z
LAST-MODIFIED:20190417T221035Z
UID:365562-1557572400-1557572400@977wmoi.com
SUMMARY:Fused Glass with Judi Minor
DESCRIPTION:A favorite of all ages\, join us again this summer for a new series of fused glass classes in the BCA classroom. Our first class is Fused Glass Slurry Mushroom Solar Garden Light 11am Saturday\, May 11. The fee is $25 and includes instruction\, materials\, and refreshments. Registration is required. Call 309-734-3033 to reserve your spot today!
URL:https://977wmoi.com/event/fused-glass-with-judi-minor/
END:VEVENT
BEGIN:VEVENT
DTSTART;TZID=UTC:20190513T113000
DTEND;TZID=UTC:20190513T133000
DTSTAMP:20260425T113853
CREATED:20190415T181002Z
LAST-MODIFIED:20190415T181002Z
UID:365474-1557747000-1557754200@977wmoi.com
SUMMARY:Galesburg Chamber Local Elected Official Luncheon
DESCRIPTION:Hear from local elected officials on city and county issues. Following the presentation\, enjoy a roundtable conversation over lunch with Galesburg Alderman and Knox County Board Members. Event will be held at Discovery Depot 2nd Floor. $20 for members. $30 for non-members.
URL:https://977wmoi.com/event/galesburg-chamber-local-elected-official-luncheon/
END:VEVENT
BEGIN:VEVENT
DTSTART;TZID=UTC:20190513T160000
DTEND;TZID=UTC:20190513T160000
DTSTAMP:20260425T113853
CREATED:20190418T205034Z
LAST-MODIFIED:20190418T205034Z
UID:365584-1557763200-1557763200@977wmoi.com
SUMMARY:Parkinson's Support Group
DESCRIPTION:In the Warren County YMCA Rock Steady Workout Room. Contact Marcia Parrish for more information at 309-221-7907.
URL:https://977wmoi.com/event/parkinsons-support-group-2/
END:VEVENT
BEGIN:VEVENT
DTSTART;TZID=UTC:20190513T160000
DTEND;TZID=UTC:20190513T170000
DTSTAMP:20260425T113853
CREATED:20190403T223332Z
LAST-MODIFIED:20190403T223332Z
UID:365340-1557763200-1557766800@977wmoi.com
SUMMARY:Parkinson's Support Group
DESCRIPTION:This is a wonderful opportunity to learn about Parkinson’s as well as gain support from other participants. Lead by Marcia Parrish. In the Warren County YMCA Rock Steady Room.
URL:https://977wmoi.com/event/parkinsons-support-group/
END:VEVENT
BEGIN:VEVENT
DTSTART;TZID=UTC:20190516T120000
DTEND;TZID=UTC:20190516T120000
DTSTAMP:20260425T113853
CREATED:20190417T204852Z
LAST-MODIFIED:20190417T204852Z
UID:365552-1558008000-1558008000@977wmoi.com
SUMMARY:Monmouth College Associates
DESCRIPTION:Join professors Ken Cramer and Trudi Peterson for a taste of what the students experienced in and around the beautiful and vibrant host city\, Merida\, in the Yucatan peninsula of Mexico. Will be held in the Highlander Room at the Stockdale Student Center. Tickets are $10. RSVP by May 14th to alumni@monmouthcollege.edu or call 309-457-2231.
URL:https://977wmoi.com/event/monmouth-college-associates/
END:VEVENT
BEGIN:VEVENT
DTSTART;VALUE=DATE:20190518
DTEND;VALUE=DATE:20190519
DTSTAMP:20260425T113853
CREATED:20190403T224201Z
LAST-MODIFIED:20190403T224201Z
UID:365346-1558137600-1558223999@977wmoi.com
SUMMARY:Oquawka City Wide Clean-Up
DESCRIPTION:Accepted items: couches\, chairs\, tables\, mattresses\, box springs\, grills without tanks\, lawn mowers without gas in them\, carpet in 5 foot rolls. They will not take any more than a pick up loan at any one resident. All garbage needs to be out by 4am on the Saturday. Only one pass will be made by each resident. For more information\, call 1-866-686-4410.
URL:https://977wmoi.com/event/oquawka-city-wide-clean-up/
END:VEVENT
BEGIN:VEVENT
DTSTART;TZID=UTC:20190518T160000
DTEND;TZID=UTC:20190518T160000
DTSTAMP:20260425T113853
CREATED:20190508T234009Z
LAST-MODIFIED:20190508T234009Z
UID:365731-1558195200-1558195200@977wmoi.com
SUMMARY:Buchanan Community Chorus Presents Variety Show
DESCRIPTION:At Dahl Chapel. Carolyn Kellert\, Chorus Director. Lenna Burnett\, Chorus Accompanist.
URL:https://977wmoi.com/event/buchanan-community-chorus-presents-variety-show/
END:VEVENT
END:VCALENDAR