BEGIN:VCALENDAR
VERSION:2.0
PRODID:-//Prairie Communications, LLC - ECPv6.15.20//NONSGML v1.0//EN
CALSCALE:GREGORIAN
METHOD:PUBLISH
X-ORIGINAL-URL:https://977wmoi.com
X-WR-CALDESC:Events for Prairie Communications, LLC
REFRESH-INTERVAL;VALUE=DURATION:PT1H
X-Robots-Tag:noindex
X-PUBLISHED-TTL:PT1H
BEGIN:VTIMEZONE
TZID:UTC
BEGIN:STANDARD
TZOFFSETFROM:+0000
TZOFFSETTO:+0000
TZNAME:UTC
DTSTART:20180101T000000
END:STANDARD
END:VTIMEZONE
BEGIN:VEVENT
DTSTART;VALUE=DATE:20190506
DTEND;VALUE=DATE:20190511
DTSTAMP:20260425T155300
CREATED:20190403T222530Z
LAST-MODIFIED:20190403T222530Z
UID:365338-1557100800-1557532799@977wmoi.com
SUMMARY:Clean-Up Week in Monmouth
DESCRIPTION:No paint. No tires. No electronics. No concrete. Items must be 50 pounds or less\, less than 8 feet in length\, tied together\, or placed in bags. All items need to be on boulevard before regular pick-up day.
URL:https://977wmoi.com/event/clean-up-week-in-monmouth/
END:VEVENT
BEGIN:VEVENT
DTSTART;TZID=UTC:20190509T153000
DTEND;TZID=UTC:20190509T170000
DTSTAMP:20260425T155300
CREATED:20190418T202257Z
LAST-MODIFIED:20190418T202257Z
UID:365572-1557415800-1557421200@977wmoi.com
SUMMARY:United School District Early Childhood Screenings
DESCRIPTION:West Elementary – 734-8513. For Kindergarten. Birth certificate must be presented at time of screening. Children must be 5 year’s old by September 1st in order to screen for Kindergarten.
URL:https://977wmoi.com/event/united-school-district-early-childhood-screenings-2/
END:VEVENT
BEGIN:VEVENT
DTSTART;TZID=UTC:20190510T113000
DTEND;TZID=UTC:20190510T143000
DTSTAMP:20260425T155300
CREATED:20190416T222610Z
LAST-MODIFIED:20190416T222610Z
UID:365550-1557487800-1557498600@977wmoi.com
SUMMARY:Galesburg Noon Lions Club Blood Drive
DESCRIPTION:Community blood drive at 55 W Tomkins Street\, inside Galesburg City Hall Lower Level.
URL:https://977wmoi.com/event/galesburg-noon-lions-club-blood-drive/
END:VEVENT
BEGIN:VEVENT
DTSTART;TZID=UTC:20190510T130000
DTEND;TZID=UTC:20190510T130000
DTSTAMP:20260425T155300
CREATED:20190410T184646Z
LAST-MODIFIED:20190410T184646Z
UID:365453-1557493200-1557493200@977wmoi.com
SUMMARY:Painting in the Garden with Cherry Simmons
DESCRIPTION:At the Stewart House\, 1015 E Euclid Ave in Monmouth. Cost is $20\, includes cost of materials. Registration deadline is Monday May 6th. To register\, contact Mary Osborne at 309-734-5154.
URL:https://977wmoi.com/event/painting-in-the-garden-with-cherry-simmons/
END:VEVENT
BEGIN:VEVENT
DTSTART;TZID=UTC:20190510T170000
DTEND;TZID=UTC:20190510T190000
DTSTAMP:20260425T155300
CREATED:20190410T011056Z
LAST-MODIFIED:20190410T011056Z
UID:365423-1557507600-1557514800@977wmoi.com
SUMMARY:Canvas\, Metal\, and More
DESCRIPTION:At the Buchanan Center for the Arts. Featuring the artwork of Paulette Thenhaus and Tom Lytle. This event is free and open to the public. Opening reception will be May 10th 5 to 7. The display opens May 7th and goes through June 21st.
URL:https://977wmoi.com/event/canvas-metal-and-more/
END:VEVENT
BEGIN:VEVENT
DTSTART;VALUE=DATE:20190511
DTEND;VALUE=DATE:20190512
DTSTAMP:20260425T155300
CREATED:20190403T224100Z
LAST-MODIFIED:20190403T224100Z
UID:365344-1557532800-1557619199@977wmoi.com
SUMMARY:Berwick Days
DESCRIPTION:To help bring buyers and sellers together\, anyone can sell anything\, except food\, and pay no set-up or vendor fee. Events include: flea market\, antique and collector car cruise-in\, tractors on display\, pedal tractor pull\, face painting\, parade at 1:30\, music\, Fireman’s breakfast from 7am to 10am\, and more! For more information\, contact John Smith at 309-337-5202.
URL:https://977wmoi.com/event/berwick-days/
END:VEVENT
BEGIN:VEVENT
DTSTART;TZID=UTC:20190511T110000
DTEND;TZID=UTC:20190511T110000
DTSTAMP:20260425T155300
CREATED:20190417T221035Z
LAST-MODIFIED:20190417T221035Z
UID:365562-1557572400-1557572400@977wmoi.com
SUMMARY:Fused Glass with Judi Minor
DESCRIPTION:A favorite of all ages\, join us again this summer for a new series of fused glass classes in the BCA classroom. Our first class is Fused Glass Slurry Mushroom Solar Garden Light 11am Saturday\, May 11. The fee is $25 and includes instruction\, materials\, and refreshments. Registration is required. Call 309-734-3033 to reserve your spot today!
URL:https://977wmoi.com/event/fused-glass-with-judi-minor/
END:VEVENT
BEGIN:VEVENT
DTSTART;TZID=UTC:20190513T113000
DTEND;TZID=UTC:20190513T133000
DTSTAMP:20260425T155300
CREATED:20190415T181002Z
LAST-MODIFIED:20190415T181002Z
UID:365474-1557747000-1557754200@977wmoi.com
SUMMARY:Galesburg Chamber Local Elected Official Luncheon
DESCRIPTION:Hear from local elected officials on city and county issues. Following the presentation\, enjoy a roundtable conversation over lunch with Galesburg Alderman and Knox County Board Members. Event will be held at Discovery Depot 2nd Floor. $20 for members. $30 for non-members.
URL:https://977wmoi.com/event/galesburg-chamber-local-elected-official-luncheon/
END:VEVENT
BEGIN:VEVENT
DTSTART;TZID=UTC:20190513T160000
DTEND;TZID=UTC:20190513T160000
DTSTAMP:20260425T155300
CREATED:20190418T205034Z
LAST-MODIFIED:20190418T205034Z
UID:365584-1557763200-1557763200@977wmoi.com
SUMMARY:Parkinson's Support Group
DESCRIPTION:In the Warren County YMCA Rock Steady Workout Room. Contact Marcia Parrish for more information at 309-221-7907.
URL:https://977wmoi.com/event/parkinsons-support-group-2/
END:VEVENT
BEGIN:VEVENT
DTSTART;TZID=UTC:20190513T160000
DTEND;TZID=UTC:20190513T170000
DTSTAMP:20260425T155300
CREATED:20190403T223332Z
LAST-MODIFIED:20190403T223332Z
UID:365340-1557763200-1557766800@977wmoi.com
SUMMARY:Parkinson's Support Group
DESCRIPTION:This is a wonderful opportunity to learn about Parkinson’s as well as gain support from other participants. Lead by Marcia Parrish. In the Warren County YMCA Rock Steady Room.
URL:https://977wmoi.com/event/parkinsons-support-group/
END:VEVENT
BEGIN:VEVENT
DTSTART;TZID=UTC:20190516T120000
DTEND;TZID=UTC:20190516T120000
DTSTAMP:20260425T155300
CREATED:20190417T204852Z
LAST-MODIFIED:20190417T204852Z
UID:365552-1558008000-1558008000@977wmoi.com
SUMMARY:Monmouth College Associates
DESCRIPTION:Join professors Ken Cramer and Trudi Peterson for a taste of what the students experienced in and around the beautiful and vibrant host city\, Merida\, in the Yucatan peninsula of Mexico. Will be held in the Highlander Room at the Stockdale Student Center. Tickets are $10. RSVP by May 14th to alumni@monmouthcollege.edu or call 309-457-2231.
URL:https://977wmoi.com/event/monmouth-college-associates/
END:VEVENT
BEGIN:VEVENT
DTSTART;VALUE=DATE:20190518
DTEND;VALUE=DATE:20190519
DTSTAMP:20260425T155300
CREATED:20190403T224201Z
LAST-MODIFIED:20190403T224201Z
UID:365346-1558137600-1558223999@977wmoi.com
SUMMARY:Oquawka City Wide Clean-Up
DESCRIPTION:Accepted items: couches\, chairs\, tables\, mattresses\, box springs\, grills without tanks\, lawn mowers without gas in them\, carpet in 5 foot rolls. They will not take any more than a pick up loan at any one resident. All garbage needs to be out by 4am on the Saturday. Only one pass will be made by each resident. For more information\, call 1-866-686-4410.
URL:https://977wmoi.com/event/oquawka-city-wide-clean-up/
END:VEVENT
BEGIN:VEVENT
DTSTART;TZID=UTC:20190518T160000
DTEND;TZID=UTC:20190518T160000
DTSTAMP:20260425T155300
CREATED:20190508T234009Z
LAST-MODIFIED:20190508T234009Z
UID:365731-1558195200-1558195200@977wmoi.com
SUMMARY:Buchanan Community Chorus Presents Variety Show
DESCRIPTION:At Dahl Chapel. Carolyn Kellert\, Chorus Director. Lenna Burnett\, Chorus Accompanist.
URL:https://977wmoi.com/event/buchanan-community-chorus-presents-variety-show/
END:VEVENT
BEGIN:VEVENT
DTSTART;TZID=UTC:20190521T173000
DTEND;TZID=UTC:20190521T193000
DTSTAMP:20260425T155300
CREATED:20190509T205010Z
LAST-MODIFIED:20190509T205010Z
UID:365745-1558459800-1558467000@977wmoi.com
SUMMARY:Open Table Member Commitment Gathering
DESCRIPTION:Open Table West Central Illinois Leadership team will be hosting the event where they are going to be providing some information about what it looks like for a day in the life of a table member and really taking the next steps to getting registered and beginning the training process. The event will be held at the First Christian Church\, 514 N Sunny Lane in Monmouth. Dinner will be provided. To register for the event\, contact Lolla Ballard at 309-734-8066.
URL:https://977wmoi.com/event/open-table-member-commitment-gathering/
END:VEVENT
BEGIN:VEVENT
DTSTART;TZID=UTC:20190522T173000
DTEND;TZID=UTC:20190522T173000
DTSTAMP:20260425T155300
CREATED:20190410T182723Z
LAST-MODIFIED:20190410T182723Z
UID:365439-1558546200-1558546200@977wmoi.com
SUMMARY:Photography Seminar
DESCRIPTION:At the Buchanan Center for the Arts. Juror Rich Ankeney will present four sessions to help you improve your use of creative camera controls\, better your understanding of cameras and lenses\, develop a more intuitive sense of composition and visualization\, and choose and prepare your best images. The first session on May 1st if free. The cost for the remaining sessions is $20 or $15 for BCA members. Reserve your spot by calling 734-3033.
URL:https://977wmoi.com/event/photography-seminar-3/
END:VEVENT
BEGIN:VEVENT
DTSTART;TZID=UTC:20190523T183000
DTEND;TZID=UTC:20190523T183000
DTSTAMP:20260425T155300
CREATED:20190403T224312Z
LAST-MODIFIED:20190403T224312Z
UID:365348-1558636200-1558636200@977wmoi.com
SUMMARY:Jeep Blitz by Steinjager
DESCRIPTION:Location: JoJo’s: 788 Cole St\, Bushnell\, IL. Night Ride #1 at 6:30pm. Night Ride #2 at 7:30pm. Registration is required for both. Register for all trail rides\, tours\, and obstacle courses at www.jeepblitz.com.
URL:https://977wmoi.com/event/jeep-blitz-by-steinjager/
END:VEVENT
BEGIN:VEVENT
DTSTART;TZID=UTC:20190524T090000
DTEND;TZID=UTC:20190524T090000
DTSTAMP:20260425T155300
CREATED:20190403T224410Z
LAST-MODIFIED:20190403T224410Z
UID:365350-1558688400-1558688400@977wmoi.com
SUMMARY:Jeep Blitz by Steinjager
DESCRIPTION:Location: 590 E Main St\, Bushnell\, IL. Steinjager Factory Tour at 9am. Trail Rides from 9am to 1:30pm. Music provided by Show and Shine from 5pm to 9pm. Register for all trail rides\, tours\, and obstacle courses at www.jeepblitz.com.
URL:https://977wmoi.com/event/jeep-blitz-by-steinjager-2/
END:VEVENT
BEGIN:VEVENT
DTSTART;TZID=UTC:20190525T070000
DTEND;TZID=UTC:20190525T203000
DTSTAMP:20260425T155300
CREATED:20190403T224507Z
LAST-MODIFIED:20190403T224507Z
UID:365352-1558767600-1558816200@977wmoi.com
SUMMARY:Jeep Blitz by Steinjager
DESCRIPTION:Location: Fairgrounds\, 21999 Ind Park Road\, Bushnell\, IL. Fireman’s Breakfast\, 410 N Dean St in Bushnell from 7am to 10am. Obstacle course\, food\, accessory vendors from 9am to 4pm. Trail Rides 9:15am to 2:30pm. Last trail ride returns at 3:45pm. Raffle from 4:30pm to 5:15pm. Live music\, Buffet at Tellers\, 404 E Main St from 5:30pm to 8:30pm. Register for all trail rides\, tours\, and obstacle courses at www.jeepblitz.com.
URL:https://977wmoi.com/event/jeep-blitz-by-steinjager-3/
END:VEVENT
BEGIN:VEVENT
DTSTART;VALUE=DATE:20190526
DTEND;VALUE=DATE:20190527
DTSTAMP:20260425T155300
CREATED:20190513T204818Z
LAST-MODIFIED:20190513T204818Z
UID:365756-1558828800-1558915199@977wmoi.com
SUMMARY:Silent Home Cemetery Memorial Day Celebration
DESCRIPTION:Located off 140th Street in Cameron. Jeff Rankin\, Monmouth College historian\, will be the speaker. The service is free and open to the public. For more information\, contact Jeanne Robeson at 309-536-0070.
URL:https://977wmoi.com/event/silent-home-cemetery-memorial-day-celebration/
END:VEVENT
BEGIN:VEVENT
DTSTART;TZID=UTC:20190526T090000
DTEND;TZID=UTC:20190526T123000
DTSTAMP:20260425T155300
CREATED:20190403T224554Z
LAST-MODIFIED:20190403T224554Z
UID:365354-1558861200-1558873800@977wmoi.com
SUMMARY:Jeep Blitz by Steinjager
DESCRIPTION:Location: Checkrow Church\, 3587 E Checkrow Road in Avon. Trail rides begin at 9am. Breakfast at Checkrow from 9:30am to 10:15am. Church at 10:30am. And a Country Cruise at 11:30am. Register for all trail rides\, tours\, and obstacle courses at www.jeepblitz.com.
URL:https://977wmoi.com/event/jeep-blitz-by-steinjager-4/
END:VEVENT
BEGIN:VEVENT
DTSTART;TZID=UTC:20190528T180000
DTEND;TZID=UTC:20190528T193000
DTSTAMP:20260425T155300
CREATED:20190418T205500Z
LAST-MODIFIED:20190418T205500Z
UID:365586-1559066400-1559071800@977wmoi.com
SUMMARY:Galesburg Kindergarten Round-up
DESCRIPTION:Galesburg Community School District invites all incoming kindergartners and their families to the 2019-2020 Kindergarten Round-up at the Galesburg High School Auditorium\, 1135 W Fremont Street. The district will provide families with valuable information to help with the upcoming transition and have some fun as well! For more information\, call 309-973-2000.
URL:https://977wmoi.com/event/galesburg-kindergarten-round-up/
END:VEVENT
BEGIN:VEVENT
DTSTART;TZID=UTC:20190529T163000
DTEND;TZID=UTC:20190529T183000
DTSTAMP:20260425T155300
CREATED:20190415T182427Z
LAST-MODIFIED:20190415T182427Z
UID:365482-1559147400-1559154600@977wmoi.com
SUMMARY:Parent Information from the ROE
DESCRIPTION:For caregivers of junior high and high school students. The ROE #33 with support from the United Way Heart of Illinois of Peoria will be sharing Healthy Mind Healthy Neighborhoods: Self-Regulation\, Decision-Making\, Self-Awareness\, Building Relationships\, and Social Awareness. At Sidetrax Bar and Grill\, 441 East Main Street in Galesburg.
URL:https://977wmoi.com/event/parent-information-from-the-roe-2/
END:VEVENT
BEGIN:VEVENT
DTSTART;TZID=UTC:20190529T173000
DTEND;TZID=UTC:20190529T173000
DTSTAMP:20260425T155300
CREATED:20190410T182759Z
LAST-MODIFIED:20190410T182759Z
UID:365441-1559151000-1559151000@977wmoi.com
SUMMARY:Photography Seminar
DESCRIPTION:At the Buchanan Center for the Arts. Juror Rich Ankeney will present four sessions to help you improve your use of creative camera controls\, better your understanding of cameras and lenses\, develop a more intuitive sense of composition and visualization\, and choose and prepare your best images. The first session on May 1st if free. The cost for the remaining sessions is $20 or $15 for BCA members. Reserve your spot by calling 734-3033.
URL:https://977wmoi.com/event/photography-seminar-4/
END:VEVENT
BEGIN:VEVENT
DTSTART;TZID=UTC:20190601T093000
DTEND;TZID=UTC:20190601T093000
DTSTAMP:20260425T155300
CREATED:20190426T190601Z
LAST-MODIFIED:20190426T190601Z
UID:365638-1559381400-1559381400@977wmoi.com
SUMMARY:Warren and Henderson County State's Attorney PAC Golf Outing
DESCRIPTION:At the Monmouth Country Club. 9:30 am registration. Shotgun start begins at 10am. Cost is $45 a person or $180 for four\, includes 18 holes\, cart\, and lunch at Chicks at the Club. Mulligans will be available for purchase as well as several competitions on the course.
URL:https://977wmoi.com/event/warren-and-henderson-county-states-attorney-pac-golf-outing/
END:VEVENT
BEGIN:VEVENT
DTSTART;TZID=UTC:20190603T130000
DTEND;TZID=UTC:20190603T130000
DTSTAMP:20260425T155300
CREATED:20190415T181324Z
LAST-MODIFIED:20190415T181324Z
UID:365476-1559566800-1559566800@977wmoi.com
SUMMARY:Galesburg Chamber Golf Outing
DESCRIPTION:At Soangetaha Country Club. Shotgun start at 1pm. Register by May 20th. $300 a team or $75 each.
URL:https://977wmoi.com/event/galesburg-chamber-golf-outing/
END:VEVENT
BEGIN:VEVENT
DTSTART;TZID=UTC:20190606T090000
DTEND;TZID=UTC:20190606T090000
DTSTAMP:20260425T155300
CREATED:20190603T202934Z
LAST-MODIFIED:20190603T202934Z
UID:366363-1559811600-1559811600@977wmoi.com
SUMMARY:Church Women United Meeting
DESCRIPTION:To be held at the First Church of the Nazarene\, 1501 Webster St in Galesburg. The program will be ‘A Journey Through Prayer’. All area women are invited to attend. For more information\, contact Audrey Dahleen at 342-2459.
URL:https://977wmoi.com/event/church-women-united-meeting/
END:VEVENT
BEGIN:VEVENT
DTSTART;TZID=UTC:20190607T073000
DTEND;TZID=UTC:20190607T090000
DTSTAMP:20260425T155300
CREATED:20190528T182631Z
LAST-MODIFIED:20190528T182631Z
UID:366169-1559892600-1559898000@977wmoi.com
SUMMARY:Business Before Hours
DESCRIPTION:Join the Galesburg Area Chamber for pastries and coffee at the Galesburg Wellness Center\, 575 N Kellogg Street.
URL:https://977wmoi.com/event/business-before-hours/
END:VEVENT
BEGIN:VEVENT
DTSTART;VALUE=DATE:20190608
DTEND;VALUE=DATE:20190609
DTSTAMP:20260425T155300
CREATED:20190425T200124Z
LAST-MODIFIED:20190425T200124Z
UID:365633-1559952000-1560038399@977wmoi.com
SUMMARY:7th Annual Gopher Open
DESCRIPTION:At Gibson Woods Golf Course. Shotgun start at noon. Lunch provided. Registration is from 10:30 to 11:30. For more information\, call 309-333-2822.
URL:https://977wmoi.com/event/7th-annual-gopher-open/
END:VEVENT
BEGIN:VEVENT
DTSTART;VALUE=DATE:20190608
DTEND;VALUE=DATE:20190609
DTSTAMP:20260425T155300
CREATED:20190524T183532Z
LAST-MODIFIED:20190524T183532Z
UID:366103-1559952000-1560038399@977wmoi.com
SUMMARY:2nd Annual Antique Tractor Show
DESCRIPTION:The 2nd Annual Antique Tractor Show is to be held June 8 & 9\, 2019\, at United High School\, 1905 – 100th Street\, Monmouth IL. This year the show will feature John Deere\, but all makes and models are welcome. However\, club membership is required to exhibit. There will be a 4020 Pedal Tractor Raffle\, and you do not need to be present for the drawing. There will be food on the grounds\, including old fashioned homemade ice cream. Vendor tables will be available\, with club membership being a requirement. There will be events going on throughout the day. For more information see www.maplecityantiquetractors.com or call Marshall Yeast at 309-335-1442 or Becky Terpening at 308-768-2590.
URL:https://977wmoi.com/event/2nd-annual-antique-tractor-show/
END:VEVENT
BEGIN:VEVENT
DTSTART;VALUE=DATE:20190608
DTEND;VALUE=DATE:20190609
DTSTAMP:20260425T155300
CREATED:20190528T182953Z
LAST-MODIFIED:20190528T182953Z
UID:366171-1559952000-1560038399@977wmoi.com
SUMMARY:.5K Diaper Dash
DESCRIPTION:At Lake Storey in Galesburg. Race begins at 9:30am. The diaper dash is a tongue-in-cheek event that aims to give you “all the fun without the run.” Event is $30 and includes a t-shirt\, race medal\, and race sticker. Register online at http://www.lovingbottoms.org/diaperdash.
URL:https://977wmoi.com/event/5k-diaper-dash/
END:VEVENT
END:VCALENDAR