BEGIN:VCALENDAR
VERSION:2.0
PRODID:-//Prairie Communications, LLC - ECPv6.15.20//NONSGML v1.0//EN
CALSCALE:GREGORIAN
METHOD:PUBLISH
X-ORIGINAL-URL:https://977wmoi.com
X-WR-CALDESC:Events for Prairie Communications, LLC
REFRESH-INTERVAL;VALUE=DURATION:PT1H
X-Robots-Tag:noindex
X-PUBLISHED-TTL:PT1H
BEGIN:VTIMEZONE
TZID:UTC
BEGIN:STANDARD
TZOFFSETFROM:+0000
TZOFFSETTO:+0000
TZNAME:UTC
DTSTART:20180101T000000
END:STANDARD
END:VTIMEZONE
BEGIN:VEVENT
DTSTART;VALUE=DATE:20190710
DTEND;VALUE=DATE:20190711
DTSTAMP:20260425T093944
CREATED:20190624T212933Z
LAST-MODIFIED:20190624T212933Z
UID:366683-1562716800-1562803199@977wmoi.com
SUMMARY:Knox County Fair
DESCRIPTION:STOCK CAR RACES – 6:30 HOT LAPS ($12 GRANDSTAND\, $30 PIT)\nAMUSEMENT RIDES – 5-10PM (ARMBANDS – $15)\nCOMPEER BUILDING BAND – BACKSTABBIN’ BETTY
URL:https://977wmoi.com/event/knox-county-fair-3/
END:VEVENT
BEGIN:VEVENT
DTSTART;TZID=UTC:20190710T090000
DTEND;TZID=UTC:20190710T120000
DTSTAMP:20260425T093944
CREATED:20190619T004657Z
LAST-MODIFIED:20190619T004728Z
UID:366584-1562749200-1562760000@977wmoi.com
SUMMARY:OSF Holy Family Medical Center Blood Drive
DESCRIPTION:OSF Holy Family Medical Center in Monmouth will host a community blood drive at 1000 W Harlem\, inside the OSF Wellness Classroom. Please use the Rehab and Specialty Clinics North Entrance.
URL:https://977wmoi.com/event/osf-holy-family-medical-center-blood-drive/
END:VEVENT
BEGIN:VEVENT
DTSTART;TZID=UTC:20190710T130000
DTEND;TZID=UTC:20190710T150000
DTSTAMP:20260425T093944
CREATED:20190701T210441Z
LAST-MODIFIED:20190701T210517Z
UID:366879-1562763600-1562770800@977wmoi.com
SUMMARY:BINGO at Henderson Senior Center
DESCRIPTION:Located at Schuler Street in Oquawka. Snacks and drink will be served. No charge to play 4 cards. Additional cards are 25 cents each.
URL:https://977wmoi.com/event/bingo-at-henderson-senior-center/
END:VEVENT
BEGIN:VEVENT
DTSTART;TZID=UTC:20190710T130000
DTEND;TZID=UTC:20190710T180000
DTSTAMP:20260425T093944
CREATED:20190624T184028Z
LAST-MODIFIED:20190624T184028Z
UID:366644-1562763600-1562781600@977wmoi.com
SUMMARY:Blood Drive
DESCRIPTION:At the Knox Agri Center 180 S Soangetaha Road in Galesburg.
URL:https://977wmoi.com/event/blood-drive-11/
END:VEVENT
BEGIN:VEVENT
DTSTART;TZID=UTC:20190710T140000
DTEND;TZID=UTC:20190710T180000
DTSTAMP:20260425T093944
CREATED:20190624T183304Z
LAST-MODIFIED:20190624T183304Z
UID:366630-1562767200-1562781600@977wmoi.com
SUMMARY:Blood Drive
DESCRIPTION:At the First Christian Church\, 105 Dwight Street in Kewanee.
URL:https://977wmoi.com/event/blood-drive-4/
END:VEVENT
BEGIN:VEVENT
DTSTART;VALUE=DATE:20190711
DTEND;VALUE=DATE:20190712
DTSTAMP:20260425T093944
CREATED:20190624T213028Z
LAST-MODIFIED:20190624T213028Z
UID:366685-1562803200-1562889599@977wmoi.com
SUMMARY:Knox County Fair
DESCRIPTION:CRAIG MORGAN (WITH BRUSHVILLE)  – $20 TICKETS\nAMUSEMENT RIDES – 5-10PM (ARMBANDS – $15)
URL:https://977wmoi.com/event/knox-county-fair-4/
END:VEVENT
BEGIN:VEVENT
DTSTART;TZID=UTC:20190711T073000
DTEND;TZID=UTC:20190711T100000
DTSTAMP:20260425T093944
CREATED:20190619T004924Z
LAST-MODIFIED:20190619T004924Z
UID:366587-1562830200-1562839200@977wmoi.com
SUMMARY:Midstate Manufacturing Company Blood Drive
DESCRIPTION:A community blood drive at Midstate Manufacturing Company\, 750 W Third Street in Galesburg inside the MVRBC Donor Bus.
URL:https://977wmoi.com/event/midstate-manufacturing-company-blood-drive/
END:VEVENT
BEGIN:VEVENT
DTSTART;TZID=UTC:20190711T170000
DTEND;TZID=UTC:20190711T190000
DTSTAMP:20260425T093944
CREATED:20190701T203943Z
LAST-MODIFIED:20190701T203943Z
UID:366861-1562864400-1562871600@977wmoi.com
SUMMARY:Strom Center Ice Cream Social
DESCRIPTION:Entertainment will be provided by the Monmouth Municipal Band\, beginning at 7pm. Tickets for the social are only $3.50 and include ice cream\, homemade cake or pie\, and drink. For an additional $3.50 you may enjoy a Sloppy-Joe sandwich and chips. The event will be held outside at Strom Center in Monmouth.
URL:https://977wmoi.com/event/strom-center-ice-cream-social/
END:VEVENT
BEGIN:VEVENT
DTSTART;TZID=UTC:20190711T170000
DTEND;TZID=UTC:20190711T190000
DTSTAMP:20260425T093944
CREATED:20190701T210145Z
LAST-MODIFIED:20190701T210145Z
UID:366877-1562864400-1562871600@977wmoi.com
SUMMARY:Family Summer Fest
DESCRIPTION:At Doc Pogue Splash Park in Stronghurst. Open to the community. Water activities\, kid-friendly music\, free food\, bounce house\, car seal safety checks. Bring a blanket or lawn chair to enjoy a picnic and music. Sponsored by the Regional Office of Education #33. For more information and to register for safety checks contact 309-734-3908.
URL:https://977wmoi.com/event/family-summer-fest/
END:VEVENT
BEGIN:VEVENT
DTSTART;VALUE=DATE:20190712
DTEND;VALUE=DATE:20190713
DTSTAMP:20260425T093944
CREATED:20190624T213124Z
LAST-MODIFIED:20190624T213124Z
UID:366687-1562889600-1562975999@977wmoi.com
SUMMARY:Knox County Fair
DESCRIPTION:FIGURE 8 – 6:30 ($12 GRANDSTAND\, $20 PIT)\nAMUSEMENT RIDES – 5-10PM (ARMBANDS – $15)\nCOMPEER BUILDING BAND – PATRICK & SWAYZE
URL:https://977wmoi.com/event/knox-county-fair-5/
END:VEVENT
BEGIN:VEVENT
DTSTART;TZID=UTC:20190712T110000
DTEND;TZID=UTC:20190712T160000
DTSTAMP:20260425T093944
CREATED:20190624T183400Z
LAST-MODIFIED:20190624T183400Z
UID:366632-1562929200-1562947200@977wmoi.com
SUMMARY:Blood Drive
DESCRIPTION:At the Kewanee First United Methodist Church\, 108 E Central Blvd in Kewanee.
URL:https://977wmoi.com/event/blood-drive-5/
END:VEVENT
BEGIN:VEVENT
DTSTART;TZID=UTC:20190712T170000
DTEND;TZID=UTC:20190712T190000
DTSTAMP:20260425T093944
CREATED:20190627T010630Z
LAST-MODIFIED:20190627T010630Z
UID:366748-1562950800-1562958000@977wmoi.com
SUMMARY:Art from the Heartland Opening Reception
DESCRIPTION:At the Buchanan Center for the Arts in Monmouth.
URL:https://977wmoi.com/event/art-from-the-heartland-opening-reception/
END:VEVENT
BEGIN:VEVENT
DTSTART;TZID=UTC:20190712T180000
DTEND;TZID=UTC:20190712T200000
DTSTAMP:20260425T093944
CREATED:20190708T182300Z
LAST-MODIFIED:20190708T182300Z
UID:367032-1562954400-1562961600@977wmoi.com
SUMMARY:Toy Story Family Night
DESCRIPTION:Crafts. Snacks. Games. All in Toy Story Style. At the Discovery Depot in Galesburg. $7 for members. $10 for nonmembers.
URL:https://977wmoi.com/event/toy-story-family-night/
END:VEVENT
BEGIN:VEVENT
DTSTART;TZID=UTC:20190712T190000
DTEND;TZID=UTC:20190712T190000
DTSTAMP:20260425T093944
CREATED:20190628T234941Z
LAST-MODIFIED:20190628T234956Z
UID:366802-1562958000-1562958000@977wmoi.com
SUMMARY:"You're a Good Man\, Charlie Brown"
DESCRIPTION:The Monmouth-Roseville JHS V.O.I.C.E. Program presents “You’re a Good Man\, Charlie Brown.” To be held in the MRHS Auditorium. Admission is free.
URL:https://977wmoi.com/event/youre-a-good-man-charlie-brown/
END:VEVENT
BEGIN:VEVENT
DTSTART;TZID=UTC:20190712T193000
DTEND;TZID=UTC:20190712T193000
DTSTAMP:20260425T093944
CREATED:20190708T181738Z
LAST-MODIFIED:20190708T181738Z
UID:367020-1562959800-1562959800@977wmoi.com
SUMMARY:"The Mousetrap"
DESCRIPTION:By Agatha Christie. Directed by Kenny Knox. Presented by the Prairie Players Civic Theatre\, 160 S Seminary Street. Tickets available at prairieplayers.com.
URL:https://977wmoi.com/event/the-mousetrap/
END:VEVENT
BEGIN:VEVENT
DTSTART;VALUE=DATE:20190713
DTEND;VALUE=DATE:20190714
DTSTAMP:20260425T093944
CREATED:20190624T213240Z
LAST-MODIFIED:20190624T213240Z
UID:366689-1562976000-1563062399@977wmoi.com
SUMMARY:Knox County Fair
DESCRIPTION:WYFFEL SEEDS CAR SHOW – 11-2PM\nKIDS POWER WHEELS DEMO – 4PM\nDEMO DERBY – 5PM ($12 GRANDSTAND\, $20 PIT)\nAMUSEMENT RIDES – NOON-4PM AND 5-10PM  (ARMBANDS – $15)\nCOMPEER BUILDING BAND – PAST CURFEW
URL:https://977wmoi.com/event/knox-county-fair-6/
END:VEVENT
BEGIN:VEVENT
DTSTART;TZID=UTC:20190713T170000
DTEND;TZID=UTC:20190713T170000
DTSTAMP:20260425T093944
CREATED:20190628T235937Z
LAST-MODIFIED:20190628T235937Z
UID:366807-1563037200-1563037200@977wmoi.com
SUMMARY:Warren County Fair
DESCRIPTION:-MISS WARREN COUNTY PAGEANT – 5:30PM\n-WARREN CO BOARD WILL SERVE FOOD BEGINNING AT 5PM
URL:https://977wmoi.com/event/warren-county-fair/
END:VEVENT
BEGIN:VEVENT
DTSTART;TZID=UTC:20190713T190000
DTEND;TZID=UTC:20190713T190000
DTSTAMP:20260425T093944
CREATED:20190628T235032Z
LAST-MODIFIED:20190628T235032Z
UID:366805-1563044400-1563044400@977wmoi.com
SUMMARY:"You're a Good Man\, Charlie Brown"
DESCRIPTION:The Monmouth-Roseville JHS V.O.I.C.E. Program presents “You’re a Good Man\, Charlie Brown.” To be held in the MRHS Auditorium. Admission is free.
URL:https://977wmoi.com/event/youre-a-good-man-charlie-brown-2/
END:VEVENT
BEGIN:VEVENT
DTSTART;TZID=UTC:20190713T193000
DTEND;TZID=UTC:20190713T193000
DTSTAMP:20260425T093944
CREATED:20190708T181822Z
LAST-MODIFIED:20190708T181822Z
UID:367022-1563046200-1563046200@977wmoi.com
SUMMARY:"The Mousetrap"
DESCRIPTION:By Agatha Christie. Directed by Kenny Knox. Presented by the Prairie Players Civic Theatre\, 160 S Seminary Street. Tickets available at prairieplayers.com.
URL:https://977wmoi.com/event/the-mousetrap-2/
END:VEVENT
BEGIN:VEVENT
DTSTART;TZID=UTC:20190714T130000
DTEND;TZID=UTC:20190714T130000
DTSTAMP:20260425T093944
CREATED:20190629T000021Z
LAST-MODIFIED:20190629T000021Z
UID:366809-1563109200-1563109200@977wmoi.com
SUMMARY:Warren County Fair
DESCRIPTION:-TRACTOR PULL – 1PM\n-FOOD TENT – TRI-COUNTY CATTLEMEN
URL:https://977wmoi.com/event/warren-county-fair-2/
END:VEVENT
BEGIN:VEVENT
DTSTART;TZID=UTC:20190714T140000
DTEND;TZID=UTC:20190714T140000
DTSTAMP:20260425T093944
CREATED:20190708T182046Z
LAST-MODIFIED:20190708T182046Z
UID:367028-1563112800-1563112800@977wmoi.com
SUMMARY:"The Mousetrap"
DESCRIPTION:By Agatha Christie. Directed by Kenny Knox. Presented by the Prairie Players Civic Theatre\, 160 S Seminary Street. Tickets available at prairieplayers.com.
URL:https://977wmoi.com/event/the-mousetrap-5/
END:VEVENT
BEGIN:VEVENT
DTSTART;TZID=UTC:20190716T113000
DTEND;TZID=UTC:20190716T173000
DTSTAMP:20260425T093944
CREATED:20190624T184303Z
LAST-MODIFIED:20190624T184303Z
UID:366649-1563276600-1563298200@977wmoi.com
SUMMARY:Blood Drive
DESCRIPTION:At the Aledo VFW Hall\, 106 SW 3rd Ave.
URL:https://977wmoi.com/event/blood-drive-12/
END:VEVENT
BEGIN:VEVENT
DTSTART;TZID=UTC:20190716T130000
DTEND;TZID=UTC:20190716T130000
DTSTAMP:20260425T093944
CREATED:20190629T000106Z
LAST-MODIFIED:20190629T000106Z
UID:366811-1563282000-1563282000@977wmoi.com
SUMMARY:Warren County Fair
DESCRIPTION:-4-H CAT CARE – 1PM\n-4-H DOG CARE – 1:30PM
URL:https://977wmoi.com/event/warren-county-fair-3/
END:VEVENT
BEGIN:VEVENT
DTSTART;TZID=UTC:20190717T080000
DTEND;TZID=UTC:20190717T080000
DTSTAMP:20260425T093944
CREATED:20190629T000209Z
LAST-MODIFIED:20190629T000209Z
UID:366813-1563350400-1563350400@977wmoi.com
SUMMARY:Warren County Fair
DESCRIPTION:-CHECK-IN POULTRY/RABBITS – 8:30AM\n-POULTRY SHOW – 9AM\n-RABBIT SHOW – FOLLOWING POULTRY\n-GOAT WEIGH-IN/CHECK-IN – 12PM\n-DAIRY/BUCKET CALF SHOW – 1PM\n-GOAT SHOW – FOLLOWING DAIRY SHOW\n-FAMILY NIGHT – 6PM\n-CARNIVAL – 6-9PM (DISCOUNT TICKET NIGHT) (5 TICKETS FOR $10)
URL:https://977wmoi.com/event/warren-county-fair-4/
END:VEVENT
BEGIN:VEVENT
DTSTART;TZID=UTC:20190717T183000
DTEND;TZID=UTC:20190717T183000
DTSTAMP:20260425T093944
CREATED:20190715T182417Z
LAST-MODIFIED:20190715T182417Z
UID:367220-1563388200-1563388200@977wmoi.com
SUMMARY:The Night Witches of World War II
DESCRIPTION:Join author Brooks Carver in a discussion of the Night Witches. He will also sell and sign copies of his book. Will be held at the Galesburg Public Library\, 40 E Simmons Street. All are welcome.
URL:https://977wmoi.com/event/the-night-witches-of-world-war-ii/
END:VEVENT
BEGIN:VEVENT
DTSTART;TZID=UTC:20190718T080000
DTEND;TZID=UTC:20190718T080000
DTSTAMP:20260425T093944
CREATED:20190629T000310Z
LAST-MODIFIED:20190629T000310Z
UID:366815-1563436800-1563436800@977wmoi.com
SUMMARY:Warren County Fair
DESCRIPTION:-4-H SWINE SHOW – 8AM\n-MASTER SHOWMAN SWINE – FOLLOWING SWINE\n-4-H SHEEP SHOW – AFTER SWINE SHOW\n-MASTER SHOWMAN SHEEP – FOLLOWING SWINE\n-4-H BEEF BREEDING SHOW – FOLLOWING SHEEP SHOW\n-4-H STEER SHOW – FOLLOWING BEEF BREEDING SHOW\n-MASTER SHOWMAN BEEF – FOLLOWING MARKET BEEF SHOW\n-OPEN FLOWER SHOW – 10AM\n-OPEN HORTICULTURE SHOW – 1PM\n-LIVESTOCK AUCTION – 6PM IN SWINE SHOW RING\n-CARNIVAL ARMBAND NIGHT – 6-9PM ($15 PER ARMBAND)\n-POWER WHEELS DERBY – 6:30PM\n-FIGURE 8 DEMO DERBY – 7PM\n-ENTERTAINMENT TENT – STAGGARD
URL:https://977wmoi.com/event/warren-county-fair-5/
END:VEVENT
BEGIN:VEVENT
DTSTART;TZID=UTC:20190718T090000
DTEND;TZID=UTC:20190718T130000
DTSTAMP:20260425T093944
CREATED:20190626T010318Z
LAST-MODIFIED:20190626T010318Z
UID:366732-1563440400-1563454800@977wmoi.com
SUMMARY:Galesburg Community Blood Drive
DESCRIPTION:At OSF St. Mary Medical Center\, 3333 N Seminary St inside Conference Room 4A.
URL:https://977wmoi.com/event/galesburg-community-blood-drive/
END:VEVENT
BEGIN:VEVENT
DTSTART;TZID=UTC:20190718T160000
DTEND;TZID=UTC:20190718T190000
DTSTAMP:20260425T093944
CREATED:20190517T191457Z
LAST-MODIFIED:20190517T191457Z
UID:365805-1563465600-1563476400@977wmoi.com
SUMMARY:Sports Physicals
DESCRIPTION:At OSF Holy Family Medical Center\, 1000 W Harlem in Monmouth. All proceeds will be donated back to the athletic boosters of athletes’ schools. Appointments are limited. Call 309-734-1414 to schedule your spot today. College student should bring the physical form from the athletic department at their school. Cost is $10. Cash or Check.
URL:https://977wmoi.com/event/sports-physicals-2/
END:VEVENT
BEGIN:VEVENT
DTSTART;TZID=UTC:20190718T170000
DTEND;TZID=UTC:20190718T190000
DTSTAMP:20260425T093944
CREATED:20190708T181051Z
LAST-MODIFIED:20190708T181051Z
UID:367014-1563469200-1563476400@977wmoi.com
SUMMARY:Business After Hours
DESCRIPTION:To be held at Slumberland\, 1270 N Henderson Street in Galesburg.
URL:https://977wmoi.com/event/business-after-hours-2/
END:VEVENT
BEGIN:VEVENT
DTSTART;VALUE=DATE:20190719
DTEND;VALUE=DATE:20190720
DTSTAMP:20260425T093944
CREATED:20190517T192106Z
LAST-MODIFIED:20190517T192106Z
UID:365811-1563494400-1563580799@977wmoi.com
SUMMARY:ImPACT Baseline Concussion Testing
DESCRIPTION:At OSF HealthCare Holy Family Medical Center\, 1000 W Harlem in Monmouth. For ages 13 and up. Test will take 30 to 45 minutes. Sign up is required. Call 309-734-1414 to schedule your spot.
URL:https://977wmoi.com/event/impact-baseline-concussion-testing-2/
END:VEVENT
END:VCALENDAR