BEGIN:VCALENDAR
VERSION:2.0
PRODID:-//Prairie Communications, LLC - ECPv6.15.20//NONSGML v1.0//EN
CALSCALE:GREGORIAN
METHOD:PUBLISH
X-ORIGINAL-URL:https://977wmoi.com
X-WR-CALDESC:Events for Prairie Communications, LLC
REFRESH-INTERVAL;VALUE=DURATION:PT1H
X-Robots-Tag:noindex
X-PUBLISHED-TTL:PT1H
BEGIN:VTIMEZONE
TZID:America/Chicago
BEGIN:DAYLIGHT
TZOFFSETFROM:-0600
TZOFFSETTO:-0500
TZNAME:CDT
DTSTART:20190310T080000
END:DAYLIGHT
BEGIN:STANDARD
TZOFFSETFROM:-0500
TZOFFSETTO:-0600
TZNAME:CST
DTSTART:20191103T070000
END:STANDARD
BEGIN:DAYLIGHT
TZOFFSETFROM:-0600
TZOFFSETTO:-0500
TZNAME:CDT
DTSTART:20200308T080000
END:DAYLIGHT
BEGIN:STANDARD
TZOFFSETFROM:-0500
TZOFFSETTO:-0600
TZNAME:CST
DTSTART:20201101T070000
END:STANDARD
BEGIN:DAYLIGHT
TZOFFSETFROM:-0600
TZOFFSETTO:-0500
TZNAME:CDT
DTSTART:20210314T080000
END:DAYLIGHT
BEGIN:STANDARD
TZOFFSETFROM:-0500
TZOFFSETTO:-0600
TZNAME:CST
DTSTART:20211107T070000
END:STANDARD
END:VTIMEZONE
BEGIN:VEVENT
DTSTART;VALUE=DATE:20200701
DTEND;VALUE=DATE:20200802
DTSTAMP:20260424T071944
CREATED:20200630T202451Z
LAST-MODIFIED:20200630T202451Z
UID:379596-1593561600-1596326399@977wmoi.com
SUMMARY:BCA Selfie-Art Scavenger Hunt
DESCRIPTION:Want to get off the couch and find something fun to do? Buchanan Center board member Mary Osborne\, pictured in her version of “Life Imitates Art\,” has the perfect solution for you— a Selfie-Art Scavenger Hunt during the month of July. Each week we will post clues on the SELFIE-ART SCAVENGER HUNT Facebook event page throughout the month of July. There are 10 clues total. When you think you’ve cracked the clue\, go to the place where the public art is located and take a picture of yourself with the artwork. Submit all ten photos with your name and phone number to: buchanancenter@mtcnow.net. All who submit the correct answers to the 10 clues will be placed in a drawing for a $100 cash prize and a BCA membership. The winner will be drawn on July 31.
URL:https://977wmoi.com/event/bca-selfie-art-scavenger-hunt/
END:VEVENT
BEGIN:VEVENT
DTSTART;VALUE=DATE:20200731
DTEND;VALUE=DATE:20200801
DTSTAMP:20260424T071944
CREATED:20200511T125824Z
LAST-MODIFIED:20200511T125824Z
UID:377754-1596153600-1596239999@977wmoi.com
SUMMARY:Monmouth Maple City Cruise Night has been Cancelled
DESCRIPTION:
URL:https://977wmoi.com/event/monmouth-maple-city-cruise-night-has-been-cancelled/
END:VEVENT
BEGIN:VEVENT
DTSTART;TZID=America/Chicago:20200731T173000
DTEND;TZID=America/Chicago:20200731T190000
DTSTAMP:20260424T071944
CREATED:20200715T195509Z
LAST-MODIFIED:20200715T195509Z
UID:380091-1596216600-1596222000@977wmoi.com
SUMMARY:Monmouth Knights of Columbus Fish Fry
DESCRIPTION:Serving 250 from: 5:30-7:00 p.m. Carry Out Service Only. $11.50 Catfish Dinner Dinner Includes: Our Delicious Fried Whole Catfish\, Baked Potato\, Our Famous Homemade Cole Slaw\, Baked Beans\, & Bread. KC Club of Monmouth 120 South Sunny Lane 734-3258. Support Enables the Knight’s to Continue their Community Contributions.
URL:https://977wmoi.com/event/monmouth-knights-of-columbus-fish-fry/
END:VEVENT
BEGIN:VEVENT
DTSTART;VALUE=DATE:20200804
DTEND;VALUE=DATE:20200805
DTSTAMP:20260424T071944
CREATED:20200623T141128Z
LAST-MODIFIED:20200623T141128Z
UID:379325-1596499200-1596585599@977wmoi.com
SUMMARY:Back to School Supply Donations
DESCRIPTION:Karla Wallace is once again collecting school supplies for children aged Kindergarten through 12th Grade. The supplies will be distributed using social distancing at an event in August at South Park in Monmouth. To donate\, drop off at 821 South 3rd Street or call Karla at 309-299-5324 for pick up.
URL:https://977wmoi.com/event/back-to-school-supply-donations/
END:VEVENT
BEGIN:VEVENT
DTSTART;TZID=America/Chicago:20200804T163000
DTEND;TZID=America/Chicago:20200804T183000
DTSTAMP:20260424T071944
CREATED:20200721T130605Z
LAST-MODIFIED:20200721T130605Z
UID:380240-1596558600-1596565800@977wmoi.com
SUMMARY:Monmouth Rotary Drive-Thru BBQ
DESCRIPTION:MONMOUTH ROTARY IS HOLDING ITS ANNUAL BBQ THIS YEAR ON AUGUST 4\, 2020 FROM 4:30 – 6:30 AT THE PATTEE PLAZA.   THE BBQ IS DRIVE THROUGH ONLY THIS YEAR.   ALL MEALS MAY BE ACCESSED IN THE EAST BOUND PARKING LANE.   MEALS ARE FREE THIS YEAR WITH A GOODWILL OFFERING SUGGESTED.   THE MEAL WILL CONSIST OF THE USUAL PORK CHOP SANDWICH\, CHIPS\, APPLE SAUCE AND BROWNIE.   ALL PROCEEDS ARE GOING TO THE JAMIESON COMMUNITY CENTER WEEKEND MEALS PROGRAM AND THE MASK/FACE SHIELD PROGRAM AT THE SCHOOLS TO BATTLE THE COVID 19 PANDEMIC.   A TICKET IS NOT REQUIRED FOR A MEAL AND ALL MEALS WILL BE GIVEN OUT ON A FIRST COME\, FIRST SERVE BASIS SO EVERYONE IS ENCOURAGED TO ATTEND EARLY.
URL:https://977wmoi.com/event/monmouth-rotary-drive-thru-bbq/
END:VEVENT
BEGIN:VEVENT
DTSTART;TZID=America/Chicago:20200804T163000
DTEND;TZID=America/Chicago:20200804T183000
DTSTAMP:20260424T071944
CREATED:20200727T184551Z
LAST-MODIFIED:20200727T184551Z
UID:380463-1596558600-1596565800@977wmoi.com
SUMMARY:FREE Rotary Pork Chop BBQ Dinner
DESCRIPTION:Drive-thru style at the Pattee Park Plaza
URL:https://977wmoi.com/event/free-rotary-pork-chop-bbq-dinner/
END:VEVENT
BEGIN:VEVENT
DTSTART;TZID=America/Chicago:20200805T120000
DTEND;TZID=America/Chicago:20200805T130000
DTSTAMP:20260424T071944
CREATED:20200727T185410Z
LAST-MODIFIED:20200727T185410Z
UID:380487-1596628800-1596632400@977wmoi.com
SUMMARY:Monmouth on the Move Luncheon
DESCRIPTION:At the Patton Block Grill and Brew Pub\, 88 Public Square. $15 for members. $20 for non-members. Jessa Day will be the guest speaker.
URL:https://977wmoi.com/event/monmouth-on-the-move-luncheon-3/
END:VEVENT
BEGIN:VEVENT
DTSTART;TZID=America/Chicago:20200807T080000
DTEND;TZID=America/Chicago:20200807T170000
DTSTAMP:20260424T071944
CREATED:20200728T182211Z
LAST-MODIFIED:20200728T182211Z
UID:380538-1596787200-1596819600@977wmoi.com
SUMMARY:Free Give Away at Grace Bible Church
DESCRIPTION:Located at 121 South H Street. Dolls\, toys\, books\, cookbooks\, clothing all sizes\, kitchen items\, and tons more. Rain or shine. Sign up for 2 $50 gift cards to Save A Lot. All are welcome.
URL:https://977wmoi.com/event/free-give-away-at-grace-bible-church/
END:VEVENT
BEGIN:VEVENT
DTSTART;TZID=America/Chicago:20200807T170000
DTEND;TZID=America/Chicago:20200807T200000
DTSTAMP:20260424T071944
CREATED:20200727T184635Z
LAST-MODIFIED:20200727T184635Z
UID:380465-1596819600-1596830400@977wmoi.com
SUMMARY:Catfish Dinner at the Monmouth American Legion
DESCRIPTION:
URL:https://977wmoi.com/event/catfish-dinner-at-the-monmouth-american-legion-2/
END:VEVENT
BEGIN:VEVENT
DTSTART;VALUE=DATE:20200808
DTEND;VALUE=DATE:20200810
DTSTAMP:20260424T071944
CREATED:20200713T174216Z
LAST-MODIFIED:20200713T174216Z
UID:379974-1596844800-1597017599@977wmoi.com
SUMMARY:Piecemakers Bi-Annual Quilt Show Has Been Cancelled
DESCRIPTION:The Galesburg Piecemakers Quilt Guild’s Bi-Annual Quilt Show “Homegrown” scheduled for August 8 & 9 at the Carl Sandburg College gym has been cancelled and rescheduled for August 7 & 8 of 2021. For more information\, contact Amy Roth at 309-335-6024 or Rhonda Kistler at 309-341-4142.
URL:https://977wmoi.com/event/piecemakers-bi-annual-quilt-show-has-been-cancelled/
END:VEVENT
BEGIN:VEVENT
DTSTART;TZID=America/Chicago:20200808T080000
DTEND;TZID=America/Chicago:20200808T130000
DTSTAMP:20260424T071944
CREATED:20200728T182313Z
LAST-MODIFIED:20200728T182313Z
UID:380540-1596873600-1596891600@977wmoi.com
SUMMARY:Free Give Away at Grace Bible Church
DESCRIPTION:Located at 121 South H Street. Dolls\, toys\, books\, cookbooks\, clothing all sizes\, kitchen items\, and tons more. Rain or shine. Sign up for 2 $50 gift cards to Save A Lot. All are welcome.
URL:https://977wmoi.com/event/free-give-away-at-grace-bible-church-2/
END:VEVENT
BEGIN:VEVENT
DTSTART;TZID=America/Chicago:20200808T100000
DTEND;TZID=America/Chicago:20200808T140000
DTSTAMP:20260424T071944
CREATED:20200706T133220Z
LAST-MODIFIED:20200706T133220Z
UID:379696-1596880800-1596895200@977wmoi.com
SUMMARY:Cottage Monmouth Clinic School Physicals
DESCRIPTION:Cottage Monmouth Clinic will host a four hour session for back to school physicals. Appointments will be available from 10 am to 2 pm. Call 734-0100 to schedule your child’s physical.
URL:https://977wmoi.com/event/cottage-monmouth-clinic-school-physicals-2/
END:VEVENT
BEGIN:VEVENT
DTSTART;TZID=America/Chicago:20200808T110000
DTEND;TZID=America/Chicago:20200808T130000
DTSTAMP:20260424T071944
CREATED:20200727T184717Z
LAST-MODIFIED:20200727T184717Z
UID:380467-1596884400-1596891600@977wmoi.com
SUMMARY:Hamburger Fry at the Monmouth American Legion
DESCRIPTION:
URL:https://977wmoi.com/event/hamburger-fry-at-the-monmouth-american-legion-2/
END:VEVENT
BEGIN:VEVENT
DTSTART;TZID=America/Chicago:20200808T170000
DTEND;TZID=America/Chicago:20200808T170000
DTSTAMP:20260424T071944
CREATED:20200724T190049Z
LAST-MODIFIED:20200724T190049Z
UID:380434-1596906000-1596906000@977wmoi.com
SUMMARY:Galesburg Rescue Mission Summer Concert
DESCRIPTION:Gospel Music/Saturday Night Alive in Jesus. Mercy’s Bridge Band from Missouri. Admission is free. Ham and scalloped potato dinner from 5 pm to 6:15. Donations for adults $6 and $4 for children. Event held at First Church of God\, 1080 Harrison Street in Galesburg.
URL:https://977wmoi.com/event/galesburg-rescue-mission-summer-concert/
END:VEVENT
BEGIN:VEVENT
DTSTART;TZID=America/Chicago:20200810T120000
DTEND;TZID=America/Chicago:20200810T193000
DTSTAMP:20260424T071944
CREATED:20200706T155407Z
LAST-MODIFIED:20200706T155407Z
UID:379723-1597060800-1597087800@977wmoi.com
SUMMARY:Galesburg Chamber 27th Annual Golf Outing
DESCRIPTION:Registration begins at 12 p.m. Shot-gun start at 1 p.m. at the Oak Run Golf Course 1468 Knox Rd 1725 N Dahinda\, IL 61428. $300/team of 4 or $75 for individual golfers. This includes green fees\, cart rental\, and dinner. Stay after the game for dinner and raffle prizes!
URL:https://977wmoi.com/event/galesburg-chamber-27th-annual-golf-outing/
END:VEVENT
BEGIN:VEVENT
DTSTART;VALUE=DATE:20200812
DTEND;VALUE=DATE:20200813
DTSTAMP:20260424T071944
CREATED:20200604T185544Z
LAST-MODIFIED:20200604T185544Z
UID:378610-1597190400-1597276799@977wmoi.com
SUMMARY:McDonough Power Cooperative Board of Directors has Cancelled the 2020 Annual Membership Meeting
DESCRIPTION:The board voted May 26 to cancel the 83rd annual meeting\, which had been scheduled for August 12 at The Crossing in Macomb.
URL:https://977wmoi.com/event/mcdonough-power-cooperative-board-of-directors-has-cancelled-the-2020-annual-membership-meeting/
END:VEVENT
BEGIN:VEVENT
DTSTART;TZID=America/Chicago:20200812T100000
DTEND;TZID=America/Chicago:20200812T100000
DTSTAMP:20260424T071944
CREATED:20200722T142306Z
LAST-MODIFIED:20200722T142306Z
UID:380297-1597226400-1597226400@977wmoi.com
SUMMARY:Old Friends Talk Art at the BCA
DESCRIPTION:The next Old Friends Talk Art (OFTA) gallery talk will be 10am Wednesday\, August 12\, when the Buchanan Center hosts Anna Lyon who will discuss her artistic experiences during her 2019 travels (pre-covid). Lyon is a senior at Kansas University and is the niece of former BCA board member and local artist\, Cherry Simmons. If the weather permits\, we will host Lyon on the Pattee Plaza\, otherwise we will socially distance (and wear masks) in the spacious BCA gallery.
URL:https://977wmoi.com/event/old-friends-talk-art-at-the-bca/
END:VEVENT
BEGIN:VEVENT
DTSTART;TZID=America/Chicago:20200814T170000
DTEND;TZID=America/Chicago:20200814T200000
DTSTAMP:20260424T071944
CREATED:20200727T184803Z
LAST-MODIFIED:20200727T184803Z
UID:380471-1597424400-1597435200@977wmoi.com
SUMMARY:Catfish Dinner at the Monmouth American Legion
DESCRIPTION:
URL:https://977wmoi.com/event/catfish-dinner-at-the-monmouth-american-legion-3/
END:VEVENT
BEGIN:VEVENT
DTSTART;TZID=America/Chicago:20200815T110000
DTEND;TZID=America/Chicago:20200815T130000
DTSTAMP:20260424T071944
CREATED:20200727T184839Z
LAST-MODIFIED:20200727T184839Z
UID:380474-1597489200-1597496400@977wmoi.com
SUMMARY:Hamburger Fry at the Monmouth American Legion
DESCRIPTION:
URL:https://977wmoi.com/event/hamburger-fry-at-the-monmouth-american-legion-3/
END:VEVENT
BEGIN:VEVENT
DTSTART;TZID=America/Chicago:20200820T110000
DTEND;TZID=America/Chicago:20200820T180000
DTSTAMP:20260424T071944
CREATED:20200807T190229Z
LAST-MODIFIED:20200807T190229Z
UID:380986-1597921200-1597946400@977wmoi.com
SUMMARY:United School District Chromebook Pick Up
DESCRIPTION:Parents will need to pick up devices from the building where their student attends.
URL:https://977wmoi.com/event/united-school-district-chromebook-pick-up/
END:VEVENT
BEGIN:VEVENT
DTSTART;TZID=America/Chicago:20200821T073000
DTEND;TZID=America/Chicago:20200821T153000
DTSTAMP:20260424T071944
CREATED:20200807T190337Z
LAST-MODIFIED:20200807T190337Z
UID:380988-1597995000-1598023800@977wmoi.com
SUMMARY:United School District Chromebook Pick Up
DESCRIPTION:Parents will need to pick up devices from the building where their student attends.
URL:https://977wmoi.com/event/united-school-district-chromebook-pick-up-2/
END:VEVENT
BEGIN:VEVENT
DTSTART;TZID=America/Chicago:20200821T110000
DTEND;TZID=America/Chicago:20200821T130000
DTSTAMP:20260424T071944
CREATED:20200819T191305Z
LAST-MODIFIED:20200819T191334Z
UID:381407-1598007600-1598014800@977wmoi.com
SUMMARY:Live Music on the Pattee Plaza
DESCRIPTION:Leo and Alisa Ramer will perform 11am-1pm Friday\, August 21. Grab your lunch and take a break on one of the Plaza benches – enjoy the sun or sit under one of the shady umbrellas. You can also bring your own lawn chair. This event is free and open to the public.
URL:https://977wmoi.com/event/live-music-on-the-plaza-3/
END:VEVENT
BEGIN:VEVENT
DTSTART;TZID=America/Chicago:20200821T170000
DTEND;TZID=America/Chicago:20200821T200000
DTSTAMP:20260424T071944
CREATED:20200727T184919Z
LAST-MODIFIED:20200727T184919Z
UID:380476-1598029200-1598040000@977wmoi.com
SUMMARY:Catfish Dinner at the Monmouth American Legion
DESCRIPTION:
URL:https://977wmoi.com/event/catfish-dinner-at-the-monmouth-american-legion-4/
END:VEVENT
BEGIN:VEVENT
DTSTART;TZID=America/Chicago:20200822T110000
DTEND;TZID=America/Chicago:20200822T130000
DTSTAMP:20260424T071944
CREATED:20200727T184954Z
LAST-MODIFIED:20200727T184954Z
UID:380478-1598094000-1598101200@977wmoi.com
SUMMARY:Hamburger Fry at the Monmouth American Legion
DESCRIPTION:
URL:https://977wmoi.com/event/hamburger-fry-at-the-monmouth-american-legion-4/
END:VEVENT
BEGIN:VEVENT
DTSTART;VALUE=DATE:20200825
DTEND;VALUE=DATE:20200920
DTSTAMP:20260424T071944
CREATED:20200819T153515Z
LAST-MODIFIED:20200819T191610Z
UID:381400-1598313600-1600559999@977wmoi.com
SUMMARY:64 Arts Opens at the Buchanan Center for the Arts
DESCRIPTION:On view August 25-October 9\, this national juried exhibition showcases quality artwork from artists across the United States and promotes the importance of the arts in the Warren County community and surrounding region. Our juror\, Samantha Grassi\, will announce awards on Friday\, August 28.
URL:https://977wmoi.com/event/64-arts-opens-at-the-buchanan-center-for-the-arts/
END:VEVENT
BEGIN:VEVENT
DTSTART;VALUE=DATE:20200825
DTEND;VALUE=DATE:20200916
DTSTAMP:20260424T071944
CREATED:20200819T191959Z
LAST-MODIFIED:20200819T191959Z
UID:381413-1598313600-1600214399@977wmoi.com
SUMMARY:Take & Make Art Kits at the BCA
DESCRIPTION:Even though we cannot be in the BCA classroom together\, that doesn’t mean we can’t create art. The Buchanan Center has a variety of FREE art kits for you to exercise your art skills and continue creating throughout the school year. Supplies and instructions are included. Kits will be available for pick up Tuesday-Friday 10am-5pm and Saturday 10am-2pm while supplies last.
URL:https://977wmoi.com/event/take-make-art-kits-at-the-bca/
END:VEVENT
BEGIN:VEVENT
DTSTART;TZID=America/Chicago:20200826T093000
DTEND;TZID=America/Chicago:20200826T120000
DTSTAMP:20260424T071944
CREATED:20200824T135659Z
LAST-MODIFIED:20200824T135659Z
UID:381522-1598434200-1598443200@977wmoi.com
SUMMARY:Curbside Food Pantry
DESCRIPTION:At the Lighthouse Baptist Church
URL:https://977wmoi.com/event/curbside-food-pantry/
END:VEVENT
BEGIN:VEVENT
DTSTART;VALUE=DATE:20200827
DTEND;VALUE=DATE:20200831
DTSTAMP:20260424T071944
CREATED:20200826T195725Z
LAST-MODIFIED:20200827T134124Z
UID:381675-1598486400-1598831999@977wmoi.com
SUMMARY:Roseville Community Center 10th Annual Benefit Online Auction
DESCRIPTION:Due to COVID-19\, the Roseville Community Center’s 10th anniversary celebration was cancelled and moved to an online platform. The online auction will be held on PROXIBID\, hosted by Van Adkisson Auction Service\, LLC.  Register on PROXIBID to participate. All proceeds including the 5% internet premium will be paid directly to the Roseville Community Center. Bidding is open now and will close Sunday\, August 30th at 9 pm. \n 
URL:https://977wmoi.com/event/roseville-community-center-10th-annual-benefit-online-auction/
END:VEVENT
BEGIN:VEVENT
DTSTART;TZID=America/Chicago:20200828T070000
DTEND;TZID=America/Chicago:20200828T130000
DTSTAMP:20260424T071944
CREATED:20200824T135823Z
LAST-MODIFIED:20200824T135823Z
UID:381524-1598598000-1598619600@977wmoi.com
SUMMARY:Monmouth Farmer's Market
DESCRIPTION:Located at 314 North main Street
URL:https://977wmoi.com/event/monmouth-farmers-market/
END:VEVENT
BEGIN:VEVENT
DTSTART;TZID=America/Chicago:20200828T110000
DTEND;TZID=America/Chicago:20200828T130000
DTSTAMP:20260424T071944
CREATED:20200825T162205Z
LAST-MODIFIED:20200825T162205Z
UID:381605-1598612400-1598619600@977wmoi.com
SUMMARY:Live Music on the Pattee Plaza
DESCRIPTION:King Neptune will be performing on the Plaza. Join  and take a break on the Plaza benches — enjoy the sun or sit under the shady umbrellas. You can also bring your own lawn chair. This event is free and open to the public.
URL:https://977wmoi.com/event/live-music-on-the-pattee-plaza-2/
END:VEVENT
END:VCALENDAR