BEGIN:VCALENDAR
VERSION:2.0
PRODID:-//Prairie Communications, LLC - ECPv6.15.20//NONSGML v1.0//EN
CALSCALE:GREGORIAN
METHOD:PUBLISH
X-ORIGINAL-URL:https://977wmoi.com
X-WR-CALDESC:Events for Prairie Communications, LLC
REFRESH-INTERVAL;VALUE=DURATION:PT1H
X-Robots-Tag:noindex
X-PUBLISHED-TTL:PT1H
BEGIN:VTIMEZONE
TZID:America/Chicago
BEGIN:DAYLIGHT
TZOFFSETFROM:-0600
TZOFFSETTO:-0500
TZNAME:CDT
DTSTART:20200308T080000
END:DAYLIGHT
BEGIN:STANDARD
TZOFFSETFROM:-0500
TZOFFSETTO:-0600
TZNAME:CST
DTSTART:20201101T070000
END:STANDARD
BEGIN:DAYLIGHT
TZOFFSETFROM:-0600
TZOFFSETTO:-0500
TZNAME:CDT
DTSTART:20210314T080000
END:DAYLIGHT
BEGIN:STANDARD
TZOFFSETFROM:-0500
TZOFFSETTO:-0600
TZNAME:CST
DTSTART:20211107T070000
END:STANDARD
BEGIN:DAYLIGHT
TZOFFSETFROM:-0600
TZOFFSETTO:-0500
TZNAME:CDT
DTSTART:20220313T080000
END:DAYLIGHT
BEGIN:STANDARD
TZOFFSETFROM:-0500
TZOFFSETTO:-0600
TZNAME:CST
DTSTART:20221106T070000
END:STANDARD
BEGIN:DAYLIGHT
TZOFFSETFROM:-0600
TZOFFSETTO:-0500
TZNAME:CDT
DTSTART:20230312T080000
END:DAYLIGHT
BEGIN:STANDARD
TZOFFSETFROM:-0500
TZOFFSETTO:-0600
TZNAME:CST
DTSTART:20231105T070000
END:STANDARD
END:VTIMEZONE
BEGIN:VEVENT
DTSTART;VALUE=DATE:20211030
DTEND;VALUE=DATE:20211231
DTSTAMP:20260420T122442
CREATED:20210824T173628Z
LAST-MODIFIED:20210824T173628Z
UID:396633-1635552000-1640908799@977wmoi.com
SUMMARY:40th Annual Security Savings Bank Photography Show
DESCRIPTION:ATTENTION PHOTOGRAPHERS! The Buchanan Center for the Arts invites you to enter our 40th-Annual Security Savings Bank Photography Show November 9 through December 30\, 2021. Categories this year include Agriculture & Farm Life\, Animals & Creatures\, Capturing Light & Shadows\, Faces\, The Four Seasons\, and the Peggy Kuczewski Floral Award (new to this year’s show). Deadline for entry is 2pm Saturday\, October 30. Our juror for this year’s show is Natalie Jackson of Nat Jack Studios in Peoria\, Illinois. Visit http://bcaarts.org for entry details and to download an entry form. To learn more about our juror\, visit https://www.nataliejacksonphotography.com/.
URL:https://977wmoi.com/event/40th-annual-security-savings-bank-photography-show/
END:VEVENT
BEGIN:VEVENT
DTSTART;TZID=America/Chicago:20211220T140000
DTEND;TZID=America/Chicago:20211220T170000
DTSTAMP:20260420T122442
CREATED:20211118T215452Z
LAST-MODIFIED:20211214T214841Z
UID:400808-1640008800-1640019600@977wmoi.com
SUMMARY:WCHD 12+ COVID-19 Vaccine Clinic **Clinic is Full**
DESCRIPTION:Held at the Warren County Health Department\, 240 South Main Street in Monmouth. Pfizer\, Moderna\, and Johnson and Johnson will all be available. Pfizer and Moderna booster vaccines are also available. To schedule an appointment\, call 309-734-0823.
URL:https://977wmoi.com/event/wchd-12-covid-19-vaccine-clinic-3/
END:VEVENT
BEGIN:VEVENT
DTSTART;TZID=America/Chicago:20211221T130000
DTEND;TZID=America/Chicago:20211221T153000
DTSTAMP:20260420T122442
CREATED:20211201T202243Z
LAST-MODIFIED:20211201T202243Z
UID:401278-1640091600-1640100600@977wmoi.com
SUMMARY:Strom Center's Annual Christmas Party
DESCRIPTION:Join for games\, entertainment\, Christmas carols\, a gift exchange\, and lots of goodies to eat! Anyone attending is asked to bring a $7 wrapped gift\, women please bring a gift for a woman and men bring gifts for a man. Drawings for a throw will be held during the afternoon. Register by the 17th by calling 309-734-5677.
URL:https://977wmoi.com/event/strom-centers-annual-christmas-party-2/
END:VEVENT
BEGIN:VEVENT
DTSTART;TZID=America/Chicago:20211221T130000
DTEND;TZID=America/Chicago:20211221T160000
DTSTAMP:20260420T122442
CREATED:20211214T140601Z
LAST-MODIFIED:20211214T140601Z
UID:401877-1640091600-1640102400@977wmoi.com
SUMMARY:Knox County COVID-19 Vaccination Clinic
DESCRIPTION:At the Unified Command Vaccine Center 1:00pm-4:00pm Clinic offers primary series\, additional doses\, and boosters of Moderna and Janssen for adults 18 years and up and Pfizer boosters for those 16 years and up. Pfizer primary series is available to those 12 years of age and up.
URL:https://977wmoi.com/event/knox-county-covid-19-vaccination-clinic-11/
END:VEVENT
BEGIN:VEVENT
DTSTART;TZID=America/Chicago:20211222T080000
DTEND;TZID=America/Chicago:20211222T100000
DTSTAMP:20260420T122442
CREATED:20211018T204958Z
LAST-MODIFIED:20211018T204958Z
UID:399195-1640160000-1640167200@977wmoi.com
SUMMARY:Henderson County Health Department Flu Vaccine Clinic
DESCRIPTION:It will be a walk-in clinic from 8-10am every Wednesday morning through December.\n\n\nPlease bring your Medicare or Medicaid card with you.\n\n\nWith out insurance\, it will be $35 for regular Flublock and $55 for the over age 65 Fluzone HD.
URL:https://977wmoi.com/event/henderson-county-health-department-flu-vaccine-clinic-10/
END:VEVENT
BEGIN:VEVENT
DTSTART;TZID=America/Chicago:20211224T163000
DTEND;TZID=America/Chicago:20211224T163000
DTSTAMP:20260420T122442
CREATED:20211201T203145Z
LAST-MODIFIED:20211201T203145Z
UID:401288-1640363400-1640363400@977wmoi.com
SUMMARY:Gladstone United Methodist Church Christmas Eve Service
DESCRIPTION:
URL:https://977wmoi.com/event/gladstone-united-methodist-church-christmas-eve-service/
END:VEVENT
BEGIN:VEVENT
DTSTART;TZID=America/Chicago:20211224T180000
DTEND;TZID=America/Chicago:20211224T180000
DTSTAMP:20260420T122442
CREATED:20211201T203259Z
LAST-MODIFIED:20211201T203259Z
UID:401290-1640368800-1640368800@977wmoi.com
SUMMARY:Biggsville United Methodist Church Christmas Eve Service
DESCRIPTION:Service will be held at the Presbyterian Church.
URL:https://977wmoi.com/event/biggsville-united-methodist-church-christmas-eve-service/
END:VEVENT
BEGIN:VEVENT
DTSTART;TZID=America/Chicago:20211224T190000
DTEND;TZID=America/Chicago:20211224T190000
DTSTAMP:20260420T122442
CREATED:20211201T203433Z
LAST-MODIFIED:20211201T203433Z
UID:401292-1640372400-1640372400@977wmoi.com
SUMMARY:Oquawka United Methodist Church Christmas Eve Service
DESCRIPTION:
URL:https://977wmoi.com/event/oquawka-united-methodist-church-christmas-eve-service/
END:VEVENT
BEGIN:VEVENT
DTSTART;TZID=America/Chicago:20211228T130000
DTEND;TZID=America/Chicago:20211228T130000
DTSTAMP:20260420T122442
CREATED:20211201T202648Z
LAST-MODIFIED:20211201T202648Z
UID:401284-1640696400-1640696400@977wmoi.com
SUMMARY:Strom Center BINGO in Monmouth
DESCRIPTION:Refreshments and drinks will be available. Cost is 25 cents per card.
URL:https://977wmoi.com/event/strom-center-bingo-in-monmouth-2/
END:VEVENT
BEGIN:VEVENT
DTSTART;TZID=America/Chicago:20211228T130000
DTEND;TZID=America/Chicago:20211228T160000
DTSTAMP:20260420T122442
CREATED:20211228T140443Z
LAST-MODIFIED:20211228T140443Z
UID:402382-1640696400-1640707200@977wmoi.com
SUMMARY:Knox County COVID Vaccination Clinic
DESCRIPTION:At the Vaccine Center 1:00pm-4:00pm. Clinic offers primary series\, additional doses\, and boosters of Moderna for adults 18 years and up and Pfizer boosters for those 16 years and up. Pfizer primary series is available to those 12 years of age and up.
URL:https://977wmoi.com/event/knox-county-covid-vaccination-clinic-3/
END:VEVENT
BEGIN:VEVENT
DTSTART;TZID=America/Chicago:20211228T140000
DTEND;TZID=America/Chicago:20211228T170000
DTSTAMP:20260420T122442
CREATED:20211118T215534Z
LAST-MODIFIED:20211118T215534Z
UID:400810-1640700000-1640710800@977wmoi.com
SUMMARY:WCHD Age 5-11 COVID-19 Vaccine Clinic
DESCRIPTION:Held at the Warren County Health Department\, 240 South Main Street in Monmouth. To schedule an appointment\, call 309-734-0823.
URL:https://977wmoi.com/event/wchd-age-5-11-covid-19-vaccine-clinic-2/
END:VEVENT
BEGIN:VEVENT
DTSTART;TZID=America/Chicago:20211229T080000
DTEND;TZID=America/Chicago:20211229T100000
DTSTAMP:20260420T122442
CREATED:20211018T205037Z
LAST-MODIFIED:20211018T205037Z
UID:399197-1640764800-1640772000@977wmoi.com
SUMMARY:Henderson County Health Department Flu Vaccine Clinic
DESCRIPTION:It will be a walk-in clinic from 8-10am every Wednesday morning through December.\n\n\nPlease bring your Medicare or Medicaid card with you.\n\n\nWith out insurance\, it will be $35 for regular Flublock and $55 for the over age 65 Fluzone HD.
URL:https://977wmoi.com/event/henderson-county-health-department-flu-vaccine-clinic-11/
END:VEVENT
BEGIN:VEVENT
DTSTART;TZID=America/Chicago:20211229T130000
DTEND;TZID=America/Chicago:20211229T150000
DTSTAMP:20260420T122442
CREATED:20211201T203640Z
LAST-MODIFIED:20211201T203640Z
UID:401296-1640782800-1640790000@977wmoi.com
SUMMARY:Oquawka Strom Center BINGO
DESCRIPTION:Each person is allowed up to 4 cards free and each additional card is 25 cents. Refreshments will be served during the afternoon.
URL:https://977wmoi.com/event/oquawka-strom-center-bingo-8/
END:VEVENT
BEGIN:VEVENT
DTSTART;TZID=America/Chicago:20211230T083000
DTEND;TZID=America/Chicago:20211230T113000
DTSTAMP:20260420T122442
CREATED:20211228T140525Z
LAST-MODIFIED:20211228T140525Z
UID:402384-1640853000-1640863800@977wmoi.com
SUMMARY:Knox County COVID Vaccination Clinic
DESCRIPTION:At the Vaccine Center 8:30am-11:30am. Clinic offers primary series\, additional doses\, and boosters of Moderna for adults 18 years and up and Pfizer boosters for those 16 years and up. Pfizer primary series is available to those 12 years of age and up.
URL:https://977wmoi.com/event/knox-county-covid-vaccination-clinic-4/
END:VEVENT
BEGIN:VEVENT
DTSTART;VALUE=DATE:20211231
DTEND;VALUE=DATE:20220101
DTSTAMP:20260420T122442
CREATED:20210803T184549Z
LAST-MODIFIED:20210803T184549Z
UID:395777-1640908800-1640995199@977wmoi.com
SUMMARY:Knox County Humane Society Annual Luminary Lighting In Honor Of Lost Pets
DESCRIPTION:Annual Luminary Candlelight Celebration \nOver 600 luminaries glowed outside the animal shelter last year. \n Your Drive by and enjoy the luminaries. \n Luminary gives hope to homeless pets. \n The cost is only $5 per Luminary.  \nThis annual expression of love and respect for pets is growing every year. \n When you buy a luminary in honor or in memory of your beloved pet\, a shelter pet is helped. \n Every cent goes directly to help homeless and abandoned animals find new homes.  \nYou can purchase them right up to the lighting of the Luminaries. \nThe Shelter pets send Licks and Purrs of Thanks! \nTo order luminaries\, return the order form and payment to: \nKnox County Humane Society\, 1855 Windish Drive\, Galesburg\, IL 61401 \nOr Send Via Our PayPal \nPAYPAL LINK \n(Be sure to include what payment is for in the memo section\, as well as animal names you would like to have displayed)
URL:https://977wmoi.com/event/knox-county-humane-society-annual-luminary-lighting-in-honor-of-lost-pets/
END:VEVENT
BEGIN:VEVENT
DTSTART;VALUE=DATE:20220101
DTEND;VALUE=DATE:20220116
DTSTAMP:20260420T122442
CREATED:20211222T213240Z
LAST-MODIFIED:20211222T213240Z
UID:402274-1640995200-1642291199@977wmoi.com
SUMMARY:Become a CASA Volunteer
DESCRIPTION:Court Appointed Special Advocates\, or CASAs\, are volunteers who play an integral role in protecting children who have been abused and neglected in area communities. Training classes will be held via Zoom January 15th through February 26th on Wednesday from 6-8 pm and Saturdays from 9-11 am. Must be at least 21 years old\, pass a background check\, have internet access and transportation\, and have approximately eight hours a month to volunteer. Sign up at http://tinyurl.com/becomeacasa. For more information\, visit http://casaofwestcentralillinois.org or search them on Facebook. Volunteers are needed in Henderson\, Knox\, McDonough\, and Warren Counties.
URL:https://977wmoi.com/event/become-a-casa-volunteer/
END:VEVENT
BEGIN:VEVENT
DTSTART;TZID=America/Chicago:20220101T120000
DTEND;TZID=America/Chicago:20220101T120000
DTSTAMP:20260420T122442
CREATED:20211201T202441Z
LAST-MODIFIED:20211230T152857Z
UID:401280-1641038400-1641038400@977wmoi.com
SUMMARY:Strom Center Potluck **CANCELED**
DESCRIPTION:Join Strom Center for their annual New Year’s Day celebration and the first potluck of 2022. Plates\, silverware\, and cups will be furnished. Please bring a food dish to share. After the meal stay for BINGO and/or cards. No registration is needed.
URL:https://977wmoi.com/event/strom-center-potluck-6/
END:VEVENT
BEGIN:VEVENT
DTSTART;TZID=America/Chicago:20220103T170000
DTEND;TZID=America/Chicago:20220103T183000
DTSTAMP:20260420T122442
CREATED:20210920T202350Z
LAST-MODIFIED:20210920T202350Z
UID:397886-1641229200-1641234600@977wmoi.com
SUMMARY:Monmouth American Legion Soup Supper
DESCRIPTION:All you can eat. Serving chili\, cheesy potato\, sausage gravy and biscuits\, and hot dogs. Each meal comes with a dessert\, drink\, and great friends to enjoy your meal with. A 50/50 raffle will be drawn at 6 pm. Cost is $8 for adults and $3 for children.
URL:https://977wmoi.com/event/monmouth-american-legion-soup-supper-5/
END:VEVENT
BEGIN:VEVENT
DTSTART;TZID=America/Chicago:20220104T133000
DTEND;TZID=America/Chicago:20220104T153000
DTSTAMP:20260420T122442
CREATED:20211228T140606Z
LAST-MODIFIED:20211228T140606Z
UID:402386-1641303000-1641310200@977wmoi.com
SUMMARY:Knox County COVID Vaccination Clinic
DESCRIPTION:At the Vaccine Center 1:30pm-3:30pm. Clinic offers primary series\, additional doses\, and boosters of Moderna for adults 18 years and up and Pfizer boosters for those 16 years and up. Pfizer primary series is available to those 12 years of age and up.
URL:https://977wmoi.com/event/knox-county-covid-vaccination-clinic-5/
END:VEVENT
BEGIN:VEVENT
DTSTART;TZID=America/Chicago:20220106T083000
DTEND;TZID=America/Chicago:20220106T113000
DTSTAMP:20260420T122442
CREATED:20220104T143317Z
LAST-MODIFIED:20220104T143317Z
UID:402633-1641457800-1641468600@977wmoi.com
SUMMARY:Knox County COVID-19 Vaccination Clinic
DESCRIPTION:At the Vaccine Center 8:30am-11:30am. Clinic offers primary series\, additional doses\, and boosters of Moderna for adults 18 years and up and Pfizer boosters for those 16 years and up. Pfizer primary series is available to those 12 years of age and up.
URL:https://977wmoi.com/event/knox-county-covid-19-vaccination-clinic-12/
END:VEVENT
BEGIN:VEVENT
DTSTART;TZID=America/Chicago:20220107T090000
DTEND;TZID=America/Chicago:20220107T120000
DTSTAMP:20260420T122442
CREATED:20211220T201547Z
LAST-MODIFIED:20211220T201547Z
UID:402148-1641546000-1641556800@977wmoi.com
SUMMARY:WCHD COVID-19 12+ Vaccination Clinic
DESCRIPTION:Pfizer\, Moderna\, and Johnson & Johnson will all be available. Boosters are available if you have received Pfizer or Moderna more than 6 months ago. For Johnson & Johnson\, boosters are available if you have received your initial dose at least 2 months ago. Clinic will be held at the Warren County Health Department\, 240 South Main Street in Monmouth. Schedule an appointment by calling\, 309-734-0823.
URL:https://977wmoi.com/event/wchd-covid-19-12-vaccination-clinic/
END:VEVENT
BEGIN:VEVENT
DTSTART;VALUE=DATE:20220110
DTEND;VALUE=DATE:20220125
DTSTAMP:20260420T122442
CREATED:20220110T162650Z
LAST-MODIFIED:20220110T162705Z
UID:402850-1641772800-1643068799@977wmoi.com
SUMMARY:Monmouth American Legion Winter Hours
DESCRIPTION:Closed on Wednesdays. Bar is open Monday through Saturday. Kitchen is open Tuesdays\, Fridays\, and Saturdays. Burger Fry Saturdays from 11 am to 1 pm. Soup suppers on the 1st Monday monthly from 5 to 6:30 pm. The Monmouth American Legion thanks you for your continued patronage and supporting our veterans.
URL:https://977wmoi.com/event/monmouth-american-legion-winter-hours/
END:VEVENT
BEGIN:VEVENT
DTSTART;TZID=America/Chicago:20220111T073000
DTEND;TZID=America/Chicago:20220111T113000
DTSTAMP:20260420T122442
CREATED:20220104T143415Z
LAST-MODIFIED:20220104T143415Z
UID:402635-1641886200-1641900600@977wmoi.com
SUMMARY:Knox County COVID-19 Walk-in Booster Clinic 
DESCRIPTION:At the Unified Command Vaccine Center 7:30am-11:30am. Boosters of Moderna for adults 18 years and up and Pfizer boosters for those 16 years and up.
URL:https://977wmoi.com/event/knox-county-covid-19-walk-in-booster-clinic/
END:VEVENT
BEGIN:VEVENT
DTSTART;TZID=America/Chicago:20220111T133000
DTEND;TZID=America/Chicago:20220111T153000
DTSTAMP:20260420T122442
CREATED:20220104T143456Z
LAST-MODIFIED:20220104T143456Z
UID:402637-1641907800-1641915000@977wmoi.com
SUMMARY:Knox County COVID-19 Vaccination Clinic
DESCRIPTION:At the Vaccine Center 1:30pm-3:30pm. Clinic offers primary series\, additional doses\, and boosters of Moderna for adults 18 years and up and Pfizer boosters for those 16 years and up. Pfizer primary series is available to those 12 years of age and up.
URL:https://977wmoi.com/event/knox-county-covid-19-vaccination-clinic-13/
END:VEVENT
BEGIN:VEVENT
DTSTART;TZID=America/Chicago:20220111T170000
DTEND;TZID=America/Chicago:20220111T190000
DTSTAMP:20260420T122442
CREATED:20220106T152635Z
LAST-MODIFIED:20220106T152635Z
UID:402757-1641920400-1641927600@977wmoi.com
SUMMARY:Monmouth Evening Lions Club Annual Soup Supper
DESCRIPTION:Monmouth American Legion\nVariety of soups available\nTake out available\nFree will donation\nPlease come help us raise funds to assist folks in our community.
URL:https://977wmoi.com/event/monmouth-evening-lions-club-annual-soup-supper/
END:VEVENT
BEGIN:VEVENT
DTSTART;TZID=America/Chicago:20220111T190000
DTEND;TZID=America/Chicago:20220111T190000
DTSTAMP:20260420T122442
CREATED:20211221T144811Z
LAST-MODIFIED:20211221T144811Z
UID:402175-1641927600-1641927600@977wmoi.com
SUMMARY:Knox County Right to Life Meeting
DESCRIPTION:Held at the Immaculate Heart of Mary Church in the parish activity center. Meeting will include education and letter writing.
URL:https://977wmoi.com/event/knox-county-right-to-life-meeting-13/
END:VEVENT
BEGIN:VEVENT
DTSTART;TZID=America/Chicago:20220113T083000
DTEND;TZID=America/Chicago:20220113T103000
DTSTAMP:20260420T122442
CREATED:20220111T142537Z
LAST-MODIFIED:20220111T142537Z
UID:402906-1642062600-1642069800@977wmoi.com
SUMMARY:Knox County COVID-19 Vaccination Clinic
DESCRIPTION:At the Unified Command Vaccine Center 8:30am-10:30am. Boosters of Moderna for adults 18 years and up and Pfizer boosters for those 12 years and up.
URL:https://977wmoi.com/event/knox-county-covid-19-vaccination-clinic-14/
END:VEVENT
BEGIN:VEVENT
DTSTART;TZID=America/Chicago:20220113T130000
DTEND;TZID=America/Chicago:20220113T163000
DTSTAMP:20260420T122442
CREATED:20220111T142630Z
LAST-MODIFIED:20220111T142630Z
UID:402908-1642078800-1642091400@977wmoi.com
SUMMARY:Knox County Walk-In COVID-19 Booster Clinic
DESCRIPTION:Walk-in Booster Clinic at the Vaccine Center 1:00pm-4:30pm. Clinic offers primary series\, additional doses\, and boosters of Moderna for adults 18 years and up and Pfizer boosters for those 16 years and up. Pfizer primary series is available to those 12 years of age and up.
URL:https://977wmoi.com/event/knox-county-walk-in-covid-19-booster-clinic/
END:VEVENT
BEGIN:VEVENT
DTSTART;VALUE=DATE:20220114
DTEND;VALUE=DATE:20220207
DTSTAMP:20260420T122442
CREATED:20220114T135849Z
LAST-MODIFIED:20220114T135849Z
UID:403084-1642118400-1644191999@977wmoi.com
SUMMARY:Senior Transportation Available in Henderson County
DESCRIPTION:The Henderson County Health Department in Gladstone would like to remind everyone that we have Senior Transportation.\n\n\nIf you or a loved one\, friend or neighbor needs Transportation to Doctors appointments\, Shopping\, or getting groceries please call Babbie at 309-627-2812 Ext. 228.\n\n\nWe have a suggested donation for trips to Galesburg\, Burlington\, Monmouth\, in town\, Iowa City\, Peoria\, and Quad Cities. You will not be denied services if you are unable to donate. Partial funding by WIAAA.
URL:https://977wmoi.com/event/senior-transportation-available-in-henderson-county/
END:VEVENT
BEGIN:VEVENT
DTSTART;TZID=America/Chicago:20220114T090000
DTEND;TZID=America/Chicago:20220114T120000
DTSTAMP:20260420T122442
CREATED:20211220T201642Z
LAST-MODIFIED:20211220T201642Z
UID:402150-1642150800-1642161600@977wmoi.com
SUMMARY:WCHD COVID-19 12+ Vaccination Clinic
DESCRIPTION:Pfizer\, Moderna\, and Johnson & Johnson will all be available. Boosters are available if you have received Pfizer or Moderna more than 6 months ago. For Johnson & Johnson\, boosters are available if you have received your initial dose at least 2 months ago. Clinic will be held at the Warren County Health Department\, 240 South Main Street in Monmouth. Schedule an appointment by calling\, 309-734-0823.
URL:https://977wmoi.com/event/wchd-covid-19-12-vaccination-clinic-2/
END:VEVENT
END:VCALENDAR