BEGIN:VCALENDAR
VERSION:2.0
PRODID:-//Prairie Communications, LLC - ECPv6.15.20//NONSGML v1.0//EN
CALSCALE:GREGORIAN
METHOD:PUBLISH
X-ORIGINAL-URL:https://977wmoi.com
X-WR-CALDESC:Events for Prairie Communications, LLC
REFRESH-INTERVAL;VALUE=DURATION:PT1H
X-Robots-Tag:noindex
X-PUBLISHED-TTL:PT1H
BEGIN:VTIMEZONE
TZID:America/Chicago
BEGIN:DAYLIGHT
TZOFFSETFROM:-0600
TZOFFSETTO:-0500
TZNAME:CDT
DTSTART:20210314T080000
END:DAYLIGHT
BEGIN:STANDARD
TZOFFSETFROM:-0500
TZOFFSETTO:-0600
TZNAME:CST
DTSTART:20211107T070000
END:STANDARD
BEGIN:DAYLIGHT
TZOFFSETFROM:-0600
TZOFFSETTO:-0500
TZNAME:CDT
DTSTART:20220313T080000
END:DAYLIGHT
BEGIN:STANDARD
TZOFFSETFROM:-0500
TZOFFSETTO:-0600
TZNAME:CST
DTSTART:20221106T070000
END:STANDARD
BEGIN:DAYLIGHT
TZOFFSETFROM:-0600
TZOFFSETTO:-0500
TZNAME:CDT
DTSTART:20230312T080000
END:DAYLIGHT
BEGIN:STANDARD
TZOFFSETFROM:-0500
TZOFFSETTO:-0600
TZNAME:CST
DTSTART:20231105T070000
END:STANDARD
END:VTIMEZONE
BEGIN:VEVENT
DTSTART;VALUE=DATE:20220501
DTEND;VALUE=DATE:20220523
DTSTAMP:20260422T234216
CREATED:20220426T163934Z
LAST-MODIFIED:20220426T163934Z
UID:407933-1651363200-1653263999@977wmoi.com
SUMMARY:Call to Artists: Art from the Heartland at the BCA
DESCRIPTION:The Buchanan Center for the Arts is calling all local and regional artists to submit their artwork by Saturday\, June 25th for the Art from the Heartland exhibition\, which will be in the gallery July 5th through August 26th. More details can be found at http://bcaarts.org.
URL:https://977wmoi.com/event/call-to-artists-art-from-the-heartland-at-the-bca/
END:VEVENT
BEGIN:VEVENT
DTSTART;TZID=America/Chicago:20220502T153000
DTEND;TZID=America/Chicago:20220502T173000
DTSTAMP:20260422T234216
CREATED:20220331T130159Z
LAST-MODIFIED:20220331T130159Z
UID:406605-1651505400-1651512600@977wmoi.com
SUMMARY:2022 MRHS Spring Fundamentals Clinic
DESCRIPTION:It’s time for the Spring Fundamentals Clinic! This clinic is for athletes grades 5 through 10. Focusing on motions\, jumps\, and (everyone’s favorite) stunts! Participants will learn material to perform together for family & friends at the close of the clinic. Register below BEFORE APRIL 18TH!\n\n\nGreat opportunity for girls interested in tryouts at the end of May!\n\n\nMay 2 & 3 — 3:30-5:30pm @ MRHS\n$40 – includes shirt\nCurrent Grades 5-10 (any school + home school welcome!)\nMore details can be found on the registration form. Message us here or Coach Benson directly with any questions!\n\n\nYou can find the form “2022 MRHS Cheer Fundamentals Clinic (Grades 5-10)” at: https://form.jotform.com/jbenson24/2022springclinic
URL:https://977wmoi.com/event/2022-mrhs-spring-fundamentals-clinic/
END:VEVENT
BEGIN:VEVENT
DTSTART;TZID=America/Chicago:20220502T170000
DTEND;TZID=America/Chicago:20220502T183000
DTSTAMP:20260422T234216
CREATED:20210920T203122Z
LAST-MODIFIED:20210920T203122Z
UID:397894-1651510800-1651516200@977wmoi.com
SUMMARY:Monmouth American Legion Soup Supper
DESCRIPTION:All you can eat. Serving chili\, creamy potato soup\, beef and noodles\, and grilled cheese sandwiches. Each meal comes with a dessert\, drink\, and great friends to enjoy your meal with. A 50/50 raffle will be drawn at 6 pm. Cost is $8 for adults and $3 for children.
URL:https://977wmoi.com/event/monmouth-american-legion-soup-supper-9/
END:VEVENT
BEGIN:VEVENT
DTSTART;TZID=America/Chicago:20220503T153000
DTEND;TZID=America/Chicago:20220503T173000
DTSTAMP:20260422T234216
CREATED:20220331T131225Z
LAST-MODIFIED:20220331T131225Z
UID:406607-1651591800-1651599000@977wmoi.com
SUMMARY:2022 MRHS Spring Fundamentals Clinic
DESCRIPTION:It’s time for the Spring Fundamentals Clinic! This clinic is for athletes grades 5 through 10. Focusing on motions\, jumps\, and (everyone’s favorite) stunts! Participants will learn material to perform together for family & friends at the close of the clinic. Register below BEFORE APRIL 18TH!\n\n\nGreat opportunity for girls interested in tryouts at the end of May!\n\n\nMay 2 & 3 — 3:30-5:30pm @ MRHS\n$40 – includes shirt\nCurrent Grades 5-10 (any school + home school welcome!)\nMore details can be found on the registration form. Message us here or Coach Benson directly with any questions!\n\n\nYou can find the form “2022 MRHS Cheer Fundamentals Clinic (Grades 5-10)” at: https://form.jotform.com/jbenson24/2022springclinic
URL:https://977wmoi.com/event/2022-mrhs-spring-fundamentals-clinic-2/
END:VEVENT
BEGIN:VEVENT
DTSTART;TZID=America/Chicago:20220504T120000
DTEND;TZID=America/Chicago:20220504T163000
DTSTAMP:20260422T234216
CREATED:20220426T180832Z
LAST-MODIFIED:20220426T180832Z
UID:407938-1651665600-1651681800@977wmoi.com
SUMMARY:Sports Physicals at Monmouth-Roseville High School
DESCRIPTION:Eagle View Community Health System will be offering Sports Physicals at Monmouth-Roseville High School on Wednesday\, May 4th from Noon – 4:30 pm\n\n\nCost: $10 – if you will have a student next year involved in any sport activity\, they must have a physical. These sports physicals are good for 1 year. These sport physicals do NOT replace the annual exam required for: NEW\, Prek\, K\, 6th or 9th grade students. Details at https://www.mr238.org/for_parents/health_requirements\n\n\nPlease e-mail Jeremy Adolphson (jadolphson@mr238.org) to reserve a time for your student to receive a physical.\n\n\nMust bring the form linked below with the front filled out with parent & student signatures on the front & back. **Students can pick up a copy from Coach Adolphson as well.\n\n\nIHSA Physical Form is available here – > http://p18cdn4static.sharpschool.com/…/Pre…\n\n\nRegistration will be outside the AP Room.
URL:https://977wmoi.com/event/sports-physicals-at-monmouth-roseville-high-school/
END:VEVENT
BEGIN:VEVENT
DTSTART;TZID=America/Chicago:20220504T123000
DTEND;TZID=America/Chicago:20220504T123000
DTSTAMP:20260422T234216
CREATED:20220427T190027Z
LAST-MODIFIED:20220427T190027Z
UID:408013-1651667400-1651667400@977wmoi.com
SUMMARY:Strom Center Ladies Day Tea in Oquawka
DESCRIPTION:Event will be held at the Oquawka Township Hall. Ladies 60 and older and invited to attend Strom Center’s Ladies Day Tea. All ladies in attendance will receive a gift and there will be a special prize for the lady who brings the most unusual purse. A light lunch will be served. To ensure you receive a gift\, call for reservation by May 2nd at 309-734-5677.
URL:https://977wmoi.com/event/strom-center-ladies-day-tea-in-oquawka/
END:VEVENT
BEGIN:VEVENT
DTSTART;VALUE=DATE:20220505
DTEND;VALUE=DATE:20220523
DTSTAMP:20260422T234216
CREATED:20220504T131254Z
LAST-MODIFIED:20220504T131254Z
UID:408345-1651708800-1653263999@977wmoi.com
SUMMARY:Apply Now for WIRC-CAA Scholastic Scholarships
DESCRIPTION:
URL:https://977wmoi.com/event/apply-now-for-wirc-caa-scholastic-scholarships/
END:VEVENT
BEGIN:VEVENT
DTSTART;TZID=America/Chicago:20220505T100000
DTEND;TZID=America/Chicago:20220505T130000
DTSTAMP:20260422T234216
CREATED:20220412T200925Z
LAST-MODIFIED:20220412T200925Z
UID:407367-1651744800-1651755600@977wmoi.com
SUMMARY:Southeast Iowa Job Fair
DESCRIPTION:An opportunity for job seekers to connect with prospective employers and local resources inside the Westland Mall in West Burlington\, IA. Find out about job opportunities\, ask questions\, and network with employers. No registration is needed\, just simply stop by.
URL:https://977wmoi.com/event/southeast-iowa-job-fair/
END:VEVENT
BEGIN:VEVENT
DTSTART;TZID=America/Chicago:20220505T190000
DTEND;TZID=America/Chicago:20220505T190000
DTSTAMP:20260422T234216
CREATED:20220503T141617Z
LAST-MODIFIED:20220503T141617Z
UID:408279-1651777200-1651777200@977wmoi.com
SUMMARY:West Central Middle School and High School Spring Concert
DESCRIPTION:Held inside the West Central High School Gymnasium.
URL:https://977wmoi.com/event/west-central-middle-school-and-high-school-spring-concert/
END:VEVENT
BEGIN:VEVENT
DTSTART;VALUE=DATE:20220506
DTEND;VALUE=DATE:20220507
DTSTAMP:20260422T234216
CREATED:20220126T143110Z
LAST-MODIFIED:20220126T143110Z
UID:403619-1651795200-1651881599@977wmoi.com
SUMMARY:Warren County History Museum: Black Hawk Rock with Historian Russ Fry
DESCRIPTION:
URL:https://977wmoi.com/event/warren-county-history-museum-black-hawk-rock-with-historian-russ-fry/
END:VEVENT
BEGIN:VEVENT
DTSTART;VALUE=DATE:20220506
DTEND;VALUE=DATE:20220508
DTSTAMP:20260422T234216
CREATED:20220427T185515Z
LAST-MODIFIED:20220427T185515Z
UID:408005-1651795200-1651967999@977wmoi.com
SUMMARY:Stronghurst City-Wide Yard Sales
DESCRIPTION:
URL:https://977wmoi.com/event/stronghurst-city-wide-yard-sales/
END:VEVENT
BEGIN:VEVENT
DTSTART;VALUE=DATE:20220506
DTEND;VALUE=DATE:20220507
DTSTAMP:20260422T234216
CREATED:20220502T131415Z
LAST-MODIFIED:20220502T131415Z
UID:408175-1651795200-1651881599@977wmoi.com
SUMMARY:M-R PTC Spring Carnival
DESCRIPTION:The M-R PTC is looking for a few local community members\, businesses or churches to donate boxes of Little Debbie cakes for the M-R PTC Spring Carnival on Friday\, May 6. These treats will serve as prizes in our cake walk! This event is FREE to all students\, and will include a meal\, bounce houses\, touch-a-truck\, and face painting! In the past we’ve asked for donations from students\, but I thought I would give the opportunity for our community to help! Donations can be dropped off at Lincoln School or contact me and I’ll pick up! Thank you!!
URL:https://977wmoi.com/event/m-r-ptc-spring-carnival/
END:VEVENT
BEGIN:VEVENT
DTSTART;TZID=America/Chicago:20220506T093000
DTEND;TZID=America/Chicago:20220506T093000
DTSTAMP:20260422T234216
CREATED:20220427T185005Z
LAST-MODIFIED:20220427T185005Z
UID:407995-1651829400-1651829400@977wmoi.com
SUMMARY:Strom Center Ladies Day Tea
DESCRIPTION:Event will be held at Strom Center in Monmouth. Ladies 60 and older are invited to be Strom Center’s guest at their annual Ladies Tea Day. All ladies in attendance will receive a gift. There will be a special prize for the lady who brings the most unusual purse. A light brunch will be served. Please make reservations by May 2nd in order to ensure you receive a gift by calling 309-734-5677.
URL:https://977wmoi.com/event/strom-center-ladies-day-tea/
END:VEVENT
BEGIN:VEVENT
DTSTART;TZID=America/Chicago:20220506T170000
DTEND;TZID=America/Chicago:20220506T190000
DTSTAMP:20260422T234216
CREATED:20220426T163355Z
LAST-MODIFIED:20220426T163355Z
UID:407927-1651856400-1651863600@977wmoi.com
SUMMARY:McDonough County 4-H BBQ
DESCRIPTION:Drive-thru the McDonough County Fairgrounds\, located at 3028 W. Jackson St. in Macomb and pick up dinner to help fund 4-H programs and scholarships for local youth. \nThe McDonough County 4-H BBQ serves a delicious pork chop sandwich\, baked beans\, applesauce\, a homemade cookie\, and a drink for the advanced ticket purchase of $6. Tickets can be purchased from your friendly neighborhood 4-H member or at the McDonough County Extension Office. If you don’t have time to buy tickets early\, purchase your tickets at the door for $7.
URL:https://977wmoi.com/event/mcdonough-county-4-h-bbq/
END:VEVENT
BEGIN:VEVENT
DTSTART;TZID=America/Chicago:20220506T170000
DTEND;TZID=America/Chicago:20220506T190000
DTSTAMP:20260422T234216
CREATED:20220426T163635Z
LAST-MODIFIED:20220426T163635Z
UID:407929-1651856400-1651863600@977wmoi.com
SUMMARY:Light Filtered & Making Faces at the World at the BCA
DESCRIPTION:Join the BCA in Monmouth for libations and bites at the gallery reception. Meet artists Doug Rutzen\, a pastoral painter\, and sculpture Richards Wehrs. Refreshments will be served. This event is free and open to the public.
URL:https://977wmoi.com/event/light-filtered-making-faces-at-the-world-at-the-bca/
END:VEVENT
BEGIN:VEVENT
DTSTART;TZID=America/Chicago:20220506T170000
DTEND;TZID=America/Chicago:20220506T190000
DTSTAMP:20260422T234216
CREATED:20220502T160210Z
LAST-MODIFIED:20220502T160210Z
UID:408224-1651856400-1651863600@977wmoi.com
SUMMARY:Monmouth VFW Ribeye Dinner
DESCRIPTION:Ribeye sandwich dinner includes 2 sides at the Monmouth VFW. Public is welcome.
URL:https://977wmoi.com/event/monmouth-vfw-ribeye-dinner/
END:VEVENT
BEGIN:VEVENT
DTSTART;TZID=America/Chicago:20220506T180000
DTEND;TZID=America/Chicago:20220506T210000
DTSTAMP:20260422T234216
CREATED:20220406T204855Z
LAST-MODIFIED:20220506T164627Z
UID:407120-1651860000-1651870800@977wmoi.com
SUMMARY:Park N’ Cruise in Macomb for May 6th CANCELED DUE TO WEATHER
DESCRIPTION:Downtown Development has the pleasure to announce Park N’ Cruise is back for its 19th season of classic cars\, good music\, food\, raffle\, and big fun in Historic Chandler Park\, Downtown Macomb. Park N’ Cruise is from 6:00PM-9:00PM. The Knights of Columbus\, Chubby’s\, Chicks on the Square\, Gelsosomo’s Pizzeria\, Magnolia’s\, Sports Corner @124\, Mili’s King Gyro\, and Cathy’s Café will be gearing up for the evening’s activities. Every month through September\, Park N’ Cruise will bring you something new and different.  On June 3rd enjoy The King Graffiti Band for your listening pleasure. July 1st Eternity Road will roll into the Downtown. Saturday\, August 6th The Leftovers will be bringing their great music. The final event The On Stage Band will be bringing it to the end on Friday\, September 9th from 6:00PM-9:00PM in Chandler Park. So\, bring the entire crew to the Downtown for an event the whole family can enjoy. Remember it is FREE! For more information\, contact the Office of Downtown Development at (309) 575-3015 or check it out on Facebook/Downtown Macomb.
URL:https://977wmoi.com/event/park-n-cruise-in-macomb/
END:VEVENT
BEGIN:VEVENT
DTSTART;TZID=America/Chicago:20220506T190000
DTEND;TZID=America/Chicago:20220506T190000
DTSTAMP:20260422T234216
CREATED:20220427T202358Z
LAST-MODIFIED:20220427T202358Z
UID:408018-1651863600-1651863600@977wmoi.com
SUMMARY:Black Hawk Rock Lecture
DESCRIPTION:As part of an evening lecture series at the Warren County History Museum\, Historian Russ Fry will speak on the historic bluffs overlooking the Mississippi.
URL:https://977wmoi.com/event/black-hawk-rock-lecture/
END:VEVENT
BEGIN:VEVENT
DTSTART;VALUE=DATE:20220507
DTEND;VALUE=DATE:20220508
DTSTAMP:20260422T234216
CREATED:20220428T130824Z
LAST-MODIFIED:20220428T130824Z
UID:408030-1651881600-1651967999@977wmoi.com
SUMMARY:Berwick Day
DESCRIPTION:
URL:https://977wmoi.com/event/berwick-day/
END:VEVENT
BEGIN:VEVENT
DTSTART;TZID=America/Chicago:20220507T100000
DTEND;TZID=America/Chicago:20220507T140000
DTSTAMP:20260422T234216
CREATED:20220301T195527Z
LAST-MODIFIED:20220301T195527Z
UID:405244-1651917600-1651932000@977wmoi.com
SUMMARY:BCA Tromp-As-Writ: Mug Rug Class
DESCRIPTION:Tromp-As-Writ Weaving Guild will host four classes on weaving in the BCA Classroom. Participants learn the art of weaving basics while they create a mug rug. Beginners are encouraged to enroll! \nClasses are 10am-2pm Saturdays: May 7\, and May 14. Class size is limited to 10 participants. Class fee for BCA members is $15 (for all four classes); Non-members $20 (for all four classes). Scholarships are available through the BCA. (You are welcome to bring a snack lunch.) Call the BCA at 309-734-3033 to reserve your spot.
URL:https://977wmoi.com/event/bca-tromp-as-writ-mug-rug-class-3/
END:VEVENT
BEGIN:VEVENT
DTSTART;TZID=America/Chicago:20220507T110000
DTEND;TZID=America/Chicago:20220507T110000
DTSTAMP:20260422T234216
CREATED:20220420T134221Z
LAST-MODIFIED:20220420T134407Z
UID:407679-1651921200-1651921200@977wmoi.com
SUMMARY:Putt N' Crawl
DESCRIPTION:Big Brothers Big Sister of Knox County is excited to be able to host one of their annual fundraisers again this year: Putt N’ Crawl! This is a bar crawl where each participating bar will have a miniature golf hole set up for participants to play. Putt N’ Crawl will be Saturday\, May 7. Check in is at Reserve Artisan Ales and starts at 11am and the miniature golf course will open at noon. Scores will be kept\, and the top two teams get a prize. This year there will also be a prize for best dressed because the Kentucky Derby is on May 7th\, so get creative with your attire (wear a big hat\, khakis\, suit jacket\, skirt\, dress pants\, etc. along with your Putt N’ Crawl shirt) and the best dressed team will win a prize!\n\nThe cost to participate is $25 per person or $100 for a team of 4.
URL:https://977wmoi.com/event/putt-n-crawl/
END:VEVENT
BEGIN:VEVENT
DTSTART;TZID=America/Chicago:20220507T110000
DTEND;TZID=America/Chicago:20220507T140000
DTSTAMP:20260422T234216
CREATED:20220412T165708Z
LAST-MODIFIED:20220412T165708Z
UID:407340-1651921200-1651932000@977wmoi.com
SUMMARY:United Way of Greater Warren County Open House & 50th Block Party
DESCRIPTION:All are invited to be a part of the change. Together\, United\, we all can inspire hope and create opportunities for a better tomorrow. Give. Advocate. Volunteer. RESERVE A SPOT to be eligible for $150 grocery card from Fareway – must be present to win! Join for food\, sweet treats\, games\, and more! Ribbon cutting ceremony at noon! Located at their new location of 87 Public Square in Monmouth.
URL:https://977wmoi.com/event/united-way-of-greater-warren-county-open-house-50th-block-party/
END:VEVENT
BEGIN:VEVENT
DTSTART;TZID=America/Chicago:20220507T160000
DTEND;TZID=America/Chicago:20220507T220000
DTSTAMP:20260422T234216
CREATED:20220330T172326Z
LAST-MODIFIED:20220330T172326Z
UID:406529-1651939200-1651960800@977wmoi.com
SUMMARY:Western Illinois Animal Rescue Furry Friends Fundraiser
DESCRIPTION:Raffles\, 50/50\, silent auction\, merchandise\, food\, and live music at the Monmouth American Legion. $5 door fee.
URL:https://977wmoi.com/event/western-illinois-animal-rescue-furry-friends-fundraiser/
END:VEVENT
BEGIN:VEVENT
DTSTART;TZID=America/Chicago:20220508T073000
DTEND;TZID=America/Chicago:20220508T103000
DTSTAMP:20260422T234216
CREATED:20220428T185346Z
LAST-MODIFIED:20220428T185346Z
UID:408087-1651995000-1652005800@977wmoi.com
SUMMARY:Monmouth VFW Mother's Day Breakfast Buffet
DESCRIPTION:Open to the public. Tickets for adults are $9 and children under the age of 6 are $4. Sponsored by the Monmouth VFW Post 2301 and Auxiliary.
URL:https://977wmoi.com/event/monmouth-vfw-mothers-day-breakfast-buffet/
END:VEVENT
BEGIN:VEVENT
DTSTART;TZID=America/Chicago:20220509T170000
DTEND;TZID=America/Chicago:20220509T200000
DTSTAMP:20260422T234216
CREATED:20220412T182758Z
LAST-MODIFIED:20220412T182758Z
UID:407345-1652115600-1652126400@977wmoi.com
SUMMARY:Stronghurst Farmers Market
DESCRIPTION:Held Monday nights in downtown Stronghurst on Broadway Street. Sponsored by the Stronghurst Booster Club.
URL:https://977wmoi.com/event/stronghurst-farmers-market/
END:VEVENT
BEGIN:VEVENT
DTSTART;TZID=America/Chicago:20220509T170000
DTEND;TZID=America/Chicago:20220509T200000
DTSTAMP:20260422T234216
CREATED:20220427T185401Z
LAST-MODIFIED:20220427T185401Z
UID:408001-1652115600-1652126400@977wmoi.com
SUMMARY:Stronghurst Farmers Market
DESCRIPTION:In Downtown Stronghurst on Broadway Street.
URL:https://977wmoi.com/event/stronghurst-farmers-market-11/
END:VEVENT
BEGIN:VEVENT
DTSTART;TZID=America/Chicago:20220510T130000
DTEND;TZID=America/Chicago:20220510T130000
DTSTAMP:20260422T234216
CREATED:20220427T184643Z
LAST-MODIFIED:20220427T184643Z
UID:407991-1652187600-1652187600@977wmoi.com
SUMMARY:BINGO at Strom Center
DESCRIPTION:Cards are 25 cents each. Refreshments and drinks will be available.
URL:https://977wmoi.com/event/bingo-at-strom-center-3/
END:VEVENT
BEGIN:VEVENT
DTSTART;TZID=America/Chicago:20220510T190000
DTEND;TZID=America/Chicago:20220510T190000
DTSTAMP:20260422T234216
CREATED:20211007T164325Z
LAST-MODIFIED:20211007T164325Z
UID:398740-1652209200-1652209200@977wmoi.com
SUMMARY:Maple Leaf Community Concert Series: Brandon and James
DESCRIPTION:The concert is located at Monmouth College’s historical Dahl Chapel\, 700 E. Broadway\, Monmouth\, Illinois\, which provides the audience with warm surroundings and amazing acoustics\, which creates a remarkable\, memorable concert experience! About Brandon and James: Described as a “powerhouse cello and vocal duo” (The Fight Magazine\, Los Angeles)\, Branden & James bring the soulful timbre of the cello combined with emotional and powerful vocals\, creating a sound that leaves audiences feeling moved and inspired. “…the always supportive\, sometimes haunting power of the cello accompanying Branden’s voice solidifies the classical sound\, adds new depth to the popular\, and allows the audience to just sit back and take it in…so movingly\, that you may forget to breathe!” says Paul Lisnek – Host of Broadway in Chicago Backstage.
URL:https://977wmoi.com/event/maple-leaf-community-concert-series-brandon-and-james/
END:VEVENT
BEGIN:VEVENT
DTSTART;TZID=America/Chicago:20220510T190000
DTEND;TZID=America/Chicago:20220510T190000
DTSTAMP:20260422T234216
CREATED:20220418T164141Z
LAST-MODIFIED:20220418T164141Z
UID:407576-1652209200-1652209200@977wmoi.com
SUMMARY:Knox County Right to Life Meeting
DESCRIPTION:The meeting will be held at the Bethel Baptist Church\, 1196 North Academy Street in Galesburg.
URL:https://977wmoi.com/event/knox-county-right-to-life-meeting-17/
END:VEVENT
BEGIN:VEVENT
DTSTART;TZID=America/Chicago:20220511T100000
DTEND;TZID=America/Chicago:20220511T100000
DTSTAMP:20260422T234216
CREATED:20220426T163719Z
LAST-MODIFIED:20220426T163719Z
UID:407931-1652263200-1652263200@977wmoi.com
SUMMARY:Old Friends Talk Art at the BCA
DESCRIPTION:Meet artists Doug Rutzen\, a pastoral painter\, and sculpture Richards Wehrs. Refreshments will be served. This event is free and open to the public.
URL:https://977wmoi.com/event/old-friends-talk-art-at-the-bca-3/
END:VEVENT
END:VCALENDAR