BEGIN:VCALENDAR
VERSION:2.0
PRODID:-//Prairie Communications, LLC - ECPv6.15.20//NONSGML v1.0//EN
CALSCALE:GREGORIAN
METHOD:PUBLISH
X-ORIGINAL-URL:https://977wmoi.com
X-WR-CALDESC:Events for Prairie Communications, LLC
REFRESH-INTERVAL;VALUE=DURATION:PT1H
X-Robots-Tag:noindex
X-PUBLISHED-TTL:PT1H
BEGIN:VTIMEZONE
TZID:America/Chicago
BEGIN:DAYLIGHT
TZOFFSETFROM:-0600
TZOFFSETTO:-0500
TZNAME:CDT
DTSTART:20210314T080000
END:DAYLIGHT
BEGIN:STANDARD
TZOFFSETFROM:-0500
TZOFFSETTO:-0600
TZNAME:CST
DTSTART:20211107T070000
END:STANDARD
BEGIN:DAYLIGHT
TZOFFSETFROM:-0600
TZOFFSETTO:-0500
TZNAME:CDT
DTSTART:20220313T080000
END:DAYLIGHT
BEGIN:STANDARD
TZOFFSETFROM:-0500
TZOFFSETTO:-0600
TZNAME:CST
DTSTART:20221106T070000
END:STANDARD
BEGIN:DAYLIGHT
TZOFFSETFROM:-0600
TZOFFSETTO:-0500
TZNAME:CDT
DTSTART:20230312T080000
END:DAYLIGHT
BEGIN:STANDARD
TZOFFSETFROM:-0500
TZOFFSETTO:-0600
TZNAME:CST
DTSTART:20231105T070000
END:STANDARD
END:VTIMEZONE
BEGIN:VEVENT
DTSTART;TZID=America/Chicago:20220628T160000
DTEND;TZID=America/Chicago:20220628T183000
DTSTAMP:20260420T015012
CREATED:20220607T180816Z
LAST-MODIFIED:20220607T180816Z
UID:409799-1656432000-1656441000@977wmoi.com
SUMMARY:Alexis Farmer's Market
DESCRIPTION:Held every Tuesday in the Alexis Park. Stop\, shop\, browse\, and chat. Eight vendors\, including Lee’s Bakery will be set up from 4 to 6:30 pm. New vendors are always welcome. Call 309-635-4666 to get involved.
URL:https://977wmoi.com/event/alexis-farmers-market-29/
END:VEVENT
BEGIN:VEVENT
DTSTART;VALUE=DATE:20220630
DTEND;VALUE=DATE:20220701
DTSTAMP:20260420T015012
CREATED:20220505T180737Z
LAST-MODIFIED:20220505T180737Z
UID:408456-1656547200-1656633599@977wmoi.com
SUMMARY:The Orpheum Theatre’s Throwback Thursday FREE Summer Movie Series
DESCRIPTION:A highly anticipated Galesburg tradition\, The Orpheum Theatre’s Throwback Thursdays FREE summer movie series will enter its twelfth year of screening films at least 20 years old\, and this year it’s back with the theme of ANIMATED CLASSICS! Thanks to sponsorship from F&M Bank\, The Throwback Thursdays 2022 Summer Movie Series boasts ten features this summer: \n  \n6/30                            Lady and the Tramp (1955) \n7/7                               Spirited Away (2002) \n7/14                            The Road to El Dorado (2000) \n7/21                            Anastasia (1997) \n7/28                            Robin Hood (1973) \n8/4                               Batman: The Mask of the Phantasm (1993) \n8/11                            101 Dalmatians (1961) [SPONSOR PICK] \n8/18                            A Bug’s Life (1998) \n                                                              \nA Goofy Movie will kick off the series on Thursday\, June 16 with a 7pm screening; the rest of the films on the series will screen at both 2pm and 7pm on their respective Thursdays. Tickets are not required for these events; more information on the summer movies can be found on The Orpheum Theatre’s social media accounts\, as well as their website www.galesburgorpheum.org. The Orpheum Theatre is located at 57 South Kellogg Street in Downtown Galesburg\, with office hours Tuesday through Friday\, 10am-2pm.
URL:https://977wmoi.com/event/the-orpheum-theatres-throwback-thursday-free-summer-movie-series-3/
END:VEVENT
BEGIN:VEVENT
DTSTART;TZID=America/Chicago:20220701T170000
DTEND;TZID=America/Chicago:20220701T190000
DTSTAMP:20260420T015012
CREATED:20220510T210311Z
LAST-MODIFIED:20220511T134331Z
UID:408637-1656694800-1656702000@977wmoi.com
SUMMARY:Monmouth Farmer's Market
DESCRIPTION:Monmouth Area Chamber of Commerce’s Farmer’s Market will be held Fridays in the Fortress Bank Parking Lot\, 300 Block of North Main in Monmouth.
URL:https://977wmoi.com/event/monmouth-farmers-market-7/
END:VEVENT
BEGIN:VEVENT
DTSTART;TZID=America/Chicago:20220702T140000
DTEND;TZID=America/Chicago:20220702T180000
DTSTAMP:20260420T015012
CREATED:20220524T202127Z
LAST-MODIFIED:20220524T202127Z
UID:409274-1656770400-1656784800@977wmoi.com
SUMMARY:Lipanda Day
DESCRIPTION:A celebration of Congolese independence. This event will be held at the Park Plaza on Main Street in Galesburg.
URL:https://977wmoi.com/event/lipanda-day/
END:VEVENT
BEGIN:VEVENT
DTSTART;TZID=America/Chicago:20220702T170000
DTEND;TZID=America/Chicago:20220702T170000
DTSTAMP:20260420T015012
CREATED:20220504T200814Z
LAST-MODIFIED:20220504T200814Z
UID:408397-1656781200-1656781200@977wmoi.com
SUMMARY:West Central FFA Alumni 11th Annual Truck & Tractor Pull
DESCRIPTION:A fundraising event for the West Central FFA Chapter held at 8th & Knox Street in Oquawka.
URL:https://977wmoi.com/event/west-central-ffa-alumni-11th-annual-truck-tractor-pull/
END:VEVENT
BEGIN:VEVENT
DTSTART;TZID=America/Chicago:20220702T170000
DTEND;TZID=America/Chicago:20220702T170000
DTSTAMP:20260420T015012
CREATED:20220629T170139Z
LAST-MODIFIED:20220629T170139Z
UID:410803-1656781200-1656781200@977wmoi.com
SUMMARY:11th Annual West Central FFA Alumni Truck and Tractor Pull
DESCRIPTION:Held in Oquawka\, 8th and Knox Street beginning at 5 pm. Admission is free. Concessions open at 4 pm. Classis Mod\, Farm Stock\, Factory Turbo Diesel Pickup\, World Stock Diesel Pickup\, Pro Farm\, and more classes will hit the dirt track.
URL:https://977wmoi.com/event/11th-annual-west-central-ffa-alumni-truck-and-tractor-pull/
END:VEVENT
BEGIN:VEVENT
DTSTART;TZID=America/Chicago:20220704T070000
DTEND;TZID=America/Chicago:20220704T100000
DTSTAMP:20260420T015012
CREATED:20220504T132428Z
LAST-MODIFIED:20220504T132428Z
UID:408355-1656918000-1656928800@977wmoi.com
SUMMARY:Monmouth Flying Club Fly In Breakfast
DESCRIPTION:Breakfast will be a free will donation this year. We will be serving pancakes\, sausage\, milk\, orange juice\, coffee or water.
URL:https://977wmoi.com/event/monmouth-flying-club-fly-in-breakfast/
END:VEVENT
BEGIN:VEVENT
DTSTART;TZID=America/Chicago:20220704T110000
DTEND;TZID=America/Chicago:20220704T130000
DTSTAMP:20260420T015012
CREATED:20220629T132617Z
LAST-MODIFIED:20220629T132617Z
UID:410769-1656932400-1656939600@977wmoi.com
SUMMARY:Henderson County Historical Society 45th Annual BBQ
DESCRIPTION:Held at St. Patrick’s Community Center outside of Raritan. On the menu: grilled chicken and pork chops\, baked beans\, applesauce\, homemade desserts\, and beverages. Dine-in or carry-out. Free will donation.
URL:https://977wmoi.com/event/henderson-county-historical-society-45th-annual-bbq/
END:VEVENT
BEGIN:VEVENT
DTSTART;TZID=America/Chicago:20220705T160000
DTEND;TZID=America/Chicago:20220705T183000
DTSTAMP:20260420T015012
CREATED:20220607T180851Z
LAST-MODIFIED:20220607T180851Z
UID:409801-1657036800-1657045800@977wmoi.com
SUMMARY:Alexis Farmer's Market
DESCRIPTION:Held every Tuesday in the Alexis Park. Stop\, shop\, browse\, and chat. Eight vendors\, including Lee’s Bakery will be set up from 4 to 6:30 pm. New vendors are always welcome. Call 309-635-4666 to get involved.
URL:https://977wmoi.com/event/alexis-farmers-market-30/
END:VEVENT
BEGIN:VEVENT
DTSTART;VALUE=DATE:20220707
DTEND;VALUE=DATE:20220708
DTSTAMP:20260420T015012
CREATED:20220505T180813Z
LAST-MODIFIED:20220505T180813Z
UID:408458-1657152000-1657238399@977wmoi.com
SUMMARY:The Orpheum Theatre’s Throwback Thursday FREE Summer Movie Series
DESCRIPTION:A highly anticipated Galesburg tradition\, The Orpheum Theatre’s Throwback Thursdays FREE summer movie series will enter its twelfth year of screening films at least 20 years old\, and this year it’s back with the theme of ANIMATED CLASSICS! Thanks to sponsorship from F&M Bank\, The Throwback Thursdays 2022 Summer Movie Series boasts ten features this summer: \n7/7                               Spirited Away (2002) \n7/14                            The Road to El Dorado (2000) \n7/21                            Anastasia (1997) \n7/28                            Robin Hood (1973) \n8/4                               Batman: The Mask of the Phantasm (1993) \n8/11                            101 Dalmatians (1961) [SPONSOR PICK] \n8/18                            A Bug’s Life (1998) \n                                                              \nA Goofy Movie will kick off the series on Thursday\, June 16 with a 7pm screening; the rest of the films on the series will screen at both 2pm and 7pm on their respective Thursdays. Tickets are not required for these events; more information on the summer movies can be found on The Orpheum Theatre’s social media accounts\, as well as their website www.galesburgorpheum.org. The Orpheum Theatre is located at 57 South Kellogg Street in Downtown Galesburg\, with office hours Tuesday through Friday\, 10am-2pm.
URL:https://977wmoi.com/event/the-orpheum-theatres-throwback-thursday-free-summer-movie-series-4/
END:VEVENT
BEGIN:VEVENT
DTSTART;TZID=America/Chicago:20220708T110000
DTEND;TZID=America/Chicago:20220708T130000
DTSTAMP:20260420T015012
CREATED:20220511T150012Z
LAST-MODIFIED:20220511T150012Z
UID:408706-1657278000-1657285200@977wmoi.com
SUMMARY:Midwest Bank Relay for Life Cookout
DESCRIPTION:Cookout will be at Midwest Bank\, 200 East Broadway in Monmouth. All proceeds will benefit Relay for Life of Warren-Henderson.
URL:https://977wmoi.com/event/midwest-bank-relay-for-life-cookout-3/
END:VEVENT
BEGIN:VEVENT
DTSTART;TZID=America/Chicago:20220708T170000
DTEND;TZID=America/Chicago:20220708T190000
DTSTAMP:20260420T015012
CREATED:20220510T210348Z
LAST-MODIFIED:20220511T134254Z
UID:408639-1657299600-1657306800@977wmoi.com
SUMMARY:Monmouth Farmer's Market
DESCRIPTION:Monmouth Area Chamber of Commerce’s Farmer’s Market will be held Fridays in the Fortress Bank Parking Lot\, 300 Block of North Main in Monmouth.
URL:https://977wmoi.com/event/monmouth-farmers-market-8/
END:VEVENT
BEGIN:VEVENT
DTSTART;VALUE=DATE:20220709
DTEND;VALUE=DATE:20220710
DTSTAMP:20260420T015012
CREATED:20220603T164707Z
LAST-MODIFIED:20220603T164707Z
UID:409645-1657324800-1657411199@977wmoi.com
SUMMARY:Girl Scout Movie and Recruitment Night
DESCRIPTION:Local Girl Scouts will be hosting a free movie night at the Pattee Plaza. Donations are welcomed and will help keep the event free and provide refreshments. For more information\, contact Tiffany McLaughlin at 309-331-4183.
URL:https://977wmoi.com/event/girl-scout-movie-and-recruitment-night/
END:VEVENT
BEGIN:VEVENT
DTSTART;TZID=America/Chicago:20220709T080000
DTEND;TZID=America/Chicago:20220709T080000
DTSTAMP:20260420T015012
CREATED:20220629T183450Z
LAST-MODIFIED:20220629T183450Z
UID:410805-1657353600-1657353600@977wmoi.com
SUMMARY:Galesburg Public School Foundation Golf Outing
DESCRIPTION:There is still time to register to golf\, sponsor a hole\, or donate a prize! The event will be held at Bunker Links Golf Course\, $75 per golfer.\n\n\nHighlights of this year’s golf outing include:\n– CUSD #205 School Challenge (schools compete for a traveling trophy and bragging rights)\n-Pin events and (for a small donation) a par 5 drive by Jason Runbom \n– Monetary prizes and gift certificates\n– Lunch catered by Smokin’ Willies
URL:https://977wmoi.com/event/galesburg-public-school-foundation-golf-outing/
END:VEVENT
BEGIN:VEVENT
DTSTART;TZID=America/Chicago:20220709T110000
DTEND;TZID=America/Chicago:20220709T110000
DTSTAMP:20260420T015012
CREATED:20220629T151036Z
LAST-MODIFIED:20220629T151036Z
UID:410796-1657364400-1657364400@977wmoi.com
SUMMARY:1st Annual Chicken Dinner
DESCRIPTION:Sponsored by St. James and the Back-to-School Backpack Program. $10 donation. Drive-up only at 900 South 3rd Street in Monmouth. Serving from 11 am until food is gone.
URL:https://977wmoi.com/event/1st-annual-chicken-dinner/
END:VEVENT
BEGIN:VEVENT
DTSTART;TZID=America/Chicago:20220709T190000
DTEND;TZID=America/Chicago:20220709T190000
DTSTAMP:20260420T015012
CREATED:20220620T131443Z
LAST-MODIFIED:20220620T131443Z
UID:410310-1657393200-1657393200@977wmoi.com
SUMMARY:Warren County Girl Scout Unit 882 Movie Night
DESCRIPTION:Join for an outdoor movie night on the Pattee Plaza in downtown Monmouth. Renewal\, registration\, and activities will take place from 7 to 9 pm. The movie\, Matilda\, will begin at 9:15 pm.
URL:https://977wmoi.com/event/warren-county-girl-scout-unit-882-movie-night/
END:VEVENT
BEGIN:VEVENT
DTSTART;TZID=America/Chicago:20220710T073000
DTEND;TZID=America/Chicago:20220710T103000
DTSTAMP:20260420T015012
CREATED:20220628T140519Z
LAST-MODIFIED:20220628T140519Z
UID:410721-1657438200-1657449000@977wmoi.com
SUMMARY:Monmouth VFW Breakfast Buffet
DESCRIPTION:Open to the public at the Monmouth VFW Hall\, 830 North G Street. Adults $9. Children under the age of 6 are $4. Sponsored by the Monmouth VFW Post 2301 and Auxiliary.
URL:https://977wmoi.com/event/monmouth-vfw-breakfast-buffet-6/
END:VEVENT
BEGIN:VEVENT
DTSTART;TZID=America/Chicago:20220711T170000
DTEND;TZID=America/Chicago:20220711T200000
DTSTAMP:20260420T015012
CREATED:20220412T183138Z
LAST-MODIFIED:20220412T183138Z
UID:407353-1657558800-1657569600@977wmoi.com
SUMMARY:Stronghurst Farmers Market
DESCRIPTION:Held Monday nights in downtown Stronghurst on Broadway Street. Sponsored by the Stronghurst Booster Club.
URL:https://977wmoi.com/event/stronghurst-farmers-market-5/
END:VEVENT
BEGIN:VEVENT
DTSTART;TZID=America/Chicago:20220712T160000
DTEND;TZID=America/Chicago:20220712T183000
DTSTAMP:20260420T015012
CREATED:20220607T180932Z
LAST-MODIFIED:20220607T180932Z
UID:409803-1657641600-1657650600@977wmoi.com
SUMMARY:Alexis Farmer's Market
DESCRIPTION:Held every Tuesday in the Alexis Park. Stop\, shop\, browse\, and chat. Eight vendors\, including Lee’s Bakery will be set up from 4 to 6:30 pm. New vendors are always welcome. Call 309-635-4666 to get involved.
URL:https://977wmoi.com/event/alexis-farmers-market-31/
END:VEVENT
BEGIN:VEVENT
DTSTART;TZID=America/Chicago:20220713T090000
DTEND;TZID=America/Chicago:20220713T133000
DTSTAMP:20260420T015012
CREATED:20220706T131148Z
LAST-MODIFIED:20220706T131148Z
UID:411012-1657702800-1657719000@977wmoi.com
SUMMARY:Monmouth Community Blood Drive
DESCRIPTION:Sponsored by OSF Holy Family Medical Center. Blood Drive will be held in the OSF Holy Family Wellness Classroom\, please enter through the Rehab and Specialty Clinics North Entrance. Masks and appointments are required. Call 309-734-1401 to schedule.
URL:https://977wmoi.com/event/monmouth-community-blood-drive-8/
END:VEVENT
BEGIN:VEVENT
DTSTART;VALUE=DATE:20220714
DTEND;VALUE=DATE:20220715
DTSTAMP:20260420T015012
CREATED:20220505T180905Z
LAST-MODIFIED:20220505T180905Z
UID:408460-1657756800-1657843199@977wmoi.com
SUMMARY:The Orpheum Theatre’s Throwback Thursday FREE Summer Movie Series
DESCRIPTION:A highly anticipated Galesburg tradition\, The Orpheum Theatre’s Throwback Thursdays FREE summer movie series will enter its twelfth year of screening films at least 20 years old\, and this year it’s back with the theme of ANIMATED CLASSICS! Thanks to sponsorship from F&M Bank\, The Throwback Thursdays 2022 Summer Movie Series boasts ten features this summer: \n7/14                            The Road to El Dorado (2000) \n7/21                            Anastasia (1997) \n7/28                            Robin Hood (1973) \n8/4                               Batman: The Mask of the Phantasm (1993) \n8/11                            101 Dalmatians (1961) [SPONSOR PICK] \n8/18                            A Bug’s Life (1998) \n                                                        \nA Goofy Movie will kick off the series on Thursday\, June 16 with a 7pm screening; the rest of the films on the series will screen at both 2pm and 7pm on their respective Thursdays. Tickets are not required for these events; more information on the summer movies can be found on The Orpheum Theatre’s social media accounts\, as well as their website www.galesburgorpheum.org. The Orpheum Theatre is located at 57 South Kellogg Street in Downtown Galesburg\, with office hours Tuesday through Friday\, 10am-2pm.
URL:https://977wmoi.com/event/the-orpheum-theatres-throwback-thursday-free-summer-movie-series-5/
END:VEVENT
BEGIN:VEVENT
DTSTART;VALUE=DATE:20220715
DTEND;VALUE=DATE:20220717
DTSTAMP:20260420T015012
CREATED:20220705T194801Z
LAST-MODIFIED:20220705T194801Z
UID:410997-1657843200-1658015999@977wmoi.com
SUMMARY:Emma! A Pop Musical
DESCRIPTION:July 15\, & 16 at 7pm\nMRHS Auditorium\nPresented by the T.I.T.A.N.S. & V.O.I.C.E. programs\nAdmission is FREE!
URL:https://977wmoi.com/event/emma-a-pop-musical/
END:VEVENT
BEGIN:VEVENT
DTSTART;TZID=America/Chicago:20220715T110000
DTEND;TZID=America/Chicago:20220715T150000
DTSTAMP:20260420T015012
CREATED:20220715T145321Z
LAST-MODIFIED:20220715T145321Z
UID:411362-1657882800-1657897200@977wmoi.com
SUMMARY:Dawson’s Not-So-Bummer Summer Lemonade Stand
DESCRIPTION:Dawson’s Not-So-Bummer Summer Lemonade Stand is happening TODAY\, Friday\, July 15 from 11am – 3pm in front of Kellogg Printing\, 55 Public Square in Monmouth. Stop by & help support Dawson! Proceeds will benefit OSF Holy Family
URL:https://977wmoi.com/event/dawsons-not-so-bummer-summer-lemonade-stand/
END:VEVENT
BEGIN:VEVENT
DTSTART;TZID=America/Chicago:20220715T170000
DTEND;TZID=America/Chicago:20220715T190000
DTSTAMP:20260420T015012
CREATED:20220510T210425Z
LAST-MODIFIED:20220511T134220Z
UID:408641-1657904400-1657911600@977wmoi.com
SUMMARY:Monmouth Farmer's Market
DESCRIPTION:Monmouth Area Chamber of Commerce’s Farmer’s Market will be held Fridays in the Fortress Bank Parking Lot\, 300 Block of North Main in Monmouth.
URL:https://977wmoi.com/event/monmouth-farmers-market-9/
END:VEVENT
BEGIN:VEVENT
DTSTART;TZID=America/Chicago:20220716T073000
DTEND;TZID=America/Chicago:20220716T120000
DTSTAMP:20260420T015012
CREATED:20220630T133829Z
LAST-MODIFIED:20220630T133843Z
UID:410839-1657956600-1657972800@977wmoi.com
SUMMARY:Stronghurst City Wide Yard Sales
DESCRIPTION:The Stronghurst Booster Club will host a Christmas in July rummage sale during the city-wide event at the American Legion. Maps of the ongoing sales will be at Fisher’s and FS.
URL:https://977wmoi.com/event/stronghurst-city-wide-ward-sales/
END:VEVENT
BEGIN:VEVENT
DTSTART;TZID=America/Chicago:20220716T110000
DTEND;TZID=America/Chicago:20220716T130000
DTSTAMP:20260420T015012
CREATED:20220707T132235Z
LAST-MODIFIED:20220707T132235Z
UID:411066-1657969200-1657976400@977wmoi.com
SUMMARY:Fused Glass Birdies
DESCRIPTION:The next art party is really something to TWEET about! Join us 11am-1pm Saturday\, July 16\, for Fused Glass Birdies with Judi Minor. Class size is limited so call the BCA at 309-734-3033 to reserve your spot. If you are a BCA member\, this class fee is included in your BCA membership; students 18 years old and younger are free; non-member fee is $10. Scholarships are available.
URL:https://977wmoi.com/event/fused-glass-birdies/
END:VEVENT
BEGIN:VEVENT
DTSTART;TZID=America/Chicago:20220716T110000
DTEND;TZID=America/Chicago:20220716T140000
DTSTAMP:20260420T015012
CREATED:20220713T132540Z
LAST-MODIFIED:20220713T132540Z
UID:411238-1657969200-1657980000@977wmoi.com
SUMMARY:Monmouth-Roseville High School Cheer Cookout
DESCRIPTION:Support the Titans Football Cheerleaders at the Monmouth Fareway. Burgers\, pork chops\, and hot dogs.
URL:https://977wmoi.com/event/monmouth-roseville-high-school-cheer-cookout/
END:VEVENT
BEGIN:VEVENT
DTSTART;TZID=America/Chicago:20220716T110000
DTEND;TZID=America/Chicago:20220716T163000
DTSTAMP:20260420T015012
CREATED:20220714T132134Z
LAST-MODIFIED:20220715T143951Z
UID:411330-1657969200-1657989000@977wmoi.com
SUMMARY:Rainbow Riders Community Celebration
DESCRIPTION:Everyone is welcome to a community celebration at Rainbow Riders\, located at 822 200th Avenue in Monmouth\, as they celebrate the opening and use of their new barn. There will be activities\, food\, and fun.
URL:https://977wmoi.com/event/rainbow-riders-community-celebration/
END:VEVENT
BEGIN:VEVENT
DTSTART;TZID=America/Chicago:20220716T140000
DTEND;TZID=America/Chicago:20220716T160000
DTSTAMP:20260420T015012
CREATED:20220713T203557Z
LAST-MODIFIED:20220713T203557Z
UID:411297-1657980000-1657987200@977wmoi.com
SUMMARY:Concert on the Lawn at Courtyard Estates in Monmouth
DESCRIPTION:Live entertainment for the entire public. Please bring your own lawn chair.
URL:https://977wmoi.com/event/concert-on-the-lawn-at-courtyard-estates-in-monmouth/
END:VEVENT
BEGIN:VEVENT
DTSTART;TZID=America/Chicago:20220716T173000
DTEND;TZID=America/Chicago:20220716T173000
DTSTAMP:20260420T015012
CREATED:20220713T204049Z
LAST-MODIFIED:20220713T204049Z
UID:411301-1657992600-1657992600@977wmoi.com
SUMMARY:Warren County Fair Queen Pageant
DESCRIPTION:Held at the Roseville Eldridge Park. The WCF Board will be serving food starting at 4:30pm.
URL:https://977wmoi.com/event/warren-county-fair-queen-pageant/
END:VEVENT
END:VCALENDAR