BEGIN:VCALENDAR
VERSION:2.0
PRODID:-//Prairie Communications, LLC - ECPv6.15.20//NONSGML v1.0//EN
CALSCALE:GREGORIAN
METHOD:PUBLISH
X-ORIGINAL-URL:https://977wmoi.com
X-WR-CALDESC:Events for Prairie Communications, LLC
REFRESH-INTERVAL;VALUE=DURATION:PT1H
X-Robots-Tag:noindex
X-PUBLISHED-TTL:PT1H
BEGIN:VTIMEZONE
TZID:America/Chicago
BEGIN:DAYLIGHT
TZOFFSETFROM:-0600
TZOFFSETTO:-0500
TZNAME:CDT
DTSTART:20210314T080000
END:DAYLIGHT
BEGIN:STANDARD
TZOFFSETFROM:-0500
TZOFFSETTO:-0600
TZNAME:CST
DTSTART:20211107T070000
END:STANDARD
BEGIN:DAYLIGHT
TZOFFSETFROM:-0600
TZOFFSETTO:-0500
TZNAME:CDT
DTSTART:20220313T080000
END:DAYLIGHT
BEGIN:STANDARD
TZOFFSETFROM:-0500
TZOFFSETTO:-0600
TZNAME:CST
DTSTART:20221106T070000
END:STANDARD
BEGIN:DAYLIGHT
TZOFFSETFROM:-0600
TZOFFSETTO:-0500
TZNAME:CDT
DTSTART:20230312T080000
END:DAYLIGHT
BEGIN:STANDARD
TZOFFSETFROM:-0500
TZOFFSETTO:-0600
TZNAME:CST
DTSTART:20231105T070000
END:STANDARD
END:VTIMEZONE
BEGIN:VEVENT
DTSTART;VALUE=DATE:20221101
DTEND;VALUE=DATE:20221114
DTSTAMP:20260425T212603
CREATED:20221026T164909Z
LAST-MODIFIED:20221026T164909Z
UID:417428-1667260800-1668383999@977wmoi.com
SUMMARY:Toy Drive Donation Drop-Off at Legacy Estates in Monmouth
DESCRIPTION:November 1st through December 1st\, new\, unwrapped toys will be collected at Legacy Estates of Monmouth\, 1200 West Broadway\, for the Jamieson Community Center Christmas Store. For more information\, feel free to call 309-734-0909 or Jamieson Center at 309-734-4251.
URL:https://977wmoi.com/event/toy-drive-donation-drop-off-at-legacy-estates-in-monmouth/
END:VEVENT
BEGIN:VEVENT
DTSTART;TZID=America/Chicago:20221109T100000
DTEND;TZID=America/Chicago:20221109T100000
DTSTAMP:20260425T212603
CREATED:20221108T174817Z
LAST-MODIFIED:20221108T174817Z
UID:418161-1667988000-1667988000@977wmoi.com
SUMMARY:Old Friends Talk Art
DESCRIPTION:Held at the Buchanan Center for the Arts in Downtown Monmouth. Fritz Goekner\, juror of this year’s Security Savings Bank Photography Show\, will host the event. Free and open to the public. Refreshments will be served.
URL:https://977wmoi.com/event/old-friends-talk-art-6/
END:VEVENT
BEGIN:VEVENT
DTSTART;TZID=America/Chicago:20221109T173000
DTEND;TZID=America/Chicago:20221109T190000
DTSTAMP:20260425T212603
CREATED:20221014T131458Z
LAST-MODIFIED:20221014T131458Z
UID:416653-1668015000-1668020400@977wmoi.com
SUMMARY:Bereavement Support Group
DESCRIPTION:Two consecutive Wednesdays remain. November 9th – Developing Realistic Memories. November 16th – Healing for the Holidays. Events are free and open to the public and will be held at OSF Holy Family Medical Center\, use the west side door. For more information or to RSVP\, call Doug Gibb at 309-342-3007.
URL:https://977wmoi.com/event/bereavement-support-group-3/
END:VEVENT
BEGIN:VEVENT
DTSTART;TZID=America/Chicago:20221109T190000
DTEND;TZID=America/Chicago:20221109T190000
DTSTAMP:20260425T212603
CREATED:20221020T205951Z
LAST-MODIFIED:20221020T205951Z
UID:417096-1668020400-1668020400@977wmoi.com
SUMMARY:P.O.W. Passing on Wisdom Documentary at Monmouth College
DESCRIPTION:The Monmouth College James and Sybil Stockdale fellows in conjunction with the U.S. Naval Academy Stockdale Center for Ethical Leadership present the new documentary film P.O.W. celebrating lessons of courage\, endurance\, and honor for the 50th anniversary of the homecoming of our Vietnam prisoners of war. The film will be shown inside Dahl Chapel. Free admission.
URL:https://977wmoi.com/event/p-o-w-passing-on-wisdom-documentary-at-monmouth-college/
END:VEVENT
BEGIN:VEVENT
DTSTART;TZID=America/Chicago:20221110T090000
DTEND;TZID=America/Chicago:20221110T190000
DTSTAMP:20260425T212603
CREATED:20221104T133819Z
LAST-MODIFIED:20221104T133819Z
UID:417973-1668070800-1668106800@977wmoi.com
SUMMARY:OSF Holy Family Gift Shop Christmas Open House
DESCRIPTION:Held at OSF Holy Family\, 1000 West Harlem Avenue in Monmouth.
URL:https://977wmoi.com/event/osf-holy-family-gift-shop-christmas-open-house/
END:VEVENT
BEGIN:VEVENT
DTSTART;TZID=America/Chicago:20221110T100000
DTEND;TZID=America/Chicago:20221110T100000
DTSTAMP:20260425T212603
CREATED:20220826T213809Z
LAST-MODIFIED:20220826T213809Z
UID:413658-1668074400-1668074400@977wmoi.com
SUMMARY:Finding Your Get Up and Go Webinar
DESCRIPTION:Most people find that there are some days when it’s hard to find the motivation to accomplish what needs to be done\, even those things that are important. Will Rogers once said\, “Even if you’re on the right track\, you’ll get run over if you just sit there.” Learning what accounts for the ebb and flow of levels of motivation in life and how to respond can help individuals be more productive. This session is for those times when it just seems hard to “get going” and will help you learn how to give your enthusiasm a boost.
URL:https://977wmoi.com/event/finding-your-get-up-and-go-webinar/
END:VEVENT
BEGIN:VEVENT
DTSTART;TZID=America/Chicago:20221110T173000
DTEND;TZID=America/Chicago:20221110T173000
DTSTAMP:20260425T212603
CREATED:20221007T184226Z
LAST-MODIFIED:20221007T184226Z
UID:416283-1668101400-1668101400@977wmoi.com
SUMMARY:CASA Lip Sync Battle
DESCRIPTION:Featuring Anything Goes! variety show performances in between battles. Tickets are $20 in advance\, $25 at the door. Table of 10 is $180. VIP table of 10 is $250. Doors open at 5:30 pm. Battle begins at 6:30 pm at the Knights of Columbus Hall in Galesburg. Proceeds benefit CASA of West Central Illinois. Tickets can be purchased at http://casaofwestcentralillinois.org/events.
URL:https://977wmoi.com/event/casa-lip-sync-battle-2/
END:VEVENT
BEGIN:VEVENT
DTSTART;TZID=America/Chicago:20221111T090000
DTEND;TZID=America/Chicago:20221111T190000
DTSTAMP:20260425T212603
CREATED:20221104T133900Z
LAST-MODIFIED:20221104T133900Z
UID:417975-1668157200-1668193200@977wmoi.com
SUMMARY:OSF Holy Family Gift Shop Christmas Open House
DESCRIPTION:Held at OSF Holy Family\, 1000 West Harlem Avenue in Monmouth.
URL:https://977wmoi.com/event/osf-holy-family-gift-shop-christmas-open-house-2/
END:VEVENT
BEGIN:VEVENT
DTSTART;TZID=America/Chicago:20221111T100000
DTEND;TZID=America/Chicago:20221111T100000
DTSTAMP:20260425T212603
CREATED:20220913T181200Z
LAST-MODIFIED:20220913T181200Z
UID:414699-1668160800-1668160800@977wmoi.com
SUMMARY:Veteran's Day Program
DESCRIPTION:Event will be held at the Monmouth American Legion\, featuring guest speaker David Reid Clark and clips of Ole Glory and Ronald Reagan.
URL:https://977wmoi.com/event/veterans-day-program/
END:VEVENT
BEGIN:VEVENT
DTSTART;TZID=America/Chicago:20221111T160000
DTEND;TZID=America/Chicago:20221111T160000
DTSTAMP:20260425T212603
CREATED:20221020T210239Z
LAST-MODIFIED:20221020T210239Z
UID:417100-1668182400-1668182400@977wmoi.com
SUMMARY:Veterans Day Commemoration
DESCRIPTION:The Monmouth College James and Sybil Stockdale fellows will present A Veterans Day Commemoration for the entire public in the Veterans Great Room in the Center for Science and Business on the Monmouth College campus.
URL:https://977wmoi.com/event/veterans-day-commemoration/
END:VEVENT
BEGIN:VEVENT
DTSTART;TZID=America/Chicago:20221112T090000
DTEND;TZID=America/Chicago:20221112T150000
DTSTAMP:20260425T212603
CREATED:20221026T150151Z
LAST-MODIFIED:20221026T150151Z
UID:417404-1668243600-1668265200@977wmoi.com
SUMMARY:Children's Grief Camp
DESCRIPTION:For children ages 5 through 18 years old. This camp is offered at no charge to participants at Carl Sandburg College\, Building B in Galesburg. For more information\, contact Doug Gibb at 309-342-3007 or visithttp://www.childrens-grief-camp.com.
URL:https://977wmoi.com/event/childrens-grief-camp-2/
END:VEVENT
BEGIN:VEVENT
DTSTART;TZID=America/Chicago:20221112T180000
DTEND;TZID=America/Chicago:20221112T210000
DTSTAMP:20260425T212603
CREATED:20220930T130817Z
LAST-MODIFIED:20220930T130817Z
UID:415899-1668276000-1668286800@977wmoi.com
SUMMARY:Taste of the Arts Gala
DESCRIPTION:Experience winter holidays around the world. Tickets available at the Buchanan Center for the Arts in Monmouth. $60 per guest. Dinner\, live music\, and lively auctions.
URL:https://977wmoi.com/event/taste-of-the-arts-gala/
END:VEVENT
BEGIN:VEVENT
DTSTART;TZID=America/Chicago:20221113T110000
DTEND;TZID=America/Chicago:20221113T130000
DTSTAMP:20260425T212603
CREATED:20221104T184036Z
LAST-MODIFIED:20221104T184036Z
UID:418032-1668337200-1668344400@977wmoi.com
SUMMARY:Sugar Tree Grove Church Soup Luncheon
DESCRIPTION:Serving chili\, taco soup\, vegetable beef soup\, chicken noodle soup\, salads\, and desserts at the Sugar Tree Grove Church\, 2210 M-A-M Trail\, Monmouth. Free will donations.
URL:https://977wmoi.com/event/sugar-tree-grove-church-soup-luncheon/
END:VEVENT
BEGIN:VEVENT
DTSTART;TZID=America/Chicago:20221114T140000
DTEND;TZID=America/Chicago:20221114T150000
DTSTAMP:20260425T212603
CREATED:20221031T173601Z
LAST-MODIFIED:20221031T173601Z
UID:417723-1668434400-1668438000@977wmoi.com
SUMMARY:Wits Fitness Class
DESCRIPTION:This is Wits Fitness (Brain Exercise Class) where University of Illinois\, Family Life Educator\, Tessa Hobbs-Curley leads participants through interactive activities designed to exercise the brain to maintain and enhance cognitive function and memory. Register here: Wits Fitness Class (illinois.edu) This class will meet in person at the WCISEC Conference Room located in the ROE#26 Building. The address is 130 S. Lafayette St. Macomb\, IL. \nWe will meet on Mondays from 2:00 p.m. -3:00 p.m.: \n\nNovember 14\nNovember 28\nDecember 12\nDecember 19
URL:https://977wmoi.com/event/wits-fitness-class/
END:VEVENT
BEGIN:VEVENT
DTSTART;TZID=America/Chicago:20221115T170000
DTEND;TZID=America/Chicago:20221115T190000
DTSTAMP:20260425T212603
CREATED:20221031T201402Z
LAST-MODIFIED:20221031T201402Z
UID:417764-1668531600-1668538800@977wmoi.com
SUMMARY:Business After Hours
DESCRIPTION:Join the Galesburg Area Chamber of Commerce for their last 𝗕𝘂𝘀𝗶𝗻𝗲𝘀𝘀 𝗔𝗳𝘁𝗲𝗿 𝗛𝗼𝘂𝗿𝘀 of 2022 – sponsored by The Orpheum Theatre! \n\n\nHope to see you there!\n Tuesday\, November 15\, 5-7PM\n 57 S Kellogg St\, Galesburg\, IL\n\n\nFREE for Chamber members to attend! Please RSVP here: https://bit.ly/3EDSPIN.
URL:https://977wmoi.com/event/business-after-hours-12/
END:VEVENT
BEGIN:VEVENT
DTSTART;TZID=America/Chicago:20221116T173000
DTEND;TZID=America/Chicago:20221116T190000
DTSTAMP:20260425T212603
CREATED:20221014T131533Z
LAST-MODIFIED:20221014T131533Z
UID:416655-1668619800-1668625200@977wmoi.com
SUMMARY:Bereavement Support Group
DESCRIPTION:November 16th – Healing for the Holidays. Events are free and open to the public and will be held at OSF Holy Family Medical Center\, use the west side door. For more information or to RSVP\, call Doug Gibb at 309-342-3007.
URL:https://977wmoi.com/event/bereavement-support-group-4/
END:VEVENT
BEGIN:VEVENT
DTSTART;TZID=America/Chicago:20221117T100000
DTEND;TZID=America/Chicago:20221117T100000
DTSTAMP:20260425T212603
CREATED:20221026T144859Z
LAST-MODIFIED:20221026T144859Z
UID:417389-1668679200-1668679200@977wmoi.com
SUMMARY:Playgroup with the Regional Office of Education
DESCRIPTION:Visit the Warren County Public Library for a time of stories\, socialization\, and playtime for children prenatal to 3 years old.
URL:https://977wmoi.com/event/playgroup-with-the-regional-office-of-education-2/
END:VEVENT
BEGIN:VEVENT
DTSTART;TZID=America/Chicago:20221117T120000
DTEND;TZID=America/Chicago:20221117T120000
DTSTAMP:20260425T212603
CREATED:20221027T180103Z
LAST-MODIFIED:20221027T180103Z
UID:417489-1668686400-1668686400@977wmoi.com
SUMMARY:Monmouth College Associates Luncheon
DESCRIPTION:Monmouth College Professor Mike Connell will talk on bitcoin and the next step in money’s evolutionary process. Event will be held at Meks on Main\, 201 North Main Street in Monmouth. Tickets are $15.
URL:https://977wmoi.com/event/monmouth-college-associates-luncheon/
END:VEVENT
BEGIN:VEVENT
DTSTART;TZID=America/Chicago:20221117T170000
DTEND;TZID=America/Chicago:20221117T170000
DTSTAMP:20260425T212603
CREATED:20221007T131213Z
LAST-MODIFIED:20221007T131213Z
UID:416230-1668704400-1668704400@977wmoi.com
SUMMARY:West Central Middle School Tootsie Turkey Trot
DESCRIPTION:5K run or walk with a 1-mile option. All proceeds benefit funding for the West Central Middle School PBIS program. 5 pm registration. 5:30 pm kiddie race. 6 pm start. $15 for students. $20 for adults.
URL:https://977wmoi.com/event/west-central-middle-school-tootsie-turkey-trot/
END:VEVENT
BEGIN:VEVENT
DTSTART;TZID=America/Chicago:20221117T170000
DTEND;TZID=America/Chicago:20221117T190000
DTSTAMP:20260425T212603
CREATED:20221026T145114Z
LAST-MODIFIED:20221026T145333Z
UID:417393-1668704400-1668711600@977wmoi.com
SUMMARY:Family Literacy Night at the Warren County Public Library
DESCRIPTION:Join the Regional Office of Education and members of the community for an activity night at the Warren County Public Library. Attendees will make a storybook of their own.
URL:https://977wmoi.com/event/family-literacy-night-at-the-warren-county-public-library/
END:VEVENT
BEGIN:VEVENT
DTSTART;TZID=America/Chicago:20221117T170000
DTEND;TZID=America/Chicago:20221117T190000
DTSTAMP:20260425T212603
CREATED:20221107T195933Z
LAST-MODIFIED:20221107T195933Z
UID:418091-1668704400-1668711600@977wmoi.com
SUMMARY:YPN Wine Tour
DESCRIPTION:Wish you knew more about wine? Want to know the secrets to impressing others with your wine-selecting skills? Need a lesson to level-up your holiday hosting? If so\, this event is for you!\nJoin the Galesburg Area Chamber of Commerce’s Young Professionals Network on a tasting tour of wines from around the world and receive an introduction to grape varieties and the different wines they produce. This opportunity includes tasting new\, delicious wines from G&M Distributors\, light charcuterie that pairs well with selections\, wholesome networking\, and better knowledge of wines. Get your tickets because they will sell out! YPN Wine Tour | Facebook
URL:https://977wmoi.com/event/ypn-wine-tour/
END:VEVENT
BEGIN:VEVENT
DTSTART;TZID=America/Chicago:20221117T180000
DTEND;TZID=America/Chicago:20221117T190000
DTSTAMP:20260425T212603
CREATED:20221108T165059Z
LAST-MODIFIED:20221108T165059Z
UID:418151-1668708000-1668711600@977wmoi.com
SUMMARY:Alzheimer's Support Group Meeting
DESCRIPTION:Held at Courtyard Estates of Monmouth Dining Room\, 1 Courtyard Boulevard. A variety of topics of Dementia with open discussions after each meeting will be conducted. Light snacks will be provided. All are invited to attend. Meetings will be held every 3rd Thursday of the month moving forward.
URL:https://977wmoi.com/event/alzheimers-support-group-meeting/
END:VEVENT
BEGIN:VEVENT
DTSTART;VALUE=DATE:20221118
DTEND;VALUE=DATE:20221121
DTSTAMP:20260425T212603
CREATED:20220829T194710Z
LAST-MODIFIED:20220829T194710Z
UID:413792-1668729600-1668988799@977wmoi.com
SUMMARY:Proof
DESCRIPTION:Monmouth College Theatre production at Wells Theater. Held November 18th through 20th. 7:30 pm show times for Friday and Saturday. 2 pm show time for Sunday. Tickets are $10\, $8 for students and seniors\, and $6 with a Monmouth College ID.
URL:https://977wmoi.com/event/proof/
END:VEVENT
BEGIN:VEVENT
DTSTART;TZID=America/Chicago:20221118T120000
DTEND;TZID=America/Chicago:20221118T120000
DTSTAMP:20260425T212603
CREATED:20221107T200332Z
LAST-MODIFIED:20221107T200332Z
UID:418093-1668772800-1668772800@977wmoi.com
SUMMARY:Church Women United “World Community Day”
DESCRIPTION:Church Women United of Monmouth and Vicinity will be meeting for the “World Community Day” celebration at 12:00 noon for a luncheon at Roseville United Methodist Church\, 201 W. Union in Roseville.  After lunch\, there will be a short business meeting at 1:00 p.m. with the lesson following.  Dues and Blanket Money from board members will be collected.  No reservations are needed.  This is for ALL WOMEN in the area.  A donation will be taken for the luncheon.  World Community Day focuses on justice and peace in our global community.
URL:https://977wmoi.com/event/church-women-united-world-community-day/
END:VEVENT
BEGIN:VEVENT
DTSTART;TZID=America/Chicago:20221118T160000
DTEND;TZID=America/Chicago:20221118T200000
DTSTAMP:20260425T212603
CREATED:20221104T134644Z
LAST-MODIFIED:20221104T134703Z
UID:417985-1668787200-1668801600@977wmoi.com
SUMMARY:Very Vintage Christmas Holiday Marketplace VIP Night
DESCRIPTION:Held at 203 South Main Street in Monmouth. VIP Night 4 pm to 8 pm. $20 advance tickets. Donation being taken for The Forgotten Initiative; monetary\, general supplies\, hygiene products\, and infant supplies.
URL:https://977wmoi.com/event/very-vintage-christmas-holiday-marketplace/
END:VEVENT
BEGIN:VEVENT
DTSTART;TZID=America/Chicago:20221118T163000
DTEND;TZID=America/Chicago:20221118T180000
DTSTAMP:20260425T212603
CREATED:20220919T155929Z
LAST-MODIFIED:20220919T155929Z
UID:415016-1668789000-1668794400@977wmoi.com
SUMMARY:Nature at Night: Owl Prowl
DESCRIPTION:Join in learning about owls at the Lakeside Nature Center Shelter with the Galesburg Parks and Rec. $5 per person. Open to all ages.
URL:https://977wmoi.com/event/nature-at-night-owl-prowl/
END:VEVENT
BEGIN:VEVENT
DTSTART;TZID=America/Chicago:20221118T170000
DTEND;TZID=America/Chicago:20221118T190000
DTSTAMP:20260425T212603
CREATED:20220831T125741Z
LAST-MODIFIED:20220831T125741Z
UID:413882-1668790800-1668798000@977wmoi.com
SUMMARY:SSB Amateur Photography Show Gallery Reception
DESCRIPTION:The 41st-annual Security Savings Bank Amateur Photography Show deadline for entry is 2pm Saturday\, October 29. Categories this year include Agriculture & Farm Life\, Animals & Creatures\, Capturing Light & Shadows\, Faces\, the Four Seasons\, and the Peggy Kulczewski Floral Award. Our juror for this year’s show is Fritz Goeckner of Burlington\, Iowa. For an entry form and guidelines\, visit bcaarts.org “Exhibition” tab or stop by the BCA. The show will be on view November 8-December 29\, 2022. Gallery reception is from 5 to 7pm Friday\, November 18.
URL:https://977wmoi.com/event/ssb-amateur-photography-show-gallery-reception/
END:VEVENT
BEGIN:VEVENT
DTSTART;TZID=America/Chicago:20221118T170000
DTEND;TZID=America/Chicago:20221118T190000
DTSTAMP:20260425T212603
CREATED:20221108T174952Z
LAST-MODIFIED:20221108T174952Z
UID:418163-1668790800-1668798000@977wmoi.com
SUMMARY:Security Savings Bank Photography Show Gallery Reception at the BCA
DESCRIPTION:A record 145 entries are in this year’s show. The 41st annual Security Savings Bank Amateur Photography Show will be on display at the Buchanan Center for the Arts until December 29th.
URL:https://977wmoi.com/event/security-savings-bank-photography-show-gallery-reception-at-the-bca/
END:VEVENT
BEGIN:VEVENT
DTSTART;TZID=America/Chicago:20221118T173000
DTEND;TZID=America/Chicago:20221118T173000
DTSTAMP:20260425T212603
CREATED:20220922T133538Z
LAST-MODIFIED:20220922T133538Z
UID:415323-1668792600-1668792600@977wmoi.com
SUMMARY:Special Olympics Illinois - Friday Night Lights
DESCRIPTION:Annual event will be held at Meks on Main in Monmouth. M&E will cater tailgating appetizers and a steak dinner. Live and silent auction will take place. $30 per person. $280 for a reserved table of 8. Call 309-734-5903 to purchase tickets.
URL:https://977wmoi.com/event/special-olympics-illinois-friday-night-lights/
END:VEVENT
BEGIN:VEVENT
DTSTART;TZID=America/Chicago:20221119T080000
DTEND;TZID=America/Chicago:20221119T160000
DTSTAMP:20260425T212603
CREATED:20221104T134915Z
LAST-MODIFIED:20221104T134915Z
UID:417988-1668844800-1668873600@977wmoi.com
SUMMARY:Very Vintage Christmas Holiday Marketplace
DESCRIPTION:Held at 203 South Main Street in Monmouth. Open to the entire public. Donations being collected for The Forgotten Initiative including monetary\, general supplies\, hygiene products\, and infant supplies.
URL:https://977wmoi.com/event/very-vintage-christmas-holiday-marketplace-2/
END:VEVENT
END:VCALENDAR