BEGIN:VCALENDAR
VERSION:2.0
PRODID:-//Prairie Communications, LLC - ECPv6.15.20//NONSGML v1.0//EN
CALSCALE:GREGORIAN
METHOD:PUBLISH
X-ORIGINAL-URL:https://977wmoi.com
X-WR-CALDESC:Events for Prairie Communications, LLC
REFRESH-INTERVAL;VALUE=DURATION:PT1H
X-Robots-Tag:noindex
X-PUBLISHED-TTL:PT1H
BEGIN:VTIMEZONE
TZID:America/Chicago
BEGIN:DAYLIGHT
TZOFFSETFROM:-0600
TZOFFSETTO:-0500
TZNAME:CDT
DTSTART:20220313T080000
END:DAYLIGHT
BEGIN:STANDARD
TZOFFSETFROM:-0500
TZOFFSETTO:-0600
TZNAME:CST
DTSTART:20221106T070000
END:STANDARD
BEGIN:DAYLIGHT
TZOFFSETFROM:-0600
TZOFFSETTO:-0500
TZNAME:CDT
DTSTART:20230312T080000
END:DAYLIGHT
BEGIN:STANDARD
TZOFFSETFROM:-0500
TZOFFSETTO:-0600
TZNAME:CST
DTSTART:20231105T070000
END:STANDARD
BEGIN:DAYLIGHT
TZOFFSETFROM:-0600
TZOFFSETTO:-0500
TZNAME:CDT
DTSTART:20240310T080000
END:DAYLIGHT
BEGIN:STANDARD
TZOFFSETFROM:-0500
TZOFFSETTO:-0600
TZNAME:CST
DTSTART:20241103T070000
END:STANDARD
END:VTIMEZONE
BEGIN:VEVENT
DTSTART;VALUE=DATE:20230127
DTEND;VALUE=DATE:20230205
DTSTAMP:20260420T124324
CREATED:20230126T141422Z
LAST-MODIFIED:20230203T142326Z
UID:421917-1674777600-1675555199@977wmoi.com
SUMMARY:W-H Farm Bureau Evelyn Titus Memorial Scholarship
DESCRIPTION:Applications now being accepted for the Evelyn Titus Memorial Scholarship through the Warren-Henderson Farm Bureau. High school seniors in Warren County that will continue their education in agriculture or family and consumer sciences are eligible to apply. Find more details at http://whfarmbureau.org. Deadline to apply is February 28th.
URL:https://977wmoi.com/event/w-h-farm-bureau-evelyn-titus-memorial-scholarship/
END:VEVENT
BEGIN:VEVENT
DTSTART;VALUE=DATE:20230130
DTEND;VALUE=DATE:20230205
DTSTAMP:20260420T124324
CREATED:20230127T140836Z
LAST-MODIFIED:20230203T142204Z
UID:421984-1675036800-1675555199@977wmoi.com
SUMMARY:Adult CO-ED Volleyball League at the Warren County YMCA
DESCRIPTION:
URL:https://977wmoi.com/event/adult-co-ed-volleyball-league-at-the-warren-county-ymca/
END:VEVENT
BEGIN:VEVENT
DTSTART;VALUE=DATE:20230131
DTEND;VALUE=DATE:20230205
DTSTAMP:20260420T124324
CREATED:20230127T140944Z
LAST-MODIFIED:20230203T142254Z
UID:421987-1675123200-1675555199@977wmoi.com
SUMMARY:Adult Indoor Soccer at the Warren County YMCA
DESCRIPTION:
URL:https://977wmoi.com/event/adult-indoor-soccer-at-the-warren-county-ymca/
END:VEVENT
BEGIN:VEVENT
DTSTART;TZID=America/Chicago:20230131T080000
DTEND;TZID=America/Chicago:20230202T170000
DTSTAMP:20260420T124324
CREATED:20230113T154710Z
LAST-MODIFIED:20230113T154710Z
UID:421325-1675152000-1675357200@977wmoi.com
SUMMARY:Valentines for Seniors Registration Deadline February 1st
DESCRIPTION:Galesburg Parks and Rec are sending Valentines to seniors. Create your own personal message in a handmade valentine and they will deliver them for you. You can drop them off at Lakeside REcreation Facility by 2/6/23 or you can sponsor 10 cards for $10.00.
URL:https://977wmoi.com/event/valentines-for-seniors-registration-deadline-february-1st/
END:VEVENT
BEGIN:VEVENT
DTSTART;TZID=America/Chicago:20230201T110000
DTEND;TZID=America/Chicago:20230201T183000
DTSTAMP:20260420T124324
CREATED:20230111T165245Z
LAST-MODIFIED:20230111T165245Z
UID:421210-1675249200-1675276200@977wmoi.com
SUMMARY:Gerlaw Christian Church 67th Annual Pancake and Whole Hog Sausage Day
DESCRIPTION:All you can eat for a freewill donation. Carry out and dine-in available at the Gerlaw Christian Church\, 948 245th Avenue\, Gerlaw.
URL:https://977wmoi.com/event/gerlaw-christian-church-67th-annual-pancake-and-whole-hog-sausage-day/
END:VEVENT
BEGIN:VEVENT
DTSTART;TZID=America/Chicago:20230201T130000
DTEND;TZID=America/Chicago:20230201T130000
DTSTAMP:20260420T124324
CREATED:20230130T163845Z
LAST-MODIFIED:20230130T163845Z
UID:422079-1675256400-1675256400@977wmoi.com
SUMMARY:Adult Movie Matinee at the Henderson County Library
DESCRIPTION:Meg Ryan Month. “You’ve Got Mail” will be shown.
URL:https://977wmoi.com/event/adult-movie-matinee-at-the-henderson-county-library/
END:VEVENT
BEGIN:VEVENT
DTSTART;TZID=America/Chicago:20230204T180000
DTEND;TZID=America/Chicago:20230204T220000
DTSTAMP:20260420T124324
CREATED:20221215T142932Z
LAST-MODIFIED:20221215T143015Z
UID:420138-1675533600-1675548000@977wmoi.com
SUMMARY:Western Illinois Animal Rescue-WIAR Music Trivia Night
DESCRIPTION:Event will be held at the Monmouth American Legion. Cost will be $100 per table with up to 10 people per table. There will be mulligans and doublers available for an addition fee. There will also be a 50/50 drawing\, silent auction and a table filled with snacks/bake sale items that you may purchase. To reserve your table\, please call WIAR at 309-715-7109 or send a message thru their Facebook Page\, Western Illinois Animal Rescue-WIAR.
URL:https://977wmoi.com/event/western-illinois-animal-rescue-wiar-music-trivia-night/
END:VEVENT
BEGIN:VEVENT
DTSTART;TZID=America/Chicago:20230206T170000
DTEND;TZID=America/Chicago:20230206T183000
DTSTAMP:20260420T124324
CREATED:20220913T132539Z
LAST-MODIFIED:20220913T132539Z
UID:414654-1675702800-1675708200@977wmoi.com
SUMMARY:Monmouth American Legion Soup Supper
DESCRIPTION:Feb. 6 chili\, loaded potato soup\, spinach bisque\,. Sandwich: sloppy joes add 1 gluten free soup. All you can eat. Adults $9.00 children $3.00. Each meal comes with dessert\, coffee or tea\, and lots of\nGreat friends to enjoy your meal with. 50/50 raffle drawing at 6:00 pm
URL:https://977wmoi.com/event/monmouth-american-legion-soup-supper-14/
END:VEVENT
BEGIN:VEVENT
DTSTART;TZID=America/Chicago:20230208T083000
DTEND;TZID=America/Chicago:20230208T083000
DTSTAMP:20260420T124324
CREATED:20230127T194150Z
LAST-MODIFIED:20230127T194150Z
UID:422032-1675845000-1675845000@977wmoi.com
SUMMARY:Certified Livestock Manager Training
DESCRIPTION:A Certified Livestock Manager Training workshop will be held locally on Wednesday\, February 8th at the Warren-Henderson Farm Bureau Bldg.\, 1000 N Main St.\, Monmouth. On the day of the workshop\, registration will open at 8:30 a.m. with training program starting promptly at 9:00 a.m. For additional information and to register\, visit go.illinois.edu/CLMT.
URL:https://977wmoi.com/event/certified-livestock-manager-training/
END:VEVENT
BEGIN:VEVENT
DTSTART;TZID=America/Chicago:20230208T130000
DTEND;TZID=America/Chicago:20230208T130000
DTSTAMP:20260420T124324
CREATED:20230130T163937Z
LAST-MODIFIED:20230130T163937Z
UID:422081-1675861200-1675861200@977wmoi.com
SUMMARY:Adult Movie Matinee at the Henderson County Library
DESCRIPTION:Meg Ryan Month. “Sleepless in Seattle” will be shown.
URL:https://977wmoi.com/event/adult-movie-matinee-at-the-henderson-county-library-2/
END:VEVENT
BEGIN:VEVENT
DTSTART;TZID=America/Chicago:20230208T130000
DTEND;TZID=America/Chicago:20230208T130000
DTSTAMP:20260420T124324
CREATED:20230130T164623Z
LAST-MODIFIED:20230130T164623Z
UID:422093-1675861200-1675861200@977wmoi.com
SUMMARY:BINGO at Strom Center in Oquawka
DESCRIPTION:Each person is allowed up to 4 cards FREE. Additional cards at 25 cents each. Refreshments available throughout the afternoon.
URL:https://977wmoi.com/event/bingo-at-strom-center-in-oquawka-7/
END:VEVENT
BEGIN:VEVENT
DTSTART;TZID=America/Chicago:20230208T160000
DTEND;TZID=America/Chicago:20230208T230000
DTSTAMP:20260420T124324
CREATED:20230203T173413Z
LAST-MODIFIED:20230203T173413Z
UID:422450-1675872000-1675897200@977wmoi.com
SUMMARY:Alpha XI Delta Presents Pack the House at Alfano's
DESCRIPTION:Pack the house at Alfano’s in Monmouth. A portion of all orders will benefit Foster Club.
URL:https://977wmoi.com/event/alpha-xi-delta-presents-pack-the-house-at-alfanos/
END:VEVENT
BEGIN:VEVENT
DTSTART;TZID=America/Chicago:20230209T130000
DTEND;TZID=America/Chicago:20230209T130000
DTSTAMP:20260420T124324
CREATED:20230130T165606Z
LAST-MODIFIED:20230130T165606Z
UID:422103-1675947600-1675947600@977wmoi.com
SUMMARY:Warren County TRIAD Meeting
DESCRIPTION:Heather Calcara\, Community Outreach Liaison from the Office of the Attorney General for the State of Illinois\, will be the guest speaker at the TRIAD meeting held at Strom Center in Monmouth. Refreshments will be provided.
URL:https://977wmoi.com/event/warren-county-triad-meeting-3/
END:VEVENT
BEGIN:VEVENT
DTSTART;TZID=America/Chicago:20230209T170000
DTEND;TZID=America/Chicago:20230209T210000
DTSTAMP:20260420T124324
CREATED:20230113T142040Z
LAST-MODIFIED:20230113T142040Z
UID:421308-1675962000-1675976400@977wmoi.com
SUMMARY:Karla Wallace's Sip N Paint
DESCRIPTION:Event will be held at Meks on Main in Monmouth. Tickets are $20 and includes a free drink of choice\, food\, and all the painting supplies you will need. For more details\, call 309-299-5324.
URL:https://977wmoi.com/event/karla-wallaces-sip-n-paint/
END:VEVENT
BEGIN:VEVENT
DTSTART;VALUE=DATE:20230210
DTEND;VALUE=DATE:20230211
DTSTAMP:20260420T124324
CREATED:20230201T201459Z
LAST-MODIFIED:20230201T201459Z
UID:422294-1675987200-1676073599@977wmoi.com
SUMMARY:United FFA Care Drive
DESCRIPTION:Get free entry into the United Red Storm Boy’s Basketball game versus Wethersfield by donating two or more hygiene items per person for the United FFA Care Drive. Items being collected include toothbrushes\, toothpaste\, shampoo\, conditioner\, body wash\, laundry detergent\, etc.
URL:https://977wmoi.com/event/united-ffa-care-drive/
END:VEVENT
BEGIN:VEVENT
DTSTART;TZID=America/Chicago:20230210T150000
DTEND;TZID=America/Chicago:20230210T170000
DTSTAMP:20260420T124324
CREATED:20230109T162254Z
LAST-MODIFIED:20230109T162254Z
UID:421024-1676041200-1676048400@977wmoi.com
SUMMARY:Warren County Public Library Children Series
DESCRIPTION:Friday\, February 10th a 3:30 p.m. Lego Building Challenge
URL:https://977wmoi.com/event/warren-county-public-library-children-series/
END:VEVENT
BEGIN:VEVENT
DTSTART;TZID=America/Chicago:20230210T160000
DTEND;TZID=America/Chicago:20230210T190000
DTSTAMP:20260420T124324
CREATED:20230203T140523Z
LAST-MODIFIED:20230203T140523Z
UID:422410-1676044800-1676055600@977wmoi.com
SUMMARY:Eagle View Monmouth Clinic Open House
DESCRIPTION:Join in the celebration of the opening of the Monmouth Clinic\, 230 South Main Street\, with food\, music\, door prizes\, giveaways\, and more!
URL:https://977wmoi.com/event/eagle-view-monmouth-clinic-open-house/
END:VEVENT
BEGIN:VEVENT
DTSTART;TZID=America/Chicago:20230211T110000
DTEND;TZID=America/Chicago:20230211T140000
DTSTAMP:20260420T124324
CREATED:20230207T204250Z
LAST-MODIFIED:20230207T204250Z
UID:422605-1676113200-1676124000@977wmoi.com
SUMMARY:Hand Built Ceramic Pet Bowl BCA Class
DESCRIPTION:Join Rebecca Quick as she teaches introductory level ceramic techniques for creating a handmade bowl for your pet. Participants will learn pinch pot and coil building techniques and other methods of ceramic arts. 11am-2pm Saturday\, February 11\, in the BCA Classroom. Class fee is included with your BCA membership. Class fee for non-members is $10. Scholarships are available. Open to all ages. Call 309-734-3033 to reserve your spot today.
URL:https://977wmoi.com/event/hand-built-ceramic-pet-bowl-bca-class/
END:VEVENT
BEGIN:VEVENT
DTSTART;TZID=America/Chicago:20230211T163000
DTEND;TZID=America/Chicago:20230211T193000
DTSTAMP:20260420T124324
CREATED:20230113T142326Z
LAST-MODIFIED:20230113T142326Z
UID:421310-1676133000-1676143800@977wmoi.com
SUMMARY:Henderson County Olde Tymers Association Soup Supper
DESCRIPTION:Event will be held at St. Patrick’s Community Center – Raritan\, IL. Serving Chili\, Potato\, Ham and Beans\, Maid-rites\, and Desserts.
URL:https://977wmoi.com/event/henderson-county-olde-tymers-association-soup-supper/
END:VEVENT
BEGIN:VEVENT
DTSTART;TZID=America/Chicago:20230211T180000
DTEND;TZID=America/Chicago:20230211T180000
DTSTAMP:20260420T124324
CREATED:20230123T142344Z
LAST-MODIFIED:20230123T142344Z
UID:421740-1676138400-1676138400@977wmoi.com
SUMMARY:West Central IL ROSC Recovery Comedy Night
DESCRIPTION:Starring Jeff McFadden. Admission is free. Mature audience only. Doors open at 6 pm. Show begins at 7 pm. Event will be held at Cedar Creek Hall\, 571 East North Street in Galesburg. Complementary snack bar. $2 non-alcoholic drinks. Smokin’ Willies available for purchase.
URL:https://977wmoi.com/event/west-central-il-rosc-recovery-comedy-night/
END:VEVENT
BEGIN:VEVENT
DTSTART;TZID=America/Chicago:20230211T180000
DTEND;TZID=America/Chicago:20230211T220000
DTSTAMP:20260420T124324
CREATED:20230109T165333Z
LAST-MODIFIED:20230109T165333Z
UID:421034-1676138400-1676152800@977wmoi.com
SUMMARY:Warren County History Museum SpeakEasy and Casino Benefit
DESCRIPTION:Jazz\, gambling\, hours d’ourves\, silent auction and a cash bar to benefit the Museum. February 11th from 6-10 pm at 238 South Sunny Lane
URL:https://977wmoi.com/event/warren-county-history-museum-speakeasy-and-casino-benefit/
END:VEVENT
BEGIN:VEVENT
DTSTART;TZID=America/Chicago:20230211T180000
DTEND;TZID=America/Chicago:20230211T220000
DTSTAMP:20260420T124324
CREATED:20230111T205407Z
LAST-MODIFIED:20230111T205407Z
UID:421226-1676138400-1676152800@977wmoi.com
SUMMARY:Speakeasy & Casino Benefit
DESCRIPTION:A magical evening of jazz\, gambling\, hors d’oeuvres\, a silent auction\, and a cash bar\, all to benefit the Warren County History Museum\, 238 South Sunny Lane in Monmouth. Free parking at the museum.
URL:https://977wmoi.com/event/speakeasy-casino-benefit/
END:VEVENT
BEGIN:VEVENT
DTSTART;TZID=America/Chicago:20230214T170000
DTEND;TZID=America/Chicago:20230214T190000
DTSTAMP:20260420T124324
CREATED:20230130T165117Z
LAST-MODIFIED:20230130T165117Z
UID:422097-1676394000-1676401200@977wmoi.com
SUMMARY:Stronghurst/Carmen United Methodist Church Tuesday Night Out
DESCRIPTION:Join for dinner and a night of fellowship at the Stronghurst United Methodist Church.
URL:https://977wmoi.com/event/stronghurst-carmen-united-methodist-church-tuesday-night-out/
END:VEVENT
BEGIN:VEVENT
DTSTART;TZID=America/Chicago:20230214T173000
DTEND;TZID=America/Chicago:20230214T193000
DTSTAMP:20260420T124324
CREATED:20230109T170628Z
LAST-MODIFIED:20230109T170628Z
UID:421045-1676395800-1676403000@977wmoi.com
SUMMARY:Galesburg Parks and Rec present Parents Night Out February 14th
DESCRIPTION:5:30-7:30 p.m. Early Bird $12.00 by January 31st.  Parents can have a night out and children will be engaged and active at the Lakeside Rec Facility.  Pizza will be provided and the event is for ages 4-12. Call 309 345 3683
URL:https://977wmoi.com/event/galesburg-parks-and-rec-present-parents-night-out-february-14th/
END:VEVENT
BEGIN:VEVENT
DTSTART;TZID=America/Chicago:20230214T190000
DTEND;TZID=America/Chicago:20230214T190000
DTSTAMP:20260420T124324
CREATED:20230130T135512Z
LAST-MODIFIED:20230130T135512Z
UID:422048-1676401200-1676401200@977wmoi.com
SUMMARY:Knox County Right to Life Meeting
DESCRIPTION:The next regularly scheduled meeting of the Knox County Right to Life will be held at 7:00 PM on Tuesday\, February 14\, 2023\, at Immaculate Heart of Mary Church\, 2401 N. Broad St. Galesburg\, IL. The meeting will include education and letter writing. Upcoming events include the annual Knox County Right To Life Pancake Breakfast and the annual prayer service. Be watching for the announcements for the locations\, dates\, and times of these important events. We hope you’ll join us! Prayer Warriors: We need your prayers and witness more than ever. Consider standing in front of the abortion facility in Peoria. Call Barbara at (309) 388-0145 (no texts please).  7X7X7X: 7am\, 7 pm\, 7 words: “Lord\, please stop abortion in this country.
URL:https://977wmoi.com/event/knox-county-right-to-life-meeting-20/
END:VEVENT
BEGIN:VEVENT
DTSTART;TZID=America/Chicago:20230215T130000
DTEND;TZID=America/Chicago:20230215T130000
DTSTAMP:20260420T124324
CREATED:20230130T164025Z
LAST-MODIFIED:20230130T164025Z
UID:422083-1676466000-1676466000@977wmoi.com
SUMMARY:Adult Movie Matinee at the Henderson County Library
DESCRIPTION:Meg Ryan month. “French Kiss” will be shown.
URL:https://977wmoi.com/event/adult-movie-matinee-at-the-henderson-county-library-3/
END:VEVENT
BEGIN:VEVENT
DTSTART;VALUE=DATE:20230216
DTEND;VALUE=DATE:20230217
DTSTAMP:20260420T124324
CREATED:20230131T210818Z
LAST-MODIFIED:20230131T210818Z
UID:422228-1676505600-1676591999@977wmoi.com
SUMMARY:Legacy Estates of Monmouth Coffee Date
DESCRIPTION:Join members of the Legacy Estates of Monmouth team at the Lunch Box 255 East Penn Avenue in Roseville. The first 20 cups of coffee are on them!
URL:https://977wmoi.com/event/legacy-estates-of-monmouth-coffee-date/
END:VEVENT
BEGIN:VEVENT
DTSTART;TZID=America/Chicago:20230216T120000
DTEND;TZID=America/Chicago:20230216T120000
DTSTAMP:20260420T124324
CREATED:20230117T141454Z
LAST-MODIFIED:20230117T141454Z
UID:421423-1676548800-1676548800@977wmoi.com
SUMMARY:Monmouth Associates Luncheon
DESCRIPTION:Event will be held at Meks on Main\, 201 North Main Street in Monmouth. Out of the Classroom and into the Ruins: From Monmouth to Mycenae. A group of Monmouth College students rang in the New Year in Greece\, where they took part in a study-abroad trip over winter break. Led by professors Bob Holschuh Simmons from classics and Lori Walters-Kramer from communication studies\, the students experienced the region to better understand classical rhetoric in Greece. Hear from professors Holschuh Simmons and Walters-Kramer and students who made the incredible trip. RSVP BY FEBRUARY 13; 309-457-2231 or alumni@monmouthcollege.edu. Tickets are $15.
URL:https://977wmoi.com/event/monmouth-associates-luncheon-3/
END:VEVENT
BEGIN:VEVENT
DTSTART;TZID=America/Chicago:20230216T170000
DTEND;TZID=America/Chicago:20230216T170000
DTSTAMP:20260420T124324
CREATED:20230126T141645Z
LAST-MODIFIED:20230126T141645Z
UID:421919-1676566800-1676566800@977wmoi.com
SUMMARY:Crafting for a Cause
DESCRIPTION:Join Western Illinois Animal Rescue and some furry friends at the Warren County Public Library for an evening of DIY tug toys and catnip sachets. Pet supply and monetary donations are encouraged; pet food\, cat litter\, dishes\, blankets and beds\, carriers\, and toys.
URL:https://977wmoi.com/event/crafting-for-a-cause/
END:VEVENT
BEGIN:VEVENT
DTSTART;TZID=America/Chicago:20230217T110000
DTEND;TZID=America/Chicago:20230217T180000
DTSTAMP:20260420T124324
CREATED:20230131T191915Z
LAST-MODIFIED:20230131T191915Z
UID:422222-1676631600-1676656800@977wmoi.com
SUMMARY:Calvary Baptist Church Fried Chicken Dinner
DESCRIPTION:Carry out and delivery available at the Calvary Baptist Church\, 1000 South 1st Street in Monmouth. Donation of $12 is asked for the meal.
URL:https://977wmoi.com/event/calvary-baptist-church-fried-chicken-dinner/
END:VEVENT
END:VCALENDAR