BEGIN:VCALENDAR
VERSION:2.0
PRODID:-//Prairie Communications, LLC - ECPv6.15.20//NONSGML v1.0//EN
CALSCALE:GREGORIAN
METHOD:PUBLISH
X-WR-CALNAME:Prairie Communications, LLC
X-ORIGINAL-URL:https://977wmoi.com
X-WR-CALDESC:Events for Prairie Communications, LLC
REFRESH-INTERVAL;VALUE=DURATION:PT1H
X-Robots-Tag:noindex
X-PUBLISHED-TTL:PT1H
BEGIN:VTIMEZONE
TZID:America/Chicago
BEGIN:DAYLIGHT
TZOFFSETFROM:-0600
TZOFFSETTO:-0500
TZNAME:CDT
DTSTART:20210314T080000
END:DAYLIGHT
BEGIN:STANDARD
TZOFFSETFROM:-0500
TZOFFSETTO:-0600
TZNAME:CST
DTSTART:20211107T070000
END:STANDARD
BEGIN:DAYLIGHT
TZOFFSETFROM:-0600
TZOFFSETTO:-0500
TZNAME:CDT
DTSTART:20220313T080000
END:DAYLIGHT
BEGIN:STANDARD
TZOFFSETFROM:-0500
TZOFFSETTO:-0600
TZNAME:CST
DTSTART:20221106T070000
END:STANDARD
BEGIN:DAYLIGHT
TZOFFSETFROM:-0600
TZOFFSETTO:-0500
TZNAME:CDT
DTSTART:20230312T080000
END:DAYLIGHT
BEGIN:STANDARD
TZOFFSETFROM:-0500
TZOFFSETTO:-0600
TZNAME:CST
DTSTART:20231105T070000
END:STANDARD
END:VTIMEZONE
BEGIN:VEVENT
DTSTART;TZID=America/Chicago:20220402T100000
DTEND;TZID=America/Chicago:20220402T130000
DTSTAMP:20260421T084459
CREATED:20220225T165116Z
LAST-MODIFIED:20220225T165116Z
UID:405053-1648893600-1648904400@977wmoi.com
SUMMARY:CASA Volunteer Training Class
DESCRIPTION:CASA is holding a Volunteer Training Class in April. Join us and make a difference in a child’s life today! Class will be every Friday in April from 10 am to 1 pm. Visit casaofwestcentralillinois.org/get-involved for more info!
URL:https://977wmoi.com/event/casa-volunteer-training-class/
END:VEVENT
BEGIN:VEVENT
DTSTART;TZID=America/Chicago:20220402T080000
DTEND;TZID=America/Chicago:20220402T160000
DTSTAMP:20260421T084459
CREATED:20220329T131427Z
LAST-MODIFIED:20220329T131427Z
UID:406436-1648886400-1648915200@977wmoi.com
SUMMARY:Stoneware Museum of Monmouth Season Opening
DESCRIPTION:Many new pieces and information on Western Stoneware for 2022.
URL:https://977wmoi.com/event/stoneware-museum-of-monmouth-season-opening/
END:VEVENT
BEGIN:VEVENT
DTSTART;TZID=America/Chicago:20220401T173000
DTEND;TZID=America/Chicago:20220401T193000
DTSTAMP:20260421T084459
CREATED:20220324T130311Z
LAST-MODIFIED:20220324T130311Z
UID:406265-1648834200-1648841400@977wmoi.com
SUMMARY:2022 Sandburg Student Art Show Opening Reception
DESCRIPTION:The annual Carl Sandburg College Student Art Show returns to the Lonnie Eugene Stewart Art Gallery from March 28-May 9\, with an opening reception from 5:30-7:30 April 1 in the gallery on Sandburg’s Main Campus in Galesburg\, 2400 Tom L. Wilson Blvd. This year marks the first in-person reception for the show since 2019. It was completely virtual in 2020\, and patrons were encouraged to view it virtually last year as well because of COVID-19. The juror for this year’s show is 2013 Sandburg graduate Josh Niles. A working artist and instructor at Tidewater Community College in Norfolk\, Va.\, Niles’ work primarily focuses on the investigation of empathy and experience through the lens of color across the landscapes of rural Illinois and the Midwest.
URL:https://977wmoi.com/event/2022-sandburg-student-art-show-opening-reception/
END:VEVENT
BEGIN:VEVENT
DTSTART;TZID=America/Chicago:20220401T170000
DTEND;TZID=America/Chicago:20220401T190000
DTSTAMP:20260421T084459
CREATED:20220331T150653Z
LAST-MODIFIED:20220331T150653Z
UID:406634-1648832400-1648839600@977wmoi.com
SUMMARY:Monmouth VFW Dinner
DESCRIPTION:Serving brats\, baked beans\, and potato chips. Open to the entire public.
URL:https://977wmoi.com/event/monmouth-vfw-dinner-12/
END:VEVENT
BEGIN:VEVENT
DTSTART;TZID=America/Chicago:20220401T110000
DTEND;TZID=America/Chicago:20220401T110000
DTSTAMP:20260421T084459
CREATED:20220323T131445Z
LAST-MODIFIED:20220323T131445Z
UID:406186-1648810800-1648810800@977wmoi.com
SUMMARY:Dame Fine Coffee Ribbon Cutting
DESCRIPTION:Join the Galesburg Area Chamber of Commerce as they celebrate the opening of Dame Fine Coffee in Galesburg. The event will be love streamed on Facebook.
URL:https://977wmoi.com/event/dame-fine-coffee-ribbon-cutting/
END:VEVENT
BEGIN:VEVENT
DTSTART;TZID=America/Chicago:20220401T063000
DTEND;TZID=America/Chicago:20220401T074500
DTSTAMP:20260421T084459
CREATED:20220224T173847Z
LAST-MODIFIED:20220224T173847Z
UID:404986-1648794600-1648799100@977wmoi.com
SUMMARY:Lenten Lay Breakfast Series at Strom Center
DESCRIPTION:Breakfast begins at 6:30 am with the program from 7:15 am to 7:45 am. Host church is Immaculate Conception.
URL:https://977wmoi.com/event/lenten-lay-breakfast-series-at-strom-center-4/
END:VEVENT
BEGIN:VEVENT
DTSTART;VALUE=DATE:20220401
DTEND;VALUE=DATE:20220402
DTSTAMP:20260421T084459
CREATED:20220321T132928Z
LAST-MODIFIED:20220321T132928Z
UID:406072-1648771200-1648857599@977wmoi.com
SUMMARY:City of Monmouth Curbside Yard Waste Pickup Begins
DESCRIPTION:
URL:https://977wmoi.com/event/city-of-monmouth-curbside-yard-waste-pickup-begins/
END:VEVENT
BEGIN:VEVENT
DTSTART;TZID=America/Chicago:20220330T173000
DTEND;TZID=America/Chicago:20220330T173000
DTSTAMP:20260421T084459
CREATED:20220324T181810Z
LAST-MODIFIED:20220324T181810Z
UID:406299-1648661400-1648661400@977wmoi.com
SUMMARY:West Central FFA Banquet
DESCRIPTION:Held inside the High School Gym. Silent auction. Meal provided. Awards and new officers.
URL:https://977wmoi.com/event/west-central-ffa-banquet/
END:VEVENT
BEGIN:VEVENT
DTSTART;TZID=America/Chicago:20220328T170000
DTEND;TZID=America/Chicago:20220328T190000
DTSTAMP:20260421T084459
CREATED:20220328T132556Z
LAST-MODIFIED:20220328T132556Z
UID:406375-1648486800-1648494000@977wmoi.com
SUMMARY:Knox County's Snowmobile Search & Rescue Team Fundraiser
DESCRIPTION:The Knox County Sheriffs Department Snowmobile Search & Rescue Team will be holding a fundraiser on Monday March 28th. We will be serving supper at the Alpha Legion from 5PM to 7PM. At 7 PM the legion will be holding their weekly drawing. Everyone is welcome to come to support the Snowmobile SRT!
URL:https://977wmoi.com/event/knox-countys-snowmobile-search-rescue-team-fundraiser/
END:VEVENT
BEGIN:VEVENT
DTSTART;TZID=America/Chicago:20220325T170000
DTEND;TZID=America/Chicago:20220325T190000
DTSTAMP:20260421T084459
CREATED:20220324T195246Z
LAST-MODIFIED:20220324T195246Z
UID:406304-1648227600-1648234800@977wmoi.com
SUMMARY:Monmouth VFW Dinner
DESCRIPTION:Serving chicken and noodles with mashed potatoes. Public is welcome.
URL:https://977wmoi.com/event/monmouth-vfw-dinner-11/
END:VEVENT
BEGIN:VEVENT
DTSTART;TZID=America/Chicago:20220325T150000
DTEND;TZID=America/Chicago:20220325T190000
DTSTAMP:20260421T084459
CREATED:20220314T143024Z
LAST-MODIFIED:20220314T143024Z
UID:405787-1648220400-1648234800@977wmoi.com
SUMMARY:Recharge Teen Center Open House
DESCRIPTION:Door prizes. Program enrollment. Tacos. Located at 213 South Main Street in Monmouth.
URL:https://977wmoi.com/event/recharge-teen-center-open-house/
END:VEVENT
BEGIN:VEVENT
DTSTART;TZID=America/Chicago:20220325T083000
DTEND;TZID=America/Chicago:20220325T140000
DTSTAMP:20260421T084459
CREATED:20220323T131304Z
LAST-MODIFIED:20220323T131304Z
UID:406184-1648197000-1648216800@977wmoi.com
SUMMARY:West Central High School Blood Drive
DESCRIPTION:Ages 16 and older are able to donate. They ask you to bring a photo ID\, your blood donor card\, or two other forms of ID. To schedule an appointment at West Central High School\, located at 1514 US Highway 34 in Biggsville\, call 309-627-2377. Walk-ins are also welcome!
URL:https://977wmoi.com/event/west-central-high-school-blood-drive-2/
END:VEVENT
BEGIN:VEVENT
DTSTART;TZID=America/Chicago:20220325T063000
DTEND;TZID=America/Chicago:20220325T074500
DTSTAMP:20260421T084459
CREATED:20220224T173742Z
LAST-MODIFIED:20220224T173742Z
UID:404984-1648189800-1648194300@977wmoi.com
SUMMARY:Lenten Lay Breakfast Series at Strom Center
DESCRIPTION:Breakfast begins at 6:30 am with the program from 7:15 am to 7:45 am. Host church is Fairview Center/Cameron Christian.
URL:https://977wmoi.com/event/lenten-lay-breakfast-series-at-strom-center-3/
END:VEVENT
BEGIN:VEVENT
DTSTART;TZID=America/Chicago:20220324T073000
DTEND;TZID=America/Chicago:20220324T083000
DTSTAMP:20260421T084459
CREATED:20220309T141512Z
LAST-MODIFIED:20220309T141512Z
UID:405568-1648107000-1648110600@977wmoi.com
SUMMARY:Healthy Workplace Virtual Events: Mental Wellbeing
DESCRIPTION:3 Part Series – Taking care of yourself\, so you can take care of others. \nSpeakers: Henry Martin Del Campo\, M.D.\, Director of OSF Healthcare Management and Jenna Boyd\, OSF Behavioral Health Navigator \nThis session will help you:\n•    Understand your own abilities\n•    Review coping strategies and identify resources\n•    Identify activities that reduce burnout\n•    Create habits that can promote resiliency and wellbeing\n•    Create a plan to promote positive changes in your life \nRegister online by March 23 HERE
URL:https://977wmoi.com/event/healthy-workplace-virtual-events-mental-wellbeing/
END:VEVENT
BEGIN:VEVENT
DTSTART;TZID=America/Chicago:20220323T130000
DTEND;TZID=America/Chicago:20220323T150000
DTSTAMP:20260421T084459
CREATED:20220224T175115Z
LAST-MODIFIED:20220224T175115Z
UID:405006-1648040400-1648047600@977wmoi.com
SUMMARY:BINGO at the Oquawka Strom Center
DESCRIPTION:
URL:https://977wmoi.com/event/bingo-at-the-oquawka-strom-center-2/
END:VEVENT
BEGIN:VEVENT
DTSTART;TZID=America/Chicago:20220322T190000
DTEND;TZID=America/Chicago:20220322T190000
DTSTAMP:20260421T084459
CREATED:20211007T164219Z
LAST-MODIFIED:20211007T164219Z
UID:398738-1647975600-1647975600@977wmoi.com
SUMMARY:Maple Leaf Community Concert Series: Tony DeSare
DESCRIPTION:The concert is located at Monmouth College’s historical Dahl Chapel\, 700 E. Broadway\, Monmouth\, Illinois\, which provides the audience with warm surroundings and amazing acoustics\, which creates a remarkable\, memorable concert experience! About Tony: Tony DeSare performs with infectious joy\, wry playfulness and robust musicality. Named a “Rising Star Male Vocalist” in Downbeat Magazine\, DeSare has lived up to this distinction by winning critical and popular acclaim for his concert performances throughout North America and abroad. Notwithstanding his critically acclaimed turns as a singer/pianist\, DeSare is also an accomplished award-winning composer. He not only won first place in the USA Songwriting Contest\, but has written the theme song for the motion picture\, “My Date With Drew” and has composed the full soundtracks for the Hallmark Channel’s “Love Always Santa” and Lifetime’s “Nanny Nightmare.”
URL:https://977wmoi.com/event/maple-leaf-community-concert-series-tony-desare-2/
END:VEVENT
BEGIN:VEVENT
DTSTART;TZID=America/Chicago:20220322T183000
DTEND;TZID=America/Chicago:20220322T203000
DTSTAMP:20260421T084459
CREATED:20220303T141640Z
LAST-MODIFIED:20220303T141640Z
UID:405310-1647973800-1647981000@977wmoi.com
SUMMARY:Storm Spotter Training at the Roseville Fire Station
DESCRIPTION:Spotter training classes cover severe weather hazards including thunderstorms and tornadoes. This includes the general structure and movement of severe thunderstorms\, identification of important storm features\, and safety concerns. Classes last about 2 hours\, are free\, and open to the public. No RSVP is required.
URL:https://977wmoi.com/event/storm-spotter-training-at-the-roseville-fire-station/
END:VEVENT
BEGIN:VEVENT
DTSTART;TZID=America/Chicago:20220321T170000
DTEND;TZID=America/Chicago:20220321T170000
DTSTAMP:20260421T084459
CREATED:20220315T205147Z
LAST-MODIFIED:20220315T205147Z
UID:405912-1647882000-1647882000@977wmoi.com
SUMMARY:Meet & Greet with Angie Normoyle
DESCRIPTION:Jon the Warren County Democrats for an opportunity to meet Angie Normoyle. Angie is a candidate for the U.S. Congress\, 17th District. From Moline\, she is a member of the Rock Island County Board and teaches at Augustana College. The event is open to the public and will be help at Danny’s Tap side room. Light refreshments will be provided.
URL:https://977wmoi.com/event/meet-greet-with-angie-normoyle/
END:VEVENT
BEGIN:VEVENT
DTSTART;TZID=America/Chicago:20220321T100000
DTEND;TZID=America/Chicago:20220321T120000
DTSTAMP:20260421T084459
CREATED:20220308T191100Z
LAST-MODIFIED:20220308T191100Z
UID:405544-1647856800-1647864000@977wmoi.com
SUMMARY:2022 FS Ag Roundtable
DESCRIPTION:From the Patton Block Building and live on AM 1330/FM 94.1 WRAM\, online at http://radiomonmouth.com\, or the free WRAM mobile app from your Google Play or Apple App store.
URL:https://977wmoi.com/event/2022-fs-ag-roundtable-2/
END:VEVENT
BEGIN:VEVENT
DTSTART;TZID=America/Chicago:20220320T060000
DTEND;TZID=America/Chicago:20220320T110000
DTSTAMP:20260421T084459
CREATED:20220318T162358Z
LAST-MODIFIED:20220318T162358Z
UID:406031-1647756000-1647774000@977wmoi.com
SUMMARY:Alexis Firemen's Annual Breakfast
DESCRIPTION:Serving biscuits and gravy\, scrambled eggs\, bacon\, and sausage at the Alexis Fire Station. Free will donations accepted.
URL:https://977wmoi.com/event/alexis-firemens-annual-breakfast/
END:VEVENT
BEGIN:VEVENT
DTSTART;VALUE=DATE:20220320
DTEND;VALUE=DATE:20220327
DTSTAMP:20260421T084459
CREATED:20220221T142701Z
LAST-MODIFIED:20220221T142701Z
UID:404772-1647734400-1648339199@977wmoi.com
SUMMARY:Great Bowls Gives Back
DESCRIPTION:Galesburg Community Arts Center is back with their Great Bowls Gives Back. You pick your bowl. You choose the restaurants and support the community.
URL:https://977wmoi.com/event/great-bowls-gives-back/
END:VEVENT
BEGIN:VEVENT
DTSTART;TZID=America/Chicago:20220319T190000
DTEND;TZID=America/Chicago:20220319T210000
DTSTAMP:20260421T084459
CREATED:20220301T180812Z
LAST-MODIFIED:20220301T180812Z
UID:405224-1647716400-1647723600@977wmoi.com
SUMMARY:"Timeless Typewriters" - Warren County History Museum
DESCRIPTION:An interactive event for all ages! Letter writing – type on vintage typewriters – custom-typed poems! If you own a typewriter\, bring it with you.
URL:https://977wmoi.com/event/timeless-typewriters-warren-county-history-museum/
LOCATION:Warren County History Museum\, Sunny Lane\, Monmouth\, IL\, 61462\, United States
END:VEVENT
BEGIN:VEVENT
DTSTART;TZID=America/Chicago:20220319T190000
DTEND;TZID=America/Chicago:20220319T190000
DTSTAMP:20260421T084459
CREATED:20220222T141135Z
LAST-MODIFIED:20220301T145459Z
UID:404815-1647716400-1647716400@977wmoi.com
SUMMARY:Timeless Typewriters
DESCRIPTION:An interactive event for all ages at the Warren County History Museum. Event will feature letter writing\, typing on vintage typewriters\, custom poems typed by Professor David Wright\, and more! If you have a typewriter\, feel free to bring one.
URL:https://977wmoi.com/event/timeless-typewriters/
END:VEVENT
BEGIN:VEVENT
DTSTART;TZID=America/Chicago:20220319T183000
DTEND;TZID=America/Chicago:20220319T183000
DTSTAMP:20260421T084459
CREATED:20220307T143834Z
LAST-MODIFIED:20220307T143834Z
UID:405416-1647714600-1647714600@977wmoi.com
SUMMARY:Celtic Pub Music at Galva Arts Center
DESCRIPTION:Wear something green and get ready for a belated St. Patrick’s Day at the Galva Arts Council’s Annual Irish Coffeehourse. Exorna will be playing Celtic pub music at the Galva Arts Center on Friday\, March 19. For over a decade\, Exorna has been leaving people with smiles on their faces\, playing music that is authentic and down to earth\, singing songs loaded with humor and sentimentality\, fiddling tunes\, and doing it all on traditional instruments. Doors open at 6:30 and performance begins at 7.
URL:https://977wmoi.com/event/celtic-pub-music-at-galva-arts-center/
END:VEVENT
BEGIN:VEVENT
DTSTART;TZID=America/Chicago:20220319T110000
DTEND;TZID=America/Chicago:20220319T130000
DTSTAMP:20260421T084459
CREATED:20220215T195823Z
LAST-MODIFIED:20220215T195823Z
UID:404561-1647687600-1647694800@977wmoi.com
SUMMARY:Spring Time Eggs with Judi Minor at the BCA
DESCRIPTION:Sign up to create a fused glass egg with Judi Minor 11am-1pm Saturday\, March 19 in the BCA Classroom. This art party is for adults and children\, and includes supplies\, instructions\, and a yummy “to-go” treat bag. \nMembers are free; Non-Members are $10. Scholarships are available. The class is limited to 20 participants so call 309-734-3033 and reserve your spot today! \nLook for our class schedule each month at bcaarts.org or on our Facebook page. Now’s the time to become a member of the Buchanan Center for the Arts. See you in the BCA Classroom!
URL:https://977wmoi.com/event/spring-time-eggs-with-judi-minor-at-the-bca/
END:VEVENT
BEGIN:VEVENT
DTSTART;TZID=America/Chicago:20220319T083000
DTEND;TZID=America/Chicago:20220319T103000
DTSTAMP:20260421T084459
CREATED:20220308T180042Z
LAST-MODIFIED:20220308T180042Z
UID:405526-1647678600-1647685800@977wmoi.com
SUMMARY:Making Monmouth Home - Resources for Health Care
DESCRIPTION:All are invited to attend a seminar at the Warren County History Museum\, 238 South Sunny Lane for presentation on health care. Presentations begin at 9 am with a welcome from the MOVE group\, followed by Warren County Health Department Administrator Jenna Link\, OSF HealthCare 101 with Dr. Jeremy Carrier and Dr. Kheder Basheer\, and ending with questions and answers.
URL:https://977wmoi.com/event/making-monmouth-home-resources-for-health-care/
END:VEVENT
BEGIN:VEVENT
DTSTART;TZID=America/Chicago:20220319T080000
DTEND;TZID=America/Chicago:20220319T140000
DTSTAMP:20260421T084459
CREATED:20220308T214230Z
LAST-MODIFIED:20220308T214230Z
UID:405555-1647676800-1647698400@977wmoi.com
SUMMARY:Friends of the Library Book Sale
DESCRIPTION:Warren County Public Library\n62 Public Square\, Monmouth\nMarch 19\, 8:00 a.m. – 2:00 p.m.\nFreewill donations accepted\nBook bags $10
URL:https://977wmoi.com/event/friends-of-the-library-book-sale-3/
END:VEVENT
BEGIN:VEVENT
DTSTART;VALUE=DATE:20220319
DTEND;VALUE=DATE:20220320
DTSTAMP:20260421T084459
CREATED:20220216T144945Z
LAST-MODIFIED:20220216T144945Z
UID:404605-1647648000-1647734399@977wmoi.com
SUMMARY:Warren County YMCA Volleyball Clinic
DESCRIPTION:This clinic is for kids currently in Kindergarten-6th Grade (5-12 years old). This is a 7-Week clinic designed to teach your youth the ins and outs of the sport of Volleyball. Specific skills and a full understanding of the game will be developed through different drills that will challenge your athlete to become a better player as well as a better teammate. Monmouth College’s Kari Shimmin and Members of the Monmouth College Fighting Scots Volleyball Team will provide leadership to your youths in this clinic! \nThe 7-Week clinic will run on Saturday mornings starting March 19 and ending May 7 (no clinics April 16 – Easter Weekend). \nClinic Times are as follows:\nKindergarten-1st Grade – 8:15am\n2nd-3rd Grade – 9:30am\n4th-6th Grade – 10:45am \nSign up forms are being sent to area schools so please sign up with us at the Y’s Front Desk with a form\, or follow this link to sign up online! https://ops1.operations.daxko.com/Online/2158/Programs/search.mvc/programs?branch_id=51&category_ids=3363
URL:https://977wmoi.com/event/warren-county-ymca-volleyball-clinic/
END:VEVENT
BEGIN:VEVENT
DTSTART;VALUE=DATE:20220319
DTEND;VALUE=DATE:20220320
DTSTAMP:20260421T084459
CREATED:20220126T142922Z
LAST-MODIFIED:20220126T142922Z
UID:403615-1647648000-1647734399@977wmoi.com
SUMMARY:Warren County History Museum: Timeless Typewriters
DESCRIPTION:Event will feature Monmouth College Professors Brad Rowe and David Wright.
URL:https://977wmoi.com/event/warren-county-history-museum-timeless-typewriters/
END:VEVENT
BEGIN:VEVENT
DTSTART;TZID=America/Chicago:20220318T170000
DTEND;TZID=America/Chicago:20220318T190000
DTSTAMP:20260421T084459
CREATED:20220315T130100Z
LAST-MODIFIED:20220315T130100Z
UID:405831-1647622800-1647630000@977wmoi.com
SUMMARY:Monmouth VFW Meatloaf Dinner
DESCRIPTION:Public is welcome. Meatloaf dinner will be served with 2 sides.
URL:https://977wmoi.com/event/monmouth-vfw-meatloaf-dinner/
END:VEVENT
END:VCALENDAR