BEGIN:VCALENDAR
VERSION:2.0
PRODID:-//Prairie Communications, LLC - ECPv6.15.20//NONSGML v1.0//EN
CALSCALE:GREGORIAN
METHOD:PUBLISH
X-ORIGINAL-URL:https://977wmoi.com
X-WR-CALDESC:Events for Prairie Communications, LLC
REFRESH-INTERVAL;VALUE=DURATION:PT1H
X-Robots-Tag:noindex
X-PUBLISHED-TTL:PT1H
BEGIN:VTIMEZONE
TZID:America/Chicago
BEGIN:DAYLIGHT
TZOFFSETFROM:-0600
TZOFFSETTO:-0500
TZNAME:CDT
DTSTART:20220313T080000
END:DAYLIGHT
BEGIN:STANDARD
TZOFFSETFROM:-0500
TZOFFSETTO:-0600
TZNAME:CST
DTSTART:20221106T070000
END:STANDARD
BEGIN:DAYLIGHT
TZOFFSETFROM:-0600
TZOFFSETTO:-0500
TZNAME:CDT
DTSTART:20230312T080000
END:DAYLIGHT
BEGIN:STANDARD
TZOFFSETFROM:-0500
TZOFFSETTO:-0600
TZNAME:CST
DTSTART:20231105T070000
END:STANDARD
BEGIN:DAYLIGHT
TZOFFSETFROM:-0600
TZOFFSETTO:-0500
TZNAME:CDT
DTSTART:20240310T080000
END:DAYLIGHT
BEGIN:STANDARD
TZOFFSETFROM:-0500
TZOFFSETTO:-0600
TZNAME:CST
DTSTART:20241103T070000
END:STANDARD
END:VTIMEZONE
BEGIN:VEVENT
DTSTART;TZID=America/Chicago:20230908T073000
DTEND;TZID=America/Chicago:20230908T090000
DTSTAMP:20260423T025801
CREATED:20230719T164736Z
LAST-MODIFIED:20230719T164736Z
UID:431406-1694158200-1694163600@977wmoi.com
SUMMARY:31st Annual Warren County Prime Beef Festival Farmer's Breakfast
DESCRIPTION:The recognition breakfast for area farmers is free to attend and is a goodwill gesture to reinforce the purpose of the Warren County Prime Beef Festival\, to promote the local agricultural heritage. The keynote speaker will be Rodney Weinzierl\, Executive Director of the Illinois Corn Growers Association. Other speakers will include State Representative Norine Hammond\, State Representative Dan Swanson\, State Senator Mike Halpin\, and State Senator Neil Anderson. The breakfast is courtesy of the Monmouth American Legion\, G&M Distributors\, Inc.\, M & E Catering\, FS\, Warren-Henderson Farm Bureau\, and WRAM AM 1330.
URL:https://977wmoi.com/event/31st-annual-warren-county-prime-beef-festival-farmers-breakfast/
END:VEVENT
BEGIN:VEVENT
DTSTART;TZID=America/Chicago:20230908T100000
DTEND;TZID=America/Chicago:20230908T120000
DTSTAMP:20260423T025801
CREATED:20230719T164902Z
LAST-MODIFIED:20230825T145440Z
UID:431408-1694167200-1694174400@977wmoi.com
SUMMARY:2023 FS Fall Ag Roundtable\, Part 2\, on WRAM
DESCRIPTION:Tune in from 10:00 a.m.-12:00 noon on AM 1330 WRAM and FM 94.1\, as well as online at www.radiomonmouth.com\, for the annual FS Fall Ag Roundtable. Hear remarks from Chris Gavin\, Ron Moore\, Rob Elliott\, David Zimmerman\, Jake Armstrong\, 93rd State Representative Norine Hammond\, 74th State Representative Dan Swanson\, 36th State Senator Mike Halpin\, 47th State Senator Neil Anderson\, Thad Tharp\, Brendan Marshall\, DeLoss Jahnke\, and Vanessa Wetterling.
URL:https://977wmoi.com/event/2023-fs-fall-ag-roundtable-on-wram/
END:VEVENT
BEGIN:VEVENT
DTSTART;VALUE=DATE:20230909
DTEND;VALUE=DATE:20230910
DTSTAMP:20260423T025801
CREATED:20230815T183146Z
LAST-MODIFIED:20230815T183146Z
UID:432925-1694217600-1694303999@977wmoi.com
SUMMARY:Warren County Prime Beef Festival Saturday Events
DESCRIPTION:Car show at the Monmouth Park 8 am to 3 pm. Food truck row open 8 am to 10 pm. Kid’s day activities\, including touch a truck 10 am to noon. Swyear amusement Kid’s Day will be noon to 4 pm. Regular Swyear amusement rides open 5 pm to close. Browse the industrial and vendor tent noon to 7 pm. Entertainment tent open 5 pm to 1 am. Power wheels demo at the track at 6 pm. Demolition derby at the track begins at 7 pm.
URL:https://977wmoi.com/event/warren-county-prime-beef-festival-saturday-events-2/
END:VEVENT
BEGIN:VEVENT
DTSTART;TZID=America/Chicago:20230909T070000
DTEND;TZID=America/Chicago:20230909T070000
DTSTAMP:20260423T025801
CREATED:20230810T130904Z
LAST-MODIFIED:20230810T130904Z
UID:432676-1694242800-1694242800@977wmoi.com
SUMMARY:Feed My Lambs 5K Run/Walk/Bike
DESCRIPTION:Join the Abingdon Christian Church for registration from 7 to 7:45 am with the start of the 5K at 8 am. $20 entry fee includes t-shirt and refreshments.
URL:https://977wmoi.com/event/feed-my-lambs-5k-run-walk-bike/
END:VEVENT
BEGIN:VEVENT
DTSTART;TZID=America/Chicago:20230909T100000
DTEND;TZID=America/Chicago:20230909T150000
DTSTAMP:20260423T025801
CREATED:20230825T143622Z
LAST-MODIFIED:20230825T143622Z
UID:433454-1694253600-1694271600@977wmoi.com
SUMMARY:Monarch Migration Festival
DESCRIPTION:Join in the 9th Annual Migration Festival at the Lakeside Nature Center in Galesburg! Register for your time to tour the educational booths and learn all about the Monarch butterfly and its’ lifecycle. A tagged Monarch butterfly will be released every hour beginning at 10:55am (dependent upon butterfly availability) Crafts\, vendors and more will also be available for a day of family fun! Monarch Migration Festival | Illinois Extension | UIUC
URL:https://977wmoi.com/event/monarch-migration-festival/
END:VEVENT
BEGIN:VEVENT
DTSTART;TZID=America/Chicago:20230909T103000
DTEND;TZID=America/Chicago:20230909T120000
DTSTAMP:20260423T025801
CREATED:20230807T151901Z
LAST-MODIFIED:20230807T151901Z
UID:432452-1694255400-1694260800@977wmoi.com
SUMMARY:Intuitive Abstract Painting with the Galesburg Community Arts Center
DESCRIPTION:No formal instruction. No rules. No expectations. No failure. Just enjoy your time painting with instructor Karen Noble. Held every second Saturday\, September through January. $20 per session or $15 if you sign up for all five classes. You can keep your canvas for an extra $5 each.
URL:https://977wmoi.com/event/intuitive-abstract-painting-with-the-galesburg-community-arts-center/
END:VEVENT
BEGIN:VEVENT
DTSTART;TZID=America/Chicago:20230910T070000
DTEND;TZID=America/Chicago:20230910T110000
DTSTAMP:20260423T025801
CREATED:20230810T140456Z
LAST-MODIFIED:20230810T140456Z
UID:432681-1694329200-1694343600@977wmoi.com
SUMMARY:Stearman Fly-Out Breakfast
DESCRIPTION:Serving pancakes\, sausage links\, scrambled eggs\, and drinks at the International Stearman Community Center\, 275 Lloyd Stearman Drive in Galesburg. Adults $10. Children 12 and under $7. Event is hosted by the Galesburg Noon Lions Club.
URL:https://977wmoi.com/event/stearman-fly-out-breakfast/
END:VEVENT
BEGIN:VEVENT
DTSTART;TZID=America/Chicago:20230911T170000
DTEND;TZID=America/Chicago:20230911T190000
DTSTAMP:20260423T025801
CREATED:20230316T133317Z
LAST-MODIFIED:20230316T133317Z
UID:424574-1694451600-1694458800@977wmoi.com
SUMMARY:Stronghurst Farmers Market
DESCRIPTION:On Broadway Street in Stronghurst. Follow Stronghurst Farmers Market on Facebook.
URL:https://977wmoi.com/event/stronghurst-farmers-market-21/
END:VEVENT
BEGIN:VEVENT
DTSTART;TZID=America/Chicago:20230912T180000
DTEND;TZID=America/Chicago:20230912T200000
DTSTAMP:20260423T025801
CREATED:20230807T152653Z
LAST-MODIFIED:20230807T152653Z
UID:432470-1694541600-1694548800@977wmoi.com
SUMMARY:Introduction to Gouache with the Galesburg Community Arts Center
DESCRIPTION:Similar to watercolor\, gouache is favored by many artists due to its opacity. Join instructor Raphael Iaccarino and explore and discover the qualities of this unique medium. $25 per person.
URL:https://977wmoi.com/event/introduction-to-gouache-with-the-galesburg-community-arts-center/
END:VEVENT
BEGIN:VEVENT
DTSTART;VALUE=DATE:20230914
DTEND;VALUE=DATE:20230915
DTSTAMP:20260423T025801
CREATED:20230831T190219Z
LAST-MODIFIED:20230831T190219Z
UID:433753-1694649600-1694735999@977wmoi.com
SUMMARY:Take Charge of Your Health
DESCRIPTION:The University of Illinois Extension will host a 6 week virtual series where you can learn to thrive\, just not survive with ongoing health conditions. Discover healthy ways to live with chronic conditions and find practical ways to treat yourself and talk with doctors and family members. To register\, visit http://go.illinois.edu/2023TakeChargeofYourHealth. Series begins October 5th and will take place each Thursday through November 9th from 1 to 3:30 pm via Zoom.
URL:https://977wmoi.com/event/take-charge-of-your-health/
END:VEVENT
BEGIN:VEVENT
DTSTART;TZID=America/Chicago:20230914T130000
DTEND;TZID=America/Chicago:20230914T130000
DTSTAMP:20260423T025801
CREATED:20230731T191515Z
LAST-MODIFIED:20230831T144117Z
UID:432177-1694696400-1694696400@977wmoi.com
SUMMARY:TRIAD Meeting at Monmouth's Strom Center
DESCRIPTION:Doug Gibb will be the guest speaker for the September TRIAD meeting at Strom Center in Monmouth. Gibb is the Director and Co-founder of the Children’s Grief Camp in Galesburg\, plus is responsible for the direct care of patients in Hospice Care and their families in the local area.
URL:https://977wmoi.com/event/triad-meeting-at-monmouths-strom-center/
END:VEVENT
BEGIN:VEVENT
DTSTART;TZID=America/Chicago:20230914T180000
DTEND;TZID=America/Chicago:20230914T200000
DTSTAMP:20260423T025801
CREATED:20230821T182417Z
LAST-MODIFIED:20230821T182417Z
UID:433221-1694714400-1694721600@977wmoi.com
SUMMARY:Craft Night Out at the Lake Storey Pavillion
DESCRIPTION:Join for a night of crafts and friendship as you create Stone Pictures\, a picture made of stones on a mini canvas panel. $10 per participant.
URL:https://977wmoi.com/event/craft-night-out-at-the-lake-storey-pavillion/
END:VEVENT
BEGIN:VEVENT
DTSTART;TZID=America/Chicago:20230914T190000
DTEND;TZID=America/Chicago:20230914T220000
DTSTAMP:20260423T025801
CREATED:20230807T152814Z
LAST-MODIFIED:20230807T152814Z
UID:432474-1694718000-1694728800@977wmoi.com
SUMMARY:Thursday Night Jazz
DESCRIPTION:Join for an evening with the Galesburg Community Arts Center for jazz at Cherry Street in Galesburg. Free to attend. Cash bar available.
URL:https://977wmoi.com/event/thursday-night-jazz/
END:VEVENT
BEGIN:VEVENT
DTSTART;VALUE=DATE:20230915
DTEND;VALUE=DATE:20230917
DTSTAMP:20260423T025801
CREATED:20230912T191633Z
LAST-MODIFIED:20230912T191655Z
UID:434297-1694736000-1694908799@977wmoi.com
SUMMARY:Monmouth College Theatre Seeking Auditions & Crew Sign Up for Peter Pan
DESCRIPTION:Monmouth College students\, as well as children and adults from the local community are all welcomed and encouraged to audition or volunteer to work backstage for the upcoming production of Peter Pan. Auditions will be held Friday\, September 15th 7 to 8:30 pm for kids and 8:30 to 10:30 pm for MC students and adults and then Saturday\, September 16th 3 to 5 pm for kids and 5 to 7 pm for MC students and adults. Readings from the script will be provided at the audition. Auditions will be held inside Wells Theater on the Monmouth College Campus. Performances will be held November 16th through 19th.
URL:https://977wmoi.com/event/monmouth-college-theatre-seeking-auditions-crew-sign-up-for-peter-pan/
END:VEVENT
BEGIN:VEVENT
DTSTART;TZID=America/Chicago:20230915T073000
DTEND;TZID=America/Chicago:20230915T153000
DTSTAMP:20260423T025801
CREATED:20230823T143301Z
LAST-MODIFIED:20230823T143301Z
UID:433339-1694763000-1694791800@977wmoi.com
SUMMARY:Discover Wellness Summit 2023
DESCRIPTION:Join Bridgeway and Carl Sandburg College for the third annual Discover Wellness Summit\, featuring Tiffany Jenkins and Tami West as keynote speakers. On top of these two wonderful keynotes are 25 breakout sessions to choose from\, a wellness fair that features local resources\, lunch\, a T-shirt and a welcome bag. All of this for FREE! Be sure to register as soon as possible as spots will fill up quickly. Event will be held at Carl Sandburg College in Galesburg. Discover Wellness Summit 2023 Tickets\, Fri\, Sep 15\, 2023 at 7:30 AM | Eventbrite
URL:https://977wmoi.com/event/discover-wellness-summit-2023/
END:VEVENT
BEGIN:VEVENT
DTSTART;TZID=America/Chicago:20230915T110000
DTEND;TZID=America/Chicago:20230915T130000
DTSTAMP:20260423T025801
CREATED:20230505T133959Z
LAST-MODIFIED:20230505T133959Z
UID:427518-1694775600-1694782800@977wmoi.com
SUMMARY:Raritan State Bank Cookout
DESCRIPTION:Held at the Raritan State Bank Pavilion. Proceeds benefitting the Roseville Scouts Christmas Lights Display.
URL:https://977wmoi.com/event/raritan-state-bank-cookout-7/
END:VEVENT
BEGIN:VEVENT
DTSTART;TZID=America/Chicago:20230915T133000
DTEND;TZID=America/Chicago:20230915T133000
DTSTAMP:20260423T025801
CREATED:20230901T182441Z
LAST-MODIFIED:20230901T182441Z
UID:433818-1694784600-1694784600@977wmoi.com
SUMMARY:Church Women United of Monmouth and Vicinity Love Tea
DESCRIPTION:On September 15\, 2023\, Church Women United of Monmouth and Vicinity will have a Love Tea at First United Methodist Church\, 221 E. Broadway in Monmouth at 1:30 p.m.  The purpose of the Love Tea celebration day is to show God’s love to all.  The speaker will be Pastor Shelly Forrest\, speaking on “All About Love”.  Cookies\, tea and coffee will be served.  The church is handicap accessible.  If you have questions\, please call Anita Anderson 309-734-6338.  The Love Tea is among four “celebration days” per year.  The next one will be World Community Day\, focusing on justice and peace in our global community and will be held November 3 at Monmouth First Lutheran Church ELCA.
URL:https://977wmoi.com/event/church-women-united-of-monmouth-and-vicinity-love-tea/
END:VEVENT
BEGIN:VEVENT
DTSTART;TZID=America/Chicago:20230915T170000
DTEND;TZID=America/Chicago:20230915T190000
DTSTAMP:20260423T025801
CREATED:20230906T190953Z
LAST-MODIFIED:20230906T190953Z
UID:433993-1694797200-1694804400@977wmoi.com
SUMMARY:CASA of West Central IL Happy Hour
DESCRIPTION:Come see them\, have a drink\, and learn more about becoming a CASA Volunteer and helping a foster child thrive in the community! Event will be held at The Patton Block in Downtown Monmouth.
URL:https://977wmoi.com/event/casa-of-west-central-il-happy-hour/
END:VEVENT
BEGIN:VEVENT
DTSTART;TZID=America/Chicago:20230916T080000
DTEND;TZID=America/Chicago:20230916T120000
DTSTAMP:20260423T025801
CREATED:20230615T184324Z
LAST-MODIFIED:20230615T184324Z
UID:429649-1694851200-1694865600@977wmoi.com
SUMMARY:Village of Avon Farmers Market
DESCRIPTION:On the first and third Saturdays from May to October\, at the Market Village Hall 102 S Main St\, Avon\, IL 61415\, from 8am to noon. Fresh produce to mouth-watering baked goods. Make it a family event and bring your kids along. They can learn about agriculture through educational opportunities and experience the fun of community gathering made.
URL:https://977wmoi.com/event/village-of-avon-farmers-market-7/
END:VEVENT
BEGIN:VEVENT
DTSTART;TZID=America/Chicago:20230916T083000
DTEND;TZID=America/Chicago:20230916T123000
DTSTAMP:20260423T025801
CREATED:20230913T133331Z
LAST-MODIFIED:20230913T133331Z
UID:434325-1694853000-1694867400@977wmoi.com
SUMMARY:Habitat for Humanity Rummage Sale
DESCRIPTION:Located at 808 South Cedar Street in Galesburg. Rummage sale will contain construction items\, tools\, office items\, miscellaneous items\, baked goods\, and grilled hot dogs. All proceeds benefit the Knox County Habitat for Humanity.
URL:https://977wmoi.com/event/habitat-for-humanity-rummage-sale/
END:VEVENT
BEGIN:VEVENT
DTSTART;TZID=America/Chicago:20230916T083000
DTEND;TZID=America/Chicago:20230916T163000
DTSTAMP:20260423T025801
CREATED:20230821T182708Z
LAST-MODIFIED:20230821T182708Z
UID:433223-1694853000-1694881800@977wmoi.com
SUMMARY:Future Chargers 1-Day Softball Clinic
DESCRIPTION:Ages 8 to 13 from 8:30 am to noon and those 14 to 18 from 1 pm to 4:30 pm at the Carl Sandburg College Softball Fields. Rain location is the Lakeside Recreation Facility. Cost is $65 per participant.
URL:https://977wmoi.com/event/future-chargers-1-day-softball-clinic/
END:VEVENT
BEGIN:VEVENT
DTSTART;TZID=America/Chicago:20230916T090000
DTEND;TZID=America/Chicago:20230916T150000
DTSTAMP:20260423T025801
CREATED:20230803T162508Z
LAST-MODIFIED:20230913T190638Z
UID:432368-1694854800-1694876400@977wmoi.com
SUMMARY:2023 Stronghurst Fall Festival
DESCRIPTION:The Stronghurst Fall Festival will be held on Saturday September 16th\, 2023\, from 9am until 3pm at the Stronghurst Village Park. This event will include mum sales for $25 provided by the Stronghurst Booster Club on a first come first serve basis\, vendors\, music from 11-2pm\, concessions by the Booster Club at the shelter house\, barrel train rides for the kids\, and more! There will be a car and motorcycle show and tractor display set up along Broadway Street\, The Lions Club will be serving a Biscuit and Gravy Breakfast at the American Legion from 7am to 10am will delivery available to the park. City wide garage sales will be taking place as well. And day will end with the HAVOC at the Henderson County Fair Grounds.
URL:https://977wmoi.com/event/2023-stronghurst-fall-festival/
END:VEVENT
BEGIN:VEVENT
DTSTART;TZID=America/Chicago:20230916T100000
DTEND;TZID=America/Chicago:20230916T120000
DTSTAMP:20260423T025801
CREATED:20230807T151636Z
LAST-MODIFIED:20230807T151636Z
UID:432450-1694858400-1694865600@977wmoi.com
SUMMARY:Senior Studios: Handmade Papers with the Galesburg Community Arts Center
DESCRIPTION:In this hands on class you will learn the historic process of making paper. Free for those 62 and older. $10 deposit to hold your spot\, refundable with attendance.
URL:https://977wmoi.com/event/senior-studios-handmade-papers-with-the-galesburg-community-arts-center/
END:VEVENT
BEGIN:VEVENT
DTSTART;TZID=America/Chicago:20230916T160000
DTEND;TZID=America/Chicago:20230916T193000
DTSTAMP:20260423T025801
CREATED:20230328T185937Z
LAST-MODIFIED:20230609T133138Z
UID:425189-1694880000-1694892600@977wmoi.com
SUMMARY:Warren-Henderson Relay for Life Event at West Park
DESCRIPTION:The Warren-Henderson Relay for Life annual event has a new location at West Park\, 401 West Broadway in Monmouth. For more information\, visit Relay For Life of Warren-Henderson | (acsevents.org).
URL:https://977wmoi.com/event/warren-henderson-relay-for-life-event-at-sunny-lane-field/
END:VEVENT
BEGIN:VEVENT
DTSTART;TZID=America/Chicago:20230916T180000
DTEND;TZID=America/Chicago:20230916T180000
DTSTAMP:20260423T025801
CREATED:20230613T204421Z
LAST-MODIFIED:20230613T204421Z
UID:429532-1694887200-1694887200@977wmoi.com
SUMMARY:Hispanic Heritage Festival in Monmouth
DESCRIPTION:United Way of Greater Warren County is proud to announce that the Hispanic Heritage Festival is ON for 2023! This event\, celebrating Hispanic culture\, is sponsored by Smithfield Foods and G&M Distributors. Enjoy authentic food\, music\, dance\, art\, and more! Admission is FREE. 100% of all proceeds from food\, liquor\, and other activities will go directly to a new fund\, led by Hispanic community members and supporting the Hispanic community. Enjoy selections from various regional Hispanic food vendors\, G&M’s specially curated Hispanic beer and other liquor selections\, entertainment by Edrass Chavez\, Quad Cities Ballet Folklorico\, Música EN VIVO de Banda La Nueva Perla Del Sur de Des Moines\, IA\, games & other activities! Admission for entertainment is free – all food & drink reasonably priced\, with ALL PROCEEDS GOING TO SUPPORT THE HISPANIC COMMUNITY! ¡Festival de la Herencia Hispana! – Hispanic Heritage Festival | Facebook
URL:https://977wmoi.com/event/hispanic-heritage-festival-in-monmouth/
END:VEVENT
BEGIN:VEVENT
DTSTART;TZID=America/Chicago:20230916T180000
DTEND;TZID=America/Chicago:20230916T180000
DTSTAMP:20260423T025801
CREATED:20230831T163102Z
LAST-MODIFIED:20230831T163102Z
UID:433727-1694887200-1694887200@977wmoi.com
SUMMARY:Henderson County Havoc
DESCRIPTION:Pits open at 3 pm and Grandstands open at 4 pm at the Henderson County Fairgrounds in Stronghurst. Racing begins at 6 pm. Tickets are $10 for grandstands and $20 for pit passes. No one under the age of 14 is allowed in the pit area. Classes include shotgun rider\, women’s\, rookie\, FWD wire\, FWD bonestock\, RWD bonestock\, limited weld\, and full weld. Driver fee is $20 for first class and $30 for additional class entries.
URL:https://977wmoi.com/event/henderson-county-havoc/
END:VEVENT
BEGIN:VEVENT
DTSTART;TZID=America/Chicago:20230919T153000
DTEND;TZID=America/Chicago:20230919T153000
DTSTAMP:20260423T025801
CREATED:20230821T181932Z
LAST-MODIFIED:20230821T181932Z
UID:433217-1695137400-1695137400@977wmoi.com
SUMMARY:Lego Challenge Club at the Warren County Public Library
DESCRIPTION:The Lego Challenge Club will offer weekly themed challenges to test kids individually and as a team. This is for those ages 5 to 12 years old.
URL:https://977wmoi.com/event/lego-challenge-club-at-the-warren-county-public-library/
END:VEVENT
BEGIN:VEVENT
DTSTART;TZID=America/Chicago:20230920T120000
DTEND;TZID=America/Chicago:20230920T130000
DTSTAMP:20260423T025801
CREATED:20230901T182301Z
LAST-MODIFIED:20230901T182301Z
UID:433816-1695211200-1695214800@977wmoi.com
SUMMARY:Monthly Women's Group
DESCRIPTION:All ladies in the Galesburg and surround area are invited to attend a monthly Women’s Group at The Kensington Ballroom\, 311 East Simmons Street in Galesburg\, on the 3rd Wednesday each month\, beginning September 20th. A light lunch will be provided.
URL:https://977wmoi.com/event/monthly-womens-group/
END:VEVENT
BEGIN:VEVENT
DTSTART;TZID=America/Chicago:20230920T153000
DTEND;TZID=America/Chicago:20230920T163000
DTSTAMP:20260423T025801
CREATED:20230913T132145Z
LAST-MODIFIED:20230913T132145Z
UID:434316-1695223800-1695227400@977wmoi.com
SUMMARY:Adult Social Emotional Learning Training Series
DESCRIPTION:This Adult SEL series will utilize CASEL’s 5 domains of Social Emotional Learning. Sessions will be held September through February on the 3rd Wednesday of the month from 3:30 to 4:30 via Zoom. Get registered at Index | Professional Development Consortium (roe26.net).
URL:https://977wmoi.com/event/adult-social-emotional-learning-training-series/
END:VEVENT
BEGIN:VEVENT
DTSTART;VALUE=DATE:20230921
DTEND;VALUE=DATE:20230926
DTSTAMP:20260423T025801
CREATED:20230823T201419Z
LAST-MODIFIED:20230823T201419Z
UID:433374-1695254400-1695686399@977wmoi.com
SUMMARY:Take a Flight Back in Time on the Historic DC-3 “Flagship Detroit”
DESCRIPTION:Airplane Tours and Membership rides will leave the Macomb Airport on Thursday September 21st\, from the Galesburg Airport Friday September 22nd and Saturday September 23rd\, and also the Burlington Airport Sunday September 24th and Monday September 25th. Annual “Flagship Detroit Foundation” memberships are $100. Call 309-342-3134 to pre-register.
URL:https://977wmoi.com/event/take-a-flight-back-in-time-on-the-historic-dc-3-flagship-detroit/
END:VEVENT
END:VCALENDAR