BEGIN:VCALENDAR
VERSION:2.0
PRODID:-//Prairie Communications, LLC - ECPv6.15.20//NONSGML v1.0//EN
CALSCALE:GREGORIAN
METHOD:PUBLISH
X-ORIGINAL-URL:https://977wmoi.com
X-WR-CALDESC:Events for Prairie Communications, LLC
REFRESH-INTERVAL;VALUE=DURATION:PT1H
X-Robots-Tag:noindex
X-PUBLISHED-TTL:PT1H
BEGIN:VTIMEZONE
TZID:America/Chicago
BEGIN:DAYLIGHT
TZOFFSETFROM:-0600
TZOFFSETTO:-0500
TZNAME:CDT
DTSTART:20220313T080000
END:DAYLIGHT
BEGIN:STANDARD
TZOFFSETFROM:-0500
TZOFFSETTO:-0600
TZNAME:CST
DTSTART:20221106T070000
END:STANDARD
BEGIN:DAYLIGHT
TZOFFSETFROM:-0600
TZOFFSETTO:-0500
TZNAME:CDT
DTSTART:20230312T080000
END:DAYLIGHT
BEGIN:STANDARD
TZOFFSETFROM:-0500
TZOFFSETTO:-0600
TZNAME:CST
DTSTART:20231105T070000
END:STANDARD
BEGIN:DAYLIGHT
TZOFFSETFROM:-0600
TZOFFSETTO:-0500
TZNAME:CDT
DTSTART:20240310T080000
END:DAYLIGHT
BEGIN:STANDARD
TZOFFSETFROM:-0500
TZOFFSETTO:-0600
TZNAME:CST
DTSTART:20241103T070000
END:STANDARD
END:VTIMEZONE
BEGIN:VEVENT
DTSTART;TZID=America/Chicago:20230916T180000
DTEND;TZID=America/Chicago:20230916T180000
DTSTAMP:20260425T221355
CREATED:20230831T163102Z
LAST-MODIFIED:20230831T163102Z
UID:433727-1694887200-1694887200@977wmoi.com
SUMMARY:Henderson County Havoc
DESCRIPTION:Pits open at 3 pm and Grandstands open at 4 pm at the Henderson County Fairgrounds in Stronghurst. Racing begins at 6 pm. Tickets are $10 for grandstands and $20 for pit passes. No one under the age of 14 is allowed in the pit area. Classes include shotgun rider\, women’s\, rookie\, FWD wire\, FWD bonestock\, RWD bonestock\, limited weld\, and full weld. Driver fee is $20 for first class and $30 for additional class entries.
URL:https://977wmoi.com/event/henderson-county-havoc/
END:VEVENT
BEGIN:VEVENT
DTSTART;TZID=America/Chicago:20230919T153000
DTEND;TZID=America/Chicago:20230919T153000
DTSTAMP:20260425T221355
CREATED:20230821T181932Z
LAST-MODIFIED:20230821T181932Z
UID:433217-1695137400-1695137400@977wmoi.com
SUMMARY:Lego Challenge Club at the Warren County Public Library
DESCRIPTION:The Lego Challenge Club will offer weekly themed challenges to test kids individually and as a team. This is for those ages 5 to 12 years old.
URL:https://977wmoi.com/event/lego-challenge-club-at-the-warren-county-public-library/
END:VEVENT
BEGIN:VEVENT
DTSTART;TZID=America/Chicago:20230920T120000
DTEND;TZID=America/Chicago:20230920T130000
DTSTAMP:20260425T221355
CREATED:20230901T182301Z
LAST-MODIFIED:20230901T182301Z
UID:433816-1695211200-1695214800@977wmoi.com
SUMMARY:Monthly Women's Group
DESCRIPTION:All ladies in the Galesburg and surround area are invited to attend a monthly Women’s Group at The Kensington Ballroom\, 311 East Simmons Street in Galesburg\, on the 3rd Wednesday each month\, beginning September 20th. A light lunch will be provided.
URL:https://977wmoi.com/event/monthly-womens-group/
END:VEVENT
BEGIN:VEVENT
DTSTART;TZID=America/Chicago:20230920T153000
DTEND;TZID=America/Chicago:20230920T163000
DTSTAMP:20260425T221355
CREATED:20230913T132145Z
LAST-MODIFIED:20230913T132145Z
UID:434316-1695223800-1695227400@977wmoi.com
SUMMARY:Adult Social Emotional Learning Training Series
DESCRIPTION:This Adult SEL series will utilize CASEL’s 5 domains of Social Emotional Learning. Sessions will be held September through February on the 3rd Wednesday of the month from 3:30 to 4:30 via Zoom. Get registered at Index | Professional Development Consortium (roe26.net).
URL:https://977wmoi.com/event/adult-social-emotional-learning-training-series/
END:VEVENT
BEGIN:VEVENT
DTSTART;VALUE=DATE:20230921
DTEND;VALUE=DATE:20230926
DTSTAMP:20260425T221355
CREATED:20230823T201419Z
LAST-MODIFIED:20230823T201419Z
UID:433374-1695254400-1695686399@977wmoi.com
SUMMARY:Take a Flight Back in Time on the Historic DC-3 “Flagship Detroit”
DESCRIPTION:Airplane Tours and Membership rides will leave the Macomb Airport on Thursday September 21st\, from the Galesburg Airport Friday September 22nd and Saturday September 23rd\, and also the Burlington Airport Sunday September 24th and Monday September 25th. Annual “Flagship Detroit Foundation” memberships are $100. Call 309-342-3134 to pre-register.
URL:https://977wmoi.com/event/take-a-flight-back-in-time-on-the-historic-dc-3-flagship-detroit/
END:VEVENT
BEGIN:VEVENT
DTSTART;TZID=America/Chicago:20230921T120000
DTEND;TZID=America/Chicago:20230921T120000
DTSTAMP:20260425T221355
CREATED:20230818T180407Z
LAST-MODIFIED:20230818T180407Z
UID:433109-1695297600-1695297600@977wmoi.com
SUMMARY:Monmouth Associates Luncheon
DESCRIPTION:Join Monmouth College staff member Kristy Krisher as she discusses her experience in the Galapagos. Event will be held at Meks on Main\, 201 North Main Street in Monmouth. Cost is $17 per ticket. RSVP by calling 309-457-2323 or emailing alumni@monmouthcollege.edu.
URL:https://977wmoi.com/event/monmouth-associates-luncheon-5/
END:VEVENT
BEGIN:VEVENT
DTSTART;TZID=America/Chicago:20230921T170000
DTEND;TZID=America/Chicago:20230921T190000
DTSTAMP:20260425T221355
CREATED:20230807T152031Z
LAST-MODIFIED:20230807T152031Z
UID:432458-1695315600-1695322800@977wmoi.com
SUMMARY:Journal Junkies with the Galesburg Community Arts Center
DESCRIPTION:Join Julie Swanson Davis and Debbie Babb\, along with others with a passion for journaling\, to construct a journal and enjoy experimenting with visual techniques. Cost is $15 per person.
URL:https://977wmoi.com/event/journal-junkies-with-the-galesburg-community-arts-center/
END:VEVENT
BEGIN:VEVENT
DTSTART;VALUE=DATE:20230922
DTEND;VALUE=DATE:20230924
DTSTAMP:20260425T221355
CREATED:20230828T133235Z
LAST-MODIFIED:20230828T133235Z
UID:433515-1695340800-1695513599@977wmoi.com
SUMMARY:City of Monmouth Fall City Wide Sales
DESCRIPTION:All businesses\, churches\, organizations\, clubs\, and families are encouraged to set up and participate in the City Wide Sales in Monmouth on Friday\, September 22nd 8 am to 8 pm and Saturday\, September 23rd 8 am to 3 pm. Registration is free. If you have items that don’t sell or you would like to donate\, Goodwill will be on hand to collect donations behind the Monmouth City Hall\, September 21st through the 24th. No mattresses or televisions will be accepted.
URL:https://977wmoi.com/event/city-of-monmouth-fall-city-wide-sales/
END:VEVENT
BEGIN:VEVENT
DTSTART;TZID=America/Chicago:20230922T160000
DTEND;TZID=America/Chicago:20230922T160000
DTSTAMP:20260425T221355
CREATED:20230915T131323Z
LAST-MODIFIED:20230915T131323Z
UID:434499-1695398400-1695398400@977wmoi.com
SUMMARY:M-R Titans Pre-Game Party
DESCRIPTION:Celebrate Homecoming with the Monmouth-Roseville Titans with a parade at 4 pm\, pre-game party at Coach Dobry Field from 4:45 pm to 6:30 pm with yard games\, spirit station\, music\, cotton candy stand\, photo booth\, silent auction items\, and more. Kickoff is at 7 pm for the Titans Football game.
URL:https://977wmoi.com/event/m-r-titans-pre-game-party/
END:VEVENT
BEGIN:VEVENT
DTSTART;TZID=America/Chicago:20230922T170000
DTEND;TZID=America/Chicago:20230922T190000
DTSTAMP:20260425T221355
CREATED:20230807T152255Z
LAST-MODIFIED:20230807T152255Z
UID:432461-1695402000-1695409200@977wmoi.com
SUMMARY:Arts in Education Exhibition at the Galesburg Community Arts Center
DESCRIPTION:Meet the artists during a reception for free at the center on Friday\, September 22nd from 5 to 7 pm. Hors d’oeuvres\, cash bar\, and live music will be on hand. Exhibition will be on display on the 1st Floor through September 29th.
URL:https://977wmoi.com/event/arts-in-education-exhibition-at-the-galesburg-community-arts-center/
END:VEVENT
BEGIN:VEVENT
DTSTART;TZID=America/Chicago:20230922T170000
DTEND;TZID=America/Chicago:20230922T190000
DTSTAMP:20260425T221355
CREATED:20230807T152447Z
LAST-MODIFIED:20230807T152447Z
UID:432465-1695402000-1695409200@977wmoi.com
SUMMARY:Cora and Gordon Markwart Exhibition at the Galesburg Community Arts Center
DESCRIPTION:Join for an opening reception at the center\, free and open to the public. The Exhibition will be on display through October 21st.
URL:https://977wmoi.com/event/cora-and-gordon-markwart-exhibition-at-the-galesburg-community-arts-center/
END:VEVENT
BEGIN:VEVENT
DTSTART;TZID=America/Chicago:20230922T170000
DTEND;TZID=America/Chicago:20230922T190000
DTSTAMP:20260425T221355
CREATED:20230919T193950Z
LAST-MODIFIED:20230919T193950Z
UID:434668-1695402000-1695409200@977wmoi.com
SUMMARY:BCA National Juried Exhibition Gallery Reception
DESCRIPTION:Join for a gallery reception at the Buchanan Center for the Arts for a National Juried Exhibition with Juror Preston Jackson. Free and open to the public. Exhibition will be on display through November 3rd at the BCA.
URL:https://977wmoi.com/event/bca-national-juried-exhibition-gallery-reception/
END:VEVENT
BEGIN:VEVENT
DTSTART;VALUE=DATE:20230923
DTEND;VALUE=DATE:20230925
DTSTAMP:20260425T221355
CREATED:20230912T130153Z
LAST-MODIFIED:20230912T130153Z
UID:434216-1695427200-1695599999@977wmoi.com
SUMMARY:It is Jordbruksdagarna Time in Historic Bishop Hill IL!
DESCRIPTION:Bishop Hill’s annual 19th century harvest festival Jordbruksdagarna (pronounced yord-brooks-DAH-ga-na) will take place Saturday September 23 and Sunday September 24\, 2023. As always\, there will be a variety of traditional craft demonstrations\, food\, vendors\, and hands-on activities for the children during the 51st Jordbruksdagarna (Swedish for “earth work days”) from 10 a.m. to 4 p.m. both days. Demonstrations\, hands-on activities\, play\, and music are all free. For more details about Jordbruksdagarna activities\, call 309 927-3899\, email bhha@mymctc.net\, check the\nBishop Hill Heritage Association Facebook page\, or view www.visitbishophill.com.
URL:https://977wmoi.com/event/it-is-jordbruksdagarna-time-in-historic-bishop-hill-il/
END:VEVENT
BEGIN:VEVENT
DTSTART;VALUE=DATE:20230923
DTEND;VALUE=DATE:20230924
DTSTAMP:20260425T221355
CREATED:20230921T210117Z
LAST-MODIFIED:20230921T210117Z
UID:434883-1695427200-1695513599@977wmoi.com
SUMMARY:The Belted Cow Orchard Fall Open House
DESCRIPTION:All are invited to the Fall Open House at the Belted Cow Orchard. Enjoy comfort food favorites\, explore charming pop-up vendors while sipping on your favorite fall inspired drinks\, live music\, and more! The Sunny 97.7 WMOI crew will be broadcasting on site from 11 am to 1 pm.
URL:https://977wmoi.com/event/the-belted-cow-orchard-fall-open-house/
END:VEVENT
BEGIN:VEVENT
DTSTART;TZID=America/Chicago:20230923T080000
DTEND;TZID=America/Chicago:20230923T140000
DTSTAMP:20260425T221355
CREATED:20230906T210533Z
LAST-MODIFIED:20230912T204821Z
UID:434011-1695456000-1695477600@977wmoi.com
SUMMARY:Friends of the Warren County Public Library Book Sale
DESCRIPTION:Join for the Friends of the Warren County Public Library Book Sale\, Saturday\, September 23\, 8:00 AM – 2:00 PM\, located at 62 Public Square\, Monmouth. Freewill donations accepted. $10 bookbags also available.
URL:https://977wmoi.com/event/friends-of-the-warren-county-public-library-book-sale-2/
END:VEVENT
BEGIN:VEVENT
DTSTART;TZID=America/Chicago:20230923T083000
DTEND;TZID=America/Chicago:20230923T083000
DTSTAMP:20260425T221355
CREATED:20230328T192959Z
LAST-MODIFIED:20230328T192959Z
UID:425216-1695457800-1695457800@977wmoi.com
SUMMARY:Maple City Antique Tractor Assoc. Poker Run Fundraiser
DESCRIPTION:Donation of $25. Proceeds will benefit Jamieson Community Center. Meet at Russell and Maxine Stewart’s house on the Cameron Blacktop to leave at 8:30 am. Lunch will be served at Stewart’s.
URL:https://977wmoi.com/event/maple-city-antique-tractor-assoc-poker-run-fundraiser/
END:VEVENT
BEGIN:VEVENT
DTSTART;TZID=America/Chicago:20230923T090000
DTEND;TZID=America/Chicago:20230923T150000
DTSTAMP:20260425T221355
CREATED:20230803T161851Z
LAST-MODIFIED:20230803T161851Z
UID:432364-1695459600-1695481200@977wmoi.com
SUMMARY:28th Annual Oquawka Car Show
DESCRIPTION:Cruise back in time during the 28th Annual Oquawka Car Show! Registration is from 9am – noon\, with awards handed out at 3pm. The car show is being moved closer to the river\, starting at 2nd Street. Registration will be at 206 Schuyler Street\, in front of the Oquawka Food Bank. You can get to the entrance via Pike Street. First 50 entries will receive a Dash Plaque and Goodie Bag!! Top 40 Car Awards: Best of Show\, Engine\, Paint\, Interior\, and Under 21. Entry is $12 or $10 with 2 canned goods. For more information or questions contact Oquawka Parks and Tourism via messenger\, or call /text Brenda @ 319-759-3863.
URL:https://977wmoi.com/event/28th-annual-oquawka-car-show/
END:VEVENT
BEGIN:VEVENT
DTSTART;TZID=America/Chicago:20230923T100000
DTEND;TZID=America/Chicago:20230923T100000
DTSTAMP:20260425T221355
CREATED:20230915T133211Z
LAST-MODIFIED:20230915T133211Z
UID:434505-1695463200-1695463200@977wmoi.com
SUMMARY:Monmouth-Roseville Hall of Achievement Induction
DESCRIPTION:Join at the Warren County History Museum for the induction ceremony of Amy Gebauer Sestito\, Mike “Bo” Williams\, and Jane Kellogg into the Monmouth-Roseville Hall of Achievement.
URL:https://977wmoi.com/event/monmouth-roseville-hall-of-achievement-induction/
END:VEVENT
BEGIN:VEVENT
DTSTART;TZID=America/Chicago:20230923T100000
DTEND;TZID=America/Chicago:20230923T120000
DTSTAMP:20260425T221355
CREATED:20230501T200512Z
LAST-MODIFIED:20230501T200512Z
UID:427212-1695463200-1695470400@977wmoi.com
SUMMARY:Nature in Your Neighborhood at Inbinder Park
DESCRIPTION:Explore\, observe\, and discover new and amazing places in your own neighborhood. This free summer program features three or four exciting stations. All ages are welcome. Topic of discussion is Be a Bee and Butterfly Buddy.
URL:https://977wmoi.com/event/nature-in-your-neighborhood-at-inbinder-park/
END:VEVENT
BEGIN:VEVENT
DTSTART;TZID=America/Chicago:20230925T163000
DTEND;TZID=America/Chicago:20230925T190000
DTSTAMP:20260425T221355
CREATED:20230920T195117Z
LAST-MODIFIED:20230920T195117Z
UID:434781-1695659400-1695668400@977wmoi.com
SUMMARY:Heritage Bible Church Indian Taco Supper
DESCRIPTION:Drive thru only at the Heritage Bible Church in Monmouth for a meal size taco and ice cream. Meal costs $8.
URL:https://977wmoi.com/event/heritage-bible-church-indian-taco-supper-4/
END:VEVENT
BEGIN:VEVENT
DTSTART;TZID=America/Chicago:20230926T180000
DTEND;TZID=America/Chicago:20230926T200000
DTSTAMP:20260425T221355
CREATED:20230807T153029Z
LAST-MODIFIED:20230807T153029Z
UID:432477-1695751200-1695758400@977wmoi.com
SUMMARY:Charcoal Medium with the Galesburg Community Arts Center
DESCRIPTION:Join to unlock the mysteries of the charcoal medium with instructor Tina Browder. Cost is $25 per person.
URL:https://977wmoi.com/event/charcoal-medium-with-the-galesburg-community-arts-center/
END:VEVENT
BEGIN:VEVENT
DTSTART;TZID=America/Chicago:20230926T180000
DTEND;TZID=America/Chicago:20230926T200000
DTSTAMP:20260425T221355
CREATED:20230821T183202Z
LAST-MODIFIED:20230821T183202Z
UID:433229-1695751200-1695758400@977wmoi.com
SUMMARY:Ghost or Pumpkin Wall Hanging Decor Event
DESCRIPTION:Get ready for Halloween with the Galesburg Parks and Recreation by creating a ghost or pumpkin wall decoration. $15 for one project or $25 to create both. Event will be held at the Lake Storey Pavilion.
URL:https://977wmoi.com/event/ghost-or-pumpkin-wall-hanging-decor-event/
END:VEVENT
BEGIN:VEVENT
DTSTART;TZID=America/Chicago:20230928T173000
DTEND;TZID=America/Chicago:20230928T173000
DTSTAMP:20260425T221355
CREATED:20230927T134959Z
LAST-MODIFIED:20230927T134959Z
UID:435204-1695922200-1695922200@977wmoi.com
SUMMARY:West Central Homecoming Tailgate & Bonfire
DESCRIPTION:5:30 pm tailgate for athletes and students. 6 pm Power Buff. 7 pm Powder Puff. 8 pm bonfire.
URL:https://977wmoi.com/event/west-central-homecoming-tailgate-bonfire/
END:VEVENT
BEGIN:VEVENT
DTSTART;TZID=America/Chicago:20230928T180000
DTEND;TZID=America/Chicago:20230928T190000
DTSTAMP:20260425T221355
CREATED:20230501T153413Z
LAST-MODIFIED:20230501T153413Z
UID:427138-1695924000-1695927600@977wmoi.com
SUMMARY:Grief Support Group at Strom Center
DESCRIPTION:Strom Center is partnering with Legacy Estates and Beacon of Hope Hospice to offer a once a month Grief Support Group for 5 months. Session 5: Thursday\, September 28th – Celebration.
URL:https://977wmoi.com/event/grief-support-group-at-strom-center-5/
END:VEVENT
BEGIN:VEVENT
DTSTART;TZID=America/Chicago:20230928T180000
DTEND;TZID=America/Chicago:20230928T210000
DTSTAMP:20260425T221355
CREATED:20230807T150950Z
LAST-MODIFIED:20230807T150950Z
UID:432443-1695924000-1695934800@977wmoi.com
SUMMARY:Paint Crawl with the Galesburg Community Arts Center
DESCRIPTION:Join for an exciting night of paint\, jazz\, and Van Gogh. Part Paint by Number and part Pub Crawl. $35 for members. $40 for nonmembers.
URL:https://977wmoi.com/event/paint-crawl-with-the-galesburg-community-arts-center/
END:VEVENT
BEGIN:VEVENT
DTSTART;TZID=America/Chicago:20230928T190000
DTEND;TZID=America/Chicago:20230928T190000
DTSTAMP:20260425T221355
CREATED:20230926T132343Z
LAST-MODIFIED:20230926T132343Z
UID:435102-1695927600-1695927600@977wmoi.com
SUMMARY:United Red Storm Sports Boosters Homecoming Bonfire
DESCRIPTION:To celebrate Homecoming week\, join at United High School for a bonfire\, fun\, food\, car smashing\, and more\, provided by the United Sports Boosters.
URL:https://977wmoi.com/event/united-red-storm-sports-boosters-homecoming-bonfire/
END:VEVENT
BEGIN:VEVENT
DTSTART;TZID=America/Chicago:20230929T170000
DTEND;TZID=America/Chicago:20230929T190000
DTSTAMP:20260425T221355
CREATED:20230922T150109Z
LAST-MODIFIED:20230922T150148Z
UID:434935-1696006800-1696014000@977wmoi.com
SUMMARY:United FFA Hog Roast
DESCRIPTION:United FFA will hold their annual Hog Roast in the Common area inside United High School prior to the Homecoming football game against Abingdon-Avon. Cost is $5 for adults and $3 for kids.
URL:https://977wmoi.com/event/united-ffa-hog-roast-3/
END:VEVENT
BEGIN:VEVENT
DTSTART;TZID=America/Chicago:20230929T180000
DTEND;TZID=America/Chicago:20230929T180000
DTSTAMP:20260425T221355
CREATED:20230605T150214Z
LAST-MODIFIED:20230605T150214Z
UID:429060-1696010400-1696010400@977wmoi.com
SUMMARY:West Central Alumni Homecoming Event
DESCRIPTION:All West Central Heat\, Southern\, and Union alumni\, teachers\, and staff are invited to attend. Admission to the game is free. A social hour with light refreshments will begin at 6 pm. At 6:45 pm\, classes ending in a 3 or 8 will be recognized on the football field. Kick-off will be at 7 pm against Bushnell-Prairie City.
URL:https://977wmoi.com/event/west-central-alumni-homecoming-event/
END:VEVENT
BEGIN:VEVENT
DTSTART;TZID=America/Chicago:20230929T180000
DTEND;TZID=America/Chicago:20230929T180000
DTSTAMP:20260425T221355
CREATED:20230913T131759Z
LAST-MODIFIED:20230913T131759Z
UID:434314-1696010400-1696010400@977wmoi.com
SUMMARY:Western Illinois Museum LatinX Music & Dance Party
DESCRIPTION:The Western Illinois Museum and Casa Latina Cultural Center at WIU celebrate Hispanic Heritage Month with music and dance. On Friday\, September 29th special guests Daniel Rojas and Claire Happel Ashe will perform with the members of EnsAmble Ad Hoc on the Museum’s indoor Our Front Porch. At 6:00 pm the doors and bar open followed by two sets of music at 7:00 pm and 8:00 pm. Dance lessons will be available in between the sets of music. There is a suggested $5 donation at the door.
URL:https://977wmoi.com/event/western-illinois-museum-latinx-music-dance-party/
END:VEVENT
BEGIN:VEVENT
DTSTART;TZID=America/Chicago:20230929T190000
DTEND;TZID=America/Chicago:20230929T190000
DTSTAMP:20260425T221355
CREATED:20230313T194143Z
LAST-MODIFIED:20230313T194143Z
UID:424400-1696014000-1696014000@977wmoi.com
SUMMARY:The Great Nicola Magic Festival After Dark
DESCRIPTION:Join the Warren County History Museum for the 4th Annual festival from the hometown of the Greatest Mystifier ever known.  Event for those 21 years and older at Meks on Main\, 201 North Main Street in Monmouth.
URL:https://977wmoi.com/event/the-great-nicola-magic-festival-after-dark/
END:VEVENT
END:VCALENDAR