BEGIN:VCALENDAR
VERSION:2.0
PRODID:-//Prairie Communications, LLC - ECPv6.15.20//NONSGML v1.0//EN
CALSCALE:GREGORIAN
METHOD:PUBLISH
X-WR-CALNAME:Prairie Communications, LLC
X-ORIGINAL-URL:https://977wmoi.com
X-WR-CALDESC:Events for Prairie Communications, LLC
REFRESH-INTERVAL;VALUE=DURATION:PT1H
X-Robots-Tag:noindex
X-PUBLISHED-TTL:PT1H
BEGIN:VTIMEZONE
TZID:America/Chicago
BEGIN:DAYLIGHT
TZOFFSETFROM:-0600
TZOFFSETTO:-0500
TZNAME:CDT
DTSTART:20210314T080000
END:DAYLIGHT
BEGIN:STANDARD
TZOFFSETFROM:-0500
TZOFFSETTO:-0600
TZNAME:CST
DTSTART:20211107T070000
END:STANDARD
BEGIN:DAYLIGHT
TZOFFSETFROM:-0600
TZOFFSETTO:-0500
TZNAME:CDT
DTSTART:20220313T080000
END:DAYLIGHT
BEGIN:STANDARD
TZOFFSETFROM:-0500
TZOFFSETTO:-0600
TZNAME:CST
DTSTART:20221106T070000
END:STANDARD
BEGIN:DAYLIGHT
TZOFFSETFROM:-0600
TZOFFSETTO:-0500
TZNAME:CDT
DTSTART:20230312T080000
END:DAYLIGHT
BEGIN:STANDARD
TZOFFSETFROM:-0500
TZOFFSETTO:-0600
TZNAME:CST
DTSTART:20231105T070000
END:STANDARD
END:VTIMEZONE
BEGIN:VEVENT
DTSTART;TZID=America/Chicago:20220530T100000
DTEND;TZID=America/Chicago:20220530T100000
DTSTAMP:20260420T072717
CREATED:20220516T155204Z
LAST-MODIFIED:20220516T155204Z
UID:408893-1653904800-1653904800@977wmoi.com
SUMMARY:Biggsville Memorial Day Service
DESCRIPTION:The Biggsville American Legion will be having a Memorial Day Service at the Biggsville cemetery on May 30th at 10am. In case of rain the service will be held at the Biggsville community building at 10am. Lawn chairs are recommended.
URL:https://977wmoi.com/event/biggsville-memorial-day-service/
END:VEVENT
BEGIN:VEVENT
DTSTART;TZID=America/Chicago:20220530T060000
DTEND;TZID=America/Chicago:20220530T100000
DTSTAMP:20260420T072717
CREATED:20220517T134839Z
LAST-MODIFIED:20220517T134839Z
UID:408941-1653890400-1653904800@977wmoi.com
SUMMARY:Kirkwood Fire Department Memorial Day Breakfast
DESCRIPTION:Come on out and support the Kirkwood Fire Department and enjoy a hot breakfast. Serving biscuits and gravy\, pancakes\, scrambled eggs\, bacon\, sausage\, and drinks.
URL:https://977wmoi.com/event/kirkwood-fire-department-memorial-day-breakfast/
END:VEVENT
BEGIN:VEVENT
DTSTART;TZID=America/Chicago:20220529T120000
DTEND;TZID=America/Chicago:20220529T120000
DTSTAMP:20260420T072717
CREATED:20220523T165320Z
LAST-MODIFIED:20220523T165320Z
UID:409184-1653825600-1653825600@977wmoi.com
SUMMARY:Silent Home Cemetery Memorial Day Service
DESCRIPTION:Gather at the cemetery will begin at noon. At 12:15 the Honor Guard and Firing Squad from the Monmouth American Legion Post 136. MC will be Paula Danforth Bowling. Frank Youngquist\, a retired teacher and coach at Rock Island High School\, will be the speaker. Jeanne Gittings Robeson will provide the Veteran roll call.
URL:https://977wmoi.com/event/silent-home-cemetery-memorial-day-service-2/
END:VEVENT
BEGIN:VEVENT
DTSTART;TZID=America/Chicago:20220528T160000
DTEND;TZID=America/Chicago:20220528T190000
DTSTAMP:20260420T072717
CREATED:20220502T135343Z
LAST-MODIFIED:20220502T135343Z
UID:408185-1653753600-1653764400@977wmoi.com
SUMMARY:69th Annual Roseville Fire Department Fish and Chicken Fry
DESCRIPTION:All you can eat catfish fillets\, scored carp\, chicken\, potato salad\, baked beans\, and drinks. Event will be held at the Roseville Fire Station\, 571 State Highway 116 in Roseville. Free will donation accepted.
URL:https://977wmoi.com/event/69th-annual-roseville-fire-department-fish-and-chicken-fry/
END:VEVENT
BEGIN:VEVENT
DTSTART;TZID=America/Chicago:20220528T090000
DTEND;TZID=America/Chicago:20220528T120000
DTSTAMP:20260420T072717
CREATED:20220429T130757Z
LAST-MODIFIED:20220429T130757Z
UID:408111-1653728400-1653739200@977wmoi.com
SUMMARY:43rd Annual Scott Jennings Fishing Contest
DESCRIPTION:
URL:https://977wmoi.com/event/43rd-annual-scott-jennings-fishing-contest/
END:VEVENT
BEGIN:VEVENT
DTSTART;TZID=America/Chicago:20220528T090000
DTEND;TZID=America/Chicago:20220528T110000
DTSTAMP:20260420T072717
CREATED:20220405T184738Z
LAST-MODIFIED:20220405T184738Z
UID:407024-1653728400-1653735600@977wmoi.com
SUMMARY:Warren County YMCA Memorial 5K
DESCRIPTION:Run for a vet! To honor the fallen Veterans and support the local military halls\, the Warren County YMCA is hosting fun run or walk. Proceeds will be given to the local Monmouth VFW and American Legion. Register at the Y or online at http://warrencountyymca.org. Registration is $30. All participants will receive a run shirt and a pass to dip into the Pattee Outdoor pool after the race. Register by May 23rd to receive your shirt the day of the event. Race begins at the Warren County YMCA.
URL:https://977wmoi.com/event/warren-county-ymca-memorial-5k/
END:VEVENT
BEGIN:VEVENT
DTSTART;TZID=America/Chicago:20220528T090000
DTEND;TZID=America/Chicago:20220528T090000
DTSTAMP:20260420T072717
CREATED:20220523T131615Z
LAST-MODIFIED:20220523T131615Z
UID:409147-1653728400-1653728400@977wmoi.com
SUMMARY:Monmouth Fire Department Memorial Wall Dedication
DESCRIPTION:Join as the Monmouth Fire Department dedicates and remembers the lives and sacrifices of two Monmouth Firefighters\, Firefighter Richard Perrot and Assistant Chief Dennis Olson. Held at Fire Station #2\, 1100 South Main Street.
URL:https://977wmoi.com/event/monmouth-fire-department-memorial-wall-dedication/
END:VEVENT
BEGIN:VEVENT
DTSTART;TZID=America/Chicago:20220528T080000
DTEND;TZID=America/Chicago:20220528T080000
DTSTAMP:20260420T072717
CREATED:20220412T183550Z
LAST-MODIFIED:20220413T135812Z
UID:407365-1653724800-1653724800@977wmoi.com
SUMMARY:Doc Pogue Memorial 5K Run/Walk
DESCRIPTION:8th annual Doc Pogue Memorial 5K Run/Walk. Registration begins at 7:30am\, Run begins at 8 am. Registration due by May 15th to guarantee t-shirt. Fee is $25. A KiddieK run following the 5K for kids 10 and under will run two laps around the park. Fee is $15 and includes a t-shirt.
URL:https://977wmoi.com/event/doc-pogue-memorial-5k-run-walk/
END:VEVENT
BEGIN:VEVENT
DTSTART;TZID=America/Chicago:20220527T110000
DTEND;TZID=America/Chicago:20220527T180000
DTSTAMP:20260420T072717
CREATED:20220511T133623Z
LAST-MODIFIED:20220511T133623Z
UID:408673-1653649200-1653674400@977wmoi.com
SUMMARY:Calvary Baptist Church Fried Fish Dinner
DESCRIPTION:Everyone is welcome to attend the Calvary Baptist Church’s\, located at 1000 South 1st Street in Monmouth\, for their fried fish dinner. Carryout and delivery available. Donation for meal is $12. All proceeds will benefit the church.
URL:https://977wmoi.com/event/calvary-baptist-church-fried-fish-dinner-2/
END:VEVENT
BEGIN:VEVENT
DTSTART;TZID=America/Chicago:20220526T180000
DTEND;TZID=America/Chicago:20220526T180000
DTSTAMP:20260420T072717
CREATED:20220325T180547Z
LAST-MODIFIED:20220325T180547Z
UID:406339-1653588000-1653588000@977wmoi.com
SUMMARY:BINGO Night at the Monmouth American Legion
DESCRIPTION:Friends. Fun. Prizes. 50/50. $3 cover includes 3 BINGO cards. $3 walking taco’s\, hot dogs\, and cash bar will be available. Book your vendor table for $25. All proceeds will go towards the 9th annual Backpack for Kids event!
URL:https://977wmoi.com/event/bingo-night-at-the-monmouth-american-legion/
END:VEVENT
BEGIN:VEVENT
DTSTART;TZID=America/Chicago:20220525T180000
DTEND;TZID=America/Chicago:20220525T190000
DTSTAMP:20260420T072717
CREATED:20220512T130933Z
LAST-MODIFIED:20220512T130933Z
UID:408758-1653501600-1653505200@977wmoi.com
SUMMARY:De-Escalation & Mental Health Managing Workshop
DESCRIPTION:This workshop will be held at the Galesburg Public Library\, 40 East Simmons Street\, and is open to anyone interested in mental health de-escalation strategies. Using basic skills in de-escalation can assist in navigating crisis moments for a better outcome.
URL:https://977wmoi.com/event/de-escalation-mental-health-managing-workshop/
END:VEVENT
BEGIN:VEVENT
DTSTART;TZID=America/Chicago:20220525T130000
DTEND;TZID=America/Chicago:20220525T130000
DTSTAMP:20260420T072717
CREATED:20220427T185758Z
LAST-MODIFIED:20220427T185758Z
UID:408011-1653483600-1653483600@977wmoi.com
SUMMARY:BINGO at Strom Center in Oquawka
DESCRIPTION:Each person is allowed up to 4 cards for FREE. Each additional card is 25 cents each. Refreshments will be served during the afternoon.
URL:https://977wmoi.com/event/bingo-at-strom-center-in-oquawka-6/
END:VEVENT
BEGIN:VEVENT
DTSTART;TZID=America/Chicago:20220524T130000
DTEND;TZID=America/Chicago:20220524T130000
DTSTAMP:20260420T072717
CREATED:20220427T184721Z
LAST-MODIFIED:20220427T184721Z
UID:407993-1653397200-1653397200@977wmoi.com
SUMMARY:BINGO at Strom Center
DESCRIPTION:Cards are 25 cents each. Refreshments and drinks will be available.
URL:https://977wmoi.com/event/bingo-at-strom-center-4/
END:VEVENT
BEGIN:VEVENT
DTSTART;TZID=America/Chicago:20220523T170000
DTEND;TZID=America/Chicago:20220523T200000
DTSTAMP:20260420T072717
CREATED:20220427T185439Z
LAST-MODIFIED:20220427T185439Z
UID:408003-1653325200-1653336000@977wmoi.com
SUMMARY:Stronghurst Farmers Market
DESCRIPTION:In Downtown Stronghurst on Broadway Street.
URL:https://977wmoi.com/event/stronghurst-farmers-market-12/
END:VEVENT
BEGIN:VEVENT
DTSTART;TZID=America/Chicago:20220523T170000
DTEND;TZID=America/Chicago:20220523T200000
DTSTAMP:20260420T072717
CREATED:20220412T182933Z
LAST-MODIFIED:20220412T182933Z
UID:407347-1653325200-1653336000@977wmoi.com
SUMMARY:Stronghurst Farmers Market
DESCRIPTION:Held Monday nights in downtown Stronghurst on Broadway Street. Sponsored by the Stronghurst Booster Club.
URL:https://977wmoi.com/event/stronghurst-farmers-market-2/
END:VEVENT
BEGIN:VEVENT
DTSTART;TZID=America/Chicago:20220521T150000
DTEND;TZID=America/Chicago:20220521T150000
DTSTAMP:20260420T072717
CREATED:20220518T130052Z
LAST-MODIFIED:20220518T130052Z
UID:408992-1653145200-1653145200@977wmoi.com
SUMMARY:A Celestial Odyssey
DESCRIPTION:The Buchanan Community Chorus presents ‘A Celestial Odyssey’ at the Heritage Bible Church in Monmouth. Freewill donation is appreciated. This project is supported by a grant from the Buchanan Center for the Arts\, the Illinois Art Council Agency\, and the National Endowment of the Arts.
URL:https://977wmoi.com/event/a-celestial-odyssey-2/
END:VEVENT
BEGIN:VEVENT
DTSTART;TZID=America/Chicago:20220521T120000
DTEND;TZID=America/Chicago:20220521T120000
DTSTAMP:20260420T072717
CREATED:20220427T184534Z
LAST-MODIFIED:20220427T184534Z
UID:407989-1653134400-1653134400@977wmoi.com
SUMMARY:Strom Center Potluck
DESCRIPTION:Plates\, silverware\, and cups/glasses will be furnished. Just bring a food dish to pass. After enjoying the delicious meal\, BINGO will be played.
URL:https://977wmoi.com/event/strom-center-potluck-7/
END:VEVENT
BEGIN:VEVENT
DTSTART;TZID=America/Chicago:20220521T100000
DTEND;TZID=America/Chicago:20220521T100000
DTSTAMP:20260420T072717
CREATED:20220504T125821Z
LAST-MODIFIED:20220504T125821Z
UID:408330-1653127200-1653127200@977wmoi.com
SUMMARY:St Jude Benefit Ride in Honor of Riley Thomas
DESCRIPTION:Event by Lybarger’s 2nd Harley Ride/Resale&Consignment. All proceeds will go to St Jude. This will be a yearly event and each year a different person will be chosen. This will be put on by Lybarger’s 2nd Harley Ride\, Dying Breed Clothing Co\, 309 Custom Audio\,\, Tin Cup\, and many other businesses. There will be a taco trailer at Lybarger’s 2nd Harley Ride before the Ride. when we get back there will be BBQ\, auction\, and a live band! Bring your friends and let’s Ride! Cost will be $10/bike $15/couple dinner will be $8 all you can eat.
URL:https://977wmoi.com/event/st-jude-benefit-ride-in-honor-of-riley-thomas/
END:VEVENT
BEGIN:VEVENT
DTSTART;TZID=America/Chicago:20220521T090000
DTEND;TZID=America/Chicago:20220521T150000
DTSTAMP:20260420T072717
CREATED:20220316T130328Z
LAST-MODIFIED:20220316T130328Z
UID:405917-1653123600-1653145200@977wmoi.com
SUMMARY:Children's Grief Camp
DESCRIPTION:This camp is offered at no charge to children ages 5 through 18 at Carl Sandburg College\, Building B in Galesburg. Visit http://childrens-grief-camp.com or call 309-342-3007 for more information.
URL:https://977wmoi.com/event/childrens-grief-camp/
END:VEVENT
BEGIN:VEVENT
DTSTART;VALUE=DATE:20220521
DTEND;VALUE=DATE:20220522
DTSTAMP:20260420T072717
CREATED:20220427T185300Z
LAST-MODIFIED:20220427T185300Z
UID:407999-1653091200-1653177599@977wmoi.com
SUMMARY:Village of Oquawka Curbside Clean-Up Day
DESCRIPTION:There is no charge to the residents of Oquawka for the clean-up day.
URL:https://977wmoi.com/event/village-of-oquawka-curbside-clean-up-day/
END:VEVENT
BEGIN:VEVENT
DTSTART;TZID=America/Chicago:20220520T190000
DTEND;TZID=America/Chicago:20220520T190000
DTSTAMP:20260420T072717
CREATED:20220518T125650Z
LAST-MODIFIED:20220518T125650Z
UID:408990-1653073200-1653073200@977wmoi.com
SUMMARY:A Celestial Odyssey
DESCRIPTION:The Buchanan Community Chorus presents ‘A Celestial Odyssey’ at the First Chirstian Church in Galesburg. Freewill donation is appreciated. This project is supported by a grant from the Buchanan Center for the Arts\, the Illinois Art Council Agency\, and the National Endowment of the Arts.
URL:https://977wmoi.com/event/a-celestial-odyssey/
END:VEVENT
BEGIN:VEVENT
DTSTART;TZID=America/Chicago:20220520T160000
DTEND;TZID=America/Chicago:20220520T190000
DTSTAMP:20260420T072717
CREATED:20220418T164415Z
LAST-MODIFIED:20220418T164415Z
UID:407578-1653062400-1653073200@977wmoi.com
SUMMARY:Roseville Amish School Benefit Supper
DESCRIPTION:Held at St. Patrick’s Community Center\, west of Roseville located 7 miles on Highway 116 and 1 mile south. Serving mashed potatoes\, dressing\, noodles\, grilled chicken\, ham\, green beans\, salad\, and desserts. Carryout’s will also be available.
URL:https://977wmoi.com/event/roseville-amish-school-benefit-supper-2/
END:VEVENT
BEGIN:VEVENT
DTSTART;VALUE=DATE:20220520
DTEND;VALUE=DATE:20220521
DTSTAMP:20260420T072717
CREATED:20220517T125836Z
LAST-MODIFIED:20220517T125836Z
UID:408923-1653004800-1653091199@977wmoi.com
SUMMARY:Raritan State Bank Summer Cookout Kickoff
DESCRIPTION:Held at the Bank in Raritan\, 106 East Main Street. Proceeds of the cookout will benefit the Henderson County Heat Summer Ball Association.
URL:https://977wmoi.com/event/raritan-state-bank-summer-cookout-kickoff/
END:VEVENT
BEGIN:VEVENT
DTSTART;TZID=America/Chicago:20220519T170000
DTEND;TZID=America/Chicago:20220519T190000
DTSTAMP:20260420T072717
CREATED:20220512T130029Z
LAST-MODIFIED:20220512T130029Z
UID:408750-1652979600-1652986800@977wmoi.com
SUMMARY:Family Literacy Presents: Science Fun Night
DESCRIPTION:Fun for all families! Join for an Experiment Night at the Warren County Public Library!
URL:https://977wmoi.com/event/family-literacy-presents-science-fun-night/
END:VEVENT
BEGIN:VEVENT
DTSTART;TZID=America/Chicago:20220519T170000
DTEND;TZID=America/Chicago:20220519T190000
DTSTAMP:20260420T072717
CREATED:20220406T140731Z
LAST-MODIFIED:20220406T140731Z
UID:407067-1652979600-1652986800@977wmoi.com
SUMMARY:Workshop Warriors Wine Tasting
DESCRIPTION:The Workshop Warriors will be hosting a wine tasting event at Market Alley Wines\, with proceeds benefitting Relay for Life of Warren-Henderson County. At the event you will enjoy four tastings of fabulous summer wines\, one shot of homemade limoncello\, and one insulated wine tumbler. Tickets are $30. Email kadinlov@gmail.com or debbieanderson27@gmail.com for tickets.
URL:https://977wmoi.com/event/workshop-warriors-wine-tasting/
END:VEVENT
BEGIN:VEVENT
DTSTART;TZID=America/Chicago:20220519T090000
DTEND;TZID=America/Chicago:20220519T150000
DTSTAMP:20260420T072717
CREATED:20220511T170422Z
LAST-MODIFIED:20220511T170422Z
UID:408731-1652950800-1652972400@977wmoi.com
SUMMARY:Collective Goods
DESCRIPTION:OSF Holy Family medical Center Auxiliary will be hosting Collective Goods\, formerly known as Books are Fun\, in the Wellness Classroom at OSF. Enter from the Specialty Clinic’s north parking lot. There will also be a bake sale from the Auxiliary cooks.
URL:https://977wmoi.com/event/collective-goods/
END:VEVENT
BEGIN:VEVENT
DTSTART;TZID=America/Chicago:20220518T073000
DTEND;TZID=America/Chicago:20220518T083000
DTSTAMP:20260420T072717
CREATED:20220309T141749Z
LAST-MODIFIED:20220309T141749Z
UID:405572-1652859000-1652862600@977wmoi.com
SUMMARY:Healthy Workplace Virtual Events: Physical Wellbeing
DESCRIPTION:3 Part Series – Taking care of yourself\, so you can take care of others \nSpeakers: Erin Kennedy\, Manager Center for Healthy Lifestyles and Abraham Kocheril\, M.D.\, Cardiologist \nDiscussions on Keeping Yourself and Others Healthy:\n•    Reducing health care costs\n•    Reducing absenteeism\n•    Increasing employee productivity and engagement\n•    Increasing retention rates\n•    Improving employee morale\n•    Attracting new employees \nRegister online by March 23 HERE
URL:https://977wmoi.com/event/healthy-workplace-virtual-events-physical-wellbeing/
END:VEVENT
BEGIN:VEVENT
DTSTART;TZID=America/Chicago:20220514T110000
DTEND;TZID=America/Chicago:20220514T130000
DTSTAMP:20260420T072717
CREATED:20220405T185054Z
LAST-MODIFIED:20220405T185054Z
UID:407026-1652526000-1652533200@977wmoi.com
SUMMARY:Kirkwood Fire Department Cookout
DESCRIPTION:Serving grilled ribeyes and porkchop sandwiches. Any orders of 10 or more may be ordered ahead of time by 9:30 am the day of the event by calling or texting 309-371-8588. Ribeye sandwich is $8. Porkchop sandwiches are $6. Ribeye meal $11 and porkchop meal is $9. Meal includes chips and a drink. Meal deal also offered\, which includes 1 porkchop and 1 ribeye for $20.
URL:https://977wmoi.com/event/kirkwood-fire-department-cookout/
END:VEVENT
BEGIN:VEVENT
DTSTART;TZID=America/Chicago:20220514T100000
DTEND;TZID=America/Chicago:20220514T140000
DTSTAMP:20260420T072717
CREATED:20220301T195618Z
LAST-MODIFIED:20220301T195618Z
UID:405246-1652522400-1652536800@977wmoi.com
SUMMARY:BCA Tromp-As-Writ: Mug Rug Class
DESCRIPTION:Tromp-As-Writ Weaving Guild will host four classes on weaving in the BCA Classroom. Participants learn the art of weaving basics while they create a mug rug. Beginners are encouraged to enroll! \nClasses are 10am-2pm Saturdays. Class size is limited to 10 participants. Class fee for BCA members is $15 (for all four classes); Non-members $20 (for all four classes). Scholarships are available through the BCA. (You are welcome to bring a snack lunch.) Call the BCA at 309-734-3033 to reserve your spot.
URL:https://977wmoi.com/event/bca-tromp-as-writ-mug-rug-class-4/
END:VEVENT
BEGIN:VEVENT
DTSTART;TZID=America/Chicago:20220514T080000
DTEND;TZID=America/Chicago:20220514T130000
DTSTAMP:20260420T072717
CREATED:20220504T184244Z
LAST-MODIFIED:20220504T184244Z
UID:408395-1652515200-1652533200@977wmoi.com
SUMMARY:Free Clothes for the Whole Family
DESCRIPTION:Rain or shine at Grace Bible Church\, 121 South H Street in Monmouth.
URL:https://977wmoi.com/event/free-clothes-for-the-whole-family-2/
END:VEVENT
END:VCALENDAR