BEGIN:VCALENDAR
VERSION:2.0
PRODID:-//Prairie Communications, LLC - ECPv6.15.20//NONSGML v1.0//EN
CALSCALE:GREGORIAN
METHOD:PUBLISH
X-WR-CALNAME:Prairie Communications, LLC
X-ORIGINAL-URL:https://977wmoi.com
X-WR-CALDESC:Events for Prairie Communications, LLC
REFRESH-INTERVAL;VALUE=DURATION:PT1H
X-Robots-Tag:noindex
X-PUBLISHED-TTL:PT1H
BEGIN:VTIMEZONE
TZID:America/Chicago
BEGIN:DAYLIGHT
TZOFFSETFROM:-0600
TZOFFSETTO:-0500
TZNAME:CDT
DTSTART:20220313T080000
END:DAYLIGHT
BEGIN:STANDARD
TZOFFSETFROM:-0500
TZOFFSETTO:-0600
TZNAME:CST
DTSTART:20221106T070000
END:STANDARD
BEGIN:DAYLIGHT
TZOFFSETFROM:-0600
TZOFFSETTO:-0500
TZNAME:CDT
DTSTART:20230312T080000
END:DAYLIGHT
BEGIN:STANDARD
TZOFFSETFROM:-0500
TZOFFSETTO:-0600
TZNAME:CST
DTSTART:20231105T070000
END:STANDARD
BEGIN:DAYLIGHT
TZOFFSETFROM:-0600
TZOFFSETTO:-0500
TZNAME:CDT
DTSTART:20240310T080000
END:DAYLIGHT
BEGIN:STANDARD
TZOFFSETFROM:-0500
TZOFFSETTO:-0600
TZNAME:CST
DTSTART:20241103T070000
END:STANDARD
END:VTIMEZONE
BEGIN:VEVENT
DTSTART;VALUE=DATE:20230505
DTEND;VALUE=DATE:20230507
DTSTAMP:20260422T023104
CREATED:20230501T154434Z
LAST-MODIFIED:20230501T154434Z
UID:427153-1683244800-1683417599@977wmoi.com
SUMMARY:Stronghurst City Wide Yard Sales
DESCRIPTION:
URL:https://977wmoi.com/event/stronghurst-city-wide-yard-sales-2/
END:VEVENT
BEGIN:VEVENT
DTSTART;VALUE=DATE:20230505
DTEND;VALUE=DATE:20230508
DTSTAMP:20260422T023104
CREATED:20230421T145750Z
LAST-MODIFIED:20230421T145750Z
UID:426591-1683244800-1683503999@977wmoi.com
SUMMARY:First United Methodist Church Celebration Weekend
DESCRIPTION:Join the First United Methodist Church\, 221 East Broadway in Monmouth\, as they celebrate their new building with a Ribbon Cutting ceremony with the Monmouth Chamber on Friday\, May 5th at 4 pm. On Saturday\, May 6th\, an open house can be attended from 2 pm to 4 pm. A Consecration Service will be held Sunday May 7th at 9:30 am\, followed by a concert by Harvest Ministry at 6 pm that evening.
URL:https://977wmoi.com/event/first-united-methodist-church-celebration-weekend/
END:VEVENT
BEGIN:VEVENT
DTSTART;VALUE=DATE:20230505
DTEND;VALUE=DATE:20230506
DTSTAMP:20260422T023104
CREATED:20230302T214126Z
LAST-MODIFIED:20230302T214218Z
UID:423883-1683244800-1683331199@977wmoi.com
SUMMARY:Barry Cloyd "Edu-tainer Extraordinaire"
DESCRIPTION:Join at the Warren County History Museum for some entertainment provided by Barry Cloyd. Light refreshments will be provided. Free parking. Tickets are $10 online at http://wchistorymuseum.com or can be purchased at the door.
URL:https://977wmoi.com/event/barry-cloyd-edu-tainer/
END:VEVENT
BEGIN:VEVENT
DTSTART;TZID=America/Chicago:20230504T170000
DTEND;TZID=America/Chicago:20230504T170000
DTSTAMP:20260422T023104
CREATED:20230501T154108Z
LAST-MODIFIED:20230501T154108Z
UID:427146-1683219600-1683219600@977wmoi.com
SUMMARY:Instapot 101
DESCRIPTION:Learn Instapot recipes with Donna Painter at the Henderson County Public Library. Contact the Library to register.
URL:https://977wmoi.com/event/instapot-101/
END:VEVENT
BEGIN:VEVENT
DTSTART;TZID=America/Chicago:20230504T150000
DTEND;TZID=America/Chicago:20230504T180000
DTSTAMP:20260422T023104
CREATED:20230424T143347Z
LAST-MODIFIED:20230424T143347Z
UID:426650-1683212400-1683223200@977wmoi.com
SUMMARY:ROE #26 Family Resource Center Open House
DESCRIPTION:Stop by and take a tour of the new one stop shop for the community to access parenting support\, education\, and resource referrals that impact a family’s well-being. Located at Gamage Plaza\, 339 South Johnson Steet in Macomb. Light refreshments will be served.
URL:https://977wmoi.com/event/roe-26-family-resource-center-open-house/
END:VEVENT
BEGIN:VEVENT
DTSTART;TZID=America/Chicago:20230504T141500
DTEND;TZID=America/Chicago:20230504T151500
DTSTAMP:20260422T023104
CREATED:20230424T153007Z
LAST-MODIFIED:20230424T153007Z
UID:426676-1683209700-1683213300@977wmoi.com
SUMMARY:Stone-Hayes Center for Independent Living Good Gang Group
DESCRIPTION:The Good Gang Group meets every Thursday from 2:15pm to 3:15pm. This group is open to anyone who has a disability and is held at the Strom Center in Monmouth\, Il. The Good Gang group is very active in the community by volunteering at many places to assist others.
URL:https://977wmoi.com/event/stone-hayes-center-for-independent-living-good-gang-group/
END:VEVENT
BEGIN:VEVENT
DTSTART;VALUE=DATE:20230504
DTEND;VALUE=DATE:20230505
DTSTAMP:20260422T023104
CREATED:20230426T163908Z
LAST-MODIFIED:20230426T163908Z
UID:426909-1683158400-1683244799@977wmoi.com
SUMMARY:Warren County YMCA Whiffle Ball League
DESCRIPTION:Traditional whiffle ball. No running of bases\, just you against the pitcher and the outfield. Join as a team or individual to be placed on a team. Teams will consist of 4 to 6 players. Anyone 12 years and older is eligible to play. Games will be held on Thursday nights at the Warren County YMCA ballfields beginning June 8th. No gloves or cleats needed. Cost is $120 per team or $20 as an individual. Payments must be paid by May 29th. For more information\, contact Tom Glenn at 309-734-3183.
URL:https://977wmoi.com/event/warren-county-ymca-whiffle-ball-league/
END:VEVENT
BEGIN:VEVENT
DTSTART;TZID=America/Chicago:20230503T150000
DTEND;TZID=America/Chicago:20230503T160000
DTSTAMP:20260422T023104
CREATED:20230424T152825Z
LAST-MODIFIED:20230424T152825Z
UID:426674-1683126000-1683129600@977wmoi.com
SUMMARY:Stone-Hayes Center for Independent Living C.A.T Group
DESCRIPTION:This group is held once a year with meeting times on Wednesdays from 3:00pm to 4:00pm. This group is a 12 week commitment that you will attend each week. This program is selected from new consumers\, by staff. This group teaches participates how to advocate for themselves and for others. The group will take a day trip to Springfield\, and have a graduation\, and a class project to complete at the end of the course. If you have any questions on any of the groups\, please feel free to call us. 309-344-1306
URL:https://977wmoi.com/event/stone-hayes-center-for-independent-living-c-a-t-group/
END:VEVENT
BEGIN:VEVENT
DTSTART;TZID=America/Chicago:20230503T100000
DTEND;TZID=America/Chicago:20230503T113000
DTSTAMP:20260422T023104
CREATED:20230210T211034Z
LAST-MODIFIED:20230411T201518Z
UID:422844-1683108000-1683113400@977wmoi.com
SUMMARY:Galesburg Parks & Rec Touch-A-Truck Event
DESCRIPTION:Free event rain or shine at Lake Storey. Amazing vehicles on wheels to see\, touch\, explore\, and much more!
URL:https://977wmoi.com/event/galesburg-parks-rec-touch-a-truck-event/
END:VEVENT
BEGIN:VEVENT
DTSTART;TZID=America/Chicago:20230503T090000
DTEND;TZID=America/Chicago:20230503T100000
DTSTAMP:20260422T023104
CREATED:20230501T152046Z
LAST-MODIFIED:20230501T152046Z
UID:427120-1683104400-1683108000@977wmoi.com
SUMMARY:Chat With CASA
DESCRIPTION:Join at Critser’s Tin Cup in Monmouth to chat with Michele and learn more about CASA\, Court Appointed Special Advocates for Children in West Central Illinois. Also\, enjoy your first cup of coffee on them!
URL:https://977wmoi.com/event/chat-with-casa/
END:VEVENT
BEGIN:VEVENT
DTSTART;TZID=America/Chicago:20230502T150000
DTEND;TZID=America/Chicago:20230502T160000
DTSTAMP:20260422T023104
CREATED:20230424T152725Z
LAST-MODIFIED:20230424T152725Z
UID:426672-1683039600-1683043200@977wmoi.com
SUMMARY:Stone-Hayes Center for Independent Living HOT Group
DESCRIPTION:HOT Group meets every Tuesday from 3:00pm to 4:00pm. This is a Peer group open to anyone with a disability and is a great way to socialize with others. This group participates in a new activity every week. They have outings in the community to learn what resources are available for them.
URL:https://977wmoi.com/event/stone-hayes-center-for-independent-living-hot-group/
END:VEVENT
BEGIN:VEVENT
DTSTART;VALUE=DATE:20230502
DTEND;VALUE=DATE:20230503
DTSTAMP:20260422T023104
CREATED:20230426T163530Z
LAST-MODIFIED:20230426T163530Z
UID:426906-1682985600-1683071999@977wmoi.com
SUMMARY:Warren County YMCA Adult 5-Man Summer Basketball League
DESCRIPTION:This league requires a minimum of 8 players per roster. Limited to the first 12 teams that register. Games will be played on Tuesday nights beginning Tuesday\, June 6th in the Warren County YMCA gymnasium. Game times will begin at 5:45 pm and start every 50 minutes after. A team coach will be responsible for team signups and fees. For more information\, contact Tom Glenn at 309-734-3183.
URL:https://977wmoi.com/event/warren-county-ymca-adult-5-man-summer-basketball-league/
END:VEVENT
BEGIN:VEVENT
DTSTART;TZID=America/Chicago:20230501T170000
DTEND;TZID=America/Chicago:20230501T183000
DTSTAMP:20260422T023104
CREATED:20220913T133001Z
LAST-MODIFIED:20220913T133001Z
UID:414660-1682960400-1682965800@977wmoi.com
SUMMARY:Monmouth American Legion Soup Supper
DESCRIPTION:May 1 chili\, spinach bisque\, beef and noodles\, Sandwich: grilled cheese add 1 gluten free soup. All you can eat. Adults $9.00 children $3.00. Each meal comes with dessert\, coffee or tea\, and lots of\nGreat friends to enjoy your meal with. 50/50 raffle drawing at 6:00 pm
URL:https://977wmoi.com/event/monmouth-american-legion-soup-supper-17/
END:VEVENT
BEGIN:VEVENT
DTSTART;TZID=America/Chicago:20230501T130000
DTEND;TZID=America/Chicago:20230501T130000
DTSTAMP:20260422T023104
CREATED:20230301T192218Z
LAST-MODIFIED:20230301T192218Z
UID:423811-1682946000-1682946000@977wmoi.com
SUMMARY:24th Annual Stearman Foundation Golf Outing
DESCRIPTION:Golf outing will be held at Lake Bracken Golf Course. $85 per person or $340 per team of 4. Entry fee includes green fees\, cart\, and dinner. 1 pm shotgun start.
URL:https://977wmoi.com/event/24th-annual-stearman-foundation-golf-outing/
END:VEVENT
BEGIN:VEVENT
DTSTART;TZID=America/Chicago:20230429T150000
DTEND;TZID=America/Chicago:20230429T150000
DTSTAMP:20260422T023104
CREATED:20230411T130451Z
LAST-MODIFIED:20230411T130451Z
UID:425866-1682780400-1682780400@977wmoi.com
SUMMARY:Nicholas Weist Memorial Event
DESCRIPTION:All are invited to a memorial event for Knox County Deputy Nicholas Weist at The Vault in Galesburg. A four pack of beer will be on sale for $16 dedicated to Deputy Weist. All proceeds will benefit the Spoon River F.O.P. Lodge 427 Nicholas Weist Scholarship Fund.
URL:https://977wmoi.com/event/nicholas-weist-memorial-event/
END:VEVENT
BEGIN:VEVENT
DTSTART;TZID=America/Chicago:20230429T090000
DTEND;TZID=America/Chicago:20230429T160000
DTSTAMP:20260422T023104
CREATED:20230307T175437Z
LAST-MODIFIED:20230307T175437Z
UID:424062-1682758800-1682784000@977wmoi.com
SUMMARY:Preservation Training Workshop at Sugar Tree Grove Cemetary
DESCRIPTION:An upcoming preservation training workshop will be held for the Sugar Tree Grove Cemetary on April 29th at the Sugar Tree Grove Church.  The class is from 9 a.m.- 11:00 a.m. with lunch and then hands-on activities in the cemetery from Noon – 4 p.m. You will learn preservation tips to help restore our heritage.  You may want to bring a camera and a lawn chair for this event and registration is $60.00 Email turnbullfh@gmail.com to register or call Turnbull Funeral Home at 309 734 2131 to register or for more details.  Space for the class and workshop is limited. 
URL:https://977wmoi.com/event/preservation-training-workshop-at-sugar-tree-grove-cemetary/
END:VEVENT
BEGIN:VEVENT
DTSTART;VALUE=DATE:20230429
DTEND;VALUE=DATE:20230430
DTSTAMP:20260422T023104
CREATED:20230330T184551Z
LAST-MODIFIED:20230330T184551Z
UID:425409-1682726400-1682812799@977wmoi.com
SUMMARY:Oquawka's City Wide Clean Up Day
DESCRIPTION:Have everything on your curb by April 28th.
URL:https://977wmoi.com/event/oquawkas-city-wide-clean-up-day/
END:VEVENT
BEGIN:VEVENT
DTSTART;TZID=America/Chicago:20230428T180000
DTEND;TZID=America/Chicago:20230428T180000
DTSTAMP:20260422T023104
CREATED:20230411T153047Z
LAST-MODIFIED:20230411T153047Z
UID:425913-1682704800-1682704800@977wmoi.com
SUMMARY:Bi-County YOCO Trivia Night
DESCRIPTION:Doors open at 6 pm. Trivia begins at 7 pm at United High School\, 1905 100th Street\, Monmouth. There will be concessions\, bake sale\, and 50/50. $40 per team\, 8 people max. Drug and alcohol free. All proceeds will benefit the Jamieson Community Center.
URL:https://977wmoi.com/event/bi-county-yoco-trivia-night/
END:VEVENT
BEGIN:VEVENT
DTSTART;TZID=America/Chicago:20230428T180000
DTEND;TZID=America/Chicago:20230428T180000
DTSTAMP:20260422T023104
CREATED:20230404T204422Z
LAST-MODIFIED:20230404T204422Z
UID:425633-1682704800-1682704800@977wmoi.com
SUMMARY:Slam Poetry at the BCA
DESCRIPTION:The 21st century Community Learning Center Titans program presents an evening of live poetry at the Buchanan Center for the Arts. All are welcome. Those interested in performing can email: beaton@mr238.org or arrive early at the door.
URL:https://977wmoi.com/event/slam-poetry-at-the-bca/
END:VEVENT
BEGIN:VEVENT
DTSTART;TZID=America/Chicago:20230427T140000
DTEND;TZID=America/Chicago:20230427T140000
DTSTAMP:20260422T023104
CREATED:20230412T132244Z
LAST-MODIFIED:20230412T132244Z
UID:425951-1682604000-1682604000@977wmoi.com
SUMMARY:Hands Around The Courthouse in Knox County
DESCRIPTION:The Blue Ribbon Task Force invites you to join us in supporting Child Abuse Prevention and Awareness at Hands Around the Knox County Courthouse on April 27th at 2pm.
URL:https://977wmoi.com/event/hands-around-the-courthouse-in-knox-county/
END:VEVENT
BEGIN:VEVENT
DTSTART;TZID=America/Chicago:20230425T180000
DTEND;TZID=America/Chicago:20230425T200000
DTSTAMP:20260422T023104
CREATED:20230411T201706Z
LAST-MODIFIED:20230411T201706Z
UID:425932-1682445600-1682452800@977wmoi.com
SUMMARY:Make It Macrame
DESCRIPTION:April showers bring May flowers and with showers comes a rainbow. Create your own rainbow at this April session at the Lake Storey Pavilion on Galesburg. This is for ages 8 and older. $10 per person.
URL:https://977wmoi.com/event/make-it-macrame/
END:VEVENT
BEGIN:VEVENT
DTSTART;TZID=America/Chicago:20230425T170000
DTEND;TZID=America/Chicago:20230425T170000
DTSTAMP:20260422T023104
CREATED:20230330T184016Z
LAST-MODIFIED:20230330T184016Z
UID:425399-1682442000-1682442000@977wmoi.com
SUMMARY:Stronghurst/Carman/Smithshire Church's Pizza & Movie Night
DESCRIPTION:Bring the family and join for an evening of fun at the Stronghurst United Methodist Church.
URL:https://977wmoi.com/event/stronghurst-carman-smithshire-churchs-pizza-movie-night/
END:VEVENT
BEGIN:VEVENT
DTSTART;TZID=America/Chicago:20230425T154500
DTEND;TZID=America/Chicago:20230425T180000
DTSTAMP:20260422T023104
CREATED:20230313T195541Z
LAST-MODIFIED:20230313T195541Z
UID:424407-1682437500-1682445600@977wmoi.com
SUMMARY:United School District Preschool Screenings
DESCRIPTION:Screening held at United North\, but potential students may screen at either building. To schedule an appointment\, call North at 482-3332 or the West Building at 734-8513.
URL:https://977wmoi.com/event/united-school-district-preschool-screenings-2/
END:VEVENT
BEGIN:VEVENT
DTSTART;TZID=America/Chicago:20230425T130000
DTEND;TZID=America/Chicago:20230425T150000
DTSTAMP:20260422T023104
CREATED:20230330T182847Z
LAST-MODIFIED:20230330T182847Z
UID:425385-1682427600-1682434800@977wmoi.com
SUMMARY:BINGO at Strom Center in Monmouth
DESCRIPTION:Join for an afternoon of BINGO. Cards are 25 cents each. Popcorn and drink will be available.
URL:https://977wmoi.com/event/bingo-at-strom-center-in-monmouth-8/
END:VEVENT
BEGIN:VEVENT
DTSTART;TZID=America/Chicago:20230425T083000
DTEND;TZID=America/Chicago:20230425T180000
DTSTAMP:20260422T023104
CREATED:20230328T131422Z
LAST-MODIFIED:20230328T131422Z
UID:425100-1682411400-1682445600@977wmoi.com
SUMMARY:M-R's Lincoln Kindergarten Screenings
DESCRIPTION:Child must be 5 years old on or before September 1st. Need to bring a certified birth certificate and proof of residency. Screenings will be held at Lincoln Early Childhood School\, 325 South 11th Street in Monmouth. Make an appointment by calling 309-734-2222 during school hours. If you child is enrolled in Tiny Titans Preschool\, no need to make an appointment; the child will be screened while at school.
URL:https://977wmoi.com/event/m-rs-lincoln-kindergarten-screenings/
END:VEVENT
BEGIN:VEVENT
DTSTART;TZID=America/Chicago:20230424T163000
DTEND;TZID=America/Chicago:20230424T190000
DTSTAMP:20260422T023104
CREATED:20230330T194835Z
LAST-MODIFIED:20230330T194835Z
UID:425411-1682353800-1682362800@977wmoi.com
SUMMARY:Heritage Bible Church Indian Taco Supper
DESCRIPTION:Carry-out only at the heritage Bible Church\, 302 East Broadway on Monmouth. $8 donation for a plate-size taco.
URL:https://977wmoi.com/event/heritage-bible-church-indian-taco-supper-2/
END:VEVENT
BEGIN:VEVENT
DTSTART;TZID=America/Chicago:20230422T200000
DTEND;TZID=America/Chicago:20230422T200000
DTSTAMP:20260422T023104
CREATED:20230119T155929Z
LAST-MODIFIED:20230119T155929Z
UID:421615-1682193600-1682193600@977wmoi.com
SUMMARY:Mercer County Relay for Life Fundraising Event
DESCRIPTION:The Dani Lynn Howe Band will hold a Relay for Life of Mercer County fundraising event at Cheers on Main\, 201 East Main in Aledo. All raffle proceeds support Relay for Life of Mercer County.
URL:https://977wmoi.com/event/mercer-county-relay-for-life-fundraising-event/
END:VEVENT
BEGIN:VEVENT
DTSTART;TZID=America/Chicago:20230422T180000
DTEND;TZID=America/Chicago:20230422T180000
DTSTAMP:20260422T023104
CREATED:20230330T183437Z
LAST-MODIFIED:20230330T183437Z
UID:425391-1682186400-1682186400@977wmoi.com
SUMMARY:Beautify Biggsville Group Music BINGO/ Silent Auction
DESCRIPTION:Event will be held at The Barn at Fairview Acres outside Biggsville. Doors open at 6 pm. Rockstar BINGO begins at 6:30 to 8:30 pm. The band 6 Mile will take the stage at 8:30 pm. Dress as your favorite rockstar! 50/50 raffle\, games\, and cash bar will be available.
URL:https://977wmoi.com/event/beautify-biggsville-group-music-bingo-silent-auction/
END:VEVENT
BEGIN:VEVENT
DTSTART;TZID=America/Chicago:20230422T100000
DTEND;TZID=America/Chicago:20230422T160000
DTSTAMP:20260422T023104
CREATED:20230323T134808Z
LAST-MODIFIED:20230323T135436Z
UID:424941-1682157600-1682179200@977wmoi.com
SUMMARY:Fine Art & Vendor Show at the Warren County History Museum
DESCRIPTION:Join for the Warren County History Museum Spring Fine Art & Vendor Show! There will have artists and vendors of all kinds selling their products or services. With DIY crafts and activities for kiddos\, you definitely don’t want to miss out on this wonderful community event! Are you an artist or vendor? The museum still looking for amazing people to join their event!
URL:https://977wmoi.com/event/fine-art-vendor-show-at-the-warren-county-history-museum/
END:VEVENT
BEGIN:VEVENT
DTSTART;TZID=America/Chicago:20230421T163000
DTEND;TZID=America/Chicago:20230421T183000
DTSTAMP:20260422T023104
CREATED:20230322T201548Z
LAST-MODIFIED:20230322T201548Z
UID:424918-1682094600-1682101800@977wmoi.com
SUMMARY:ICS Serenata Dinner Fundraiser
DESCRIPTION:Join on April 21 for the ICS Serenata Dinner Fundraiser. All food is provided by\, Miguel Perez\, owner of Jalisco Mexican Restaurant of Galesburg\, IL. All meals will available by drive-thru at 200 W Broadway between 4:30-6:30pm. Tickets can be purchased from any ICS family or from the ICS office at 734.6037.\nAdult ticket $12 – 3 soft shell ground beef tacos\, rice & beans.\nChild ticket $8 – 2 soft shell ground beef tacos with rice.\nChips & salsa available at the door for a free will donation.
URL:https://977wmoi.com/event/ics-serenata-dinner-fundraiser/
END:VEVENT
END:VCALENDAR