BEGIN:VCALENDAR
VERSION:2.0
PRODID:-//Prairie Communications, LLC - ECPv6.15.20//NONSGML v1.0//EN
CALSCALE:GREGORIAN
METHOD:PUBLISH
X-ORIGINAL-URL:https://977wmoi.com
X-WR-CALDESC:Events for Prairie Communications, LLC
REFRESH-INTERVAL;VALUE=DURATION:PT1H
X-Robots-Tag:noindex
X-PUBLISHED-TTL:PT1H
BEGIN:VTIMEZONE
TZID:America/Chicago
BEGIN:DAYLIGHT
TZOFFSETFROM:-0600
TZOFFSETTO:-0500
TZNAME:CDT
DTSTART:20210314T080000
END:DAYLIGHT
BEGIN:STANDARD
TZOFFSETFROM:-0500
TZOFFSETTO:-0600
TZNAME:CST
DTSTART:20211107T070000
END:STANDARD
BEGIN:DAYLIGHT
TZOFFSETFROM:-0600
TZOFFSETTO:-0500
TZNAME:CDT
DTSTART:20220313T080000
END:DAYLIGHT
BEGIN:STANDARD
TZOFFSETFROM:-0500
TZOFFSETTO:-0600
TZNAME:CST
DTSTART:20221106T070000
END:STANDARD
BEGIN:DAYLIGHT
TZOFFSETFROM:-0600
TZOFFSETTO:-0500
TZNAME:CDT
DTSTART:20230312T080000
END:DAYLIGHT
BEGIN:STANDARD
TZOFFSETFROM:-0500
TZOFFSETTO:-0600
TZNAME:CST
DTSTART:20231105T070000
END:STANDARD
END:VTIMEZONE
BEGIN:VEVENT
DTSTART;TZID=America/Chicago:20220223T170000
DTEND;TZID=America/Chicago:20220223T170000
DTSTAMP:20260425T180007
CREATED:20220217T140857Z
LAST-MODIFIED:20220217T140857Z
UID:404646-1645635600-1645635600@977wmoi.com
SUMMARY:West Central FFA Alumni Auction
DESCRIPTION:The West Central FFA will be hosting their annual alumni auction at the Barn at Fairview Acres\, and they would love for you to join!\n\n\nSocial Hour begins at 5pm.\nDinner will be served at 6pm with the Meeting and Auction to follow! The meal will be provided by Papa’s and include Brisket\, Pulled Pork\, Turkey\, Baked Beans\, Cheesy Potatoes\, & Coleslaw.\n\n\nThis year’s auctioneer will be Rob Janssen from Janssen Auctioneers.\n\n\nAll proceeds go to the Alumni Tractor Pull and the West Central FFA Chapter.
URL:https://977wmoi.com/event/west-central-ffa-alumni-auction/
END:VEVENT
BEGIN:VEVENT
DTSTART;TZID=America/Chicago:20220225T110000
DTEND;TZID=America/Chicago:20220225T180000
DTSTAMP:20260425T180007
CREATED:20220221T185645Z
LAST-MODIFIED:20220221T185645Z
UID:404799-1645786800-1645812000@977wmoi.com
SUMMARY:Calvary Baptist Church's Annual Fried Chicken Dinner
DESCRIPTION:Calvary Baptist Church’s Annual Fried Chicken Dinner is 11 a.m. to 6 p.m. Friday\, February 25\, at the church\, 1000 South 1st Street in Monmouth. \nCarry-out and delivery is available\, all are welcome. Masks optional. \nSuggested donation is $12 per dinner. \nFor more information\, call (309) 397-6901.
URL:https://977wmoi.com/event/calvary-baptist-churchs-annual-fried-chicken-dinner/
LOCATION:Calvary Baptist Church\, 1000 South 1st Street\, Monmouth\, IL\, 61462\, United States
END:VEVENT
BEGIN:VEVENT
DTSTART;TZID=America/Chicago:20220225T170000
DTEND;TZID=America/Chicago:20220225T170000
DTSTAMP:20260425T180007
CREATED:20220117T190055Z
LAST-MODIFIED:20220117T190055Z
UID:403174-1645808400-1645808400@977wmoi.com
SUMMARY:Trivia Night at the Monmouth Country Club
DESCRIPTION:Members and guests\, join for a night to outwit your competitors with general facts and trivia. Table of 8 is $80. Pulled pork and sides will be available for purchase. Bar opens at 5 pm. Trivia begins at 6:30 pm. Payouts to the winners! Call 309-255-3140 to register your table today.
URL:https://977wmoi.com/event/trivia-night-at-the-monmouth-country-club/
END:VEVENT
BEGIN:VEVENT
DTSTART;TZID=America/Chicago:20220226T090000
DTEND;TZID=America/Chicago:20220226T120000
DTSTAMP:20260425T180007
CREATED:20220127T191002Z
LAST-MODIFIED:20220127T191002Z
UID:403737-1645866000-1645876800@977wmoi.com
SUMMARY:WCHD 12+ COVID-19 Vaccination & Booster Clinic
DESCRIPTION:Pfizer\, Moderna\, and Johnson & Johnson will all be available. Pfizer or Moderna boosters are available if you have previously received Pfizer or Moderna more than 5 months ago. Johnson & Johnson boosters are available if you received your initial dose at least 2 months ago. Clinics are held at the Warren County Health Department\, 240 South Main Street in Monmouth. Schedule an appointment by calling 309-734-0823.
URL:https://977wmoi.com/event/wchd-12-covid-19-vaccination-booster-clinic-3/
END:VEVENT
BEGIN:VEVENT
DTSTART;TZID=America/Chicago:20220226T110000
DTEND;TZID=America/Chicago:20220226T140000
DTSTAMP:20260425T180007
CREATED:20220224T142239Z
LAST-MODIFIED:20220224T142252Z
UID:404958-1645873200-1645884000@977wmoi.com
SUMMARY:Friends of the Library Book Sale
DESCRIPTION:Friends of the Macomb Public Library will be hosting a book sale on Saturday\, February 26\, 2022 from 11am to 2pm at the Library Annex\, 109 East Jefferson Street in Macomb. Featuring mysteries\, westerns\, science fiction\, and oversized books. Also CD’s\, DVD’s and audio books. Masks will be required. All proceeds are reinvested in the library.
URL:https://977wmoi.com/event/friends-of-the-library-book-sale-2/
END:VEVENT
BEGIN:VEVENT
DTSTART;TZID=America/Chicago:20220226T200000
DTEND;TZID=America/Chicago:20220226T220000
DTSTAMP:20260425T180007
CREATED:20220223T162945Z
LAST-MODIFIED:20220223T162945Z
UID:404907-1645905600-1645912800@977wmoi.com
SUMMARY:Heartsick performing live at Wake N Bake
DESCRIPTION:Heartsick will be performing live at Wake N Bake in Burlington\, Iowa at 8pm on Saturday\, February 26th. Wake N Bake is located at 713 Jefferson Street in Burlington.
URL:https://977wmoi.com/event/heartsick-performing-live-at-wake-n-bake/
END:VEVENT
BEGIN:VEVENT
DTSTART;TZID=America/Chicago:20220227T140000
DTEND;TZID=America/Chicago:20220227T150000
DTSTAMP:20260425T180007
CREATED:20220223T162034Z
LAST-MODIFIED:20220224T151853Z
UID:404903-1645970400-1645974000@977wmoi.com
SUMMARY:2022 Polar Plunge
DESCRIPTION:The 2022 Polar Plunge will take place at Lake Storey beach in Galesburg starting at 2pm on Sunday\, February 27th. You can watch and cheer on the plungers\, or be brave and plunge yourself. All donations will benefit Special Olympic athletes in Illinois to compete in the summer games and many other ways as well.
URL:https://977wmoi.com/event/2022-polar-plunge/
END:VEVENT
BEGIN:VEVENT
DTSTART;TZID=America/Chicago:20220228T170000
DTEND;TZID=America/Chicago:20220228T190000
DTSTAMP:20260425T180007
CREATED:20220210T153956Z
LAST-MODIFIED:20220210T153956Z
UID:404305-1646067600-1646074800@977wmoi.com
SUMMARY:Diabetes Support Group Meeting
DESCRIPTION:Diabetes Support Group Meeting at OSF Holy Family in Monmouth\nMonday\, Feb. 28th Starting at 5pm. Free and Open to the Public in the\nWellness Center Classroom. Dr. Jeremiah Bushmaker will be on-hand\nto discuss proper foot care and the impact it has on managing your\ndiabetes. Address questions about this event to Tina Canada at (309)\n734-1424.
URL:https://977wmoi.com/event/diabetes-support-group-meeting/
END:VEVENT
BEGIN:VEVENT
DTSTART;TZID=America/Chicago:20220301T170000
DTEND;TZID=America/Chicago:20220301T180000
DTSTAMP:20260425T180007
CREATED:20220215T140434Z
LAST-MODIFIED:20220215T140434Z
UID:404503-1646154000-1646157600@977wmoi.com
SUMMARY:Galesburg Chamber Quarterly Roundtable
DESCRIPTION:Interchange exchange at the Galesburg Chamber’s quarterly roundtable for businesses to discuss what’s working for them\, form collaborations\, and to work together for the betterment of the community. Event will be held at Lenny’s Grill & Subs in Galesburg.
URL:https://977wmoi.com/event/galesburg-chamber-quarterly-roundtable/
END:VEVENT
BEGIN:VEVENT
DTSTART;TZID=America/Chicago:20220304T063000
DTEND;TZID=America/Chicago:20220304T074500
DTSTAMP:20260425T180007
CREATED:20220224T173428Z
LAST-MODIFIED:20220224T173428Z
UID:404978-1646375400-1646379900@977wmoi.com
SUMMARY:Lenten Lay Breakfast Series at Strom Center in Monmouth
DESCRIPTION:Breakfast begins at 6:30 am with the program from 7:15 am to 7:45 am. Host church is First United Methodist.
URL:https://977wmoi.com/event/lenten-lay-breakfast-series-at-strom-center-in-monmouth/
END:VEVENT
BEGIN:VEVENT
DTSTART;TZID=America/Chicago:20220304T163000
DTEND;TZID=America/Chicago:20220304T193000
DTSTAMP:20260425T180007
CREATED:20220214T144245Z
LAST-MODIFIED:20220214T144245Z
UID:404409-1646411400-1646422200@977wmoi.com
SUMMARY:Western Illinois Animal Rescue Fish Fry Fundraiser
DESCRIPTION:Dine in and carry out available at the Monmouth VFW Hall\, 830 North G Street. For $10 receive 2 pieces of fish\, coleslaw\, and a bag of chips. Sponsored by LSI Accounting and benefiting the Western Illinois Animal Rescue.
URL:https://977wmoi.com/event/western-illinois-animal-rescue-fish-fry-fundraiser/
END:VEVENT
BEGIN:VEVENT
DTSTART;TZID=America/Chicago:20220305T100000
DTEND;TZID=America/Chicago:20220305T120000
DTSTAMP:20260425T180007
CREATED:20220210T154439Z
LAST-MODIFIED:20220210T154439Z
UID:404309-1646474400-1646481600@977wmoi.com
SUMMARY:free Diabetes Management class
DESCRIPTION:Diabetes takes a lot of work to manage. Join us for a free Diabetes Management class on Saturday\, March 5th at 10am.  Learn the Fundamentals of meal planning\, physical activity\, stress management\, home glucose monitoring to manage diabetes. A Certified Diabetes Care and Education Specialist will lead the class and answer questions. \nWhere:\nOSF Holy Family Medical Center – Wellness Classroom\n1000 W. Harlem Avenue\nMonmouth\, IL 61462
URL:https://977wmoi.com/event/free-diabetes-management-class/
END:VEVENT
BEGIN:VEVENT
DTSTART;TZID=America/Chicago:20220305T160000
DTEND;TZID=America/Chicago:20220305T190000
DTSTAMP:20260425T180007
CREATED:20220228T163045Z
LAST-MODIFIED:20220228T163045Z
UID:405162-1646496000-1646506800@977wmoi.com
SUMMARY:Henderson County Old Tymers Soup Supper
DESCRIPTION:Held at St. Patrick’s Community Center in Raritan\, IL. Free will donation. The Henderson County Olde Tymers is a Western Illinois based tractor club dedicated to the preservation of the area’s rich agricultural history.
URL:https://977wmoi.com/event/henderson-county-old-tymers-soup-supper-2/
END:VEVENT
BEGIN:VEVENT
DTSTART;TZID=America/Chicago:20220305T170000
DTEND;TZID=America/Chicago:20220305T170000
DTSTAMP:20260425T180007
CREATED:20220224T174505Z
LAST-MODIFIED:20220224T174505Z
UID:404994-1646499600-1646499600@977wmoi.com
SUMMARY:Oquawka Toy Drive Trivia Night
DESCRIPTION:Grab your friends and get your thinking caps on for a night of fun. Doors open at 5 pm. Trivia play begins at 6 pm. $10 per person with up to 10 people per table. There will be silent auction and bake sale items available. All proceeds benefit the Oquawka Toy Drive.
URL:https://977wmoi.com/event/oquawka-toy-drive-trivia-night/
END:VEVENT
BEGIN:VEVENT
DTSTART;TZID=America/Chicago:20220305T190000
DTEND;TZID=America/Chicago:20220305T210000
DTSTAMP:20260425T180007
CREATED:20220207T154132Z
LAST-MODIFIED:20220207T154132Z
UID:404102-1646506800-1646514000@977wmoi.com
SUMMARY:Relay For Life Trivia Night
DESCRIPTION:March 5\, 2022 7-9pm\nLooking for a fun Saturday night? Gather your trivia-loving friends/family (or even just yourself!) and play with Relay For Life of Knox County IL online! How does it work? \n*Register your team at https://tinyurl.com/rfltrivia. $30 per team of one or more people.\n*Designate a team (or the general event) to credit at registration.\n*Registrants will be sent instructions on how to play\, best done with one computer and one smartphone.\n*On Saturday\, March 5th 7pm get your team together in the same room and play! \nRelay For Life raises funds for research\, advocacy and education provided by the American Cancer Society.
URL:https://977wmoi.com/event/relay-for-life-trivia-night/
END:VEVENT
BEGIN:VEVENT
DTSTART;TZID=America/Chicago:20220306T090000
DTEND;TZID=America/Chicago:20220306T140000
DTSTAMP:20260425T180007
CREATED:20220228T163551Z
LAST-MODIFIED:20220228T163551Z
UID:405164-1646557200-1646575200@977wmoi.com
SUMMARY:ROWVA FFA Toy Show
DESCRIPTION:Doors open 9am-2pm. Event held at ROWVA High School GYM\, 346 E. ROVA Drive Oneida\, IL61467. Free will donation. FFA Alumni will be serving food. For more information\, call Rodney Main at 309-483-6371 or email rmain@rowva.k12.il.us.
URL:https://977wmoi.com/event/rowva-ffa-toy-show/
END:VEVENT
BEGIN:VEVENT
DTSTART;VALUE=DATE:20220307
DTEND;VALUE=DATE:20220412
DTSTAMP:20260425T180007
CREATED:20220224T142101Z
LAST-MODIFIED:20220224T142101Z
UID:404957-1646611200-1649721599@977wmoi.com
SUMMARY:United District 304 Early Childhood Screenings
DESCRIPTION:
URL:https://977wmoi.com/event/united-district-304-early-childhood-screenings/
END:VEVENT
BEGIN:VEVENT
DTSTART;TZID=America/Chicago:20220307T170000
DTEND;TZID=America/Chicago:20220307T183000
DTSTAMP:20260425T180007
CREATED:20210920T202706Z
LAST-MODIFIED:20210920T202706Z
UID:397890-1646672400-1646677800@977wmoi.com
SUMMARY:Monmouth American Legion Soup Supper
DESCRIPTION:All you can eat. Serving chili\, taco soup\, beef and noodles\, and grilled cheese sandwiches. Each meal come with a dessert\, drink\, and great friends to enjoy your meal with. A 50/50 raffle will be drawn at 6 pm. Cost is $8 for adults and $3 for children.
URL:https://977wmoi.com/event/monmouth-american-legion-soup-supper-7/
END:VEVENT
BEGIN:VEVENT
DTSTART;TZID=America/Chicago:20220308T130000
DTEND;TZID=America/Chicago:20220308T173000
DTSTAMP:20260425T180007
CREATED:20220303T142223Z
LAST-MODIFIED:20220303T142223Z
UID:405315-1646744400-1646760600@977wmoi.com
SUMMARY:West Central Development & Preschool Screenings
DESCRIPTION:Developmental screenings are for families with children aged birth to 5 years old and want to know more about their child’s development. You must participate in a preschool screening before your child can be considered for enrollment in preschool. For a preschool screening\, child must be three years of age and you will need to bring proof of income and a birth certificate. For an appointment\, call 309-627-2371. Screenings are held at the West Central Elementary.
URL:https://977wmoi.com/event/west-central-development-preschool-screenings/
END:VEVENT
BEGIN:VEVENT
DTSTART;TZID=America/Chicago:20220308T190000
DTEND;TZID=America/Chicago:20220308T190000
DTSTAMP:20260425T180007
CREATED:20220222T191450Z
LAST-MODIFIED:20220222T191450Z
UID:404859-1646766000-1646766000@977wmoi.com
SUMMARY:Knox County Right to Life Meeting
DESCRIPTION:At Mount Calvary Lutheran Church\, 1372 West Fremont Street in Galesburg. Meeting will include education and letter writing.
URL:https://977wmoi.com/event/knox-county-right-to-life-meeting-15/
END:VEVENT
BEGIN:VEVENT
DTSTART;TZID=America/Chicago:20220309T130000
DTEND;TZID=America/Chicago:20220309T150000
DTSTAMP:20260425T180007
CREATED:20220224T175042Z
LAST-MODIFIED:20220224T175042Z
UID:405004-1646830800-1646838000@977wmoi.com
SUMMARY:BINGO at the Oquawka Strom Center
DESCRIPTION:
URL:https://977wmoi.com/event/bingo-at-the-oquawka-strom-center/
END:VEVENT
BEGIN:VEVENT
DTSTART;TZID=America/Chicago:20220309T183000
DTEND;TZID=America/Chicago:20220309T200000
DTSTAMP:20260425T180007
CREATED:20220301T140844Z
LAST-MODIFIED:20220301T140844Z
UID:405200-1646850600-1646856000@977wmoi.com
SUMMARY:Monmouth-Roseville High School Freshman Class of 2026 Orientation
DESCRIPTION:For current 8th Grade students\, parent and student orientation in the Monmouth-Roseville High School gym. For more information\, contact the schools’ counselors.
URL:https://977wmoi.com/event/monmouth-roseville-high-school-freshman-class-of-2026-orientation/
END:VEVENT
BEGIN:VEVENT
DTSTART;VALUE=DATE:20220310
DTEND;VALUE=DATE:20220311
DTSTAMP:20260425T180007
CREATED:20220302T153827Z
LAST-MODIFIED:20220302T153827Z
UID:405270-1646870400-1646956799@977wmoi.com
SUMMARY:Spring for the Arts Bowl in a Bag
DESCRIPTION:Great Bowls Gives Back! They pick the bowl and you choose your lunch! Must order a minimum of three lunches. Delivery to Galesburg\, Knoxville\, and Monmouth. Lunch includes a handmade Artisan bowl\, 8oz bowl of soup\, a cheese sub\, and chocolate chip cookie. Cost is $25. Order by March 8th for delivery of March 10th. Visit http://galesburgarts.org/lunch for full menu details.
URL:https://977wmoi.com/event/spring-for-the-arts-bowl-in-a-bag/
END:VEVENT
BEGIN:VEVENT
DTSTART;TZID=America/Chicago:20220310T130000
DTEND;TZID=America/Chicago:20220310T130000
DTSTAMP:20260425T180007
CREATED:20220224T174259Z
LAST-MODIFIED:20220224T174259Z
UID:404992-1646917200-1646917200@977wmoi.com
SUMMARY:Warren County TRIAD Meeting at Strom Center
DESCRIPTION:Anne Liby will explain the Strom Medical Equipment Program and demonstrate some of the equipment offered for loan purposes. There are no dues or fees to attend.
URL:https://977wmoi.com/event/warren-county-triad-meeting-at-strom-center/
END:VEVENT
BEGIN:VEVENT
DTSTART;TZID=America/Chicago:20220310T183000
DTEND;TZID=America/Chicago:20220310T183000
DTSTAMP:20260425T180007
CREATED:20220224T174616Z
LAST-MODIFIED:20220224T174616Z
UID:404996-1646937000-1646937000@977wmoi.com
SUMMARY:Illinois Wild Mammals Presentation
DESCRIPTION:At the Henderson County Library in Biggsville. Presenter will be Jeff Lox\, local hunter\, trapper\, and fisherman.
URL:https://977wmoi.com/event/illinois-wild-mammals-presentation/
END:VEVENT
BEGIN:VEVENT
DTSTART;VALUE=DATE:20220311
DTEND;VALUE=DATE:20220409
DTSTAMP:20260425T180007
CREATED:20220310T142016Z
LAST-MODIFIED:20220310T142016Z
UID:405643-1646956800-1649462399@977wmoi.com
SUMMARY:TRIO Upward Bound Math-Science Accepting Applications
DESCRIPTION:TRIO Upward Bound Math-Science (UBMS) is currently recruiting students for the 2022-2023 academic year.  Students who are in 8th\, 9th and 10th grade at Monmouth-Roseville school district are encouraged to apply!  UBMS is a college prep program that supports students during their time in high school and provides opportunities to explore career and college options through interactive activities and engaging trips!\nLearn more at www.sandburg.edu/ubms\nApply Now at https://form.jotform.com/220065250321136\nApplications are due on Friday\, April 8\, 2022!
URL:https://977wmoi.com/event/trio-upward-bound-math-science-accepting-applications/
END:VEVENT
BEGIN:VEVENT
DTSTART;TZID=America/Chicago:20220311T063000
DTEND;TZID=America/Chicago:20220311T074500
DTSTAMP:20260425T180007
CREATED:20220224T173533Z
LAST-MODIFIED:20220224T173533Z
UID:404980-1646980200-1646984700@977wmoi.com
SUMMARY:Lenten Lay Breakfast Series at Strom Center
DESCRIPTION:Breakfast begins at 6:30 am with the program from 7:15 am to 7:45 am. Host church is First Lutheran.
URL:https://977wmoi.com/event/lenten-lay-breakfast-series-at-strom-center/
END:VEVENT
BEGIN:VEVENT
DTSTART;TZID=America/Chicago:20220311T193000
DTEND;TZID=America/Chicago:20220311T193000
DTSTAMP:20260425T180007
CREATED:20220128T183217Z
LAST-MODIFIED:20220128T183217Z
UID:403781-1647027000-1647027000@977wmoi.com
SUMMARY:Bitter\, Bothered\, and Beyond at the Orpheum Theatre
DESCRIPTION:It’s been three years since the iconic redheaded queen Miss Coco Peru graced The Orpheum Theatre stage with her hilarious yet touching cabaret show The Taming of the Tension. Since then Miss Coco has become a friend of The Orpheum\, and this March she will return\, presenting her brand new show: Miss Coco Peru is Bitter\, Bothered & Beyond! After everything that’s been going on in the world\, Coco is ready to unleash her thoughts about the past\, present and future. Yes\, this exhausted dinosaur of drag is not holding back anything in her new show Bitter Bothered & Beyond—Friday\, March 11\, 7:30pm at The Orpheum Theatre. Tickets are $25 and will be available to the public beginning Wednesday\, February 2. Find tickets here: AudienceView Professional (ovationtix.com)
URL:https://977wmoi.com/event/bitter-bothered-and-beyond-at-the-orpheum-theatre/
END:VEVENT
BEGIN:VEVENT
DTSTART;VALUE=DATE:20220312
DTEND;VALUE=DATE:20220314
DTSTAMP:20260425T180007
CREATED:20220307T144139Z
LAST-MODIFIED:20220307T144139Z
UID:405421-1647043200-1647215999@977wmoi.com
SUMMARY:Geodeland Gem\, Mineral and Fossil Show March 12-13 at WIU
DESCRIPTION:The Geodeland Earth Science Clubs\, Inc. (GESCI) will host its 41st annual Gem\, Mineral and Fossil Show from 10 a.m.-6 p.m. Saturday\, March 12\, and from 10 a.m.-5 p.m. Sunday\, March 13 in the Western Illinois University Union Grand Ballroom. Parking and admission are free. \nThe theme of this year’s show is “Red Minerals and Illinois Fossils.” There will be a featured display in the center of the Grand Ballroom. \nThe GESCI Show will include 10 dealers in minerals\, fossils\, jewelry and equipment. There will be displays of geodes\, minerals\, fossils\, and many other earth science objects. The displays will include items found in our own backyards here in western Illinois\, as well as those that come from around the world. Demonstrators will be showing wire-wrapping\, geode cracking\, flint knapping\, glass beads and gem tree making.
URL:https://977wmoi.com/event/geodeland-gem-mineral-and-fossil-show-march-12-13-at-wiu/
END:VEVENT
BEGIN:VEVENT
DTSTART;TZID=America/Chicago:20220312T100000
DTEND;TZID=America/Chicago:20220313T170000
DTSTAMP:20260425T180007
CREATED:20220210T180902Z
LAST-MODIFIED:20220210T180902Z
UID:404334-1647079200-1647190800@977wmoi.com
SUMMARY:WIU Gem\, Mineral\, Fossil & Jewelry Show
DESCRIPTION:WIU Gem\, Mineral\, Fossil & Jewelry Show at the Ballroom in the University Union. Saturday\, March 12 from 10am-6pm and Sunday\, March 13 from 10am-5pm
URL:https://977wmoi.com/event/wiu-gem-mineral-fossil-jewelry-show/
END:VEVENT
END:VCALENDAR