BEGIN:VCALENDAR
VERSION:2.0
PRODID:-//Prairie Communications, LLC - ECPv6.15.20//NONSGML v1.0//EN
CALSCALE:GREGORIAN
METHOD:PUBLISH
X-ORIGINAL-URL:https://977wmoi.com
X-WR-CALDESC:Events for Prairie Communications, LLC
REFRESH-INTERVAL;VALUE=DURATION:PT1H
X-Robots-Tag:noindex
X-PUBLISHED-TTL:PT1H
BEGIN:VTIMEZONE
TZID:America/Chicago
BEGIN:DAYLIGHT
TZOFFSETFROM:-0600
TZOFFSETTO:-0500
TZNAME:CDT
DTSTART:20210314T080000
END:DAYLIGHT
BEGIN:STANDARD
TZOFFSETFROM:-0500
TZOFFSETTO:-0600
TZNAME:CST
DTSTART:20211107T070000
END:STANDARD
BEGIN:DAYLIGHT
TZOFFSETFROM:-0600
TZOFFSETTO:-0500
TZNAME:CDT
DTSTART:20220313T080000
END:DAYLIGHT
BEGIN:STANDARD
TZOFFSETFROM:-0500
TZOFFSETTO:-0600
TZNAME:CST
DTSTART:20221106T070000
END:STANDARD
BEGIN:DAYLIGHT
TZOFFSETFROM:-0600
TZOFFSETTO:-0500
TZNAME:CDT
DTSTART:20230312T080000
END:DAYLIGHT
BEGIN:STANDARD
TZOFFSETFROM:-0500
TZOFFSETTO:-0600
TZNAME:CST
DTSTART:20231105T070000
END:STANDARD
END:VTIMEZONE
BEGIN:VEVENT
DTSTART;TZID=America/Chicago:20220716T110000
DTEND;TZID=America/Chicago:20220716T130000
DTSTAMP:20260420T195553
CREATED:20220707T132235Z
LAST-MODIFIED:20220707T132235Z
UID:411066-1657969200-1657976400@977wmoi.com
SUMMARY:Fused Glass Birdies
DESCRIPTION:The next art party is really something to TWEET about! Join us 11am-1pm Saturday\, July 16\, for Fused Glass Birdies with Judi Minor. Class size is limited so call the BCA at 309-734-3033 to reserve your spot. If you are a BCA member\, this class fee is included in your BCA membership; students 18 years old and younger are free; non-member fee is $10. Scholarships are available.
URL:https://977wmoi.com/event/fused-glass-birdies/
END:VEVENT
BEGIN:VEVENT
DTSTART;TZID=America/Chicago:20220716T110000
DTEND;TZID=America/Chicago:20220716T140000
DTSTAMP:20260420T195553
CREATED:20220713T132540Z
LAST-MODIFIED:20220713T132540Z
UID:411238-1657969200-1657980000@977wmoi.com
SUMMARY:Monmouth-Roseville High School Cheer Cookout
DESCRIPTION:Support the Titans Football Cheerleaders at the Monmouth Fareway. Burgers\, pork chops\, and hot dogs.
URL:https://977wmoi.com/event/monmouth-roseville-high-school-cheer-cookout/
END:VEVENT
BEGIN:VEVENT
DTSTART;TZID=America/Chicago:20220716T110000
DTEND;TZID=America/Chicago:20220716T163000
DTSTAMP:20260420T195553
CREATED:20220714T132134Z
LAST-MODIFIED:20220715T143951Z
UID:411330-1657969200-1657989000@977wmoi.com
SUMMARY:Rainbow Riders Community Celebration
DESCRIPTION:Everyone is welcome to a community celebration at Rainbow Riders\, located at 822 200th Avenue in Monmouth\, as they celebrate the opening and use of their new barn. There will be activities\, food\, and fun.
URL:https://977wmoi.com/event/rainbow-riders-community-celebration/
END:VEVENT
BEGIN:VEVENT
DTSTART;TZID=America/Chicago:20220716T140000
DTEND;TZID=America/Chicago:20220716T160000
DTSTAMP:20260420T195553
CREATED:20220713T203557Z
LAST-MODIFIED:20220713T203557Z
UID:411297-1657980000-1657987200@977wmoi.com
SUMMARY:Concert on the Lawn at Courtyard Estates in Monmouth
DESCRIPTION:Live entertainment for the entire public. Please bring your own lawn chair.
URL:https://977wmoi.com/event/concert-on-the-lawn-at-courtyard-estates-in-monmouth/
END:VEVENT
BEGIN:VEVENT
DTSTART;TZID=America/Chicago:20220716T173000
DTEND;TZID=America/Chicago:20220716T173000
DTSTAMP:20260420T195553
CREATED:20220713T204049Z
LAST-MODIFIED:20220713T204049Z
UID:411301-1657992600-1657992600@977wmoi.com
SUMMARY:Warren County Fair Queen Pageant
DESCRIPTION:Held at the Roseville Eldridge Park. The WCF Board will be serving food starting at 4:30pm.
URL:https://977wmoi.com/event/warren-county-fair-queen-pageant/
END:VEVENT
BEGIN:VEVENT
DTSTART;TZID=America/Chicago:20220717T080000
DTEND;TZID=America/Chicago:20220717T080000
DTSTAMP:20260420T195553
CREATED:20220425T185023Z
LAST-MODIFIED:20220425T185023Z
UID:407883-1658044800-1658044800@977wmoi.com
SUMMARY:Warren County Agricultural Fair 5K Run/Walk
DESCRIPTION:Entry fee is $25 and includes a t-shirt or tank. A kids run will be held following the 5K run/walk. Entry forms can be found on the Illinois Warren County Fair Facebook page. Race day entries begin at 7:30 am followed by the race at 8 am.
URL:https://977wmoi.com/event/warren-county-agricultural-fair-5k-run-walk/
END:VEVENT
BEGIN:VEVENT
DTSTART;TZID=America/Chicago:20220717T100000
DTEND;TZID=America/Chicago:20220717T140000
DTSTAMP:20260420T195553
CREATED:20220713T203827Z
LAST-MODIFIED:20220713T203827Z
UID:411299-1658052000-1658066400@977wmoi.com
SUMMARY:Community Summer Fun Day
DESCRIPTION:Join for a fun-filled day with the Knox County YMCA\, 1324 West Carl Sandburg Drive in Galesburg\, for an Open House sponsored by The Ascent Church. Enjoy inflatables\, games\, food\, prizes\, face painting\, and more! The Y will be offering yoga for adults at 11 am and an obstacle course for the kids throughout the day.
URL:https://977wmoi.com/event/community-summer-fun-day/
END:VEVENT
BEGIN:VEVENT
DTSTART;TZID=America/Chicago:20220717T163000
DTEND;TZID=America/Chicago:20220717T190000
DTSTAMP:20260420T195553
CREATED:20220629T185020Z
LAST-MODIFIED:20220629T185020Z
UID:410814-1658075400-1658084400@977wmoi.com
SUMMARY:Gerlaw Christian Church Annual Homemade Ice Cream Social
DESCRIPTION:Join for old fashioned homemade ice cream\, toppings\, cake\, cookies\, and pie. Dine-in or carry-out at the Gerlaw Christian Church\, 948 245th Avenue. Free will donation.
URL:https://977wmoi.com/event/gerlaw-christian-church-annual-homemade-ice-cream-social/
END:VEVENT
BEGIN:VEVENT
DTSTART;TZID=America/Chicago:20220719T160000
DTEND;TZID=America/Chicago:20220719T183000
DTSTAMP:20260420T195553
CREATED:20220607T181126Z
LAST-MODIFIED:20220607T181126Z
UID:409805-1658246400-1658255400@977wmoi.com
SUMMARY:Alexis Farmer's Market
DESCRIPTION:Held every Tuesday in the Alexis Park. Stop\, shop\, browse\, and chat. Eight vendors\, including Lee’s Bakery will be set up from 4 to 6:30 pm. New vendors are always welcome. Call 309-635-4666 to get involved.
URL:https://977wmoi.com/event/alexis-farmers-market-32/
END:VEVENT
BEGIN:VEVENT
DTSTART;TZID=America/Chicago:20220720T170000
DTEND;TZID=America/Chicago:20220720T170000
DTSTAMP:20260420T195553
CREATED:20220713T204230Z
LAST-MODIFIED:20220713T204230Z
UID:411303-1658336400-1658336400@977wmoi.com
SUMMARY:Warren County Fair Family Night
DESCRIPTION:Chicken and pig scramble\, American Ninja Warrior Course\, bounce houses and more at the Warren County Fairgrounds in Roseville.
URL:https://977wmoi.com/event/warren-county-fair-family-night/
END:VEVENT
BEGIN:VEVENT
DTSTART;VALUE=DATE:20220721
DTEND;VALUE=DATE:20220722
DTSTAMP:20260420T195553
CREATED:20220505T180952Z
LAST-MODIFIED:20220505T180952Z
UID:408462-1658361600-1658447999@977wmoi.com
SUMMARY:The Orpheum Theatre’s Throwback Thursday FREE Summer Movie Series
DESCRIPTION:A highly anticipated Galesburg tradition\, The Orpheum Theatre’s Throwback Thursdays FREE summer movie series will enter its twelfth year of screening films at least 20 years old\, and this year it’s back with the theme of ANIMATED CLASSICS! Thanks to sponsorship from F&M Bank\, The Throwback Thursdays 2022 Summer Movie Series boasts ten features this summer: \n7/21                            Anastasia (1997) \n7/28                            Robin Hood (1973) \n8/4                               Batman: The Mask of the Phantasm (1993) \n8/11                            101 Dalmatians (1961) [SPONSOR PICK] \n8/18                            A Bug’s Life (1998) \n                                                              \nA Goofy Movie will kick off the series on Thursday\, June 16 with a 7pm screening; the rest of the films on the series will screen at both 2pm and 7pm on their respective Thursdays. Tickets are not required for these events; more information on the summer movies can be found on The Orpheum Theatre’s social media accounts\, as well as their website www.galesburgorpheum.org. The Orpheum Theatre is located at 57 South Kellogg Street in Downtown Galesburg\, with office hours Tuesday through Friday\, 10am-2pm.
URL:https://977wmoi.com/event/the-orpheum-theatres-throwback-thursday-free-summer-movie-series-6/
END:VEVENT
BEGIN:VEVENT
DTSTART;TZID=America/Chicago:20220721T190000
DTEND;TZID=America/Chicago:20220721T190000
DTSTAMP:20260420T195553
CREATED:20220408T131603Z
LAST-MODIFIED:20220408T131603Z
UID:407175-1658430000-1658430000@977wmoi.com
SUMMARY:Triple J Bucking Bulls at the Warren County Fair
DESCRIPTION:Bull Riding is coming back to The Warren County Agricultural Fair!!! Get your BOOTS on and join us for a exciting time with your family!!! Also enjoy Madd Hoss Jackson in the BEER TENT!! See you in July!!!!
URL:https://977wmoi.com/event/triple-j-bucking-bulls-at-the-warren-county-fair/
END:VEVENT
BEGIN:VEVENT
DTSTART;TZID=America/Chicago:20220722T110000
DTEND;TZID=America/Chicago:20220722T130000
DTSTAMP:20260420T195553
CREATED:20220711T144744Z
LAST-MODIFIED:20220711T144744Z
UID:411126-1658487600-1658494800@977wmoi.com
SUMMARY:Raritan State Bank Cookout
DESCRIPTION:Held at the Raritan State Bank Pavilion. Proceeds will support the Stronghurst Booster Club.
URL:https://977wmoi.com/event/raritan-state-bank-cookout/
END:VEVENT
BEGIN:VEVENT
DTSTART;TZID=America/Chicago:20220722T170000
DTEND;TZID=America/Chicago:20220722T190000
DTSTAMP:20260420T195553
CREATED:20220510T210508Z
LAST-MODIFIED:20220511T134146Z
UID:408643-1658509200-1658516400@977wmoi.com
SUMMARY:Monmouth Farmer's Market
DESCRIPTION:Monmouth Area Chamber of Commerce’s Farmer’s Market will be held Fridays in the Fortress Bank Parking Lot\, 300 Block of North Main in Monmouth.
URL:https://977wmoi.com/event/monmouth-farmers-market-10/
END:VEVENT
BEGIN:VEVENT
DTSTART;TZID=America/Chicago:20220722T180000
DTEND;TZID=America/Chicago:20220722T180000
DTSTAMP:20260420T195553
CREATED:20220713T204402Z
LAST-MODIFIED:20220713T204402Z
UID:411305-1658512800-1658512800@977wmoi.com
SUMMARY:Warren County Fair 18th Annual Livestock Premium Auction
DESCRIPTION:Held in the Hog Show Ring at the Warren County Fairgrounds in Roseville.
URL:https://977wmoi.com/event/warren-county-fair-18th-annual-livestock-premium-auction/
END:VEVENT
BEGIN:VEVENT
DTSTART;TZID=America/Chicago:20220722T190000
DTEND;TZID=America/Chicago:20220722T190000
DTSTAMP:20260420T195553
CREATED:20220713T204513Z
LAST-MODIFIED:20220713T204513Z
UID:411307-1658516400-1658516400@977wmoi.com
SUMMARY:Warren County Fair Demolition Derby
DESCRIPTION:At the Fairgrounds in Roseville. No entry fees. Pit passes only $20.
URL:https://977wmoi.com/event/warren-county-fair-demolition-derby/
END:VEVENT
BEGIN:VEVENT
DTSTART;TZID=America/Chicago:20220723T110000
DTEND;TZID=America/Chicago:20220723T140000
DTSTAMP:20260420T195553
CREATED:20220721T130102Z
LAST-MODIFIED:20220721T130102Z
UID:411583-1658574000-1658584800@977wmoi.com
SUMMARY:JCC Cookout
DESCRIPTION:Join for a cookout at the Monmouth Fareway. All proceeds will benefit Jamieson Community Center. Serving pork chop sandwiches\, beef burgers\, and brats.
URL:https://977wmoi.com/event/jcc-cookout/
END:VEVENT
BEGIN:VEVENT
DTSTART;TZID=America/Chicago:20220723T133000
DTEND;TZID=America/Chicago:20220723T133000
DTSTAMP:20260420T195553
CREATED:20220628T192826Z
LAST-MODIFIED:20220628T192826Z
UID:410742-1658583000-1658583000@977wmoi.com
SUMMARY:A-Town Tornado Classic
DESCRIPTION:4 person scramble to benefit the A-Town Tornadoes golf team. Event will be held at the Lake Bracken Country Club. Cost is $50 and includes golf and a cart. Flights based on number of teams. Enter your team by calling 309-299-2828 or email gcameron@atown276.net.
URL:https://977wmoi.com/event/a-town-tornado-classic/
END:VEVENT
BEGIN:VEVENT
DTSTART;TZID=America/Chicago:20220723T170000
DTEND;TZID=America/Chicago:20220723T190000
DTSTAMP:20260420T195553
CREATED:20220629T125645Z
LAST-MODIFIED:20220629T125645Z
UID:410744-1658595600-1658602800@977wmoi.com
SUMMARY:Monmouth VFW Steak Fry
DESCRIPTION:Tickets are $17 and includes steak\, baked potato\, vegetable\, dinner roll\, and dessert. Tickets can be bought by calling 309-734-2301 or stopping by the VFW after 2 pm. Sponsored by the VFW Post 2301.
URL:https://977wmoi.com/event/monmouth-vfw-steak-fry/
END:VEVENT
BEGIN:VEVENT
DTSTART;TZID=America/Chicago:20220725T180000
DTEND;TZID=America/Chicago:20220725T190000
DTSTAMP:20260420T195553
CREATED:20220610T132143Z
LAST-MODIFIED:20220610T132143Z
UID:409946-1658772000-1658775600@977wmoi.com
SUMMARY:Free Wellness Program
DESCRIPTION:Sponsored by the Warren County Health Department. Program will be held at Meks on Main\, 201 North Main Street in Monmouth on July 25th\, August 1st\, August 8th\, and August 15th all from 6 to 7 pm. There will be guest speakers\, weekly prize drawings\, and topics will cover Strength Training\, Nutrition\, Mobility\, Preventative Care. Call 309-734-1314 extension 3 to register.
URL:https://977wmoi.com/event/free-wellness-program/
END:VEVENT
BEGIN:VEVENT
DTSTART;VALUE=DATE:20220726
DTEND;VALUE=DATE:20220902
DTSTAMP:20260420T195553
CREATED:20220725T200759Z
LAST-MODIFIED:20220725T200759Z
UID:411776-1658793600-1662076799@977wmoi.com
SUMMARY:Eagle View Community Health System Sports Physical Special
DESCRIPTION:Through September 1st\, sports physicals are being offered at a special $10 discounted price at any Eagle View clinic location\, Oquawka Clinic\, Stronghurst Clinic\, or the school-based Health Center in Burlington.
URL:https://977wmoi.com/event/eagle-view-community-health-system-sports-physical-special/
END:VEVENT
BEGIN:VEVENT
DTSTART;TZID=America/Chicago:20220726T160000
DTEND;TZID=America/Chicago:20220726T183000
DTSTAMP:20260420T195553
CREATED:20220607T181202Z
LAST-MODIFIED:20220607T181202Z
UID:409807-1658851200-1658860200@977wmoi.com
SUMMARY:Alexis Farmer's Market
DESCRIPTION:Held every Tuesday in the Alexis Park. Stop\, shop\, browse\, and chat. Eight vendors\, including Lee’s Bakery will be set up from 4 to 6:30 pm. New vendors are always welcome. Call 309-635-4666 to get involved.
URL:https://977wmoi.com/event/alexis-farmers-market-33/
END:VEVENT
BEGIN:VEVENT
DTSTART;TZID=America/Chicago:20220727T170000
DTEND;TZID=America/Chicago:20220727T200000
DTSTAMP:20260420T195553
CREATED:20220412T183230Z
LAST-MODIFIED:20220412T183230Z
UID:407355-1658941200-1658952000@977wmoi.com
SUMMARY:Stronghurst Farmers Market
DESCRIPTION:Held at the Henderson County Fair. Sponsored by the Stronghurst Booster Club.
URL:https://977wmoi.com/event/stronghurst-farmers-market-6/
END:VEVENT
BEGIN:VEVENT
DTSTART;VALUE=DATE:20220728
DTEND;VALUE=DATE:20220729
DTSTAMP:20260420T195553
CREATED:20220505T181035Z
LAST-MODIFIED:20220505T181035Z
UID:408464-1658966400-1659052799@977wmoi.com
SUMMARY:The Orpheum Theatre’s Throwback Thursday FREE Summer Movie Series
DESCRIPTION:A highly anticipated Galesburg tradition\, The Orpheum Theatre’s Throwback Thursdays FREE summer movie series will enter its twelfth year of screening films at least 20 years old\, and this year it’s back with the theme of ANIMATED CLASSICS! Thanks to sponsorship from F&M Bank\, The Throwback Thursdays 2022 Summer Movie Series boasts ten features this summer: \n7/28                            Robin Hood (1973) \n8/4                               Batman: The Mask of the Phantasm (1993) \n8/11                            101 Dalmatians (1961) [SPONSOR PICK] \n8/18                            A Bug’s Life (1998) \n                                                              \nA Goofy Movie will kick off the series on Thursday\, June 16 with a 7pm screening; the rest of the films on the series will screen at both 2pm and 7pm on their respective Thursdays. Tickets are not required for these events; more information on the summer movies can be found on The Orpheum Theatre’s social media accounts\, as well as their website www.galesburgorpheum.org. The Orpheum Theatre is located at 57 South Kellogg Street in Downtown Galesburg\, with office hours Tuesday through Friday\, 10am-2pm.
URL:https://977wmoi.com/event/the-orpheum-theatres-throwback-thursday-free-summer-movie-series-7/
END:VEVENT
BEGIN:VEVENT
DTSTART;VALUE=DATE:20220729
DTEND;VALUE=DATE:20220730
DTSTAMP:20260420T195553
CREATED:20220707T132338Z
LAST-MODIFIED:20220707T132338Z
UID:411068-1659052800-1659139199@977wmoi.com
SUMMARY:Jaws Movie Night on the Pattee Plaza
DESCRIPTION:Mark your calendar to watch an old school blockbuster on the Pattee Plaza (at dusk) Friday\, July 29. We will have a drawing for a specially curated gift basket of goodies\, and a bit of fun and games. We may even need a bigger boat! This event is free and open to the public. See you on the Pattee Plaza!
URL:https://977wmoi.com/event/jaws-movie-night-on-the-pattee-plaza/
END:VEVENT
BEGIN:VEVENT
DTSTART;TZID=America/Chicago:20220729T170000
DTEND;TZID=America/Chicago:20220729T190000
DTSTAMP:20260420T195553
CREATED:20220510T210542Z
LAST-MODIFIED:20220511T134116Z
UID:408645-1659114000-1659121200@977wmoi.com
SUMMARY:Monmouth Farmer's Market
DESCRIPTION:Monmouth Area Chamber of Commerce’s Farmer’s Market will be held Fridays in the Fortress Bank Parking Lot\, 300 Block of North Main in Monmouth.
URL:https://977wmoi.com/event/monmouth-farmers-market-11/
END:VEVENT
BEGIN:VEVENT
DTSTART;TZID=America/Chicago:20220730T130000
DTEND;TZID=America/Chicago:20220730T143000
DTSTAMP:20260420T195553
CREATED:20220713T204719Z
LAST-MODIFIED:20220713T204719Z
UID:411309-1659186000-1659191400@977wmoi.com
SUMMARY:Craig and Co Band Live in Concert
DESCRIPTION:Held at Legacy Estates in Monmouth\, 1200 West Broadway. Refreshments will be served. Please bring your own lawn chair.
URL:https://977wmoi.com/event/craig-and-co-band-live-in-concert/
END:VEVENT
BEGIN:VEVENT
DTSTART;TZID=America/Chicago:20220730T140000
DTEND;TZID=America/Chicago:20220730T160000
DTSTAMP:20260420T195553
CREATED:20220701T130154Z
LAST-MODIFIED:20220701T130154Z
UID:410868-1659189600-1659196800@977wmoi.com
SUMMARY:Summer Celebration Youth Archery Shoot
DESCRIPTION:At the Dallas City Park. Check in time is 1:30 pm. Class is for ages 11-17\, beginner\, intermediate\, and advanced shooters. Email scyas@yahoo.com to register. Event sponsored by the City of Lomax\, Riverview Sportsmen Club\, Yellow Rose Saloon\, Friends of Henderson County Wildlife\, City of Dallas City\, and DCES PTO.
URL:https://977wmoi.com/event/summer-celebration-youth-archery-shoot/
END:VEVENT
BEGIN:VEVENT
DTSTART;TZID=America/Chicago:20220801T180000
DTEND;TZID=America/Chicago:20220801T190000
DTSTAMP:20260420T195553
CREATED:20220610T132409Z
LAST-MODIFIED:20220610T132409Z
UID:409949-1659376800-1659380400@977wmoi.com
SUMMARY:Free Wellness Program
DESCRIPTION:Sponsored by the Warren County Health Department. Program will be held at Meks on Main\, 201 North Main Street in Monmouth on July 25th\, August 1st\, August 8th\, and August 15th all from 6 to 7 pm. There will be guest speakers\, weekly prize drawings\, and topics will cover Strength Training\, Nutrition\, Mobility\, Preventative Care. Call 309-734-1314 extension 3 to register.
URL:https://977wmoi.com/event/free-wellness-program-2/
END:VEVENT
BEGIN:VEVENT
DTSTART;TZID=America/Chicago:20220802T160000
DTEND;TZID=America/Chicago:20220802T183000
DTSTAMP:20260420T195553
CREATED:20220607T181242Z
LAST-MODIFIED:20220607T181242Z
UID:409809-1659456000-1659465000@977wmoi.com
SUMMARY:Alexis Farmer's Market
DESCRIPTION:Held every Tuesday in the Alexis Park. Stop\, shop\, browse\, and chat. Eight vendors\, including Lee’s Bakery will be set up from 4 to 6:30 pm. New vendors are always welcome. Call 309-635-4666 to get involved.
URL:https://977wmoi.com/event/alexis-farmers-market-34/
END:VEVENT
END:VCALENDAR