BEGIN:VCALENDAR
VERSION:2.0
PRODID:-//Prairie Communications, LLC - ECPv6.15.20//NONSGML v1.0//EN
CALSCALE:GREGORIAN
METHOD:PUBLISH
X-ORIGINAL-URL:https://977wmoi.com
X-WR-CALDESC:Events for Prairie Communications, LLC
REFRESH-INTERVAL;VALUE=DURATION:PT1H
X-Robots-Tag:noindex
X-PUBLISHED-TTL:PT1H
BEGIN:VTIMEZONE
TZID:America/Chicago
BEGIN:DAYLIGHT
TZOFFSETFROM:-0600
TZOFFSETTO:-0500
TZNAME:CDT
DTSTART:20220313T080000
END:DAYLIGHT
BEGIN:STANDARD
TZOFFSETFROM:-0500
TZOFFSETTO:-0600
TZNAME:CST
DTSTART:20221106T070000
END:STANDARD
BEGIN:DAYLIGHT
TZOFFSETFROM:-0600
TZOFFSETTO:-0500
TZNAME:CDT
DTSTART:20230312T080000
END:DAYLIGHT
BEGIN:STANDARD
TZOFFSETFROM:-0500
TZOFFSETTO:-0600
TZNAME:CST
DTSTART:20231105T070000
END:STANDARD
BEGIN:DAYLIGHT
TZOFFSETFROM:-0600
TZOFFSETTO:-0500
TZNAME:CDT
DTSTART:20240310T080000
END:DAYLIGHT
BEGIN:STANDARD
TZOFFSETFROM:-0500
TZOFFSETTO:-0600
TZNAME:CST
DTSTART:20241103T070000
END:STANDARD
END:VTIMEZONE
BEGIN:VEVENT
DTSTART;TZID=America/Chicago:20230520T140000
DTEND;TZID=America/Chicago:20230520T160000
DTSTAMP:20260422T023437
CREATED:20230517T192614Z
LAST-MODIFIED:20230517T192614Z
UID:428212-1684591200-1684598400@977wmoi.com
SUMMARY:Sketch & Sip at the BCA
DESCRIPTION:Join Rebecca Quick as she makes an afternoon of art fun! Sketch and sip from 2pm-4pm\, Saturday May 20\, in the BCA classroom. Participants will learn different pattern techniques to create their own zentangles. Enjoy a glass of wine as you learn peaceful artmaking methods. Participants must be 21 years or older. Class fee is included with your BCA membership. Non-members $10. Scholarships are available. Call 309-734-3033 to reserve your spot today.
URL:https://977wmoi.com/event/sketch-sip-at-the-bca/
END:VEVENT
BEGIN:VEVENT
DTSTART;TZID=America/Chicago:20230521T130000
DTEND;TZID=America/Chicago:20230521T150000
DTSTAMP:20260422T023437
CREATED:20230210T211105Z
LAST-MODIFIED:20230501T195710Z
UID:422846-1684674000-1684681200@977wmoi.com
SUMMARY:Galesburg Parks & Rec Fishing Derby
DESCRIPTION:The annual Youth Fishing Derby at Lincoln Park in Galesburg is a free event for families and children ages 3-15. Prizes will be given. Mobile Playground Truck will be on hand from noon to 3 pm.
URL:https://977wmoi.com/event/galesburg-parks-rec-fishing-derby/
END:VEVENT
BEGIN:VEVENT
DTSTART;TZID=America/Chicago:20230521T170000
DTEND;TZID=America/Chicago:20230521T170000
DTSTAMP:20260422T023437
CREATED:20230328T191634Z
LAST-MODIFIED:20230328T191634Z
UID:425198-1684688400-1684688400@977wmoi.com
SUMMARY:Maple City Antique Tractor Assoc. All Member Meeting
DESCRIPTION:At the Warren-Henderson Farm Bureau Building\, 1000 North Main in Monmouth. Bring finger food.
URL:https://977wmoi.com/event/maple-city-antique-tractor-assoc-all-member-meeting/
END:VEVENT
BEGIN:VEVENT
DTSTART;VALUE=DATE:20230522
DTEND;VALUE=DATE:20230527
DTSTAMP:20260422T023437
CREATED:20230412T181056Z
LAST-MODIFIED:20230412T181056Z
UID:426005-1684713600-1685145599@977wmoi.com
SUMMARY:Spring Fling at Courtyard Estates of Monmouth
DESCRIPTION:Staff and tenant appreciation week at Courtyard! Monday will kickoff with a Kindness Tree and lemonade and cookies. Tuesday is baseball spirit day. Wednesday an ice cream social and Oldies Dance Party. Thursday is crazy hair day and dress up day. Friday is BINGO day! All family and friends are welcome to stop by!
URL:https://977wmoi.com/event/spring-fling-at-courtyard-estates-of-monmouth/
END:VEVENT
BEGIN:VEVENT
DTSTART;TZID=America/Chicago:20230522T170000
DTEND;TZID=America/Chicago:20230522T170000
DTSTAMP:20260422T023437
CREATED:20230501T153943Z
LAST-MODIFIED:20230501T153943Z
UID:427144-1684774800-1684774800@977wmoi.com
SUMMARY:MEDFORCE Training
DESCRIPTION:The Oquawka Fire Protection District will have MEDFORCE on site at the city track in Oquawka on North 8th Street to go over Landing Zone Training for area departments and EMS. The public is welcome to observe\, however\, are asked to park on the outskirts of the track to keep a safe distance and not to interfere with the training.
URL:https://977wmoi.com/event/medforce-training/
END:VEVENT
BEGIN:VEVENT
DTSTART;TZID=America/Chicago:20230522T170000
DTEND;TZID=America/Chicago:20230522T190000
DTSTAMP:20260422T023437
CREATED:20230316T132836Z
LAST-MODIFIED:20230316T132836Z
UID:424558-1684774800-1684782000@977wmoi.com
SUMMARY:Stronghurst Farmers Market
DESCRIPTION:On Broadway Street in Stronghurst. Follow Stronghurst Farmers Market on Facebook.
URL:https://977wmoi.com/event/stronghurst-farmers-market-13/
END:VEVENT
BEGIN:VEVENT
DTSTART;TZID=America/Chicago:20230523T113000
DTEND;TZID=America/Chicago:20230523T130000
DTSTAMP:20260422T023437
CREATED:20230503T175606Z
LAST-MODIFIED:20230503T175606Z
UID:427375-1684841400-1684846800@977wmoi.com
SUMMARY:2023 Local Elected Official Luncheon
DESCRIPTION:This panel event at the Lake Storey Pavilion with the Galesburg Area Chamber of Commerce is focused on local legislative updates and future plans in the community. Tickets NOW AVAILABLE and include catered lunch by a local Chamber member. \n\nPanelist include:\n Mayor of City of Galesburg\, Peter Schwartzman\n Chair of the Knox County Board\, Jared Hawkinson\n President of CUSD #205 School Board\, Rod Scherpe\n\n\nRoundtable time afterwards with various board members and council members.\n\n\nSubmit your anonymous questions for the panelists here: https://bit.ly/3V8kGac.
URL:https://977wmoi.com/event/2023-local-elected-official-luncheon/
END:VEVENT
BEGIN:VEVENT
DTSTART;TZID=America/Chicago:20230524T080000
DTEND;TZID=America/Chicago:20230524T170000
DTSTAMP:20260422T023437
CREATED:20230524T201427Z
LAST-MODIFIED:20230524T201427Z
UID:428621-1684915200-1684947600@977wmoi.com
SUMMARY:Honor Guard Schedule
DESCRIPTION:10:15 at the Gerlaw Cemetery\, 10:40 at Mosher Cemetery\, 11:00 Memorial Park Cemetery\, 11:15 Monmouth Cemetery\, 11:30 Catholic St. Mary’s Cemetery\, noon Lenox Cemetery\, 12:15 Cameron Cemetery\, 1:00 Ellison Cemetery\, 1:30 Kirkwood Cemetery\, 2:00 Oquawka Cemetery\, 2:45 Little York Cemetery\, and 3:00 Cedar Creek Cemetery. Local Boy and Girl Scout Troops will be placing flags at the cemeteries.
URL:https://977wmoi.com/event/honor-guard-schedule/
END:VEVENT
BEGIN:VEVENT
DTSTART;TZID=America/Chicago:20230525T110000
DTEND;TZID=America/Chicago:20230525T130000
DTSTAMP:20260422T023437
CREATED:20230328T185332Z
LAST-MODIFIED:20230328T185332Z
UID:425178-1685012400-1685019600@977wmoi.com
SUMMARY:Relay for Life Cookout at Midwest Bank in Monmouth
DESCRIPTION:Proceeds benefit Warren-Henderson Relay for Life.
URL:https://977wmoi.com/event/relay-for-life-cookout-at-midwest-bank-in-monmouth/
END:VEVENT
BEGIN:VEVENT
DTSTART;TZID=America/Chicago:20230525T180000
DTEND;TZID=America/Chicago:20230525T180000
DTSTAMP:20260422T023437
CREATED:20230511T193148Z
LAST-MODIFIED:20230511T193148Z
UID:427904-1685037600-1685037600@977wmoi.com
SUMMARY:Karla Kares BINGO Night
DESCRIPTION:Join in the fun for BINGO at Meks on Main in Monmouth. $3 tacos will also be available.
URL:https://977wmoi.com/event/karla-kares-bingo-night-3/
END:VEVENT
BEGIN:VEVENT
DTSTART;TZID=America/Chicago:20230525T180000
DTEND;TZID=America/Chicago:20230525T190000
DTSTAMP:20260422T023437
CREATED:20230501T153127Z
LAST-MODIFIED:20230501T153127Z
UID:427130-1685037600-1685041200@977wmoi.com
SUMMARY:Grief Support Group at Strom Center
DESCRIPTION:Strom Center is partnering with Legacy Estates and Beacon of Hope Hospice to offer a once a month Grief Support Group for 5 months. Session 1: Thursday May 25th – Keeping Your Memories Alive. Session 2: Thursday\, June 22nd – Letter Writing. Session 3: Thursday\, July 27th – Journaling Your Thoughts. Session 4: Thursday\, August 24th – Goal Setting with Milestones. Session 5: Thursday\, September 28th – Celebration.
URL:https://977wmoi.com/event/grief-support-group-at-strom-center/
END:VEVENT
BEGIN:VEVENT
DTSTART;TZID=America/Chicago:20230526T190000
DTEND;TZID=America/Chicago:20230526T203000
DTSTAMP:20260422T023437
CREATED:20230501T195436Z
LAST-MODIFIED:20230501T195436Z
UID:427201-1685127600-1685133000@977wmoi.com
SUMMARY:Nature at Night: Camping Basics
DESCRIPTION:Summer is upon us! Brush up on your tent building skills\, learn about all the basic necessities for your camping adventure\, and enjoy some s’mores around the fire at the Lakeside Nature Center. Cost is $5 per person.
URL:https://977wmoi.com/event/nature-at-night-camping-basics/
END:VEVENT
BEGIN:VEVENT
DTSTART;TZID=America/Chicago:20230527T080000
DTEND;TZID=America/Chicago:20230527T080000
DTSTAMP:20260422T023437
CREATED:20230412T164712Z
LAST-MODIFIED:20230412T164712Z
UID:425992-1685174400-1685174400@977wmoi.com
SUMMARY:Warren County YMCA 2nd Annual Memorial 5K
DESCRIPTION:Run for a vet! Join the Warren County YMCA during their 2nd annual Memorial 5K run/walk. Cost is $30 and if you register by May 20th\, you will receive your t-shirt the day of the event. Proceeds will benefit the Wounded Warrior Project. BNSF workers have free entry.
URL:https://977wmoi.com/event/warren-county-ymca-2nd-annual-memorial-5k/
END:VEVENT
BEGIN:VEVENT
DTSTART;TZID=America/Chicago:20230527T080000
DTEND;TZID=America/Chicago:20230527T080000
DTSTAMP:20260422T023437
CREATED:20230414T133255Z
LAST-MODIFIED:20230414T133255Z
UID:426127-1685174400-1685174400@977wmoi.com
SUMMARY:2023 Doc Pogue Memorial 5K Run/Walk
DESCRIPTION:Join for the annual Doc Pogue Memorial 5K Run/Walk on May 27th. Race begins at the Stronghurst Village Park. Registration begins at 7 am. Run/walk begins at 8 am. Fee $25 includes T-shirt if registered by 5/10. Kiddie Run (2 laps around park) Immediately following the 5K for ages 10 and younger. $15 includes T-shirt if registered by 5/10.
URL:https://977wmoi.com/event/2023-doc-pogue-memorial-5k-run-walk/
END:VEVENT
BEGIN:VEVENT
DTSTART;TZID=America/Chicago:20230527T100000
DTEND;TZID=America/Chicago:20230527T130000
DTSTAMP:20260422T023437
CREATED:20230518T190740Z
LAST-MODIFIED:20230518T190740Z
UID:428280-1685181600-1685192400@977wmoi.com
SUMMARY:Western Illinois Animal Rescue Cat Cafe
DESCRIPTION:Held at the Galesburg Public Library
URL:https://977wmoi.com/event/western-illinois-animal-rescue-cat-cafe/
END:VEVENT
BEGIN:VEVENT
DTSTART;TZID=America/Chicago:20230527T103000
DTEND;TZID=America/Chicago:20230527T113000
DTSTAMP:20260422T023437
CREATED:20230523T132518Z
LAST-MODIFIED:20230523T132518Z
UID:428473-1685183400-1685187000@977wmoi.com
SUMMARY:Symphony Saturday: Let It Go
DESCRIPTION:Interact with the music\, the musicians\, and the instruments during this full sensory introduction to the Knox Galesburg Symphony at the Discovery Depot in Galesburg. Event is free with admission.
URL:https://977wmoi.com/event/symphony-saturday-let-it-go/
END:VEVENT
BEGIN:VEVENT
DTSTART;TZID=America/Chicago:20230527T160000
DTEND;TZID=America/Chicago:20230527T190000
DTSTAMP:20260422T023437
CREATED:20230427T181226Z
LAST-MODIFIED:20230427T181226Z
UID:427001-1685203200-1685214000@977wmoi.com
SUMMARY:Roseville Fire Department Fish and Chicken Fry
DESCRIPTION:All you can eat catfish filets\, scored carp\, chicken\, potato salad\, baked beans\, and drinks at the Roseville Fire Station\, 571 State Highway 116\, for a freewill donation. There will also be a 50/50 drawing.
URL:https://977wmoi.com/event/roseville-fire-department-fish-and-chicken-fry/
END:VEVENT
BEGIN:VEVENT
DTSTART;TZID=America/Chicago:20230527T190000
DTEND;TZID=America/Chicago:20230527T190000
DTSTAMP:20260422T023437
CREATED:20230524T134537Z
LAST-MODIFIED:20230524T134537Z
UID:428560-1685214000-1685214000@977wmoi.com
SUMMARY:Kaydenn String Quartet in Concert
DESCRIPTION:Saturday\, May 27 at 7:00 PM in Dahl Chapel. The Kaydenn String Quartet will be performing works by Dvorak\, Still\, and Mendelssohn. This event is open to the public\, goodwill donations accepted.
URL:https://977wmoi.com/event/kaydenn-string-quartet-in-concert/
END:VEVENT
BEGIN:VEVENT
DTSTART;TZID=America/Chicago:20230529T060000
DTEND;TZID=America/Chicago:20230529T100000
DTSTAMP:20260422T023437
CREATED:20230428T143520Z
LAST-MODIFIED:20230428T143520Z
UID:427044-1685340000-1685354400@977wmoi.com
SUMMARY:Kirkwood Firemen Breakfast
DESCRIPTION:Kirkwood Fire will have their annual Memorial Day breakfast at the Kirkwood Fire Station. Serving biscuits and gravy\, pancakes\, scrambled eggs\, bacon\, sausage patties\, and drinks.
URL:https://977wmoi.com/event/kirkwood-firemen-breakfast/
END:VEVENT
BEGIN:VEVENT
DTSTART;TZID=America/Chicago:20230529T093000
DTEND;TZID=America/Chicago:20230529T110000
DTSTAMP:20260422T023437
CREATED:20230515T145819Z
LAST-MODIFIED:20230515T145819Z
UID:428019-1685352600-1685358000@977wmoi.com
SUMMARY:Monmouth American Legion Memorial Day Service
DESCRIPTION:Join at the Monmouth American Legion for the annual service\, featuring speaker Retired\, Lt. Col Stephen Bloomer. The service can also be heard on AM 1330/ FM 94.1 WRAM or online at https://977wmoi.com/listen-live/.
URL:https://977wmoi.com/event/monmouth-american-legion-memorial-day-service/
END:VEVENT
BEGIN:VEVENT
DTSTART;TZID=America/Chicago:20230529T180000
DTEND;TZID=America/Chicago:20230530T190000
DTSTAMP:20260422T023437
CREATED:20230508T192319Z
LAST-MODIFIED:20230508T192319Z
UID:427686-1685383200-1685473200@977wmoi.com
SUMMARY:M-R Junior High Kadette Squad Try-Outs
DESCRIPTION:Meet in the AP Room at Monmouth-Roseville High School for the Junior High Kadette Squad try-outs\, held May 29th and 30th\, 6 to 7 pm both evenings.
URL:https://977wmoi.com/event/m-r-junior-high-kadette-squad-try-outs/
END:VEVENT
BEGIN:VEVENT
DTSTART;VALUE=DATE:20230530
DTEND;VALUE=DATE:20230531
DTSTAMP:20260422T023437
CREATED:20230309T183718Z
LAST-MODIFIED:20230309T183718Z
UID:424213-1685404800-1685491199@977wmoi.com
SUMMARY:Summer Reading Program at the Warren County Library Begins!
DESCRIPTION:This year’s iRead theme is Find Your Voice! Children\, adults\, and young adults are all invited to participate in the program with the Warren County Public Library.
URL:https://977wmoi.com/event/summer-reading-program-at-the-warren-county-library-begins/
END:VEVENT
BEGIN:VEVENT
DTSTART;TZID=America/Chicago:20230530T190000
DTEND;TZID=America/Chicago:20230530T203000
DTSTAMP:20260422T023437
CREATED:20230501T193950Z
LAST-MODIFIED:20230501T193950Z
UID:427179-1685473200-1685478600@977wmoi.com
SUMMARY:Kayak Cleanup at Lake Storey
DESCRIPTION:Join for a volunteer cleanup adventure at Lake Storey by helping to clean the environment while also exploring. Bring your own kayak or rent one at a discounted rate of $10. All ages are welcome.
URL:https://977wmoi.com/event/kayak-cleanup-at-lake-storey/
END:VEVENT
BEGIN:VEVENT
DTSTART;TZID=America/Chicago:20230531T130000
DTEND;TZID=America/Chicago:20230602T160000
DTSTAMP:20260422T023437
CREATED:20230427T131814Z
LAST-MODIFIED:20230427T131814Z
UID:426925-1685538000-1685721600@977wmoi.com
SUMMARY:United Red Storm Boys Basketball Camp
DESCRIPTION:Basketball camp is for boys in 2nd through 7th grade. Camp will be held at the United High School Fieldhouse Wednesday May 31st\, Thursday June 1st\, and Friday June 2nd. Times for 2nd – 4th graders is 1-2:30 and 2:30-4 for 5th through 7th. Cost is $40 per person and includes a camp t-shirt.
URL:https://977wmoi.com/event/united-red-storm-boys-basketball-camp/
END:VEVENT
BEGIN:VEVENT
DTSTART;VALUE=DATE:20230601
DTEND;VALUE=DATE:20230602
DTSTAMP:20260422T023437
CREATED:20230517T192745Z
LAST-MODIFIED:20230517T192745Z
UID:428214-1685577600-1685663999@977wmoi.com
SUMMARY:Call to Artists: Art from the HeARTland at the BCA
DESCRIPTION:Deadline for entry and delivery of work is Saturday\, July 8\, 2023. Art from the HeARTland features artwork of all mediums from local and regional artists as part of our ongoing mission to offer creative and diverse artistic experiences. This year’s juror is Susan Czechowski. Artists may submit up to three original pieces\, produced within the last two years. Artwork previously exhibited in the BCA will not be accepted. Entry fees: $5 per artwork for BCA members and $8 for non-members. To find out more information about requirements and the submission process\, click on the attached prospectus below.
URL:https://977wmoi.com/event/call-to-artists-art-from-the-heartland-at-the-bca-2/
END:VEVENT
BEGIN:VEVENT
DTSTART;TZID=America/Chicago:20230601T170000
DTEND;TZID=America/Chicago:20230601T190000
DTSTAMP:20260422T023437
CREATED:20230328T153126Z
LAST-MODIFIED:20230328T153126Z
UID:425126-1685638800-1685646000@977wmoi.com
SUMMARY:Workshop Warriors Wine Tasting Event
DESCRIPTION:Join for an evening of wine\, food\, and fun at Market Alley Wines\, benefitting the Warren-Henderson Relay for Life. For $35\, you will receive four wines to taste\, yummy snacks\, a shot of homemade orangecello\, and a 16 ounce insulated engraved tumbler. Email kadinlove@gmail.com or debbieanderson27@gmail.com to purchase tickets.
URL:https://977wmoi.com/event/workshop-warriors-wine-tasting-event/
END:VEVENT
BEGIN:VEVENT
DTSTART;TZID=America/Chicago:20230601T170000
DTEND;TZID=America/Chicago:20230601T190000
DTSTAMP:20260422T023437
CREATED:20230510T170408Z
LAST-MODIFIED:20230510T170430Z
UID:427797-1685638800-1685646000@977wmoi.com
SUMMARY:Business After Hours with the Galesburg Area Chamber
DESCRIPTION:Join us for our next 𝗕𝘂𝘀𝗶𝗻𝗲𝘀𝘀 𝗔𝗳𝘁𝗲𝗿 𝗛𝗼𝘂𝗿𝘀 – sponsored by Klingner & Associates\, P.C.! \n\n\nHope to see you there!\n Thursday\, June 1st\, 5-7PM\n Location offsite TBD!\n\n\nMore details soon!\n\n\nFREE for Galesburg Area Chamber members to attend! Please RSVP here: https://bit.ly/BAH_Klingner.
URL:https://977wmoi.com/event/business-after-hours-13/
END:VEVENT
BEGIN:VEVENT
DTSTART;VALUE=DATE:20230602
DTEND;VALUE=DATE:20230604
DTSTAMP:20260422T023437
CREATED:20230328T191712Z
LAST-MODIFIED:20230328T191712Z
UID:425200-1685664000-1685836799@977wmoi.com
SUMMARY:Aledo's Annual Rhubarb Festival
DESCRIPTION:
URL:https://977wmoi.com/event/aledos-annual-rhubarb-festival/
END:VEVENT
BEGIN:VEVENT
DTSTART;VALUE=DATE:20230602
DTEND;VALUE=DATE:20230604
DTSTAMP:20260422T023437
CREATED:20230525T163846Z
LAST-MODIFIED:20230525T163846Z
UID:428672-1685664000-1685836799@977wmoi.com
SUMMARY:Aledo Rhubarb Festival
DESCRIPTION:Join the 31st Annual Rhubarb Festival in Aledo\, the Rhubarb Capital of the World on Friday\, June 2nd and Saturday\, June 3rd from 9 am to 4 pm each day in downtown Aledo. Admission is free. Baked goods\, crafts\, and food vendors will be on hand selling their items. Also\, enjoy free live music. Aledo Rhubarb Festival – June 2 & 3\, 2023
URL:https://977wmoi.com/event/aledo-rhubarb-festival/
END:VEVENT
BEGIN:VEVENT
DTSTART;TZID=America/Chicago:20230602T130000
DTEND;TZID=America/Chicago:20230602T130000
DTSTAMP:20260422T023437
CREATED:20230308T175808Z
LAST-MODIFIED:20230328T154200Z
UID:424150-1685710800-1685710800@977wmoi.com
SUMMARY:Banking on a Cure Golf Outing 2023
DESCRIPTION:Join for another great year of fundraising for Relay for Life Friday\, June 2nd\, 2023 at Gibson Woods Golf Course in Monmouth. To register\, email Jay Grant at jay.grant@mbwi.com.
URL:https://977wmoi.com/event/banking-on-a-cure-golf-outing-2023/
END:VEVENT
END:VCALENDAR