BEGIN:VCALENDAR
VERSION:2.0
PRODID:-//Prairie Communications, LLC - ECPv6.15.20//NONSGML v1.0//EN
CALSCALE:GREGORIAN
METHOD:PUBLISH
X-ORIGINAL-URL:https://977wmoi.com
X-WR-CALDESC:Events for Prairie Communications, LLC
REFRESH-INTERVAL;VALUE=DURATION:PT1H
X-Robots-Tag:noindex
X-PUBLISHED-TTL:PT1H
BEGIN:VTIMEZONE
TZID:America/Chicago
BEGIN:DAYLIGHT
TZOFFSETFROM:-0600
TZOFFSETTO:-0500
TZNAME:CDT
DTSTART:20220313T080000
END:DAYLIGHT
BEGIN:STANDARD
TZOFFSETFROM:-0500
TZOFFSETTO:-0600
TZNAME:CST
DTSTART:20221106T070000
END:STANDARD
BEGIN:DAYLIGHT
TZOFFSETFROM:-0600
TZOFFSETTO:-0500
TZNAME:CDT
DTSTART:20230312T080000
END:DAYLIGHT
BEGIN:STANDARD
TZOFFSETFROM:-0500
TZOFFSETTO:-0600
TZNAME:CST
DTSTART:20231105T070000
END:STANDARD
BEGIN:DAYLIGHT
TZOFFSETFROM:-0600
TZOFFSETTO:-0500
TZNAME:CDT
DTSTART:20240310T080000
END:DAYLIGHT
BEGIN:STANDARD
TZOFFSETFROM:-0500
TZOFFSETTO:-0600
TZNAME:CST
DTSTART:20241103T070000
END:STANDARD
END:VTIMEZONE
BEGIN:VEVENT
DTSTART;TZID=America/Chicago:20230224T180000
DTEND;TZID=America/Chicago:20230224T193000
DTSTAMP:20260423T191902
CREATED:20230210T210913Z
LAST-MODIFIED:20230210T210913Z
UID:422840-1677261600-1677267000@977wmoi.com
SUMMARY:Nature at Night
DESCRIPTION:Follow the drinking gourd. Learn how people on their journey to freedom found their way north by using natural clues. Special Guest Speaker Semenya McCord. Free event open to all ages at the Lakeside Nature Center in Galesburg.
URL:https://977wmoi.com/event/nature-at-night/
END:VEVENT
BEGIN:VEVENT
DTSTART;TZID=America/Chicago:20230225T091500
DTEND;TZID=America/Chicago:20230225T123000
DTSTAMP:20260423T191902
CREATED:20230130T211929Z
LAST-MODIFIED:20230130T211929Z
UID:422147-1677316500-1677328200@977wmoi.com
SUMMARY:Teachers Caring for Teachers at the BCA
DESCRIPTION:Art and sustainable self-care brunch at the Buchanan Center for the Arts will host a teachers caring for teachers event in the BCA Gallery. This free event is to honor and support educational professional through a series of engaging sessions by learning techniques for meaningful self-care and experience hands-on activities.
URL:https://977wmoi.com/event/teachers-caring-for-teachers-at-the-bca/
END:VEVENT
BEGIN:VEVENT
DTSTART;TZID=America/Chicago:20230225T160000
DTEND;TZID=America/Chicago:20230225T190000
DTSTAMP:20260423T191902
CREATED:20230130T165216Z
LAST-MODIFIED:20230130T165216Z
UID:422099-1677340800-1677351600@977wmoi.com
SUMMARY:Raritan Volunteer Fireman Pancake Supper
DESCRIPTION:Event will be held at St. Pat’s Community Center in rural Raritan.
URL:https://977wmoi.com/event/raritan-volunteer-fireman-pancake-supper/
END:VEVENT
BEGIN:VEVENT
DTSTART;TZID=America/Chicago:20230225T180000
DTEND;TZID=America/Chicago:20230225T180000
DTSTAMP:20260423T191902
CREATED:20230113T141743Z
LAST-MODIFIED:20230113T141743Z
UID:421305-1677348000-1677348000@977wmoi.com
SUMMARY:Henderson County Fair Queen Pageant Trivia Night
DESCRIPTION:Join at Mama’ Place for a fun night of trivia to support to 2023 Henderson County Fair Queen Pageant!\nRegistration will begin at 6 with trivia starting at 6:30.\nThe cost is $10 per person with up to 10 people on a team.\nMessage one of the directors\, committee members or reach out on Facebook to reserve a spot for your team. Reserving a spot is NOT mandatory but it will guarantee you a table.
URL:https://977wmoi.com/event/henderson-county-fair-queen-pageant-trivia-night/
END:VEVENT
BEGIN:VEVENT
DTSTART;TZID=America/Chicago:20230225T180000
DTEND;TZID=America/Chicago:20230225T210000
DTSTAMP:20260423T191902
CREATED:20230120T142643Z
LAST-MODIFIED:20230120T142643Z
UID:421660-1677348000-1677358800@977wmoi.com
SUMMARY:M-R Titans Sports Boosters 25th Annual Fundraiser/Raffle
DESCRIPTION:Raffle tickets are available for purchase now. You do not need to be present to win. A silent auction will also take place during the event at Meks on Main in Monmouth.
URL:https://977wmoi.com/event/m-r-titans-sports-boosters-25th-annual-fundraiser-raffle/
END:VEVENT
BEGIN:VEVENT
DTSTART;TZID=America/Chicago:20230226T110000
DTEND;TZID=America/Chicago:20230226T110000
DTSTAMP:20260423T191902
CREATED:20230209T191412Z
LAST-MODIFIED:20230209T191412Z
UID:422782-1677409200-1677409200@977wmoi.com
SUMMARY:Annual Spaghetti Dinner
DESCRIPTION:The Biggsville American Legion\, Post 1176\, will be hosting their Annual Spaghetti Dinner on February 26th from 11am until?\nThis is a free will offering event. The dinner will be held at the Biggsville Community Bldg. Menu is\, Spaghetti with meat sauce\, Italian bread\, salad\, dessert\, and tea or lemonade. Carryout’s are available.
URL:https://977wmoi.com/event/annual-spaghetti-dinner/
END:VEVENT
BEGIN:VEVENT
DTSTART;TZID=America/Chicago:20230226T140000
DTEND;TZID=America/Chicago:20230226T140000
DTSTAMP:20260423T191902
CREATED:20230119T160121Z
LAST-MODIFIED:20230119T160121Z
UID:421617-1677420000-1677420000@977wmoi.com
SUMMARY:Lake Storey - Galesburg Special Olympics Illinois Polar Plunge
DESCRIPTION:Register to plunge and support Special Olympics Illinois Region F online at http://plungeillinois.com.
URL:https://977wmoi.com/event/lake-storey-galesburg-special-olympics-illinois-polar-plunge/
END:VEVENT
BEGIN:VEVENT
DTSTART;TZID=America/Chicago:20230226T140000
DTEND;TZID=America/Chicago:20230226T160000
DTSTAMP:20260423T191902
CREATED:20230210T210016Z
LAST-MODIFIED:20230210T210016Z
UID:422832-1677420000-1677427200@977wmoi.com
SUMMARY:Women's Self-Defense Class
DESCRIPTION:Join for an introductory self-defense workshop for women at the Hawthorne Gym in Galesburg. This is for women ages 12 and older. Cost is $17 per person. The class will be led by a Kuk Sool Won instructor.
URL:https://977wmoi.com/event/womens-self-defense-class/
END:VEVENT
BEGIN:VEVENT
DTSTART;TZID=America/Chicago:20230227T090000
DTEND;TZID=America/Chicago:20230227T090000
DTSTAMP:20260423T191902
CREATED:20230127T193848Z
LAST-MODIFIED:20230127T193848Z
UID:422028-1677488400-1677488400@977wmoi.com
SUMMARY:In-Person Pesticide Application Test
DESCRIPTION:The Illinois Department of Agriculture and the U of I Extension are teaming up to offer pesticide training and/or testing (PSEP). Registration is now open for testing (test only) in Monmouth at the Warren-Henderson Farm Bureau auditorium on Monday\, February 27th. To view a full list of testing and/or training dates and to register\, visit http://web.extension.illinois.edu/psep/. Contact U of I Extension at 309-734-5161 or 309-309-924-1163 with questions.
URL:https://977wmoi.com/event/in-person-pesticide-application-test/
END:VEVENT
BEGIN:VEVENT
DTSTART;TZID=America/Chicago:20230228T090000
DTEND;TZID=America/Chicago:20230228T090000
DTSTAMP:20260423T191902
CREATED:20230127T193956Z
LAST-MODIFIED:20230127T193956Z
UID:422030-1677574800-1677574800@977wmoi.com
SUMMARY:In-Person Pesticide Application Test
DESCRIPTION:The Illinois Department of Agriculture and the U of I Extension are teaming up to offer pesticide training and/or testing (PSEP). Registration is now open for testing at the Knox County Agri Center in Galesburg (180 S. Soangetaha Rd.)  To view a full list of testing and/or training dates and to register\, visit http://web.extension.illinois.edu/psep/. Contact U of I Extension at 309-734-5161 or 309-309-924-1163 with questions.
URL:https://977wmoi.com/event/in-person-pesticide-application-test-2/
END:VEVENT
BEGIN:VEVENT
DTSTART;VALUE=DATE:20230301
DTEND;VALUE=DATE:20230303
DTSTAMP:20260423T191902
CREATED:20230217T152844Z
LAST-MODIFIED:20230217T152844Z
UID:423190-1677628800-1677801599@977wmoi.com
SUMMARY:OSF Holy Family Gift Shop Spring Open House
DESCRIPTION:Wednesday\, March 1st and Thursday\, March 2nd from 9 am to 7 pm both days.
URL:https://977wmoi.com/event/osf-holy-family-gift-shop-spring-open-house/
END:VEVENT
BEGIN:VEVENT
DTSTART;VALUE=DATE:20230301
DTEND;VALUE=DATE:20230307
DTSTAMP:20260423T191902
CREATED:20230228T201054Z
LAST-MODIFIED:20230228T201054Z
UID:423730-1677628800-1678147199@977wmoi.com
SUMMARY:Courtyard Estates of Monmouth Food Drive
DESCRIPTION:Throughout the entire month of March\, Courtyard Estates of Monmouth is holding a canned food drive. Food collected will be donated to the First Christian Church of Monmouth’s Food Pantry. Drop-off is right inside the door at Courtyard in Monmouth.
URL:https://977wmoi.com/event/courtyard-estates-of-monmouth-food-drive/
END:VEVENT
BEGIN:VEVENT
DTSTART;TZID=America/Chicago:20230303T063000
DTEND;TZID=America/Chicago:20230303T074500
DTSTAMP:20260423T191902
CREATED:20230130T165905Z
LAST-MODIFIED:20230130T165905Z
UID:422107-1677825000-1677829500@977wmoi.com
SUMMARY:47th Annual Lenten Lay Breakfast Series at Strom Center
DESCRIPTION:Strom Center in Monmouth will host the series. Breakfast begins at 6:30 am with a program to follow from 7:15 to 7:45 am. Host church is First United Methodist.
URL:https://977wmoi.com/event/47th-annual-lenten-lay-breakfast-series-at-strom-center-2/
END:VEVENT
BEGIN:VEVENT
DTSTART;TZID=America/Chicago:20230303T133000
DTEND;TZID=America/Chicago:20230303T133000
DTSTAMP:20260423T191902
CREATED:20230210T202004Z
LAST-MODIFIED:20230210T202004Z
UID:422830-1677850200-1677850200@977wmoi.com
SUMMARY:Church Women United of Monmouth and Vicinity “World Day of Prayer” Celebration
DESCRIPTION:Church Women United of Monmouth and Vicinity will be meeting for the “World Day of Prayer” (WDP) celebration on March 3\, 2023\, at 1:30 p.m. at Kirkwood United Methodist Church\, 235 S. Kellogg\, Kirkwood\, IL.  This is open to ALL WOMEN of the area.  WDP is a worldwide ecumenical celebration of Christian women of many traditions who come together to observe a common day of prayer each year on the first Friday in March.  Join in a service written this year by the women of Taiwan who call us to prayer with the words\, “I Have Heard About Your Faith.”  The theme is inspired by Ephesians 1:15-19.  WDP was founded on the idea that prayer and action are inseparable in the service of God’s kingdom.
URL:https://977wmoi.com/event/church-women-united-of-monmouth-and-vicinity-world-day-of-prayer-celebration/
END:VEVENT
BEGIN:VEVENT
DTSTART;TZID=America/Chicago:20230304T070000
DTEND;TZID=America/Chicago:20230304T070000
DTSTAMP:20260423T191902
CREATED:20230111T142132Z
LAST-MODIFIED:20230111T142132Z
UID:421154-1677913200-1677913200@977wmoi.com
SUMMARY:2023 ICS 3 on 3 Tournament
DESCRIPTION:Huff Athletic Center\n\n\n\n\n\n\n\n\n\n\n\n\n\n\n\n\n\n\nEvent by Immaculate Conception School\n\n\n\n\n\n\n\n\n\n\n\nHuff Athletic Center\n\n\n\n\n\n\n\n\n\n\n\nPublic  · Anyone on or off Facebook\n\n\n\n\n\n\n\nThe BEST 3 on 3 Tournament in the area is back! Save the date! Registration open to girls and boys ages 3rd Grade to High School. Online registration is coming soon.
URL:https://977wmoi.com/event/2023-ics-3-on-3-tournament/
END:VEVENT
BEGIN:VEVENT
DTSTART;TZID=America/Chicago:20230304T080000
DTEND;TZID=America/Chicago:20230304T120000
DTSTAMP:20260423T191902
CREATED:20230224T154239Z
LAST-MODIFIED:20230224T154239Z
UID:423553-1677916800-1677931200@977wmoi.com
SUMMARY:Western Illinois Beekeepers Association Beginners Class
DESCRIPTION:Saturday\, March 4\, 8:00am until 12:00pm held at the Warren-Henderson Farm Bureau building. Free beginning beekeeping class\, taught by Bernie Andrew\, state bee inspector. This class is sponsored by the Western Illinois Beekeepers Association. The Western Illinois Beekeepers Association cordially invites you to attend their monthly meetings. They are held the third Tuesday of the month at 7:00pm at the Warren-Henderson Farm Bureau building.\, 1000 N. Main St.\, Monmouth\, Illinois. Meetings are free and open to the public. All events are free and open to the public. Contact Jan Arteaga at 309-313-3648 or arteaga618@gmail.com with questions or to register for an event.
URL:https://977wmoi.com/event/western-illinois-beekeepers-association-beginners-class/
END:VEVENT
BEGIN:VEVENT
DTSTART;TZID=America/Chicago:20230304T100000
DTEND;TZID=America/Chicago:20230304T123000
DTSTAMP:20260423T191902
CREATED:20230209T140539Z
LAST-MODIFIED:20230302T164951Z
UID:422724-1677924000-1677933000@977wmoi.com
SUMMARY:*POSTPONED* Job Preparation Workshop\, Dress for Success
DESCRIPTION:This FREE Job Preparation Workshop\, Dress for Success\, will provide training on:\n\n\n-Finding jobs\n-Interview skills\n-Resources on financial support for further trainings and education seekers\n\n\nRegister by February 28th\, Tuesday!\nFill out the registration form -> https://bit.ly/WDCEReg\nor call 309-345-3501.\n\n\nPresenters and presentation content:\n\n\nTracy Engstrom: Carl Sandburg College Coordinator of Career Development\n-Interview skills\n-Promoting self verbally\n\n\nLarisa Good: Warren County Public Library Director\nMegan Horack: Warren County Public Library Adult Services Librarian\n-Library service for jobs\n-Resume assistance\n\n\nNancy Mowen: Jamison Center Director\n-Afforable business attire\n\n\nLucas Robison: Western Illinois Works Career & Employment Specialist\n-WIOA financial assistance resources
URL:https://977wmoi.com/event/job-preparation-workshop-dress-for-success/
END:VEVENT
BEGIN:VEVENT
DTSTART;TZID=America/Chicago:20230304T110000
DTEND;TZID=America/Chicago:20230304T140000
DTSTAMP:20260423T191902
CREATED:20230221T135651Z
LAST-MODIFIED:20230221T135651Z
UID:423332-1677927600-1677938400@977wmoi.com
SUMMARY:Maple City Antique Tractor Association Toy Show
DESCRIPTION:March 4\, 2023\, Toys and Toy Tractors Show at the American Legion in Monmouth IL from 11:00 a.m. to 2:00 p.m.  Members and collectors will be displaying:  model tractors from their early farming years\, antique farm toys\, and other toys of years gone by. Come see Farm History in scale models\, plus other toys. Hamburger Fry Lunch from the American Legion will be available. Free admittance. Sponsored by Maple City Antique Tractor Association.
URL:https://977wmoi.com/event/maple-city-antique-tractor-association-toy-show/
END:VEVENT
BEGIN:VEVENT
DTSTART;TZID=America/Chicago:20230304T140000
DTEND;TZID=America/Chicago:20230304T140000
DTSTAMP:20260423T191902
CREATED:20230119T160242Z
LAST-MODIFIED:20230119T160242Z
UID:421619-1677938400-1677938400@977wmoi.com
SUMMARY:Chandler Park in Macomb Special Olympics Illinois Polar Plunge
DESCRIPTION:Register to support and plunge for Special Olympics Illinois Region F online at http://plungeillinois.com.
URL:https://977wmoi.com/event/chandler-park-in-macomb-special-olympics-illinois-polar-plunge/
END:VEVENT
BEGIN:VEVENT
DTSTART;TZID=America/Chicago:20230305T090000
DTEND;TZID=America/Chicago:20230305T140000
DTSTAMP:20260423T191902
CREATED:20230130T160252Z
LAST-MODIFIED:20230130T160252Z
UID:422073-1678006800-1678024800@977wmoi.com
SUMMARY:ROWVA FFA Toy Show
DESCRIPTION:Sponsored by the ROWVA FFA and Alumni. Event will be held inside the ROWVA High School Gym\, 346 East ROVA Drive\, Oneida 61467. Free will donation. Food will be served by the FFA Alumni during the event. For more information\, call 309-483-6371.
URL:https://977wmoi.com/event/rowva-ffa-toy-show-2/
END:VEVENT
BEGIN:VEVENT
DTSTART;TZID=America/Chicago:20230305T160000
DTEND;TZID=America/Chicago:20230305T183000
DTSTAMP:20260423T191902
CREATED:20230216T210455Z
LAST-MODIFIED:20230216T210455Z
UID:423169-1678032000-1678041000@977wmoi.com
SUMMARY:St Teresa's Church in Alexis Corned Beef and Cabbage Dinner
DESCRIPTION:St. Theresa’s Corned Beef and Cabbage Dinner Sunday\, March 5\, 2023 at St. Theresa’s Church 131 N. Main St.\, Alexis llinois\n\nServing 4:00 pm to 6:30 pm Corned beef\, Cabbage\, Potatoes\,Carrots\,Bread\,Desserts and Drinks. Hot dogs available for children.\n\nFree Will Donation! Carryout’s available\, Will also deliver in Alexis to the elderly or homebound ***If you have any questions or for carryout’s please call Annette 309-368-2087 or Joan 309-337-3484\, if no answer\, please leave message
URL:https://977wmoi.com/event/st-teresas-church-in-alexis-corned-beef-and-cabbage-dinner/
END:VEVENT
BEGIN:VEVENT
DTSTART;TZID=America/Chicago:20230306T170000
DTEND;TZID=America/Chicago:20230306T183000
DTSTAMP:20260423T191902
CREATED:20220913T132702Z
LAST-MODIFIED:20220913T132702Z
UID:414656-1678122000-1678127400@977wmoi.com
SUMMARY:Monmouth American Legion Soup Supper
DESCRIPTION:Mar. 6 chili\, taco soup\, chicken noodle soup. Sandwich: grilled cheese add 1 gluten free soup. All you can eat. Adults $9.00 children $3.00. Each meal comes with dessert\, coffee or tea\, and lots of\nGreat friends to enjoy your meal with. 50/50 raffle drawing at 6:00 pm
URL:https://977wmoi.com/event/monmouth-american-legion-soup-supper-15/
END:VEVENT
BEGIN:VEVENT
DTSTART;TZID=America/Chicago:20230307T073000
DTEND;TZID=America/Chicago:20230307T090000
DTSTAMP:20260423T191902
CREATED:20230221T141257Z
LAST-MODIFIED:20230221T141257Z
UID:423342-1678174200-1678179600@977wmoi.com
SUMMARY:Business Before Hours
DESCRIPTION:Join the Galesburg Area Chamber of Commerce at The Vault in Downtown Galesburg\, sponsored by Bridgeway.
URL:https://977wmoi.com/event/business-before-hours-3/
END:VEVENT
BEGIN:VEVENT
DTSTART;TZID=America/Chicago:20230307T100000
DTEND;TZID=America/Chicago:20230307T140000
DTSTAMP:20260423T191902
CREATED:20230301T210657Z
LAST-MODIFIED:20230301T210657Z
UID:423840-1678183200-1678197600@977wmoi.com
SUMMARY:Bridgeway Hiring Event
DESCRIPTION:At The Vault in Galesburg\, 185 South Kellogg Street. Join and learn more about Bridgeway and apply to many open positions\, including Director of Community Living and Support Services\, Director of Program Services\, Therapists\, Janitorial\, Residential Assistants\, and many more!
URL:https://977wmoi.com/event/bridgeway-hiring-event/
END:VEVENT
BEGIN:VEVENT
DTSTART;TZID=America/Chicago:20230307T140000
DTEND;TZID=America/Chicago:20230307T140000
DTSTAMP:20260423T191902
CREATED:20230301T193201Z
LAST-MODIFIED:20230301T193201Z
UID:423827-1678197600-1678197600@977wmoi.com
SUMMARY:Kids Movie Day at the Henderson County Library
DESCRIPTION:Showing The Bad Guys
URL:https://977wmoi.com/event/kids-movie-day-at-the-henderson-county-library-3/
END:VEVENT
BEGIN:VEVENT
DTSTART;TZID=America/Chicago:20230307T190000
DTEND;TZID=America/Chicago:20230307T190000
DTSTAMP:20260423T191902
CREATED:20230214T192924Z
LAST-MODIFIED:20230223T162119Z
UID:423023-1678215600-1678215600@977wmoi.com
SUMMARY:Maple Leaf Community Concert Series - DIVAS 3
DESCRIPTION:A celebration of the biggest hits by the greatest DIVAS in pop music history! Three female singers with powerhouse voices sing the biggest hits of the greatest divas in music history in this vibrant show. Spanning four decades of chart topping hits\, Divas3 covers the 1960s through the 1990s with music by Aretha Franklin\, Carole King\, Celine Dion\, Whitney Houston\, Cher\, Dolly Parton\, Donna Summer\, ABBA\, and many more! Every concert is located at Monmouth College’s historical Dahl Chapel\, 700 E. Broadway\, Monmouth\, Illinois\, which provides the audience with warm surroundings and amazing acoustics\, which creates a remarkable\, memorable concert experience!
URL:https://977wmoi.com/event/maple-leaf-community-concert-series/
END:VEVENT
BEGIN:VEVENT
DTSTART;TZID=America/Chicago:20230308T130000
DTEND;TZID=America/Chicago:20230308T130000
DTSTAMP:20260423T191902
CREATED:20230301T192953Z
LAST-MODIFIED:20230301T192953Z
UID:423819-1678280400-1678280400@977wmoi.com
SUMMARY:Adult Matinee at the Henderson County Library
DESCRIPTION:Showing Eat Pray Love
URL:https://977wmoi.com/event/adult-matinee-at-the-henderson-county-library/
END:VEVENT
BEGIN:VEVENT
DTSTART;TZID=America/Chicago:20230308T170000
DTEND;TZID=America/Chicago:20230308T190000
DTSTAMP:20260423T191902
CREATED:20230208T143810Z
LAST-MODIFIED:20230208T143810Z
UID:422650-1678294800-1678302000@977wmoi.com
SUMMARY:WIU Ag Council Mac 'N Cheese and Chili Cook-Off
DESCRIPTION:The Western Illinois University Ag Council will host a Mac ‘N Cheese and Chili Cook-Off from 5-7 p.m. Wednesday\, March 8\, at the Macomb American Legion\, 221 E. Washington St. \nAdmission is $10\, which includes tasting tickets and a beverage. \nThe event will feature two contests – a judged event and a people’s choice award. A trophy will be awarded to the judge’s winner and a golden ladle will be given to the people’s choice winner. \nFor more information\, or to register\, contact Molly Reed at MA-Reed2@wiu.edu\, or Anna James at AC-James2@wiu.eduAC-James2@wiu.edu.
URL:https://977wmoi.com/event/wiu-ag-council-mac-n-cheese-and-chili-cook-off/
END:VEVENT
BEGIN:VEVENT
DTSTART;TZID=America/Chicago:20230309T130000
DTEND;TZID=America/Chicago:20230309T130000
DTSTAMP:20260423T191902
CREATED:20230301T194025Z
LAST-MODIFIED:20230301T194025Z
UID:423837-1678366800-1678366800@977wmoi.com
SUMMARY:Warren County TRIAD Meeting
DESCRIPTION:Rebecca Logan from Courtyard Estates will share the various differences and limitations between the nursing facilities\, assisted living\, intermediate\, and skilled nursing facilities at Strom Center in Monmouth.
URL:https://977wmoi.com/event/warren-county-triad-meeting-4/
END:VEVENT
BEGIN:VEVENT
DTSTART;TZID=America/Chicago:20230310T063000
DTEND;TZID=America/Chicago:20230310T074500
DTSTAMP:20260423T191902
CREATED:20230130T165959Z
LAST-MODIFIED:20230130T165959Z
UID:422109-1678429800-1678434300@977wmoi.com
SUMMARY:47th Annual Lenten Lay Breakfast Series at Strom Center
DESCRIPTION:Strom Center in Monmouth will host the series. Breakfast begins at 6:30 am with a program to follow from 7:15 to 7:45 am. Host church is First Lutheran.
URL:https://977wmoi.com/event/47th-annual-lenten-lay-breakfast-series-at-strom-center-3/
END:VEVENT
END:VCALENDAR