BEGIN:VCALENDAR
VERSION:2.0
PRODID:-//Prairie Communications, LLC - ECPv6.15.20//NONSGML v1.0//EN
CALSCALE:GREGORIAN
METHOD:PUBLISH
X-WR-CALNAME:Prairie Communications, LLC
X-ORIGINAL-URL:https://977wmoi.com
X-WR-CALDESC:Events for Prairie Communications, LLC
REFRESH-INTERVAL;VALUE=DURATION:PT1H
X-Robots-Tag:noindex
X-PUBLISHED-TTL:PT1H
BEGIN:VTIMEZONE
TZID:America/Chicago
BEGIN:DAYLIGHT
TZOFFSETFROM:-0600
TZOFFSETTO:-0500
TZNAME:CDT
DTSTART:20200308T080000
END:DAYLIGHT
BEGIN:STANDARD
TZOFFSETFROM:-0500
TZOFFSETTO:-0600
TZNAME:CST
DTSTART:20201101T070000
END:STANDARD
BEGIN:DAYLIGHT
TZOFFSETFROM:-0600
TZOFFSETTO:-0500
TZNAME:CDT
DTSTART:20210314T080000
END:DAYLIGHT
BEGIN:STANDARD
TZOFFSETFROM:-0500
TZOFFSETTO:-0600
TZNAME:CST
DTSTART:20211107T070000
END:STANDARD
BEGIN:DAYLIGHT
TZOFFSETFROM:-0600
TZOFFSETTO:-0500
TZNAME:CDT
DTSTART:20220313T080000
END:DAYLIGHT
BEGIN:STANDARD
TZOFFSETFROM:-0500
TZOFFSETTO:-0600
TZNAME:CST
DTSTART:20221106T070000
END:STANDARD
END:VTIMEZONE
BEGIN:VEVENT
DTSTART;VALUE=DATE:20210909
DTEND;VALUE=DATE:20210910
DTSTAMP:20260425T230207
CREATED:20210802T184056Z
LAST-MODIFIED:20210802T184056Z
UID:395679-1631145600-1631231999@977wmoi.com
SUMMARY:50th National Stearman Fly-In - Galesburg
DESCRIPTION:Daily Pilot Briefing\nSeminar: “The PMA & Manufacturing Process”\nFly-out to Gen-Air Park for Lunch\nArt Defined Painting\nStearman Aerobatic Contest Briefing\nStearman Aerobatic Contest\nSeminar: “Remembering 9/11/2001”\nMeet & Greet with Col. Tillman\nDine out in Galesburg\nActivities Continuing Throughout the Day\nAdditional Static Ground Displays Throughout the Week
URL:https://977wmoi.com/event/50th-national-stearman-fly-in-galesburg-4/
END:VEVENT
BEGIN:VEVENT
DTSTART;TZID=America/Chicago:20210908T183000
DTEND;TZID=America/Chicago:20210908T203000
DTSTAMP:20260425T230207
CREATED:20210720T152843Z
LAST-MODIFIED:20210720T152843Z
UID:395121-1631125800-1631133000@977wmoi.com
SUMMARY:"A Christmas Carol" Auditions
DESCRIPTION:Held at Wells Theatre on the Monmouth College Campus. Callbacks will occur at 3 pm on September 12th\, if necessary.
URL:https://977wmoi.com/event/a-christmas-carol-auditions/
END:VEVENT
BEGIN:VEVENT
DTSTART;TZID=America/Chicago:20210908T130000
DTEND;TZID=America/Chicago:20210908T153000
DTSTAMP:20260425T230207
CREATED:20210826T133843Z
LAST-MODIFIED:20210826T133843Z
UID:396729-1631106000-1631115000@977wmoi.com
SUMMARY:WCHD First or Second Dose COVID Vaccine Clinic
DESCRIPTION:Pfizer\, Moderna\, and Johnson & Johnson will be available by appointment only. Call 309-734-0823 during regular business hours. Clinic will be held at the Warren County Health Department in Monmouth.
URL:https://977wmoi.com/event/wchd-first-or-second-dose-covid-vaccine-clinic-2/
END:VEVENT
BEGIN:VEVENT
DTSTART;TZID=America/Chicago:20210908T130000
DTEND;TZID=America/Chicago:20210908T143000
DTSTAMP:20260425T230207
CREATED:20210902T194014Z
LAST-MODIFIED:20210902T194014Z
UID:397116-1631106000-1631111400@977wmoi.com
SUMMARY:Oquawka Strom Center BINGO
DESCRIPTION:Held at the Oquawka Senior Center. Each person is allowed up to 4 free cards and each additional card is 25 cents each. Refreshments are served during the afternoon. You may also bring your own lunch at 12:15 to enjoy beforehand.
URL:https://977wmoi.com/event/oquawka-strom-center-bingo-3/
END:VEVENT
BEGIN:VEVENT
DTSTART;TZID=America/Chicago:20210908T100000
DTEND;TZID=America/Chicago:20210908T100000
DTSTAMP:20260425T230207
CREATED:20210824T173747Z
LAST-MODIFIED:20210824T173747Z
UID:396635-1631095200-1631095200@977wmoi.com
SUMMARY:Old Friends Talk Art at the BCA
DESCRIPTION:64 ARTS juror Jim Shrosbree will join us at 10am Wednesday\, September 8\, to discuss his artwork and our 64 ARTS exhibition. This event is free and open to public. See you in the gallery!
URL:https://977wmoi.com/event/old-friends-talk-art-at-the-bca-2/
END:VEVENT
BEGIN:VEVENT
DTSTART;VALUE=DATE:20210908
DTEND;VALUE=DATE:20210909
DTSTAMP:20260425T230207
CREATED:20210824T143014Z
LAST-MODIFIED:20210824T143014Z
UID:396613-1631059200-1631145599@977wmoi.com
SUMMARY:Warren County Prime Beef Festival Wednesday Events
DESCRIPTION:Parade on Broadway begins at 5 pm. Swyear Amusements Armband night from 5 to 10 pm. Industrial tent 5 to 10 pm. Band and parade awards will be given at the Festival Stage at 6:30 pm. Beer garden from 5 pm to midnight.
URL:https://977wmoi.com/event/warren-county-prime-beef-festival-wednesday-events/
END:VEVENT
BEGIN:VEVENT
DTSTART;VALUE=DATE:20210908
DTEND;VALUE=DATE:20210909
DTSTAMP:20260425T230207
CREATED:20210802T184021Z
LAST-MODIFIED:20210802T184021Z
UID:395677-1631059200-1631145599@977wmoi.com
SUMMARY:50th National Stearman Fly-In - Galesburg
DESCRIPTION:Daily Pilot Briefing\nSeminar: “Aero Medical Issues”\nLunch-time Fly-out to Kewanee Municipal Airport (EZI)\nSeminar: “Stearman Restoration”\nPilot Briefing\nMonmouth Prime Beef Festival Parade Fly-over\nBeverage Wagon Opens\nPizza Party\nGone West\nProgram: “B17 Bomber – The Final Mission”\nActivities Continuing Throughout the Day\nAdditional Static Ground Displays Throughout the Week
URL:https://977wmoi.com/event/50th-national-stearman-fly-in-galesburg-3/
END:VEVENT
BEGIN:VEVENT
DTSTART;TZID=America/Chicago:20210907T190000
DTEND;TZID=America/Chicago:20210907T190000
DTSTAMP:20260425T230207
CREATED:20210810T145341Z
LAST-MODIFIED:20210810T145341Z
UID:396015-1631041200-1631041200@977wmoi.com
SUMMARY:5th Annual Wiswell-Robeson Lecture at Monmouth College
DESCRIPTION:The lecture will be held at Dahl Chapel and Auditorium at Monmouth College entitled ‘Perspectives on the Future of Rural America’ with guest lecturer Cheri Bustos\, U.S. Representative of the Illinois 17th District.
URL:https://977wmoi.com/event/5th-annual-wiswell-robeson-lecture-at-monmouth-college/
END:VEVENT
BEGIN:VEVENT
DTSTART;TZID=America/Chicago:20210907T180000
DTEND;TZID=America/Chicago:20210907T180000
DTSTAMP:20260425T230207
CREATED:20210824T142808Z
LAST-MODIFIED:20210901T164328Z
UID:396611-1631037600-1631037600@977wmoi.com
SUMMARY:Warren County Prime Beef Festival Tuesday Events
DESCRIPTION:Livestock auction at Meks on Main in Monmouth at 6 pm.
URL:https://977wmoi.com/event/warren-county-prime-beef-festival-tuesday-events/
END:VEVENT
BEGIN:VEVENT
DTSTART;TZID=America/Chicago:20210907T160000
DTEND;TZID=America/Chicago:20210907T183000
DTSTAMP:20260425T230207
CREATED:20210628T185403Z
LAST-MODIFIED:20210628T185403Z
UID:394315-1631030400-1631039400@977wmoi.com
SUMMARY:Alexis Farmer's Market
DESCRIPTION:Every Tuesday from May  through Oct\n4:00-6:30\nIn the Alexis Park\nRain or Shine\nVendors take Cash or Checks. Some Use Square\nHas a Variety of Crafters with their Own Unique Style\nThe only market where you’ll find Amish Baked Goods from Lee’s Bakery\nPlus many Other Vendors
URL:https://977wmoi.com/event/alexis-farmers-market-18/
END:VEVENT
BEGIN:VEVENT
DTSTART;TZID=America/Chicago:20210907T133000
DTEND;TZID=America/Chicago:20210907T153000
DTSTAMP:20260425T230207
CREATED:20210901T130721Z
LAST-MODIFIED:20210901T130721Z
UID:396998-1631021400-1631028600@977wmoi.com
SUMMARY:Knox County COVID-19 Vaccine Clinic
DESCRIPTION:At the Unified Command Vaccine Center 1:30pm-3:30pm. Pfizer & Janssen vaccines available.
URL:https://977wmoi.com/event/knox-county-covid-19-vaccine-clinic-2/
END:VEVENT
BEGIN:VEVENT
DTSTART;TZID=America/Chicago:20210907T130000
DTEND;TZID=America/Chicago:20210907T150000
DTSTAMP:20260425T230207
CREATED:20210902T194428Z
LAST-MODIFIED:20210902T194428Z
UID:397122-1631019600-1631026800@977wmoi.com
SUMMARY:Strom Center Zoom BINGO
DESCRIPTION:Make sure to call one or two days prior to get your BINGO playing packet. Zoom BINGO is open to anyone in Warren and Henderson County!
URL:https://977wmoi.com/event/strom-center-zoom-bingo-6/
END:VEVENT
BEGIN:VEVENT
DTSTART;VALUE=DATE:20210907
DTEND;VALUE=DATE:20210908
DTSTAMP:20260425T230207
CREATED:20210802T183944Z
LAST-MODIFIED:20210802T183944Z
UID:395675-1630972800-1631059199@977wmoi.com
SUMMARY:50th National Stearman Fly-In - Galesburg
DESCRIPTION:Daily Pilot Briefing\nSeminar: “Flying Wires”\nTri-County Airport (2C6) Open House\nHidden Hills Vineyard and Winery\nBriefing for Short Field Take-off\, Flour Bombing and Spot Landing Contests\nShort Field Take-off\, Flour Bombing and Spot Landing Contests\nSeminar: “Flying Companion”\nDine Out in Galesburg\nActivities Continuing Throughout the Day\nAdditional Static Ground Displays Throughout the Week
URL:https://977wmoi.com/event/50th-national-stearman-fly-in-galesburg-2/
END:VEVENT
BEGIN:VEVENT
DTSTART;VALUE=DATE:20210906
DTEND;VALUE=DATE:20210907
DTSTAMP:20260425T230207
CREATED:20210824T142713Z
LAST-MODIFIED:20210824T142713Z
UID:396609-1630886400-1630972799@977wmoi.com
SUMMARY:Warren County Prime Beef Festival Monday Events
DESCRIPTION:Swine weigh-in at the Roseville Fairgrounds. Swine show at 2 pm. Steer weigh-in at the Roseville Fairgrounds from 8 am to 10 am. Livestock show at 4:00.
URL:https://977wmoi.com/event/warren-county-prime-beef-festival-monday-events/
END:VEVENT
BEGIN:VEVENT
DTSTART;VALUE=DATE:20210906
DTEND;VALUE=DATE:20210907
DTSTAMP:20260425T230207
CREATED:20210802T183909Z
LAST-MODIFIED:20210802T183909Z
UID:395673-1630886400-1630972799@977wmoi.com
SUMMARY:50th National Stearman Fly-In - Galesburg
DESCRIPTION:Hog Capital of the World Days Fly-In Breakfast\nRibbon Cutting and Dedication\nDaily Pilot Briefing\nGalesburg Labor Day Parade fly-over\nSeminar: “McCauley Propellers”\nSeminar: “Stearman Annuals and Preservation”\nBeverage Wagon Opens\nWelcome Picnic for Fly-In Participants\nRock & Roll Bingo\nActivities Continuing Throughout the Day\nAdditional Static Ground Displays Throughout the Week
URL:https://977wmoi.com/event/50th-national-stearman-fly-in-galesburg/
END:VEVENT
BEGIN:VEVENT
DTSTART;TZID=America/Chicago:20210905T120000
DTEND;TZID=America/Chicago:20210905T120000
DTSTAMP:20260425T230207
CREATED:20210811T133120Z
LAST-MODIFIED:20210811T133120Z
UID:396063-1630843200-1630843200@977wmoi.com
SUMMARY:Randall's Performance Truck War on 34
DESCRIPTION:Join Randall’s Performance for a truck and tractor pull and dirt drags. Gates open at noon at 34 Raceway for the event. Grandstand tickets are $10. Pit Passes are $20. No seating in the pits. Schedule of events are as followed: vendor area beginning at noon until conclusion of event\, show and shine of your truck is noon until 6 pm\, dirt drags begin at 2 pm\, kiddie tractor pull at 4 pm\, and sled pulling begins at 5 pm. For more information\, search Randall’s Performance Truck War on 34 on Facebook.
URL:https://977wmoi.com/event/randalls-performance-truck-war-on-34/
END:VEVENT
BEGIN:VEVENT
DTSTART;TZID=America/Chicago:20210904T190000
DTEND;TZID=America/Chicago:20210904T190000
DTSTAMP:20260425T230207
CREATED:20210824T142541Z
LAST-MODIFIED:20210824T142541Z
UID:396607-1630782000-1630782000@977wmoi.com
SUMMARY:Warren County Prime Beef Festival Princess Pageant
DESCRIPTION:At The Crossing Church in Monmouth.
URL:https://977wmoi.com/event/warren-county-prime-beef-festival-princess-pageant/
END:VEVENT
BEGIN:VEVENT
DTSTART;TZID=America/Chicago:20210904T170000
DTEND;TZID=America/Chicago:20210904T170000
DTSTAMP:20260425T230207
CREATED:20210811T172622Z
LAST-MODIFIED:20210811T172622Z
UID:396089-1630774800-1630774800@977wmoi.com
SUMMARY:Wounded Warriors and Veterans Tractor & Truck Pull
DESCRIPTION:Held in Oquawka at 8th and Mercer Street. All proceeds from the event will go to the Wounded Warrior Project. Food will be provided by the Oquawka Firemen. Toys for Tots will have a Lemonade Shake-Up stand. All classes of the Bald Bluff Antiques will pull\, as well as\, UPA Hot Farm\, Pro Farm\, and 3.6 Diesel trucks\, local gas and diesel trucks\, local out of field tractors\, and an open class to run what you bring. A parade will be held at noon. Food and vendors start at 1 and the pull starts at 5 pm.
URL:https://977wmoi.com/event/wounded-warriors-and-veterans-tractor-truck-pull/
END:VEVENT
BEGIN:VEVENT
DTSTART;TZID=America/Chicago:20210904T080000
DTEND;TZID=America/Chicago:20210904T120000
DTSTAMP:20260425T230207
CREATED:20210628T191034Z
LAST-MODIFIED:20210628T191034Z
UID:394360-1630742400-1630756800@977wmoi.com
SUMMARY:Galesburg Farmer's Market
DESCRIPTION:Simmons & Kellogg St\, Downtown Galesburg\, IL\, 362 E Simmons St\, Galesburg\, IL \nThe Galesburg Farmers’ Market has fresh fruits and veggies\, meats and eggs\, honey\, baked goods\, handmade crafts and jewelry\, and so much more. Located in downtown Galesburg near the corner of Simmons and Seminary streets.
URL:https://977wmoi.com/event/galesburg-farmers-market-12/
END:VEVENT
BEGIN:VEVENT
DTSTART;TZID=America/Chicago:20210903T173000
DTEND;TZID=America/Chicago:20210903T200000
DTSTAMP:20260425T230207
CREATED:20210628T190416Z
LAST-MODIFIED:20210730T154904Z
UID:394342-1630690200-1630699200@977wmoi.com
SUMMARY:Downtown Monmouth Farmer's Market
DESCRIPTION:Held in the Fortress Bank Parking lot\, next to Dairy Queen and Save-A-Lot on North Main Street.
URL:https://977wmoi.com/event/downtown-monmouth-farmers-market-16/
END:VEVENT
BEGIN:VEVENT
DTSTART;TZID=America/Chicago:20210902T173000
DTEND;TZID=America/Chicago:20210902T173000
DTSTAMP:20260425T230207
CREATED:20210804T184415Z
LAST-MODIFIED:20210804T184415Z
UID:395838-1630603800-1630603800@977wmoi.com
SUMMARY:GriefShare Support Group
DESCRIPTION:Meets each Thursday at 5:30 pm at the Christian Church of Abingdon\, 409 South Main. This community outreach ministry is offered to anyone in need of help and encouragement after the death of a spouse\, family member\, or friend. Anyone and everyone is welcome. For more information\, call the church and ask for Pastor Will Brown at 309-462-3344.
URL:https://977wmoi.com/event/griefshare-support-group/
END:VEVENT
BEGIN:VEVENT
DTSTART;TZID=America/Chicago:20210902T153000
DTEND;TZID=America/Chicago:20210902T183000
DTSTAMP:20260425T230207
CREATED:20210806T194355Z
LAST-MODIFIED:20210806T194355Z
UID:395952-1630596600-1630607400@977wmoi.com
SUMMARY:Discovery Depot Presents 'Purses to Inspire'
DESCRIPTION:Grab some friends and come browse\, shop\, and unwind with hor d’oeuvres and cocktails during this adult only evening at the Discovery Depot Children’s Museum in Galesburg. All types of purses\, scarves\, and bling will be available. Doors open at 3:30. Hor d’oeuvres served at 5:15. Auction closes at 6:30 pm. Tickets are $15.
URL:https://977wmoi.com/event/discovery-depot-presents-purses-to-inspire/
END:VEVENT
BEGIN:VEVENT
DTSTART;TZID=America/Chicago:20210902T083000
DTEND;TZID=America/Chicago:20210902T103000
DTSTAMP:20260425T230207
CREATED:20210901T130613Z
LAST-MODIFIED:20210901T130613Z
UID:396996-1630571400-1630578600@977wmoi.com
SUMMARY:Knox County COVID-19 Vaccine Clinic
DESCRIPTION:At the Unified Command Vaccine Center 8:30am-10:30am. Moderna & Janssen vaccine available.
URL:https://977wmoi.com/event/knox-county-covid-19-vaccine-clinic/
END:VEVENT
BEGIN:VEVENT
DTSTART;TZID=America/Chicago:20210901T133000
DTEND;TZID=America/Chicago:20210901T160000
DTSTAMP:20260425T230207
CREATED:20210826T133754Z
LAST-MODIFIED:20210826T133754Z
UID:396727-1630503000-1630512000@977wmoi.com
SUMMARY:WCHD First or Second Dose COVID Vaccine Clinic
DESCRIPTION:Pfizer\, Moderna\, and Johnson & Johnson will be available by appointment only. Call 309-734-0823 during regular business hours. Clinic will be held at the Warren County Health Department in Monmouth.
URL:https://977wmoi.com/event/wchd-first-or-second-dose-covid-vaccine-clinic/
END:VEVENT
BEGIN:VEVENT
DTSTART;TZID=America/Chicago:20210901T120000
DTEND;TZID=America/Chicago:20210901T130000
DTSTAMP:20260425T230207
CREATED:20210824T130405Z
LAST-MODIFIED:20210831T211734Z
UID:396585-1630497600-1630501200@977wmoi.com
SUMMARY:*POSTPONED* Chamber Connections Luncheon
DESCRIPTION:The Monmouth Area Chamber of Commerce new and improved monthly luncheons have been renamed. This month\, the event will be held at Meks on Main\, 201 North Main Street and catered by Alfano’s Pizza. Guest speakers include Blanche Shoup\, Director of the Workforce Office of Western Illinois and Dirk Lefler\, the West Central Region Apprenticeship Navigator. This event is sponsored by Stanton Insurance.
URL:https://977wmoi.com/event/chamber-connections-luncheon/
END:VEVENT
BEGIN:VEVENT
DTSTART;TZID=America/Chicago:20210831T160000
DTEND;TZID=America/Chicago:20210831T183000
DTSTAMP:20260425T230207
CREATED:20210628T185326Z
LAST-MODIFIED:20210628T185326Z
UID:394313-1630425600-1630434600@977wmoi.com
SUMMARY:Alexis Farmer's Market
DESCRIPTION:Every Tuesday from May  through Oct\n4:00-6:30\nIn the Alexis Park\nRain or Shine\nVendors take Cash or Checks. Some Use Square\nHas a Variety of Crafters with their Own Unique Style\nThe only market where you’ll find Amish Baked Goods from Lee’s Bakery\nPlus many Other Vendors
URL:https://977wmoi.com/event/alexis-farmers-market-17/
END:VEVENT
BEGIN:VEVENT
DTSTART;TZID=America/Chicago:20210831T140000
DTEND;TZID=America/Chicago:20210831T160000
DTSTAMP:20260425T230207
CREATED:20210708T191111Z
LAST-MODIFIED:20210708T191111Z
UID:394714-1630418400-1630425600@977wmoi.com
SUMMARY:Warren County Health Department Vaccination Clinic
DESCRIPTION:Moderna vaccine available. Clinic held at the Warren County Health Department. Walk-ins are welcome. Call 309-734-0823 to schedule an appointment.
URL:https://977wmoi.com/event/warren-county-health-department-vaccination-clinic-5/
END:VEVENT
BEGIN:VEVENT
DTSTART;TZID=America/Chicago:20210831T133000
DTEND;TZID=America/Chicago:20210831T153000
DTSTAMP:20260425T230207
CREATED:20210825T132910Z
LAST-MODIFIED:20210825T132910Z
UID:396663-1630416600-1630423800@977wmoi.com
SUMMARY:COVID Vaccine Clinic in Knox County
DESCRIPTION:At the Unified Command Vaccine Center 1:30pm-3:30pm Pfizer\, Comirnaty & Janssen
URL:https://977wmoi.com/event/covid-vaccine-clinic-in-knox-county-4/
END:VEVENT
BEGIN:VEVENT
DTSTART;TZID=America/Chicago:20210831T103000
DTEND;TZID=America/Chicago:20210831T103000
DTSTAMP:20260425T230207
CREATED:20210720T152449Z
LAST-MODIFIED:20210720T152449Z
UID:395117-1630405800-1630405800@977wmoi.com
SUMMARY:Cherry Simmons Printmaking Class at the BCA
DESCRIPTION:Class is free for BCA members and $10 for non-members. Class includes materials and instruction. Call 309-734-3033 to register.
URL:https://977wmoi.com/event/cherry-simmons-printmaking-class-at-the-bca/
END:VEVENT
BEGIN:VEVENT
DTSTART;TZID=America/Chicago:20210828T190000
DTEND;TZID=America/Chicago:20210828T220000
DTSTAMP:20260425T230207
CREATED:20210816T173527Z
LAST-MODIFIED:20210816T173527Z
UID:396249-1630177200-1630188000@977wmoi.com
SUMMARY:Ellisville Summer Swing Fling
DESCRIPTION:Historic Ellisville Restoration Organization invites all to attend the Summer Swing Sling at the Opera House on Main Street in Ellisville. Cost is $15 for singles and $25 for couples\, payable at the door. Dance lessons will be provided from 6 t0 7 pm. Water\, pop\, chips\, and cookies will be available for purchase. Music will be provided by “Rosie and the Rivets.” All proceeds benefit the Historic Ellisville Restoration Organization Opera House Life Project.
URL:https://977wmoi.com/event/ellisville-summer-swing-fling/
END:VEVENT
END:VCALENDAR