BEGIN:VCALENDAR
VERSION:2.0
PRODID:-//Prairie Communications, LLC - ECPv6.15.20//NONSGML v1.0//EN
CALSCALE:GREGORIAN
METHOD:PUBLISH
X-WR-CALNAME:Prairie Communications, LLC
X-ORIGINAL-URL:https://977wmoi.com
X-WR-CALDESC:Events for Prairie Communications, LLC
REFRESH-INTERVAL;VALUE=DURATION:PT1H
X-Robots-Tag:noindex
X-PUBLISHED-TTL:PT1H
BEGIN:VTIMEZONE
TZID:America/Chicago
BEGIN:DAYLIGHT
TZOFFSETFROM:-0600
TZOFFSETTO:-0500
TZNAME:CDT
DTSTART:20200308T080000
END:DAYLIGHT
BEGIN:STANDARD
TZOFFSETFROM:-0500
TZOFFSETTO:-0600
TZNAME:CST
DTSTART:20201101T070000
END:STANDARD
BEGIN:DAYLIGHT
TZOFFSETFROM:-0600
TZOFFSETTO:-0500
TZNAME:CDT
DTSTART:20210314T080000
END:DAYLIGHT
BEGIN:STANDARD
TZOFFSETFROM:-0500
TZOFFSETTO:-0600
TZNAME:CST
DTSTART:20211107T070000
END:STANDARD
BEGIN:DAYLIGHT
TZOFFSETFROM:-0600
TZOFFSETTO:-0500
TZNAME:CDT
DTSTART:20220313T080000
END:DAYLIGHT
BEGIN:STANDARD
TZOFFSETFROM:-0500
TZOFFSETTO:-0600
TZNAME:CST
DTSTART:20221106T070000
END:STANDARD
END:VTIMEZONE
BEGIN:VEVENT
DTSTART;TZID=America/Chicago:20211204T170000
DTEND;TZID=America/Chicago:20211204T170000
DTSTAMP:20260419T215820
CREATED:20211130T141329Z
LAST-MODIFIED:20211130T141329Z
UID:401156-1638637200-1638637200@977wmoi.com
SUMMARY:Spin and Win with Santa and the Grinch
DESCRIPTION:Come join Santa and the Grinch at Abbe Lanes Restaurant. Take a picture\, enjoy cookies\, hot cocoa\, and spin the wheel for a chance to win a free prize.
URL:https://977wmoi.com/event/spin-and-win-with-santa-and-the-grinch/
END:VEVENT
BEGIN:VEVENT
DTSTART;VALUE=DATE:20211205
DTEND;VALUE=DATE:20211206
DTSTAMP:20260419T215820
CREATED:20211102T132256Z
LAST-MODIFIED:20211102T132256Z
UID:400052-1638662400-1638748799@977wmoi.com
SUMMARY:MRHS Madrigal Dinner
DESCRIPTION:Tickets for the 1:00 shows are $15.00 and will be a dessert only.\nTickets for the 6:00 show will be $25.00 and will include a full meal.\n\nDue to COVID restrictions seating is limited.  Call or come into the High School Office and reserve your tickets now.
URL:https://977wmoi.com/event/mrhs-madrigal-dinner-2/
END:VEVENT
BEGIN:VEVENT
DTSTART;TZID=America/Chicago:20211205T100000
DTEND;TZID=America/Chicago:20211205T160000
DTSTAMP:20260419T215820
CREATED:20211130T164157Z
LAST-MODIFIED:20211130T164157Z
UID:401198-1638698400-1638720000@977wmoi.com
SUMMARY:Vendor & Craft Fair
DESCRIPTION:Over 20 vendors featuring different crafters at the Kirkwood Park District Gym\, 100 E Locust Street. There will also be a 50/50 drawing and Full of Grace Catering will have lunch and dessert for purchase.
URL:https://977wmoi.com/event/vendor-craft-fair/
END:VEVENT
BEGIN:VEVENT
DTSTART;TZID=America/Chicago:20211205T140000
DTEND;TZID=America/Chicago:20211205T140000
DTSTAMP:20260419T215820
CREATED:20211101T130521Z
LAST-MODIFIED:20211101T130521Z
UID:399966-1638712800-1638712800@977wmoi.com
SUMMARY:The Outsider Production in Burlington
DESCRIPTION:Players Workshop will open the hilarious political satire The Outsider by Paul Slade Smith on the first weekend in December at Players Workshop Theater\, 1431 Grove St.\, Burlington. \n                The Outsider\, which “skewers politics and celebrates democracy\,” will have audiences rolling as it shares the story of Ned Newley\, possibly the worst candidate to ever run for a political office—unless\, of course\, people are looking for the worst person ever to run for political office! According to its review in Broadway World it is an “insightful\, witty satire about modern American politics. Funny\, timely\, and – dare we say – entirely possible . . . .” \n            The Outsider will be performed on December 3-4 and 9-11 at 7:30 p.m.\, and on Dec. 5 and 12 at 2:00 p.m.  The box office opens at 7:00 p.m.\, except for matinees\, when the box office opens at noon. The play is produced by special arrangement with Playscripts\, Inc. (www.playscripts.com). \n                Masks will be required for audience members entering the theatre\, and social distancing will be maintained as much as possible.  PW highly recommends audience members remain masked for the entirety of the performance. \n                For more information call 753-6623\, go to the Players Workshop Facebook page\, or visit the PW  website at www.playersworkshoptheater.com.  Players Workshop is a 501(c)3 organization.
URL:https://977wmoi.com/event/the-outsider-production-in-burlington/
END:VEVENT
BEGIN:VEVENT
DTSTART;TZID=America/Chicago:20211205T150000
DTEND;TZID=America/Chicago:20211205T150000
DTSTAMP:20260419T215820
CREATED:20211130T175807Z
LAST-MODIFIED:20211130T175807Z
UID:401200-1638716400-1638716400@977wmoi.com
SUMMARY:Warren County Democrats Meet & Greet
DESCRIPTION:Join the Warren County Democrats for an opportunity to meet Jonathan Logemann\, who has announced his candidacy for the U.S. Congress 17th District. Logemann is from Rockford\, is an alderman\, school teacher\, and military veteran. This event is open to the public and will be held inside Danny’s Tap side room\, 120 South A in Monmouth. Light refreshments will be provided. Donations are accepted but not required.
URL:https://977wmoi.com/event/warren-county-democrats-meet-greet/
END:VEVENT
BEGIN:VEVENT
DTSTART;VALUE=DATE:20211206
DTEND;VALUE=DATE:20211215
DTSTAMP:20260419T215820
CREATED:20211206T141527Z
LAST-MODIFIED:20211206T141527Z
UID:401484-1638748800-1639526399@977wmoi.com
SUMMARY:YMCA's Camp Meskwaki Winter Day Camp
DESCRIPTION:Do you need a place to send your kids during Christmas break? We got you covered! \n\n\nCamp Meskwaki Winter Day Camp registration is now open! You can register online\, come to the YMCA or call the front desk. You must fill out a registration form as well. You can pick up a packet at the front desk or download the packet online – all information about winter camp is on the front page of www.warrencountyymca.org\n\n\nThis camp is for kids who are in Kindergarten-6th grade ONLY\n\n\n This camp has limited spots available so be sure to get signed up ASAP \n\n\nWe have many fun things planned:\n•Swimming\n•Arts&Crafts\n•Field Trips\n•Christmas games\n•& MORE!!\n\n\nRegistration deadline is December 14th.\n\n\nFor any additional questions\, please contact Emily Brooks at emily@warrencountyymcs.org or 309-734-3183.\n\n\nSee you soon Red Foxes!
URL:https://977wmoi.com/event/ymcas-camp-meskwaki-winter-day-camp/
END:VEVENT
BEGIN:VEVENT
DTSTART;TZID=America/Chicago:20211206T100000
DTEND;TZID=America/Chicago:20211206T110000
DTSTAMP:20260419T215820
CREATED:20211116T140832Z
LAST-MODIFIED:20211116T140832Z
UID:400611-1638784800-1638788400@977wmoi.com
SUMMARY:Coffee With CASA
DESCRIPTION:Join CASA of West Central Illinois for a Volunteer Open House! Stop by to learn more about becoming a Court Appointed Special Advocate and enjoy a coffee on us! At the Tin Cup Coffee Shop in Monmouth.
URL:https://977wmoi.com/event/coffee-with-casa-2/
END:VEVENT
BEGIN:VEVENT
DTSTART;TZID=America/Chicago:20211206T140000
DTEND;TZID=America/Chicago:20211206T170000
DTSTAMP:20260419T215820
CREATED:20211118T215329Z
LAST-MODIFIED:20211118T215329Z
UID:400804-1638799200-1638810000@977wmoi.com
SUMMARY:WCHD Age 5-11 COVID-19 Vaccine Clinic
DESCRIPTION:Held at the Warren County Health Department\, 240 South Main Street in Monmouth. To schedule an appointment\, call 309-734-0823.
URL:https://977wmoi.com/event/wchd-age-5-11-covid-19-vaccine-clinic/
END:VEVENT
BEGIN:VEVENT
DTSTART;TZID=America/Chicago:20211206T170000
DTEND;TZID=America/Chicago:20211206T183000
DTSTAMP:20260419T215820
CREATED:20210920T202213Z
LAST-MODIFIED:20210920T202213Z
UID:397884-1638810000-1638815400@977wmoi.com
SUMMARY:Monmouth American Legion Soup Supper
DESCRIPTION:All you can eat. Serving chili\, broccoli cheese\, taco soup\, and grilled cheese sandwiches. Each meal comes with a dessert\, drink\, and great friends to enjoy your meal with. A 50/50 raffle will be drawn at 6 pm. Cost is $8 for adults and $3 for children.
URL:https://977wmoi.com/event/monmouth-american-legion-soup-supper-4/
END:VEVENT
BEGIN:VEVENT
DTSTART;TZID=America/Chicago:20211207T070000
DTEND;TZID=America/Chicago:20211207T113000
DTSTAMP:20260419T215820
CREATED:20211207T135836Z
LAST-MODIFIED:20211207T135836Z
UID:401535-1638860400-1638876600@977wmoi.com
SUMMARY:Knox County COVID-19 Booster Clinic
DESCRIPTION:Walk-in Booster Clinic at the Unified Command Vaccine Center 7:00am-11:30am. Clinic offers booster of Moderna\, Pfizer\, and Janssen for adults 18 years of age and up.
URL:https://977wmoi.com/event/knox-county-covid-19-booster-clinic/
END:VEVENT
BEGIN:VEVENT
DTSTART;TZID=America/Chicago:20211207T133000
DTEND;TZID=America/Chicago:20211207T153000
DTSTAMP:20260419T215820
CREATED:20211207T135930Z
LAST-MODIFIED:20211207T135930Z
UID:401537-1638883800-1638891000@977wmoi.com
SUMMARY:Knox County COVID-19 Vaccination Clinic
DESCRIPTION:At the Unified Command Vaccine Center 1:30pm-3:30pm. Clinic offers primary series\, additional doses\, and boosters of Moderna\, Pfizer\, and Janssen for adults 18 years and up. Pfizer primary series is available to those 12 years of age and up.
URL:https://977wmoi.com/event/knox-county-covid-19-vaccination-clinic-8/
END:VEVENT
BEGIN:VEVENT
DTSTART;TZID=America/Chicago:20211207T150000
DTEND;TZID=America/Chicago:20211207T160000
DTSTAMP:20260419T215820
CREATED:20211116T140922Z
LAST-MODIFIED:20211116T140922Z
UID:400613-1638889200-1638892800@977wmoi.com
SUMMARY:Coffee With CASA
DESCRIPTION:Join CASA of West Central Illinois for a Volunteer Open House! Stop by to learn more about becoming a Court Appointed Special Advocate and enjoy a coffee on us! At the Sullivan Taylor Coffee House in Macomb.
URL:https://977wmoi.com/event/coffee-with-casa-3/
END:VEVENT
BEGIN:VEVENT
DTSTART;TZID=America/Chicago:20211207T180000
DTEND;TZID=America/Chicago:20211207T193000
DTSTAMP:20260419T215820
CREATED:20211201T191149Z
LAST-MODIFIED:20211201T191149Z
UID:401273-1638900000-1638905400@977wmoi.com
SUMMARY:M-R Christmas Fun Night
DESCRIPTION:Odyssey Yearbook YardSale and Santa Pictures in the 2nd floor hallway outside the gym. Free cookie decorating with the T.I.T.A.N.S. Programs Family Engagement.
URL:https://977wmoi.com/event/m-r-christmas-fun-night/
END:VEVENT
BEGIN:VEVENT
DTSTART;TZID=America/Chicago:20211208T080000
DTEND;TZID=America/Chicago:20211208T100000
DTSTAMP:20260419T215820
CREATED:20211018T204837Z
LAST-MODIFIED:20211018T204837Z
UID:399191-1638950400-1638957600@977wmoi.com
SUMMARY:Henderson County Health Department Flu Vaccine Clinic
DESCRIPTION:It will be a walk-in clinic from 8-10am every Wednesday morning through December.\n\n\nPlease bring your Medicare or Medicaid card with you.\n\n\nWith out insurance\, it will be $35 for regular Flublock and $55 for the over age 65 Fluzone HD.
URL:https://977wmoi.com/event/henderson-county-health-department-flu-vaccine-clinic-8/
END:VEVENT
BEGIN:VEVENT
DTSTART;TZID=America/Chicago:20211208T190000
DTEND;TZID=America/Chicago:20211208T190000
DTSTAMP:20260419T215820
CREATED:20211117T142419Z
LAST-MODIFIED:20211117T142419Z
UID:400698-1638990000-1638990000@977wmoi.com
SUMMARY:A Victorian Christmas in Warren County
DESCRIPTION:Come for carols and Victorian traditions\, the telling of ghost stories at the Warren County History Museum. Featuring the Buchanan Community Chorus and the Monmouth-Roseville Drama Club. Refreshments and cookies will also be available. This even it free to the public.
URL:https://977wmoi.com/event/a-victorian-christmas-in-warren-county/
END:VEVENT
BEGIN:VEVENT
DTSTART;TZID=America/Chicago:20211209T083000
DTEND;TZID=America/Chicago:20211209T113000
DTSTAMP:20260419T215820
CREATED:20211207T140021Z
LAST-MODIFIED:20211207T140021Z
UID:401539-1639038600-1639049400@977wmoi.com
SUMMARY:Knox County COVID-19 Vaccination Clinic
DESCRIPTION:At the Unified Command Vaccine Center 8:30am-11:30am. Clinic offers primary series\, additional doses\, and boosters of Moderna\, Pfizer\, and Janssen for adults 18 years and up. Pfizer primary series is available to those 12 years of age and up.
URL:https://977wmoi.com/event/knox-county-covid-19-vaccination-clinic-9/
END:VEVENT
BEGIN:VEVENT
DTSTART;TZID=America/Chicago:20211209T110000
DTEND;TZID=America/Chicago:20211209T110000
DTSTAMP:20260419T215820
CREATED:20211028T182302Z
LAST-MODIFIED:20211101T181203Z
UID:399887-1639047600-1639047600@977wmoi.com
SUMMARY:Strom Center's Power for Seniors
DESCRIPTION:The Strom Center’s annual “Power for Seniors” event for Warren County residents will feature a drive-through meal\, as well as drawings for various gifts and gift cards provided by the Monmouth Fraternal Order of Police\, Lodge 265. Reservations are due by November 30.  Meal will include a ham and cheese or chicken salad sandwich\, chips\, brownie\, and water. Call the Strom Center at (309) 734-5677 to reserve your meal.
URL:https://977wmoi.com/event/strom-centers-power-for-seniors/
END:VEVENT
BEGIN:VEVENT
DTSTART;TZID=America/Chicago:20211209T110000
DTEND;TZID=America/Chicago:20211209T120000
DTSTAMP:20260419T215820
CREATED:20211203T162641Z
LAST-MODIFIED:20211203T162659Z
UID:401400-1639047600-1639051200@977wmoi.com
SUMMARY:Henderson County Health Dept. HOLIDAY MEAL
DESCRIPTION:Henderson County Health Department HOLIDAY MEAL\, Thursday DECEMBER 9\, 2021.\nTimes 11:15 and 11:45. Carry out only.\nPlease call 309 627 2812 for 11:15 or 11:45 reservations. Drive by the Health Dept. And we will bring it out to you
URL:https://977wmoi.com/event/henderson-county-health-dept-holiday-meal/
LOCATION:Henderson County Health Department\, 208 Elm Street\, Gladstone\, IL\, United States
END:VEVENT
BEGIN:VEVENT
DTSTART;TZID=America/Chicago:20211209T193000
DTEND;TZID=America/Chicago:20211211T193000
DTSTAMP:20260419T215820
CREATED:20211101T130439Z
LAST-MODIFIED:20211101T130439Z
UID:399964-1639078200-1639251000@977wmoi.com
SUMMARY:The Outsider Performed in Burlington
DESCRIPTION:Players Workshop will open the hilarious political satire The Outsider by Paul Slade Smith on the first weekend in December at Players Workshop Theater\, 1431 Grove St.\, Burlington. \n                The Outsider\, which “skewers politics and celebrates democracy\,” will have audiences rolling as it shares the story of Ned Newley\, possibly the worst candidate to ever run for a political office—unless\, of course\, people are looking for the worst person ever to run for political office! According to its review in Broadway World it is an “insightful\, witty satire about modern American politics. Funny\, timely\, and – dare we say – entirely possible . . . .” \n            The Outsider will be performed on December 3-4 and 9-11 at 7:30 p.m.\, and on Dec. 5 and 12 at 2:00 p.m.  The box office opens at 7:00 p.m.\, except for matinees\, when the box office opens at noon. The play is produced by special arrangement with Playscripts\, Inc. (www.playscripts.com). \n                Masks will be required for audience members entering the theatre\, and social distancing will be maintained as much as possible.  PW highly recommends audience members remain masked for the entirety of the performance. \n                For more information call 753-6623\, go to the Players Workshop Facebook page\, or visit the PW  website at www.playersworkshoptheater.com.  Players Workshop is a 501(c)3 organization.
URL:https://977wmoi.com/event/the-outsider-performed-in-burlington-2/
END:VEVENT
BEGIN:VEVENT
DTSTART;VALUE=DATE:20211210
DTEND;VALUE=DATE:20211212
DTSTAMP:20260419T215820
CREATED:20211129T211009Z
LAST-MODIFIED:20211129T211009Z
UID:401141-1639094400-1639267199@977wmoi.com
SUMMARY:2021 Lucia Nights in Historic Bishop Hill
DESCRIPTION:Bishop Hill invites you to join our 2021 Lucia Nights celebration on Friday December 10 and Saturday December 11 from 6 to 9 p.m.  This Swedish tradition is based on a legend of Saint Lucia\, Queen of Light. Lucia Nights begins in Bishop Hill with the Lighting of the Park Christmas tree at 6 p.m. on Friday\, December 10\, with music provided by the Peoria Cooperative Academy Madrigal Singers.  The public is invited to bring edible ornaments to hang on the tree. On both evenings\, Bishop Hill will be hosting a wide variety of free Christmas activities.  At the Fire Station\, the Peoria Cooperative Academy Madrigal Singers will be performing each night at 6:15 p.m.\, followed by Jazz on the Side at 7:30 p.m.  At the Steeple Building Museum\, Hammer and Pick will be playing a variety of Christmas and folk music from 6 to 9 p.m.  The VASA National Archives will have a closing reception for their Local Lodge Names exhibit.  Also at the Archives\, storyteller Brian “Fox” Ellis will share a medley of Swedish and Pioneer Christmas stories and songs from 6 to 8 p.m.  In addition\, the Bishop Hill Community United Methodist Church will host its annual Soup and Chili Supper\, beginning at 4:00 p.m.  A free-will donation is appreciated to cover the cost of the meal.  Finally\, the Colony Church will have Lucia and Tomte Selfie stations.
URL:https://977wmoi.com/event/2021-lucia-nights-in-historic-bishop-hill/
END:VEVENT
BEGIN:VEVENT
DTSTART;TZID=America/Chicago:20211211T090000
DTEND;TZID=America/Chicago:20211211T110000
DTSTAMP:20260419T215820
CREATED:20211118T213534Z
LAST-MODIFIED:20211118T213534Z
UID:400795-1639213200-1639220400@977wmoi.com
SUMMARY:Numbers in Nature
DESCRIPTION:Free program for all ages at the Lakeside Nature Center. Learn about patterns and discover the Fibonacci sequence and prepare to look at nature in a whole new way! Pre-registration is recommended.
URL:https://977wmoi.com/event/numbers-in-nature/
END:VEVENT
BEGIN:VEVENT
DTSTART;TZID=America/Chicago:20211211T150000
DTEND;TZID=America/Chicago:20211211T190000
DTSTAMP:20260419T215820
CREATED:20211206T215947Z
LAST-MODIFIED:20211206T215947Z
UID:401533-1639234800-1639249200@977wmoi.com
SUMMARY:Good Hope-Sciota Fire Protection District Soup Dinner
DESCRIPTION:Don’t forget the soup dinner this Saturday from 3pm-7pm at the firehouse! Carry out will be offered. Serving chili and vegetable soup\, steam burgers\, peanut butter sandwich\, dessert\, and drinks. Santa will be arriving at 5pm. There will be a secret Santa shop set up for the kids to get a gift for their parents\, free of charge. We will have vendors set up with lots of goodies. Hope to see everyone there at 145 West Main Street in Good Hope.
URL:https://977wmoi.com/event/good-hope-sciota-fire-protection-district-soup-dinner/
END:VEVENT
BEGIN:VEVENT
DTSTART;TZID=America/Chicago:20211211T160000
DTEND;TZID=America/Chicago:20211211T160000
DTSTAMP:20260419T215820
CREATED:20211201T202952Z
LAST-MODIFIED:20211201T202952Z
UID:401286-1639238400-1639238400@977wmoi.com
SUMMARY:Oquawka Youth Baseball Teams Soup Supper
DESCRIPTION:Join for a soup dinner benefitting the Oquawka Youth Baseball teams at Mama’s Place\, 1007 North 7th Street in Oquawka. Chili with toppings\, dinner roll\, and a drink will be served.
URL:https://977wmoi.com/event/oquawka-youth-baseball-teams-soup-supper/
END:VEVENT
BEGIN:VEVENT
DTSTART;TZID=America/Chicago:20211212T140000
DTEND;TZID=America/Chicago:20211212T140000
DTSTAMP:20260419T215820
CREATED:20211101T130605Z
LAST-MODIFIED:20211101T130605Z
UID:399968-1639317600-1639317600@977wmoi.com
SUMMARY:The Outsider Production in Burlington
DESCRIPTION:Players Workshop will open the hilarious political satire The Outsider by Paul Slade Smith on the first weekend in December at Players Workshop Theater\, 1431 Grove St.\, Burlington. \n                The Outsider\, which “skewers politics and celebrates democracy\,” will have audiences rolling as it shares the story of Ned Newley\, possibly the worst candidate to ever run for a political office—unless\, of course\, people are looking for the worst person ever to run for political office! According to its review in Broadway World it is an “insightful\, witty satire about modern American politics. Funny\, timely\, and – dare we say – entirely possible . . . .” \n            The Outsider will be performed on December 3-4 and 9-11 at 7:30 p.m.\, and on Dec. 5 and 12 at 2:00 p.m.  The box office opens at 7:00 p.m.\, except for matinees\, when the box office opens at noon. The play is produced by special arrangement with Playscripts\, Inc. (www.playscripts.com). \n                Masks will be required for audience members entering the theatre\, and social distancing will be maintained as much as possible.  PW highly recommends audience members remain masked for the entirety of the performance. \n                For more information call 753-6623\, go to the Players Workshop Facebook page\, or visit the PW  website at www.playersworkshoptheater.com.  Players Workshop is a 501(c)3 organization.
URL:https://977wmoi.com/event/the-outsider-production-in-burlington-2/
END:VEVENT
BEGIN:VEVENT
DTSTART;TZID=America/Chicago:20211213T113000
DTEND;TZID=America/Chicago:20211213T130000
DTSTAMP:20260419T215820
CREATED:20211025T184410Z
LAST-MODIFIED:20211025T184410Z
UID:399617-1639395000-1639400400@977wmoi.com
SUMMARY:Local & State Legislative Virtual Luncheon
DESCRIPTION:Join the Galesburg Area Chamber of Commerce for a December Legislative update from both state and local and elected officials!\n\n\nFeatured speakers include:\n\n\n Illinois State Representative\, District 93: Rep Norine K Hammond\n Illinois State Representative\, District 74: IL Rep Dan Swanson\n Chairman Knox County Board: Jared M. Hawkinson\n City of Galesburg Mayor: Peter Schwartzman\n\n\nOther elected officials will be added to the panel as they are confirmed.\n\n\nThis event will be virtual with meal delivery options included in the city of Galesburg. Topics of discussion are up to YOU\, the citizens of our community. Submit your questions here: https://bit.ly/2021GACClegislativeQsubmit.\n\n\nTickets to attend virtually are now available: https://bit.ly/3pyuTyT
URL:https://977wmoi.com/event/local-state-legislative-virtual-luncheon/
END:VEVENT
BEGIN:VEVENT
DTSTART;TZID=America/Chicago:20211214T130000
DTEND;TZID=America/Chicago:20211214T130000
DTSTAMP:20260419T215820
CREATED:20211201T202551Z
LAST-MODIFIED:20211201T202551Z
UID:401282-1639486800-1639486800@977wmoi.com
SUMMARY:Strom Center BINGO in Monmouth
DESCRIPTION:Refreshments are drinks are provided. Cost is only 25 cents per card.
URL:https://977wmoi.com/event/strom-center-bingo-in-monmouth/
END:VEVENT
BEGIN:VEVENT
DTSTART;TZID=America/Chicago:20211214T133000
DTEND;TZID=America/Chicago:20211214T153000
DTSTAMP:20260419T215820
CREATED:20211207T140109Z
LAST-MODIFIED:20211207T140109Z
UID:401541-1639488600-1639495800@977wmoi.com
SUMMARY:Knox County COVID-19 Vaccination Clinic
DESCRIPTION:At the Unified Command Vaccine Center 1:30pm-3:30pm. Clinic offers primary series\, additional doses\, and boosters of Moderna\, Pfizer\, and Janssen for adults 18 years and up. Pfizer primary series is available to those 12 years of age and up.
URL:https://977wmoi.com/event/knox-county-covid-19-vaccination-clinic-10/
END:VEVENT
BEGIN:VEVENT
DTSTART;TZID=America/Chicago:20211214T170000
DTEND;TZID=America/Chicago:20211214T190000
DTSTAMP:20260419T215820
CREATED:20211129T184033Z
LAST-MODIFIED:20211129T184033Z
UID:401124-1639501200-1639508400@977wmoi.com
SUMMARY:Business After Hours
DESCRIPTION:The Galesburg Area Chamber of Commerce presents the last Business After Hours event for 2021\, held and sponsored at the Knox County Area Partnership for Economic Development\, 200 East Main Street. RSVP at http://galesburgil.chambermaster.com/events/details/business-after-hours-knox-county-area-partnership-for-economic-development-5585?fbclid=IwAR1nmGrKLCDoemHQ8CRxuq4P024jB3sSAeebkDK_oM_zuz_hr3WAEN474CY.
URL:https://977wmoi.com/event/business-after-hours-11/
END:VEVENT
BEGIN:VEVENT
DTSTART;TZID=America/Chicago:20211215T080000
DTEND;TZID=America/Chicago:20211215T100000
DTSTAMP:20260419T215820
CREATED:20211018T204920Z
LAST-MODIFIED:20211018T204920Z
UID:399193-1639555200-1639562400@977wmoi.com
SUMMARY:Henderson County Health Department Flu Vaccine Clinic
DESCRIPTION:It will be a walk-in clinic from 8-10am every Wednesday morning through December.\n\n\nPlease bring your Medicare or Medicaid card with you.\n\n\nWith out insurance\, it will be $35 for regular Flublock and $55 for the over age 65 Fluzone HD.
URL:https://977wmoi.com/event/henderson-county-health-department-flu-vaccine-clinic-9/
END:VEVENT
BEGIN:VEVENT
DTSTART;TZID=America/Chicago:20211215T100000
DTEND;TZID=America/Chicago:20211215T100000
DTSTAMP:20260419T215820
CREATED:20211208T193804Z
LAST-MODIFIED:20211208T193804Z
UID:401704-1639562400-1639562400@977wmoi.com
SUMMARY:City of Monmouth Townhomes Groundbreaking Ceremony
DESCRIPTION:Located East of 1123 North Main Street in Monmouth.
URL:https://977wmoi.com/event/city-of-monmouth-townhomes-groundbreaking-ceremony/
END:VEVENT
END:VCALENDAR