BEGIN:VCALENDAR
VERSION:2.0
PRODID:-//Prairie Communications, LLC - ECPv6.15.20//NONSGML v1.0//EN
CALSCALE:GREGORIAN
METHOD:PUBLISH
X-ORIGINAL-URL:https://977wmoi.com
X-WR-CALDESC:Events for Prairie Communications, LLC
REFRESH-INTERVAL;VALUE=DURATION:PT1H
X-Robots-Tag:noindex
X-PUBLISHED-TTL:PT1H
BEGIN:VTIMEZONE
TZID:America/Chicago
BEGIN:DAYLIGHT
TZOFFSETFROM:-0600
TZOFFSETTO:-0500
TZNAME:CDT
DTSTART:20210314T080000
END:DAYLIGHT
BEGIN:STANDARD
TZOFFSETFROM:-0500
TZOFFSETTO:-0600
TZNAME:CST
DTSTART:20211107T070000
END:STANDARD
BEGIN:DAYLIGHT
TZOFFSETFROM:-0600
TZOFFSETTO:-0500
TZNAME:CDT
DTSTART:20220313T080000
END:DAYLIGHT
BEGIN:STANDARD
TZOFFSETFROM:-0500
TZOFFSETTO:-0600
TZNAME:CST
DTSTART:20221106T070000
END:STANDARD
BEGIN:DAYLIGHT
TZOFFSETFROM:-0600
TZOFFSETTO:-0500
TZNAME:CDT
DTSTART:20230312T080000
END:DAYLIGHT
BEGIN:STANDARD
TZOFFSETFROM:-0500
TZOFFSETTO:-0600
TZNAME:CST
DTSTART:20231105T070000
END:STANDARD
END:VTIMEZONE
BEGIN:VEVENT
DTSTART;TZID=America/Chicago:20220729T170000
DTEND;TZID=America/Chicago:20220729T190000
DTSTAMP:20260421T061807
CREATED:20220510T210542Z
LAST-MODIFIED:20220511T134116Z
UID:408645-1659114000-1659121200@977wmoi.com
SUMMARY:Monmouth Farmer's Market
DESCRIPTION:Monmouth Area Chamber of Commerce’s Farmer’s Market will be held Fridays in the Fortress Bank Parking Lot\, 300 Block of North Main in Monmouth.
URL:https://977wmoi.com/event/monmouth-farmers-market-11/
END:VEVENT
BEGIN:VEVENT
DTSTART;TZID=America/Chicago:20220730T130000
DTEND;TZID=America/Chicago:20220730T143000
DTSTAMP:20260421T061807
CREATED:20220713T204719Z
LAST-MODIFIED:20220713T204719Z
UID:411309-1659186000-1659191400@977wmoi.com
SUMMARY:Craig and Co Band Live in Concert
DESCRIPTION:Held at Legacy Estates in Monmouth\, 1200 West Broadway. Refreshments will be served. Please bring your own lawn chair.
URL:https://977wmoi.com/event/craig-and-co-band-live-in-concert/
END:VEVENT
BEGIN:VEVENT
DTSTART;TZID=America/Chicago:20220730T140000
DTEND;TZID=America/Chicago:20220730T160000
DTSTAMP:20260421T061807
CREATED:20220701T130154Z
LAST-MODIFIED:20220701T130154Z
UID:410868-1659189600-1659196800@977wmoi.com
SUMMARY:Summer Celebration Youth Archery Shoot
DESCRIPTION:At the Dallas City Park. Check in time is 1:30 pm. Class is for ages 11-17\, beginner\, intermediate\, and advanced shooters. Email scyas@yahoo.com to register. Event sponsored by the City of Lomax\, Riverview Sportsmen Club\, Yellow Rose Saloon\, Friends of Henderson County Wildlife\, City of Dallas City\, and DCES PTO.
URL:https://977wmoi.com/event/summer-celebration-youth-archery-shoot/
END:VEVENT
BEGIN:VEVENT
DTSTART;TZID=America/Chicago:20220801T180000
DTEND;TZID=America/Chicago:20220801T190000
DTSTAMP:20260421T061807
CREATED:20220610T132409Z
LAST-MODIFIED:20220610T132409Z
UID:409949-1659376800-1659380400@977wmoi.com
SUMMARY:Free Wellness Program
DESCRIPTION:Sponsored by the Warren County Health Department. Program will be held at Meks on Main\, 201 North Main Street in Monmouth on July 25th\, August 1st\, August 8th\, and August 15th all from 6 to 7 pm. There will be guest speakers\, weekly prize drawings\, and topics will cover Strength Training\, Nutrition\, Mobility\, Preventative Care. Call 309-734-1314 extension 3 to register.
URL:https://977wmoi.com/event/free-wellness-program-2/
END:VEVENT
BEGIN:VEVENT
DTSTART;TZID=America/Chicago:20220802T160000
DTEND;TZID=America/Chicago:20220802T183000
DTSTAMP:20260421T061807
CREATED:20220607T181242Z
LAST-MODIFIED:20220607T181242Z
UID:409809-1659456000-1659465000@977wmoi.com
SUMMARY:Alexis Farmer's Market
DESCRIPTION:Held every Tuesday in the Alexis Park. Stop\, shop\, browse\, and chat. Eight vendors\, including Lee’s Bakery will be set up from 4 to 6:30 pm. New vendors are always welcome. Call 309-635-4666 to get involved.
URL:https://977wmoi.com/event/alexis-farmers-market-34/
END:VEVENT
BEGIN:VEVENT
DTSTART;TZID=America/Chicago:20220802T170000
DTEND;TZID=America/Chicago:20220802T190000
DTSTAMP:20260421T061807
CREATED:20220719T125618Z
LAST-MODIFIED:20220719T125618Z
UID:411483-1659459600-1659466800@977wmoi.com
SUMMARY:Galesburg Police Department National Night Out
DESCRIPTION:Join many civic and public service organizations during this free family event at Standish Park in Galesburg. Police\, Fire\, EMS\, food\, drinks\, K9 Demonstration\, games\, information booths\, face painting\, arts and crafts\, raffles\, and more!
URL:https://977wmoi.com/event/galesburg-police-department-national-night-out/
END:VEVENT
BEGIN:VEVENT
DTSTART;TZID=America/Chicago:20220803T090000
DTEND;TZID=America/Chicago:20220803T120000
DTSTAMP:20260421T061807
CREATED:20220701T134317Z
LAST-MODIFIED:20220701T134317Z
UID:410879-1659517200-1659528000@977wmoi.com
SUMMARY:West Central Developmental & Preschool Screenings
DESCRIPTION:Held at the West Central Elementary. Call Jaime Shultz to schedule an appointment\, 309-627-2371.
URL:https://977wmoi.com/event/west-central-developmental-preschool-screenings-2/
END:VEVENT
BEGIN:VEVENT
DTSTART;VALUE=DATE:20220804
DTEND;VALUE=DATE:20220805
DTSTAMP:20260421T061807
CREATED:20220505T181117Z
LAST-MODIFIED:20220505T181117Z
UID:408466-1659571200-1659657599@977wmoi.com
SUMMARY:The Orpheum Theatre’s Throwback Thursday FREE Summer Movie Series
DESCRIPTION:A highly anticipated Galesburg tradition\, The Orpheum Theatre’s Throwback Thursdays FREE summer movie series will enter its twelfth year of screening films at least 20 years old\, and this year it’s back with the theme of ANIMATED CLASSICS! Thanks to sponsorship from F&M Bank\, The Throwback Thursdays 2022 Summer Movie Series boasts ten features this summer: \n8/4                               Batman: The Mask of the Phantasm (1993) \n8/11                            101 Dalmatians (1961) [SPONSOR PICK] \n8/18                            A Bug’s Life (1998) \n                                                              \nA Goofy Movie will kick off the series on Thursday\, June 16 with a 7pm screening; the rest of the films on the series will screen at both 2pm and 7pm on their respective Thursdays. Tickets are not required for these events; more information on the summer movies can be found on The Orpheum Theatre’s social media accounts\, as well as their website www.galesburgorpheum.org. The Orpheum Theatre is located at 57 South Kellogg Street in Downtown Galesburg\, with office hours Tuesday through Friday\, 10am-2pm.
URL:https://977wmoi.com/event/the-orpheum-theatres-throwback-thursday-free-summer-movie-series-8/
END:VEVENT
BEGIN:VEVENT
DTSTART;VALUE=DATE:20220805
DTEND;VALUE=DATE:20220806
DTSTAMP:20260421T061807
CREATED:20220804T130214Z
LAST-MODIFIED:20220804T130214Z
UID:412355-1659657600-1659743999@977wmoi.com
SUMMARY:Monmouth American Legion Tenderloins
DESCRIPTION:Monmouth American Legion will be offering this Friday “cruise in and carry out” tenderloins $8. There will be vendors uptown at the car show\, but consider grabbing a tenderloin before you enter the crowd. Each and every one is “breaded with love” by our helpers. Come in\, or call ahead 734-2976. Of course we do have a full menu on Friday also. As always\, we appreciate your patronage to the American Legion.
URL:https://977wmoi.com/event/monmouth-american-legion-tenderloins/
END:VEVENT
BEGIN:VEVENT
DTSTART;TZID=America/Chicago:20220805T110000
DTEND;TZID=America/Chicago:20220805T130000
DTSTAMP:20260421T061807
CREATED:20220804T191021Z
LAST-MODIFIED:20220804T191021Z
UID:412404-1659697200-1659704400@977wmoi.com
SUMMARY:Live Music on the Pattee Plaza
DESCRIPTION:Carolyn Kellert and Madeline Wood will perform on the Pattee Plaza for the final show of this summer!
URL:https://977wmoi.com/event/live-music-on-the-pattee-plaza-5/
END:VEVENT
BEGIN:VEVENT
DTSTART;TZID=America/Chicago:20220805T160000
DTEND;TZID=America/Chicago:20220805T210000
DTSTAMP:20260421T061807
CREATED:20220803T132921Z
LAST-MODIFIED:20220803T142823Z
UID:412225-1659715200-1659733200@977wmoi.com
SUMMARY:Maple City Street Machines Cruise Night
DESCRIPTION:Held in downtown Monmouth. Over 3\,500 cars will be in attendance to viewers. Road closures and cars showing up will begin early morning.
URL:https://977wmoi.com/event/maple-city-street-machines-cruise-night/
END:VEVENT
BEGIN:VEVENT
DTSTART;TZID=America/Chicago:20220805T170000
DTEND;TZID=America/Chicago:20220805T190000
DTSTAMP:20260421T061807
CREATED:20220510T210619Z
LAST-MODIFIED:20220511T134041Z
UID:408647-1659718800-1659726000@977wmoi.com
SUMMARY:Monmouth Farmer's Market
DESCRIPTION:Monmouth Area Chamber of Commerce’s Farmer’s Market will be held Fridays in the Fortress Bank Parking Lot\, 300 Block of North Main in Monmouth.
URL:https://977wmoi.com/event/monmouth-farmers-market-12/
END:VEVENT
BEGIN:VEVENT
DTSTART;TZID=America/Chicago:20220808T170000
DTEND;TZID=America/Chicago:20220808T200000
DTSTAMP:20260421T061807
CREATED:20220412T183303Z
LAST-MODIFIED:20220412T183303Z
UID:407357-1659978000-1659988800@977wmoi.com
SUMMARY:Stronghurst Farmers Market
DESCRIPTION:Held Monday nights in downtown Stronghurst on Broadway Street. Sponsored by the Stronghurst Booster Club.
URL:https://977wmoi.com/event/stronghurst-farmers-market-7/
END:VEVENT
BEGIN:VEVENT
DTSTART;TZID=America/Chicago:20220808T180000
DTEND;TZID=America/Chicago:20220808T190000
DTSTAMP:20260421T061807
CREATED:20220610T132447Z
LAST-MODIFIED:20220610T132447Z
UID:409951-1659981600-1659985200@977wmoi.com
SUMMARY:Free Wellness Program
DESCRIPTION:Sponsored by the Warren County Health Department. Program will be held at Meks on Main\, 201 North Main Street in Monmouth on July 25th\, August 1st\, August 8th\, and August 15th all from 6 to 7 pm. There will be guest speakers\, weekly prize drawings\, and topics will cover Strength Training\, Nutrition\, Mobility\, Preventative Care. Call 309-734-1314 extension 3 to register.
URL:https://977wmoi.com/event/free-wellness-program-3/
END:VEVENT
BEGIN:VEVENT
DTSTART;VALUE=DATE:20220809
DTEND;VALUE=DATE:20220811
DTSTAMP:20260421T061807
CREATED:20220802T140201Z
LAST-MODIFIED:20220802T140201Z
UID:412086-1660003200-1660175999@977wmoi.com
SUMMARY:Prairie Players Civic Theatre Auditions for the David Lindsay-Abair Comedy\, Ripcord
DESCRIPTION:Prairie Players Civic Theatre is excited to announce auditions for the David Lindsay-Abair comedy\, Ripcord. Auditions will be held Tuesday\, August 9\, and Wednesday\, August 10\, at 6:30 P.M. at the Prairie Players Civic Theatre located at 160 South Seminary Street\, Galesburg\, Illinois. Auditions will consist of cold readings from the script. The cast calls for 3 women and 4 men.  For more information contact\, director\, Kenny Knox at: kknox@spoonrivervalley.us.
URL:https://977wmoi.com/event/prairie-players-civic-theatre-auditions-for-the-david-lindsay-abair-comedy-ripcord/
END:VEVENT
BEGIN:VEVENT
DTSTART;TZID=America/Chicago:20220809T160000
DTEND;TZID=America/Chicago:20220809T183000
DTSTAMP:20260421T061807
CREATED:20220607T181314Z
LAST-MODIFIED:20220607T181314Z
UID:409811-1660060800-1660069800@977wmoi.com
SUMMARY:Alexis Farmer's Market
DESCRIPTION:Held every Tuesday in the Alexis Park. Stop\, shop\, browse\, and chat. Eight vendors\, including Lee’s Bakery will be set up from 4 to 6:30 pm. New vendors are always welcome. Call 309-635-4666 to get involved.
URL:https://977wmoi.com/event/alexis-farmers-market-35/
END:VEVENT
BEGIN:VEVENT
DTSTART;VALUE=DATE:20220810
DTEND;VALUE=DATE:20220818
DTSTAMP:20260421T061807
CREATED:20220809T191551Z
LAST-MODIFIED:20220809T191551Z
UID:412686-1660089600-1660780799@977wmoi.com
SUMMARY:Fall Outdoor Soccer 2nd - 3rd Grade
DESCRIPTION:League begins Friday\, August 26th. Games will be held Saturdays beginning September 10th at the Knox County YMCA.
URL:https://977wmoi.com/event/fall-outdoor-soccer-2nd-3rd-grade/
END:VEVENT
BEGIN:VEVENT
DTSTART;VALUE=DATE:20220811
DTEND;VALUE=DATE:20220812
DTSTAMP:20260421T061807
CREATED:20220505T181203Z
LAST-MODIFIED:20220505T181203Z
UID:408468-1660176000-1660262399@977wmoi.com
SUMMARY:The Orpheum Theatre’s Throwback Thursday FREE Summer Movie Series
DESCRIPTION:A highly anticipated Galesburg tradition\, The Orpheum Theatre’s Throwback Thursdays FREE summer movie series will enter its twelfth year of screening films at least 20 years old\, and this year it’s back with the theme of ANIMATED CLASSICS! Thanks to sponsorship from F&M Bank\, The Throwback Thursdays 2022 Summer Movie Series boasts ten features this summer: \n8/11                            101 Dalmatians (1961) [SPONSOR PICK] \n8/18                            A Bug’s Life (1998) \n                                                              \nA Goofy Movie will kick off the series on Thursday\, June 16 with a 7pm screening; the rest of the films on the series will screen at both 2pm and 7pm on their respective Thursdays. Tickets are not required for these events; more information on the summer movies can be found on The Orpheum Theatre’s social media accounts\, as well as their website www.galesburgorpheum.org. The Orpheum Theatre is located at 57 South Kellogg Street in Downtown Galesburg\, with office hours Tuesday through Friday\, 10am-2pm.
URL:https://977wmoi.com/event/the-orpheum-theatres-throwback-thursday-free-summer-movie-series-9/
END:VEVENT
BEGIN:VEVENT
DTSTART;VALUE=DATE:20220811
DTEND;VALUE=DATE:20220819
DTSTAMP:20260421T061807
CREATED:20220809T191718Z
LAST-MODIFIED:20220809T191718Z
UID:412688-1660176000-1660867199@977wmoi.com
SUMMARY:6th - 8th Grade Fall Outdoor Soccer
DESCRIPTION:League practice begins Friday\, August 26th. Games will be played Saturdays beginning September 10th at the Knox County YMCA.
URL:https://977wmoi.com/event/6th-8th-grade-fall-outdoor-soccer/
END:VEVENT
BEGIN:VEVENT
DTSTART;TZID=America/Chicago:20220811T113000
DTEND;TZID=America/Chicago:20220811T150000
DTSTAMP:20260421T061807
CREATED:20220713T204845Z
LAST-MODIFIED:20220713T204845Z
UID:411311-1660217400-1660230000@977wmoi.com
SUMMARY:Eagle View Community Health System Free Health Fair
DESCRIPTION:Held at the Stronghurst Park. Vendor tables\, food\, kids’ activities\, door prizes\, free health screenings\, and more.
URL:https://977wmoi.com/event/eagle-view-community-health-system-free-health-fair/
END:VEVENT
BEGIN:VEVENT
DTSTART;VALUE=DATE:20220812
DTEND;VALUE=DATE:20220813
DTSTAMP:20260421T061807
CREATED:20220809T144712Z
LAST-MODIFIED:20220809T144712Z
UID:412660-1660262400-1660348799@977wmoi.com
SUMMARY:Willy Wonka and the Chocolate Factory Movie Night
DESCRIPTION:Join for a movie night on the Pattee Plaza in Downtown Monmouth at dusk.
URL:https://977wmoi.com/event/willy-wonka-and-the-chocolate-factory-movie-night/
END:VEVENT
BEGIN:VEVENT
DTSTART;TZID=America/Chicago:20220812T110000
DTEND;TZID=America/Chicago:20220812T130000
DTSTAMP:20260421T061807
CREATED:20220511T150057Z
LAST-MODIFIED:20220511T150057Z
UID:408708-1660302000-1660309200@977wmoi.com
SUMMARY:Midwest Bank Relay for Life Cookout
DESCRIPTION:Cookout will be at Midwest Bank\, 200 East Broadway in Monmouth. All proceeds will benefit Relay for Life of Warren-Henderson.
URL:https://977wmoi.com/event/midwest-bank-relay-for-life-cookout-4/
END:VEVENT
BEGIN:VEVENT
DTSTART;TZID=America/Chicago:20220812T170000
DTEND;TZID=America/Chicago:20220812T190000
DTSTAMP:20260421T061807
CREATED:20220510T210652Z
LAST-MODIFIED:20220511T134013Z
UID:408649-1660323600-1660330800@977wmoi.com
SUMMARY:Monmouth Farmer's Market
DESCRIPTION:Monmouth Area Chamber of Commerce’s Farmer’s Market will be held Fridays in the Fortress Bank Parking Lot\, 300 Block of North Main in Monmouth.
URL:https://977wmoi.com/event/monmouth-farmers-market-13/
END:VEVENT
BEGIN:VEVENT
DTSTART;TZID=America/Chicago:20220812T190000
DTEND;TZID=America/Chicago:20220812T190000
DTSTAMP:20260421T061807
CREATED:20220804T191454Z
LAST-MODIFIED:20220804T191454Z
UID:412408-1660330800-1660330800@977wmoi.com
SUMMARY:Encanto Free Family Movie Night
DESCRIPTION:The City of Galesburg Parks and Rec and IH Mississippi Valley Credit Union are hosting a free family movie night at Lake Storey West Lawn Pavilion showing Encanto. The mobile playground truck and games will be from 7 to 8 pm before the movie time at dusk.
URL:https://977wmoi.com/event/encanto-free-family-movie-night/
END:VEVENT
BEGIN:VEVENT
DTSTART;VALUE=DATE:20220813
DTEND;VALUE=DATE:20220814
DTSTAMP:20260421T061807
CREATED:20220804T191157Z
LAST-MODIFIED:20220804T191157Z
UID:412406-1660348800-1660435199@977wmoi.com
SUMMARY:9th Annual Matt Repp Memorial Golf Outing
DESCRIPTION:Held at the Monmouth Country Club. 8 am or 1 pm shotgun start times. Proceeds raised benefit the Matt Repp Memorial Scholarship and area high school students.
URL:https://977wmoi.com/event/9th-annual-matt-repp-memorial-golf-outing/
END:VEVENT
BEGIN:VEVENT
DTSTART;TZID=America/Chicago:20220813T080000
DTEND;TZID=America/Chicago:20220813T080000
DTSTAMP:20260421T061807
CREATED:20220628T130700Z
LAST-MODIFIED:20220628T130700Z
UID:410684-1660377600-1660377600@977wmoi.com
SUMMARY:Henderson County Olde Tyme Farm Show
DESCRIPTION:Held at the Henderson County Fairgrounds\, Route 94 in Stronghurst. Demonstrations\, entertainment\, crafts\, vendors\, food and more! Special events on Saturday\, August 13: Tractor Parade at 1 pm and a free will donation ham and bean dinner from 4-8 pm. A tractor drive to LaHarpe will take place Sunday\, August 14th at 8 am. Gates open at 8 am. For more information\, search Henderson County Olde Tymers Association on Facebook.
URL:https://977wmoi.com/event/henderson-county-olde-tyme-farm-show-2/
END:VEVENT
BEGIN:VEVENT
DTSTART;TZID=America/Chicago:20220813T110000
DTEND;TZID=America/Chicago:20220813T140000
DTSTAMP:20260421T061807
CREATED:20220810T132309Z
LAST-MODIFIED:20220810T132309Z
UID:412697-1660388400-1660399200@977wmoi.com
SUMMARY:Monmouth-Roseville Titans Junior Class Cookout Fundraiser
DESCRIPTION:Serving hamburgers\, brats\, and porkchops at the Monmouth Fareway. Proceeds benefit the Junior Class at Monmouth-Roseville as they raise money for prom.
URL:https://977wmoi.com/event/monmouth-roseville-titans-junior-class-cookout-fundraiser/
END:VEVENT
BEGIN:VEVENT
DTSTART;TZID=America/Chicago:20220814T073000
DTEND;TZID=America/Chicago:20220814T103000
DTSTAMP:20260421T061807
CREATED:20220809T131046Z
LAST-MODIFIED:20220809T131046Z
UID:412643-1660462200-1660473000@977wmoi.com
SUMMARY:Monmouth VFW Breakfast Buffet
DESCRIPTION:Open to the entire public. Adults $9. Children under the age of 6 are $4. Breakfast is sponsored by the Monmouth Evening Lions Club and the Monmouth VFW Auxiliary.
URL:https://977wmoi.com/event/monmouth-vfw-breakfast-buffet-7/
END:VEVENT
BEGIN:VEVENT
DTSTART;TZID=America/Chicago:20220814T160000
DTEND;TZID=America/Chicago:20220814T180000
DTSTAMP:20260421T061807
CREATED:20220729T183136Z
LAST-MODIFIED:20220729T183136Z
UID:411978-1660492800-1660500000@977wmoi.com
SUMMARY:Little York Cedar Church Homemade Ice Cream Social
DESCRIPTION:Serving hot dogs\, sloppy joes\, chips\, desserts\, and homemade ice cream. Freewill donations accepted.
URL:https://977wmoi.com/event/little-york-cedar-church-homemade-ice-cream-social/
END:VEVENT
BEGIN:VEVENT
DTSTART;VALUE=DATE:20220815
DTEND;VALUE=DATE:20220826
DTSTAMP:20260421T061807
CREATED:20220803T130427Z
LAST-MODIFIED:20220803T130427Z
UID:412206-1660521600-1661471999@977wmoi.com
SUMMARY:‘Gateway2Galesburg’ Community Fair at Knox College
DESCRIPTION:We are excited to announce our 2nd Annual ‘Gateway2Galesburg’ Community Fair at Knox College! This event aims to allow YOU and your organization the chance to promote directly to Knox students\, faculty\, and staff!\n\nRegistration to attend this event is FREE. Samples/giveaways/promotional materials are recommended. All local organizations are invited\, with the exception of multi-level marketing and business/investment opportunities.\n\nWith the Knox community returning to Galesburg\, this event is a great opportunity to create relationships that help further both your interests and those of our 1500 community members.\n\nSpace is limited. Register HERE by AUGUST 25th!\nThe link to our Facebook event for weekly updates is HERE.\n\nIf you have any questions\, please reach out to careers@knox.edu.\n\n\n\n\n\n\n\n\n\n\n\n\n\n\n\n\n\n\n\n\n\n\n\n\n\n\n\n\n\n\nCLICK HERE! REGISTER A TABLE BY AUGUST 25TH\n\n\n\n\n\n\n\n\n\n\n\n\n\n\n\n\n\n\n\n\n\n\n\n\n\n\n\n\n\n\n\n\n\n\n\n\nMORE DETAILS ON THE EVENT HERE\n\n\n\n\n\n\n\n\n\n\n\n\n\n\n\n\n\n\n\n\n\n\n\n\n\n\n\n\n\n\n\n\n\n\n\n\nCLICK HERE TO EMAIL WITH QUESTIONS
URL:https://977wmoi.com/event/gateway2galesburg-community-fair-at-knox-college/
END:VEVENT
END:VCALENDAR