BEGIN:VCALENDAR
VERSION:2.0
PRODID:-//Prairie Communications, LLC - ECPv6.15.20//NONSGML v1.0//EN
CALSCALE:GREGORIAN
METHOD:PUBLISH
X-WR-CALNAME:Prairie Communications, LLC
X-ORIGINAL-URL:https://977wmoi.com
X-WR-CALDESC:Events for Prairie Communications, LLC
REFRESH-INTERVAL;VALUE=DURATION:PT1H
X-Robots-Tag:noindex
X-PUBLISHED-TTL:PT1H
BEGIN:VTIMEZONE
TZID:America/Chicago
BEGIN:DAYLIGHT
TZOFFSETFROM:-0600
TZOFFSETTO:-0500
TZNAME:CDT
DTSTART:20200308T080000
END:DAYLIGHT
BEGIN:STANDARD
TZOFFSETFROM:-0500
TZOFFSETTO:-0600
TZNAME:CST
DTSTART:20201101T070000
END:STANDARD
BEGIN:DAYLIGHT
TZOFFSETFROM:-0600
TZOFFSETTO:-0500
TZNAME:CDT
DTSTART:20210314T080000
END:DAYLIGHT
BEGIN:STANDARD
TZOFFSETFROM:-0500
TZOFFSETTO:-0600
TZNAME:CST
DTSTART:20211107T070000
END:STANDARD
BEGIN:DAYLIGHT
TZOFFSETFROM:-0600
TZOFFSETTO:-0500
TZNAME:CDT
DTSTART:20220313T080000
END:DAYLIGHT
BEGIN:STANDARD
TZOFFSETFROM:-0500
TZOFFSETTO:-0600
TZNAME:CST
DTSTART:20221106T070000
END:STANDARD
END:VTIMEZONE
BEGIN:VEVENT
DTSTART;TZID=America/Chicago:20210822T163000
DTEND;TZID=America/Chicago:20210822T183000
DTSTAMP:20260423T050204
CREATED:20210806T183235Z
LAST-MODIFIED:20210806T183235Z
UID:395940-1629649800-1629657000@977wmoi.com
SUMMARY:Pork Chop Dinner & Pie Social
DESCRIPTION:At the Faith United Presbyterian Church\, 200 South 8th Street in Monmouth. Come join for pork chops\, baked beans\, applesauce\, drinks\, pie\, cake\, and ice cream. Indoor seating and drive-up services available on 1st Avenue. Free will donation to benefit mission projects of the church.
URL:https://977wmoi.com/event/pork-chop-dinner-pie-social-2/
END:VEVENT
BEGIN:VEVENT
DTSTART;TZID=America/Chicago:20210821T120000
DTEND;TZID=America/Chicago:20210821T120000
DTSTAMP:20260423T050204
CREATED:20210802T155102Z
LAST-MODIFIED:20210802T155102Z
UID:395627-1629547200-1629547200@977wmoi.com
SUMMARY:Strom Center Potluck
DESCRIPTION:All are invited. Plates\, silverware\, and cups will be furnished. Bring a food dish to share. BINGO will be enjoyed after the meal.
URL:https://977wmoi.com/event/strom-center-potluck-3/
END:VEVENT
BEGIN:VEVENT
DTSTART;TZID=America/Chicago:20210821T080000
DTEND;TZID=America/Chicago:20210821T120000
DTSTAMP:20260423T050204
CREATED:20210628T190927Z
LAST-MODIFIED:20210628T190927Z
UID:394356-1629532800-1629547200@977wmoi.com
SUMMARY:Galesburg Farmer's Market
DESCRIPTION:Simmons & Kellogg St\, Downtown Galesburg\, IL\, 362 E Simmons St\, Galesburg\, IL \nThe Galesburg Farmers’ Market has fresh fruits and veggies\, meats and eggs\, honey\, baked goods\, handmade crafts and jewelry\, and so much more. Located in downtown Galesburg near the corner of Simmons and Seminary streets.
URL:https://977wmoi.com/event/galesburg-farmers-market-10/
END:VEVENT
BEGIN:VEVENT
DTSTART;TZID=America/Chicago:20210821T080000
DTEND;TZID=America/Chicago:20210821T100000
DTSTAMP:20260423T050204
CREATED:20210818T125907Z
LAST-MODIFIED:20210818T125907Z
UID:396326-1629532800-1629540000@977wmoi.com
SUMMARY:Pfizer & J&J COVID Vaccine Clinic in Knox County
DESCRIPTION:At the Unified Command Vaccine Center
URL:https://977wmoi.com/event/pfizer-jj-covid-vaccine-clinic-in-knox-county/
END:VEVENT
BEGIN:VEVENT
DTSTART;TZID=America/Chicago:20210821T080000
DTEND;TZID=America/Chicago:20210821T100000
DTSTAMP:20260423T050204
CREATED:20210816T153559Z
LAST-MODIFIED:20210816T153559Z
UID:396223-1629532800-1629540000@977wmoi.com
SUMMARY:Knox Unified Command hosting COVID-19 vaccination clinic
DESCRIPTION:The Knox County Unified Command Center is hosting a COVID-19 vaccination clinic on Saturday August 21st at the Unified Command Vaccine Center from 8am to 10am (the old Bergner’s Building in Galesburg) Pfizer and J & J vaccine will be available.
URL:https://977wmoi.com/event/knox-unified-command-hosting-covid-19-vaccination-clinic/
END:VEVENT
BEGIN:VEVENT
DTSTART;TZID=America/Chicago:20210821T070000
DTEND;TZID=America/Chicago:20210821T160000
DTSTAMP:20260423T050204
CREATED:20210727T131146Z
LAST-MODIFIED:20210727T131146Z
UID:395397-1629529200-1629561600@977wmoi.com
SUMMARY:1st Annual Monmouth Area Vocational Scholarship Fundraiser
DESCRIPTION:Sponsored by the Monmouth VFW Post 2301\, Monmouth Masonic Lodge #37\, Boy Scout Troop 350\, and the Warren County Girl Scout Service Unit 882. A fishing derby will take place at Citizens Lake for those 12 years and under from 7 to 11 am. From 12 to 4 pm at the Monmouth VFW there will be a Whole Hog Raffle\, entertainment\, silent auction\, bake sale\, fishing derby awards\, a pork chop and fish dinner. Meal is $7 in advance and $8 at the door. For more information or to purchase tickets call 309-734-2301.
URL:https://977wmoi.com/event/1st-annual-monmouth-area-vocational-scholarship-fundraiser/
END:VEVENT
BEGIN:VEVENT
DTSTART;TZID=America/Chicago:20210820T173000
DTEND;TZID=America/Chicago:20210820T200000
DTSTAMP:20260423T050204
CREATED:20210628T190218Z
LAST-MODIFIED:20210730T155038Z
UID:394336-1629480600-1629489600@977wmoi.com
SUMMARY:Downtown Monmouth Farmer's Market
DESCRIPTION:Held in the Fortress Bank Parking lot\, next to Dairy Queen and Save-A-Lot on North Main Street.
URL:https://977wmoi.com/event/downtown-monmouth-farmers-market-13/
END:VEVENT
BEGIN:VEVENT
DTSTART;TZID=America/Chicago:20210820T093000
DTEND;TZID=America/Chicago:20210820T093000
DTSTAMP:20260423T050204
CREATED:20210730T160311Z
LAST-MODIFIED:20210730T160311Z
UID:395575-1629451800-1629451800@977wmoi.com
SUMMARY:W-H Farm Bureau 13th Annual Golf Outing
DESCRIPTION:The Warren-Henderson Farm Bureau Foundation\, along with the McDonough County Farm Bureau® Foundation and the Tri-County Cattlemen will be holding their annual golf outing fundraiser on Friday\, August 20th at Gibson Woods in Monmouth. This is a 4-person scramble and the cost is $60 per person\, $240 per team. The fees cover 18 holes golf\, cart\, and a ribeye steak lunch. Registration is at 9:30 a.m. and tee time is 10:00 a.m. There are sponsorship opportunities if you are not a golfer but would like to support the event. \nAll proceeds will benefit all three organizations’ scholarship and agriculture education programs. For more information\, contact Warren-Henderson Farm Bureau at 309-734-9401.\nRegistration Form (PDF)\nOnline Registration
URL:https://977wmoi.com/event/w-h-farm-bureau-13th-annual-golf-outing/
END:VEVENT
BEGIN:VEVENT
DTSTART;TZID=America/Chicago:20210819T183000
DTEND;TZID=America/Chicago:20210819T200000
DTSTAMP:20260423T050204
CREATED:20210818T125812Z
LAST-MODIFIED:20210818T125812Z
UID:396324-1629397800-1629403200@977wmoi.com
SUMMARY:Moderna\, Pfizer & J&J COVID Vaccine Clinic in Knox County
DESCRIPTION:At The Orpheum Theatre\, 57 S Kellogg St\, Galesburg
URL:https://977wmoi.com/event/moderna-pfizer-jj-covid-vaccine-clinic-in-knox-county/
END:VEVENT
BEGIN:VEVENT
DTSTART;TZID=America/Chicago:20210819T140000
DTEND;TZID=America/Chicago:20210819T160000
DTSTAMP:20260423T050204
CREATED:20210708T191321Z
LAST-MODIFIED:20210708T191321Z
UID:394720-1629381600-1629388800@977wmoi.com
SUMMARY:Warren County Health Department Vaccination Clinic
DESCRIPTION:Pfizer vaccine available. Clinic held at the Warren County Health Department. Walk-ins are welcome. Call 309-734-0823 to schedule an appointment.
URL:https://977wmoi.com/event/warren-county-health-department-vaccination-clinic-8/
END:VEVENT
BEGIN:VEVENT
DTSTART;TZID=America/Chicago:20210819T083000
DTEND;TZID=America/Chicago:20210819T103000
DTSTAMP:20260423T050204
CREATED:20210818T125714Z
LAST-MODIFIED:20210818T125714Z
UID:396322-1629361800-1629369000@977wmoi.com
SUMMARY:Moderna and J&J COVID Vaccine Clinic in Knox County
DESCRIPTION:At the Unified Command Vaccine Center
URL:https://977wmoi.com/event/moderna-and-jj-covid-vaccine-clinic-in-knox-county/
END:VEVENT
BEGIN:VEVENT
DTSTART;TZID=America/Chicago:20210818T090000
DTEND;TZID=America/Chicago:20210818T100000
DTSTAMP:20260423T050204
CREATED:20210806T180346Z
LAST-MODIFIED:20210806T180346Z
UID:395934-1629277200-1629280800@977wmoi.com
SUMMARY:Webinar Series: Sales and Marketing to Help You Dominate Your Market
DESCRIPTION:Featured presenter: \nBill Guertin – the 800 Pound Gorilla \n\nWhat should small businesses be doing in sales and marketing to succeed in the “new” competitive landscape?  Bill Guertin is known as “The 800-Pound Gorilla of Sales”\, and in this presentation\, you’ll learn what’s working NOW in sales and marketing\, what’s predicted to work going forward\, and what techniques may need to be re-tooled or abandoned altogether.  You’ll come away with several specific ideas to increase your business visibility\, your brand value\, and your bottom line. \nAttendees will: \n\nBetter understand the new dynamics of the marketplace\, and what is driving buying decisions\nBe able to more effectively use readily available sales and marketing tools to succeed\nBe introduced to brand new tools and techniques to consider in 2021 and beyond\n\nFees/Admission\n$15 per person \nRegister below: \nhttps://galesburgil.chambermaster.com/eventregistration/register/5530
URL:https://977wmoi.com/event/webinar-series-sales-and-marketing-to-help-you-dominate-your-market/
END:VEVENT
BEGIN:VEVENT
DTSTART;TZID=America/Chicago:20210817T160000
DTEND;TZID=America/Chicago:20210817T183000
DTSTAMP:20260423T050204
CREATED:20210628T185222Z
LAST-MODIFIED:20210628T185222Z
UID:394309-1629216000-1629225000@977wmoi.com
SUMMARY:Alexis Farmer's Market
DESCRIPTION:Every Tuesday from May  through Oct\n4:00-6:30\nIn the Alexis Park\nRain or Shine\nVendors take Cash or Checks. Some Use Square\nHas a Variety of Crafters with their Own Unique Style\nThe only market where you’ll find Amish Baked Goods from Lee’s Bakery\nPlus many Other Vendors
URL:https://977wmoi.com/event/alexis-farmers-market-15/
END:VEVENT
BEGIN:VEVENT
DTSTART;TZID=America/Chicago:20210817T140000
DTEND;TZID=America/Chicago:20210817T160000
DTSTAMP:20260423T050204
CREATED:20210708T190944Z
LAST-MODIFIED:20210816T152915Z
UID:394710-1629208800-1629216000@977wmoi.com
SUMMARY:Warren County Health Department COVID-19 Vaccination Clinic
DESCRIPTION:Moderna vaccine available. Clinic held at the Warren County Health Department. Walk-ins are welcome. Call 309-734-0823 to schedule an appointment.
URL:https://977wmoi.com/event/warren-county-health-department-vaccination-clinic-3/
END:VEVENT
BEGIN:VEVENT
DTSTART;TZID=America/Chicago:20210817T133000
DTEND;TZID=America/Chicago:20210817T153000
DTSTAMP:20260423T050204
CREATED:20210816T153433Z
LAST-MODIFIED:20210816T153433Z
UID:396221-1629207000-1629214200@977wmoi.com
SUMMARY:Knox County COVID-19 Vaccination Clinic
DESCRIPTION:The Knox County Unified Command Center is hosting a COVID-19 vaccination clinic on Tuesday August 17th at the Unified Command Vaccine Center from 1:30 to 3:30pm (the old Bergner’s Building in Galesburg) Pfizer and J & J vaccine will be available.
URL:https://977wmoi.com/event/knox-county-covid-19-vaccination-clinic/
END:VEVENT
BEGIN:VEVENT
DTSTART;VALUE=DATE:20210815
DTEND;VALUE=DATE:20210816
DTSTAMP:20260423T050204
CREATED:20210615T181051Z
LAST-MODIFIED:20210615T181051Z
UID:393769-1628985600-1629071999@977wmoi.com
SUMMARY:"Love Letters" Play
DESCRIPTION:“Love Letters” is a unique and imaginative theatre piece which\, in the words of the author\, “needs no theatre\, no lengthy rehearsal\, no special set\, no memorization of lines\, and no commitment from its two actors beyond the night of performance.” The piece is comprised of letters exchanged over a lifetime between two people who grew up together and went their separate ways\, but continued to share confidences.
URL:https://977wmoi.com/event/love-letters-play-3/
END:VEVENT
BEGIN:VEVENT
DTSTART;TZID=America/Chicago:20210814T110000
DTEND;TZID=America/Chicago:20210814T140000
DTSTAMP:20260423T050204
CREATED:20210809T204456Z
LAST-MODIFIED:20210809T204456Z
UID:396005-1628938800-1628949600@977wmoi.com
SUMMARY:Cookout Benefitting the M-RHS Trip to Costa Rica at Fareway
DESCRIPTION:Support the Monmouth-Roseville High School Educational Costa Rica trip planned for June of 2022 at the Monmouth Fareway Charity Cookout. There will be tenderized pork chop sandwiches\, bratwurst\, and ribeye sandwiches.
URL:https://977wmoi.com/event/cookout-benefitting-the-m-rhs-trip-to-costa-rica-at-fareway/
END:VEVENT
BEGIN:VEVENT
DTSTART;TZID=America/Chicago:20210814T090000
DTEND;TZID=America/Chicago:20210814T110000
DTSTAMP:20260423T050204
CREATED:20210806T193202Z
LAST-MODIFIED:20210806T193202Z
UID:395942-1628931600-1628938800@977wmoi.com
SUMMARY:Galesburg Parks & Rec 'Life on the Prairie'
DESCRIPTION:Free nature program open to everyone in the public at the Lakeside Nature Center\, 1033 South Lake Storey Road in Galesburg. Activities are geared toward families and children\, but all ages are welcome. Pre-registration is recommended but not required. Dress for outdoor adventures! Learn about Galesburg history from featured guest speakers.
URL:https://977wmoi.com/event/galesburg-parks-rec-life-on-the-prairie/
END:VEVENT
BEGIN:VEVENT
DTSTART;TZID=America/Chicago:20210814T080000
DTEND;TZID=America/Chicago:20210814T120000
DTSTAMP:20260423T050204
CREATED:20210628T190844Z
LAST-MODIFIED:20210628T190844Z
UID:394354-1628928000-1628942400@977wmoi.com
SUMMARY:Galesburg Farmer's Market
DESCRIPTION:Simmons & Kellogg St\, Downtown Galesburg\, IL\, 362 E Simmons St\, Galesburg\, IL \nThe Galesburg Farmers’ Market has fresh fruits and veggies\, meats and eggs\, honey\, baked goods\, handmade crafts and jewelry\, and so much more. Located in downtown Galesburg near the corner of Simmons and Seminary streets.
URL:https://977wmoi.com/event/galesburg-farmers-market-9/
END:VEVENT
BEGIN:VEVENT
DTSTART;VALUE=DATE:20210814
DTEND;VALUE=DATE:20210815
DTSTAMP:20260423T050204
CREATED:20210615T181017Z
LAST-MODIFIED:20210615T181017Z
UID:393767-1628899200-1628985599@977wmoi.com
SUMMARY:"Love Letters" Play
DESCRIPTION:“Love Letters” is a unique and imaginative theatre piece which\, in the words of the author\, “needs no theatre\, no lengthy rehearsal\, no special set\, no memorization of lines\, and no commitment from its two actors beyond the night of performance.” The piece is comprised of letters exchanged over a lifetime between two people who grew up together and went their separate ways\, but continued to share confidences.
URL:https://977wmoi.com/event/love-letters-play-2/
END:VEVENT
BEGIN:VEVENT
DTSTART;TZID=America/Chicago:20210813T173000
DTEND;TZID=America/Chicago:20210813T200000
DTSTAMP:20260423T050204
CREATED:20210628T190136Z
LAST-MODIFIED:20210730T155120Z
UID:394334-1628875800-1628884800@977wmoi.com
SUMMARY:Downtown Monmouth Farmer's Market
DESCRIPTION:Held in the Fortress Bank Parking lot\, next to Dairy Queen and Save-A-Lot on North Main Street.
URL:https://977wmoi.com/event/downtown-monmouth-farmers-market-12/
END:VEVENT
BEGIN:VEVENT
DTSTART;TZID=America/Chicago:20210813T120000
DTEND;TZID=America/Chicago:20210813T120000
DTSTAMP:20260423T050204
CREATED:20210614T163527Z
LAST-MODIFIED:20210614T163527Z
UID:393696-1628856000-1628856000@977wmoi.com
SUMMARY:4th Annual Banking on a Cure Golf Tournament
DESCRIPTION:Join for a round of golf\, lunch\, and a great day with friends and colleagues while supporting “Relay For Life.” Four person teams are $300 will have a shotgun start at 1 pm. Food will be available throughout the event and awards and raffles will follow. For more information\, contact Jay Grant at Midwest Bank\, 457-6292.
URL:https://977wmoi.com/event/4th-annual-banking-on-a-cure-golf-tournament/
END:VEVENT
BEGIN:VEVENT
DTSTART;TZID=America/Chicago:20210813T110000
DTEND;TZID=America/Chicago:20210813T130000
DTSTAMP:20260423T050204
CREATED:20210810T180242Z
LAST-MODIFIED:20210810T180242Z
UID:396034-1628852400-1628859600@977wmoi.com
SUMMARY:Live Music on the Pattee Plaza in Monmouth
DESCRIPTION:Madeline Wood and Carolyn Kellert will be on Pattee Plaza 11am-1pm Friday\, August 13. Grab your lunch and bring a friend. This event is free and open to the public. See you on the Plaza!
URL:https://977wmoi.com/event/live-music-on-the-pattee-plaza-in-monmouth/
END:VEVENT
BEGIN:VEVENT
DTSTART;VALUE=DATE:20210813
DTEND;VALUE=DATE:20210815
DTSTAMP:20260423T050204
CREATED:20210802T155408Z
LAST-MODIFIED:20210802T155408Z
UID:395633-1628812800-1628985599@977wmoi.com
SUMMARY:Henderson County Olde Tyme Farm Show
DESCRIPTION:At the Henderson County Fairgrounds\, Rt 94\, Stronghurst\, IL.
URL:https://977wmoi.com/event/henderson-county-olde-tyme-farm-show/
END:VEVENT
BEGIN:VEVENT
DTSTART;VALUE=DATE:20210813
DTEND;VALUE=DATE:20210814
DTSTAMP:20260423T050204
CREATED:20210615T180928Z
LAST-MODIFIED:20210615T180928Z
UID:393765-1628812800-1628899199@977wmoi.com
SUMMARY:“Love Letters” Play
DESCRIPTION:“Love Letters” is a unique and imaginative theatre piece which\, in the words of the author\, “needs no theatre\, no lengthy rehearsal\, no special set\, no memorization of lines\, and no commitment from its two actors beyond the night of performance.” The piece is comprised of letters exchanged over a lifetime between two people who grew up together and went their separate ways\, but continued to share confidences.
URL:https://977wmoi.com/event/love-letters-play/
END:VEVENT
BEGIN:VEVENT
DTSTART;TZID=America/Chicago:20210812T140000
DTEND;TZID=America/Chicago:20210812T160000
DTSTAMP:20260423T050204
CREATED:20210708T191243Z
LAST-MODIFIED:20210708T191243Z
UID:394718-1628776800-1628784000@977wmoi.com
SUMMARY:Warren County Health Department Vaccination Clinic
DESCRIPTION:Pfizer vaccine available. Clinic held at the Warren County Health Department. Walk-ins are welcome. Call 309-734-0823 to schedule an appointment.
URL:https://977wmoi.com/event/warren-county-health-department-vaccination-clinic-7/
END:VEVENT
BEGIN:VEVENT
DTSTART;TZID=America/Chicago:20210812T130000
DTEND;TZID=America/Chicago:20210812T130000
DTSTAMP:20260423T050204
CREATED:20210729T152524Z
LAST-MODIFIED:20210811T144320Z
UID:395513-1628773200-1628773200@977wmoi.com
SUMMARY:Strom Center TRIAD Meeting
DESCRIPTION:Held at Strom Center in Monmouth. Monmouth City Administrator Lew Steinbrecher will be speaking as well as discussion of ongoing scams to be on alert for.
URL:https://977wmoi.com/event/strom-center-triad-meeting/
END:VEVENT
BEGIN:VEVENT
DTSTART;TZID=America/Chicago:20210812T120000
DTEND;TZID=America/Chicago:20210812T150000
DTSTAMP:20260423T050204
CREATED:20210727T130712Z
LAST-MODIFIED:20210727T130712Z
UID:395395-1628769600-1628780400@977wmoi.com
SUMMARY:Eagle View 6th Annual Health Fair
DESCRIPTION:At the Monmouth American Legion\, 1110 North 11th Street. Free lunch\, music\, kids activities\, door prizes\, and more! For more information visit http://eagleviewhealth.org.
URL:https://977wmoi.com/event/eagle-view-6th-annual-health-fair/
END:VEVENT
BEGIN:VEVENT
DTSTART;TZID=America/Chicago:20210812T080000
DTEND;TZID=America/Chicago:20210812T170000
DTSTAMP:20260423T050204
CREATED:20210812T124919Z
LAST-MODIFIED:20210812T124919Z
UID:396111-1628755200-1628787600@977wmoi.com
SUMMARY:Immaculate Conception School Golf Outing August 28th
DESCRIPTION:Prizes\, Raffles and Contests in this best ball Tournament format.  4-person 1 pm shotgun start at the Monmouth Country Club. $75 per person with Dinner and Awards at 5 p.m.  Call 309 337 7069 or 309 221 8858 to register.
URL:https://977wmoi.com/event/immaculate-conception-school-golf-outing-august-28th/
END:VEVENT
BEGIN:VEVENT
DTSTART;TZID=America/Chicago:20210811T173000
DTEND;TZID=America/Chicago:20210811T183000
DTSTAMP:20260423T050204
CREATED:20210804T185039Z
LAST-MODIFIED:20210804T185039Z
UID:395848-1628703000-1628706600@977wmoi.com
SUMMARY:Feed My Lambs Drive-Through Back to School Event
DESCRIPTION:Held at the Christian Church of Abingdon\, 409 South Main Street. Enter the church parking lot on Lower Street. Free backpacks and school supplies and super size snack packs will be handed out during this community event. This event is sponsored by the Abingdon United Methodist Church\, Christian Church\, Church of God of Prophecy\, New Harvest\, and the Sacred Heart Catholic Church.
URL:https://977wmoi.com/event/feed-my-lambs-drive-through-back-to-school-event/
END:VEVENT
END:VCALENDAR