BEGIN:VCALENDAR
VERSION:2.0
PRODID:-//Prairie Communications, LLC - ECPv6.15.20//NONSGML v1.0//EN
CALSCALE:GREGORIAN
METHOD:PUBLISH
X-ORIGINAL-URL:https://977wmoi.com
X-WR-CALDESC:Events for Prairie Communications, LLC
REFRESH-INTERVAL;VALUE=DURATION:PT1H
X-Robots-Tag:noindex
X-PUBLISHED-TTL:PT1H
BEGIN:VTIMEZONE
TZID:America/Chicago
BEGIN:DAYLIGHT
TZOFFSETFROM:-0600
TZOFFSETTO:-0500
TZNAME:CDT
DTSTART:20220313T080000
END:DAYLIGHT
BEGIN:STANDARD
TZOFFSETFROM:-0500
TZOFFSETTO:-0600
TZNAME:CST
DTSTART:20221106T070000
END:STANDARD
BEGIN:DAYLIGHT
TZOFFSETFROM:-0600
TZOFFSETTO:-0500
TZNAME:CDT
DTSTART:20230312T080000
END:DAYLIGHT
BEGIN:STANDARD
TZOFFSETFROM:-0500
TZOFFSETTO:-0600
TZNAME:CST
DTSTART:20231105T070000
END:STANDARD
BEGIN:DAYLIGHT
TZOFFSETFROM:-0600
TZOFFSETTO:-0500
TZNAME:CDT
DTSTART:20240310T080000
END:DAYLIGHT
BEGIN:STANDARD
TZOFFSETFROM:-0500
TZOFFSETTO:-0600
TZNAME:CST
DTSTART:20241103T070000
END:STANDARD
END:VTIMEZONE
BEGIN:VEVENT
DTSTART;TZID=America/Chicago:20231026T174000
DTEND;TZID=America/Chicago:20231026T174000
DTSTAMP:20260423T173823
CREATED:20231023T154040Z
LAST-MODIFIED:20231023T154040Z
UID:436619-1698342000-1698342000@977wmoi.com
SUMMARY:M-R Titans Football Community Pep Rally
DESCRIPTION:Join at Coach Dobry Field on Sunny Lane in Monmouth for a Community Pep Rally for the Monmouth-Roseville High School Football team as they made the IHSA Playoffs for a 3rd consecutive year. Meet the team and coaches. Cheer\, Majorettes\, and the band will perform. There will also be games and free car decorating.
URL:https://977wmoi.com/event/m-r-titans-football-community-pep-rally/
END:VEVENT
BEGIN:VEVENT
DTSTART;TZID=America/Chicago:20231026T180000
DTEND;TZID=America/Chicago:20231026T180000
DTSTAMP:20260423T173823
CREATED:20230922T164837Z
LAST-MODIFIED:20230922T164837Z
UID:434950-1698343200-1698343200@977wmoi.com
SUMMARY:Cyber Security Informative Presentation for Parents at MRHS
DESCRIPTION:Detective Richard Wistocki will present on cutting edge investigative techniques for parents and students regarding responsible digital activity on Thursday\, October 26th at 6 pm in the Monmouth-Roseville High School gymnasium. This event is free and open to the entire public. To hear more from Wistocki\, listen to the podcast Retired Detective Richard Wistocki and Monmouth-Roseville High School Principal Jeff Ewing | Prairie Communications\, LLC (977wmoi.com).
URL:https://977wmoi.com/event/cyber-security-informative-presentation-for-parents-at-mrhs/
END:VEVENT
BEGIN:VEVENT
DTSTART;TZID=America/Chicago:20231026T190000
DTEND;TZID=America/Chicago:20231026T220000
DTSTAMP:20260423T173823
CREATED:20231003T123651Z
LAST-MODIFIED:20231003T123651Z
UID:435499-1698346800-1698357600@977wmoi.com
SUMMARY:Knox College Homecoming Thursday Events
DESCRIPTION:7:00 p.m. to 10:00 p.m.\, Cherry St. Jazz Combo\nThe Cherry Street Combo performs weekly at Jazz Night. You are welcome to come listen\, or bring your instrument and sit in with the group!\nGalesburg Community Arts Center\, 349 East Main Street\, Galesburg \nGalesburg Community Events – Schedule of Events – Knox College
URL:https://977wmoi.com/event/knox-college-homecoming-thursday-events/
END:VEVENT
BEGIN:VEVENT
DTSTART;VALUE=DATE:20231027
DTEND;VALUE=DATE:20231028
DTSTAMP:20260423T173823
CREATED:20231003T123742Z
LAST-MODIFIED:20231003T123742Z
UID:435501-1698364800-1698451199@977wmoi.com
SUMMARY:Knox College Homecoming Friday Events
DESCRIPTION:All Day\, History Comes Alive\nSelf-Guided Tours of Old Main & Alumni Hall\nExplore the Wilson Gallery showcasing the history of Old Main\, a National Historic Landmark and the only remaining building from the Lincoln-Douglas Debates. The Whitcomb Heritage Center\, on the third floor of Alumni Hall\, houses a museum-quality display of the history of Knox College. \n10:00 a.m. to 5:00 p.m.\, Homecoming and Family & Friends Check In\nLet us welcome you to campus and pick up some Knox swag!\nFerris Lounge\, Seymour Union \n10:00 a.m. to 4:30 p.m.\, Seymour Library Exhibits & More\nRevolutionary Research Questions and Preview of Exhibit Series\nSeymour Library \nOur latest exhibit walks through the process of developing a research question using library tools and information and documents the process of refining a research question. \nThis year’s exhibit series is all about revolutions. Each exhibit will explore how change took place\, created new ideas\, or fundamentally altered the way we view society. The small exhibit area in the Alumni Reading Room looks at Revolutions in Storytelling\, exploring how oral history and recording technology have changed the stories we have access to in the archives. Other scheduled pop up exhibits include Revolutions in Science (October 27th & 28th)\, Revolutions in Writing and Printmaking (Friday\, January 5th)\, and Revolutions in Education (Friday\, March 29th). \n10:40 a.m.\, Campus Tour\nDo you have a high school student who’s starting their college search? We invite you to join a campus tour at 10:40 a.m.  Call 800-678-KNOX or go to www.knox.edu/visit to register.\nOffice of Admissions\, Alumni Hall \n11:00 a.m. to 2:00 p.m.\, Food Trucks\nEnjoy lunch from one of Galesburg’s local food truck vendors.\nSidewalk between Gizmo and Old Main (rain location: South Cherry Street between George Davis Hall and Ford Center for the Fine Arts) \n12:00 p.m. to 8:00 p.m.\, Alumni Art Exhibition\nFeaturing work by Katie Bell ’08\nThe Department of Art and Art History is excited to present this exhibit of work by Katie Bell\, who has has made a name for herself with a series of solo exhibits in New York and elsewhere. Learn about Katie’s work at katiebellstudio.com.\nBorzello Art Gallery\, Ford Center for Fine Arts \n2:00 p.m.\, Campus Tour and Admission Information Session\nDo you have a high school student who’s starting their college search? We invite you to join a campus tour at 2:00 p.m. Call 800-678-KNOX or go to www.knox.edu/visit to register.\nOffice of Admissions\, Alumni Hall \n3:00 p.m.\, Guided Tours of the Old Jail\nKnox College may be the only college in the country with a restored lock-up on its campus! Enjoy an exclusive guided tour of the Old Jail\, a piece of Knox County history.\n337 South Cherry Street\, Galesburg \nGalesburg Community Events – Schedule of Events – Knox College
URL:https://977wmoi.com/event/knox-college-homecoming-friday-events/
END:VEVENT
BEGIN:VEVENT
DTSTART;VALUE=DATE:20231027
DTEND;VALUE=DATE:20231028
DTSTAMP:20260423T173823
CREATED:20231019T180911Z
LAST-MODIFIED:20231019T180911Z
UID:436496-1698364800-1698451199@977wmoi.com
SUMMARY:42nd Annual Security Savings Bank Amateur Photography Show
DESCRIPTION:A gallery reception will be held at the BCA Gallery on Friday\, November 17th from 5 to 7 pm. The show will be on display November 14th through December 21st. Categories this year include Agriculture & Farm Life\, Animals & Creatures\, Capturing Light & Shadows\, Faces\, the Four Seasons\, the Peggy Kulczewski Floral Award\, and a NEW AWARD – Wheels. DEADLINE FOR ENTRY is 2pm Saturday\, October 28th.
URL:https://977wmoi.com/event/42nd-annual-security-savings-bank-amateur-photography-show/
END:VEVENT
BEGIN:VEVENT
DTSTART;TZID=America/Chicago:20231027T140000
DTEND;TZID=America/Chicago:20231027T140000
DTSTAMP:20260423T173823
CREATED:20231005T133212Z
LAST-MODIFIED:20231005T133212Z
UID:435678-1698415200-1698415200@977wmoi.com
SUMMARY:Warren County Public Library Trick or Treat on the Square
DESCRIPTION:Bring the little ones dressed in their costumes for some trick or treating around the Square in Downtown Monmouth\, ending the walk in Pattee Plaza for a Halloween Story Walk. This event is free and open to the public.
URL:https://977wmoi.com/event/warren-county-public-library-trick-or-treat-on-the-square/
END:VEVENT
BEGIN:VEVENT
DTSTART;TZID=America/Chicago:20231027T170000
DTEND;TZID=America/Chicago:20231027T190000
DTSTAMP:20260423T173823
CREATED:20230927T200027Z
LAST-MODIFIED:20230927T200028Z
UID:435241-1698426000-1698433200@977wmoi.com
SUMMARY:ICS Chili Supper and Trunk or Treat
DESCRIPTION:Join ICS for a Family Event! Chili Supper in the gym\, Trunk or Treat in the parking lot\, Scholastic Book Fair\, Cake Walk and other activities. Open to the public. Adult chili meal is $10. Children’s chili meal is $5 and a hot dog meal is $5.
URL:https://977wmoi.com/event/ics-chili-supper-and-trunk-or-treat/
END:VEVENT
BEGIN:VEVENT
DTSTART;TZID=America/Chicago:20231027T180000
DTEND;TZID=America/Chicago:20231027T200000
DTSTAMP:20260423T173823
CREATED:20230920T132549Z
LAST-MODIFIED:20230920T132549Z
UID:434701-1698429600-1698436800@977wmoi.com
SUMMARY:A Spooktacular Halloween Event at the Kirkwood Park District
DESCRIPTION:Free will donation \nRegistration starts at 6\nSelfie BOOth 6-8\nCostume Parade 6:30\n22 trophies total – 4 age groups\nCutest (4)\nScariest (4)\nFunniest (4)\nMost creative (4)\nBest Overall Costume (4)\nAges 0-4 6:30\nAges 5-9 6:40\nAges 10-20 6:50\nAges 21-100 7:00\nBest Couple Costume (1) 7:10\nBest Family/Group Costume (1) 7:20\nWinners announced at 7:30 \nDrinks & Desserts and Crafts & Games available
URL:https://977wmoi.com/event/a-spooktacular-halloween-event-at-the-kirkwood-park-district/
END:VEVENT
BEGIN:VEVENT
DTSTART;TZID=America/Chicago:20231027T183000
DTEND;TZID=America/Chicago:20231027T200000
DTSTAMP:20260423T173823
CREATED:20230926T194456Z
LAST-MODIFIED:20230926T194456Z
UID:435178-1698431400-1698436800@977wmoi.com
SUMMARY:Nature at Night: Family S'mores Night
DESCRIPTION:Join the Galesburg Parks and Rec around the firepit at the shelter next to the Lake Storey Ballfields for a night of storytelling\, nighttime exploring\, and s’mores. $5 per person. Open to all ages. Register by October 26th.
URL:https://977wmoi.com/event/nature-at-night-family-smores-night/
END:VEVENT
BEGIN:VEVENT
DTSTART;VALUE=DATE:20231028
DTEND;VALUE=DATE:20231029
DTSTAMP:20260423T173823
CREATED:20231003T123830Z
LAST-MODIFIED:20231003T123830Z
UID:435503-1698451200-1698537599@977wmoi.com
SUMMARY:Knox College Homecoming Saturday Events
DESCRIPTION:All Day\, History Comes Alive\nSelf-Guided Tours of Old Main & Alumni Hall\nExplore the Wilson Gallery showcasing the history of Old Main\, a National Historic Landmark and the only remaining building from the Lincoln-Douglas Debates. The Whitcomb Heritage Center\, on the third floor of Alumni Hall\, houses a museum-quality display of the history of Knox College.\n \n8:00 a.m.\, Chris Eik Winick ’73 Memorial Walk\nJoin us for this remembrance of Chris Eik Winick ’73\, longtime Knox volunteer\, Alumni Council member\, Galesburg Knox Club leader\, Knox Service Award winner\, Galesburg community leader\, and political activist.\nLake Storey\, Meet at Park Shelter #6 (near boat ramp on Route 150)\nReservations requested.\n9:00 a.m. to 1:00 p.m.\, Homecoming and Family & Friends Check In\nLet us welcome you to campus and pick up some Knox swag!\nFerris Lounge\, Seymour Union \n10:00 a.m.\, Campus Tour and Admission Information Session\nDo you have a high school student who’s starting their college search? We invite you to join a campus tour at 10:00 a.m. Call 800-678-KNOX or go to www.knox.edu/visit to register.\nOffice of Admissions\, Alumni Hall \n11:00 a.m.\, Treat Street\nHappy Halloween from Downtown Galesburg! Sponsored by Knox College and hosted by Downtown Community Partnership\, get ready to trick-or-treat down Main Street at all the local businesses! Families\, start in Park Plaza (East Main Street\, two blocks east of the square) or at the Vault (185 South Kellogg Street) to pick up a treat bag and map of participating businesses. Happening rain or shine.\nDowntown Galesburg \n11:00 a.m.\, Women’s Soccer vs. Ripon College\nPrats Field \n11:00 a.m.\, Pop Up Shop @ Football Game\nPavilion\, Knosher Bowl \n1:00 p.m.\, Knox Football vs. Cornell College\nRecognition of the 2023 Hall of Fame inductees at halftime.\nKnosher Bowl \n1:00 p.m. to 3:00 p.m.\, Knox Farm Open House\nTour the production tunnels\, back gardens\, and herbal fruit tree guilds. Learn about composting and planting garlic. Share your connections of growing community in healthy ways and enjoy some Knox seed garlic to sow and grow where you live! (while supplies last)\nKnox Farm\, High Tunnels\, South Academy Street\, across from the softball field \n1:30 p.m.\, Men’s Soccer vs. Ripon College\nPrats Field \n4:30 p.m.\, Music Department Showcase\nEnjoy a sampling of music from some of our choral and instrumental ensembles.\nKresge Recital Hall\, Ford Center for the Fine Arts \nGalesburg Community Events – Schedule of Events – Knox College
URL:https://977wmoi.com/event/knox-college-homecoming-saturday-events/
END:VEVENT
BEGIN:VEVENT
DTSTART;VALUE=DATE:20231028
DTEND;VALUE=DATE:20231029
DTSTAMP:20260423T173823
CREATED:20231004T111046Z
LAST-MODIFIED:20231004T111046Z
UID:435595-1698451200-1698537599@977wmoi.com
SUMMARY:Security Savings Bank Amateur Photography Show
DESCRIPTION:DEADLINE FOR ENTRY is 2pm Saturday\, October 28\, for the 42nd-Annual Security Savings Bank Amateur Photography Show. This show will be on view in the main gallery November 14-December 21\, 2023. The reception is free and open to the public 5-7pm Friday\, November 17. Categories this year include Agriculture & Farm Life\, Animals & Creatures\, Capturing Light & Shadows\, Faces\, the Four Seasons\, the Peggy Kulczewski Floral Award\, and a NEW CATEGORY – Wheels. Awards will be announced at 6pm Friday\, November 17. Our juror for this year’s show is Matthew Terry of Davenport\, Iowa. Terry is a contemporary photographer and graduate of the Academy of Art University where he attained his BFA in Photography with a focus in Fine Art Photography.  Stop by the BCA today to pick up an entry form\, or visit: Security Savings Bank Amateur Photography Show (bcaarts.org)
URL:https://977wmoi.com/event/security-savings-bank-amateur-photography-show-2/
END:VEVENT
BEGIN:VEVENT
DTSTART;TZID=America/Chicago:20231028T090000
DTEND;TZID=America/Chicago:20231028T160000
DTSTAMP:20260423T173823
CREATED:20231006T154755Z
LAST-MODIFIED:20231006T154755Z
UID:435769-1698483600-1698508800@977wmoi.com
SUMMARY:The Fabulous Fall Craft Vendor Event
DESCRIPTION:Event will be held at the Monmouth American Legion\, benefiting the Western Illinois Animal Rescue.
URL:https://977wmoi.com/event/the-fabulous-fall-craft-vendor-event/
END:VEVENT
BEGIN:VEVENT
DTSTART;TZID=America/Chicago:20231028T163000
DTEND;TZID=America/Chicago:20231028T183000
DTSTAMP:20260423T173823
CREATED:20231003T180408Z
LAST-MODIFIED:20231003T180408Z
UID:435573-1698510600-1698517800@977wmoi.com
SUMMARY:Stronghurst United Methodist Church Soup Supper
DESCRIPTION:
URL:https://977wmoi.com/event/stronghurst-united-methodist-church-soup-supper/
END:VEVENT
BEGIN:VEVENT
DTSTART;TZID=America/Chicago:20231028T180000
DTEND;TZID=America/Chicago:20231028T210000
DTSTAMP:20260423T173823
CREATED:20231010T163316Z
LAST-MODIFIED:20231010T163316Z
UID:435956-1698516000-1698526800@977wmoi.com
SUMMARY:Youth Life Celebration
DESCRIPTION:Join the free event for those 13 years and older at the Bethel Baptist Church\, 1196 North Academy Street in Galesburg for a night of Youth Life Celebration\, featuring guest speaker Jess Ford\, live music\, pizza\, drinks\, and desserts.
URL:https://977wmoi.com/event/youth-life-celebration/
END:VEVENT
BEGIN:VEVENT
DTSTART;VALUE=DATE:20231029
DTEND;VALUE=DATE:20231030
DTSTAMP:20260423T173823
CREATED:20231003T123918Z
LAST-MODIFIED:20231003T123918Z
UID:435505-1698537600-1698623999@977wmoi.com
SUMMARY:Knox College Homecoming Sunday Events
DESCRIPTION:9:00 a.m.\, Mary Filosa Brown ’82 ColorBlaze Run/Walk\nJoin us for a fun run/walk\, plus enjoy music\, yoga\, yard games\, and more! Lots of fun events happening for the whole family!\nStart and end at Turner Track\nReservations requested. \n10:00 a.m. to 2:00 p.m.\, Brunch @ Hard Knox Cafe\nThe Hard Knox Café welcomes all visitors to enjoy brunch on campus! Prices are $10 for adults\, $6 for children ages 6-12\, and free for children 5 and under. Credit or debit cards accepted at the door.\nHard Knox Cafe\, Seymour Union\nReservations requested. \nGalesburg Community Events – Schedule of Events – Knox College
URL:https://977wmoi.com/event/knox-college-homecoming-sunday-events/
END:VEVENT
BEGIN:VEVENT
DTSTART;TZID=America/Chicago:20231029T160000
DTEND;TZID=America/Chicago:20231029T180000
DTSTAMP:20260423T173823
CREATED:20231010T183017Z
LAST-MODIFIED:20231010T183017Z
UID:435978-1698595200-1698602400@977wmoi.com
SUMMARY:Fall Hot Dog Roast
DESCRIPTION:Join the Oquawka Fire Protection District and the Village of Oquawka for their fall hotdog roast  and apple cider in the gravel parking lot by Schuyler Street and South 2nd Street.
URL:https://977wmoi.com/event/fall-hot-dog-roast/
END:VEVENT
BEGIN:VEVENT
DTSTART;TZID=America/Chicago:20231029T160000
DTEND;TZID=America/Chicago:20231029T183000
DTSTAMP:20260423T173823
CREATED:20231012T160404Z
LAST-MODIFIED:20231025T140522Z
UID:436113-1698595200-1698604200@977wmoi.com
SUMMARY:Gerlaw Christian Church Trunk or Treat & Wiener Roast
DESCRIPTION:Join for a safe evening of fun including treats\, games\, and activities at the Trunk or Treat and wiener roast at the Gerlaw Christian Church\, 948 245th Avenue. Event will go on rain or shine. If raining\, the evening will move inside the church.
URL:https://977wmoi.com/event/gerlaw-christian-church-trunk-or-treat-wiener-roast/
END:VEVENT
BEGIN:VEVENT
DTSTART;TZID=America/Chicago:20231029T183000
DTEND;TZID=America/Chicago:20231029T183000
DTSTAMP:20260423T173823
CREATED:20230912T133405Z
LAST-MODIFIED:20230912T133405Z
UID:434239-1698604200-1698604200@977wmoi.com
SUMMARY:Knox County Right to Life Annual Festival of Life
DESCRIPTION:Doors open at 6:30 pm at Bethel Church in Galesburg\, program begins at 7 pm. Jess Ford will be the keynote speaker\, Shining the Light of Truth in a Culture of Death. Essay and T-shirt design winners will be announced. Refreshments will be served.
URL:https://977wmoi.com/event/knox-county-right-to-life-annual-festival-of-life/
END:VEVENT
BEGIN:VEVENT
DTSTART;TZID=America/Chicago:20231029T183000
DTEND;TZID=America/Chicago:20231029T183000
DTSTAMP:20260423T173823
CREATED:20231010T163610Z
LAST-MODIFIED:20231010T163610Z
UID:435958-1698604200-1698604200@977wmoi.com
SUMMARY:Festival of Life
DESCRIPTION:All are invited to attend the Festival of Life at the Bethel Baptist Church\, 1196 North Academy Street in Galesburg for an evening featuring keynote speaker Jess Ford\, refreshments\, and the announcement of the pro-life student essay contest and t-shirt design winners. Admission is free. Freewill offering will be collected.
URL:https://977wmoi.com/event/festival-of-life-2/
END:VEVENT
BEGIN:VEVENT
DTSTART;VALUE=DATE:20231030
DTEND;VALUE=DATE:20231101
DTSTAMP:20260423T173823
CREATED:20231026T210400Z
LAST-MODIFIED:20231026T210400Z
UID:436860-1698624000-1698796799@977wmoi.com
SUMMARY:City of Macomb Trick or Treating
DESCRIPTION:The City of Macomb announced that MONDAY October 30 and TUESDAY October 31 have been designated as the dates for City-wide door-to-door Trick or Treating. The hours have been set for 6:00PM to 830PM\, both evenings.
URL:https://977wmoi.com/event/city-of-macomb-trick-or-treating-3/
END:VEVENT
BEGIN:VEVENT
DTSTART;TZID=America/Chicago:20231030T103000
DTEND;TZID=America/Chicago:20231030T120000
DTSTAMP:20260423T173823
CREATED:20230911T194120Z
LAST-MODIFIED:20230911T194120Z
UID:434196-1698661800-1698667200@977wmoi.com
SUMMARY:Western IL Area Agency on Aging Community Input Meeting
DESCRIPTION:Henderson and Warren County residents\, including older adults and their family members\, service providers\, local government officials\, and others are invited for a discussion on aging and caregiving at the Henderson County Public Library\, 110 Hillcrest Drive in Biggsville. A light lunch will be provided. RSVP is required at 309-793-6800.
URL:https://977wmoi.com/event/western-il-area-agency-on-aging-community-input-meeting/
END:VEVENT
BEGIN:VEVENT
DTSTART;VALUE=DATE:20231031
DTEND;VALUE=DATE:20231102
DTSTAMP:20260423T173823
CREATED:20230922T134031Z
LAST-MODIFIED:20230922T134031Z
UID:434904-1698710400-1698883199@977wmoi.com
SUMMARY:Engine and Caboose Series at the Discovery Depot
DESCRIPTION:Weekly free program with admission focusing on skill development for toddlers and pre-k aged children at the Discovery Depot in Galesburg. Held on Tuesdays and Wednesday form 10:30 to 11:30 am. A book will be read at 10:30. Schedule is as follows: October 31st & November 1st – Trick or Treat\, skill focus is fine motor.
URL:https://977wmoi.com/event/engine-and-caboose-series-at-the-discovery-depot-5/
END:VEVENT
BEGIN:VEVENT
DTSTART;TZID=America/Chicago:20231031T173000
DTEND;TZID=America/Chicago:20231031T193000
DTSTAMP:20260423T173823
CREATED:20231010T131421Z
LAST-MODIFIED:20231010T131421Z
UID:435920-1698773400-1698780600@977wmoi.com
SUMMARY:Stronghurst United Methodist Church Trunk or Treat
DESCRIPTION:Get ready for the Stronghurst United Methodist Church’s Trunk or Treat event on Tuesday\, October 31\, 2023 from 5:30 to 7:30pm. This free event is open to the public. At Trunk or Treat\, children can indulge in the much-loved Halloween tradition of trick-or-treating\, but with a twist. Instead of door-to-door visits\, they get to go from decorated car trunk to car trunk\, each with its own unique theme\, from haunted houses to pirate ships. This family-friendly event is a great way to bring the Stronghurst community together and enjoy a safe and fun Halloween. If you live in a part of Stronghurst that doesn’t see many trick-or-treaters or would rather enjoy the company of others\, all are welcome to join in the festivities by decorating your car trunk and meeting at the Stronghurst United Methodist Church’s North parking lot.
URL:https://977wmoi.com/event/stronghurst-united-methodist-church-trunk-or-treat/
END:VEVENT
BEGIN:VEVENT
DTSTART;TZID=America/Chicago:20231031T173000
DTEND;TZID=America/Chicago:20231031T200000
DTSTAMP:20260423T173823
CREATED:20230925T132358Z
LAST-MODIFIED:20230925T132358Z
UID:435009-1698773400-1698782400@977wmoi.com
SUMMARY:Kirkwood Fire Station Trunk or Treat
DESCRIPTION:The Kirkwood Fire Station will be handing out hotdogs and juice boxes while supplies last. Other first responders and community members will be set up during the trunk or treat or Halloween night.
URL:https://977wmoi.com/event/kirkwood-fire-station-trunk-or-treat/
END:VEVENT
BEGIN:VEVENT
DTSTART;TZID=America/Chicago:20231031T173000
DTEND;TZID=America/Chicago:20231031T200000
DTSTAMP:20260423T173823
CREATED:20231003T185118Z
LAST-MODIFIED:20231003T185118Z
UID:435581-1698773400-1698782400@977wmoi.com
SUMMARY:City of Monmouth Trick Or Treat Hours
DESCRIPTION:
URL:https://977wmoi.com/event/city-of-monmouth-trick-or-treat-hours/
END:VEVENT
BEGIN:VEVENT
DTSTART;VALUE=DATE:20231101
DTEND;VALUE=DATE:20231113
DTSTAMP:20260423T173823
CREATED:20231016T181833Z
LAST-MODIFIED:20231101T132053Z
UID:436292-1698796800-1699833599@977wmoi.com
SUMMARY:Monmouth Rotary Club's Underwear & Socks Drive
DESCRIPTION:The Monmouth Rotary Club will be collecting underwear and socks for the Jamieson Community Center ‘Christmas Store’ that will be distributed to students in the Monmouth-Roseville and United School Districts. Donations will be accepted through December 5th. Items can be dropped off at Vicki and Gil Hennenfent’s home or at the WMOI/WRAM radio station in Downtown Monmouth.
URL:https://977wmoi.com/event/monmouth-rotary-clubs-underwear-socks-drive/
END:VEVENT
BEGIN:VEVENT
DTSTART;TZID=America/Chicago:20231101T080000
DTEND;TZID=America/Chicago:20231101T080000
DTSTAMP:20260423T173823
CREATED:20231030T181609Z
LAST-MODIFIED:20231030T181609Z
UID:437001-1698825600-1698825600@977wmoi.com
SUMMARY:Tickets On-Sale for Santa Zephyr Express From Quincy to Macomb
DESCRIPTION:On Friday\, December 1\, 2023\, Santa will be riding the Zephyr from Quincy to Macomb\, leaving Quincy at 5:30PM and arriving in Macomb at approximately 6:17PM. Santa and his helpers will be serving complimentary refreshments and handing out a special gift. Tickets for the specially decorated train cars must be purchased online at http://bit.ly/SantaZephyr2023 and will be on sale starting Wednesday\, November 1\, 2023 at 8:00AM until sold out. Tickets are $35 each and riders will be acknowledged with a special “golden ticket”. Upon arrival at the Macomb Train Station\, Santa will disembark and head directly to his cabin on the north side of the square to visit with children from 6:30PM-8:30PM.
URL:https://977wmoi.com/event/tickets-on-sale-for-santa-zephyr-express-from-quincy-to-macomb/
END:VEVENT
BEGIN:VEVENT
DTSTART;TZID=America/Chicago:20231102T110000
DTEND;TZID=America/Chicago:20231102T110000
DTSTAMP:20260423T173823
CREATED:20230928T203510Z
LAST-MODIFIED:20230928T203510Z
UID:435336-1698922800-1698922800@977wmoi.com
SUMMARY:Galesburg Area Chamber's 2023 State Legislative Luncheon
DESCRIPTION:Join the Galesburg Area Chamber of Commerce in hearing directly from legislators on issues impacting our community. This event is open for anyone to attend. Limited tickets available. Location is the Knox College Lincoln Room\, 101 W Berrien St Galesburg IL 61401. Tables will have 6 seats each instead of 8 at our previous events. Catered by Cafe Bon Appetit 11:00AM-11:30AM Registration; 11:30AM Event Begins. Fees/Admission $32 Members and $42 Non-members. 2023 State Legislative Luncheon – Nov 2\, 2023 (chambermaster.com) \nConfirmed panelists are:\n✅Congressman Eric Sorensen: United States House of Representatives for Illinois’ 17th Congressional District\n✅Senator Mike Halpin: Illinois General Assembly 36th Senate District\n✅State Representative Dan Swanson: Illinois District 71
URL:https://977wmoi.com/event/galesburg-area-chambers-2023-state-legislative-luncheon/
END:VEVENT
BEGIN:VEVENT
DTSTART;TZID=America/Chicago:20231102T110000
DTEND;TZID=America/Chicago:20231102T110000
DTSTAMP:20260423T173823
CREATED:20231009T201210Z
LAST-MODIFIED:20231009T201210Z
UID:435899-1698922800-1698922800@977wmoi.com
SUMMARY:Calvary Baptist Church Turkey Dinner
DESCRIPTION:Join the Calvary Baptist Church\, 1000 South 1st Street in Monmouth\, for their Turkey Dinner fundraiser. Donation of $12 is asked. For more details\, call 309-397-6901.
URL:https://977wmoi.com/event/calvary-baptist-church-turkey-dinner-2/
END:VEVENT
BEGIN:VEVENT
DTSTART;TZID=America/Chicago:20231103T120000
DTEND;TZID=America/Chicago:20231103T120000
DTSTAMP:20260423T173823
CREATED:20231023T143303Z
LAST-MODIFIED:20231023T143303Z
UID:436611-1699012800-1699012800@977wmoi.com
SUMMARY:Church Women United\, World Community Day
DESCRIPTION:Friday\, November 3\, 2023\, Church Women United\, World Community Day at First Lutheran Church ELCA\, 116 S. B Street\, Monmouth IL for a 12 Noon Luncheon (provided by CWU Board).  Free will donation for lunch goes to the food pantries at Jamieson Community Center and Roseville Pantry. \n1:00 p.m. Business Meeting\, 1:15 p.m. Program. \nProgram Theme:  “Labor with Love – Hands to Help” \nNo reservations needed. \nChurch Representatives  are asked to turn in their Blanket Money and Dues (Dues are $10/Circle).
URL:https://977wmoi.com/event/church-women-united-world-community-day-2/
END:VEVENT
END:VCALENDAR