BEGIN:VCALENDAR
VERSION:2.0
PRODID:-//Prairie Communications, LLC - ECPv6.15.20//NONSGML v1.0//EN
CALSCALE:GREGORIAN
METHOD:PUBLISH
X-WR-CALNAME:Prairie Communications, LLC
X-ORIGINAL-URL:https://977wmoi.com
X-WR-CALDESC:Events for Prairie Communications, LLC
REFRESH-INTERVAL;VALUE=DURATION:PT1H
X-Robots-Tag:noindex
X-PUBLISHED-TTL:PT1H
BEGIN:VTIMEZONE
TZID:America/Chicago
BEGIN:DAYLIGHT
TZOFFSETFROM:-0600
TZOFFSETTO:-0500
TZNAME:CDT
DTSTART:20210314T080000
END:DAYLIGHT
BEGIN:STANDARD
TZOFFSETFROM:-0500
TZOFFSETTO:-0600
TZNAME:CST
DTSTART:20211107T070000
END:STANDARD
BEGIN:DAYLIGHT
TZOFFSETFROM:-0600
TZOFFSETTO:-0500
TZNAME:CDT
DTSTART:20220313T080000
END:DAYLIGHT
BEGIN:STANDARD
TZOFFSETFROM:-0500
TZOFFSETTO:-0600
TZNAME:CST
DTSTART:20221106T070000
END:STANDARD
BEGIN:DAYLIGHT
TZOFFSETFROM:-0600
TZOFFSETTO:-0500
TZNAME:CDT
DTSTART:20230312T080000
END:DAYLIGHT
BEGIN:STANDARD
TZOFFSETFROM:-0500
TZOFFSETTO:-0600
TZNAME:CST
DTSTART:20231105T070000
END:STANDARD
END:VTIMEZONE
BEGIN:VEVENT
DTSTART;TZID=America/Chicago:20220813T080000
DTEND;TZID=America/Chicago:20220813T080000
DTSTAMP:20260422T214144
CREATED:20220628T130700Z
LAST-MODIFIED:20220628T130700Z
UID:410684-1660377600-1660377600@977wmoi.com
SUMMARY:Henderson County Olde Tyme Farm Show
DESCRIPTION:Held at the Henderson County Fairgrounds\, Route 94 in Stronghurst. Demonstrations\, entertainment\, crafts\, vendors\, food and more! Special events on Saturday\, August 13: Tractor Parade at 1 pm and a free will donation ham and bean dinner from 4-8 pm. A tractor drive to LaHarpe will take place Sunday\, August 14th at 8 am. Gates open at 8 am. For more information\, search Henderson County Olde Tymers Association on Facebook.
URL:https://977wmoi.com/event/henderson-county-olde-tyme-farm-show-2/
END:VEVENT
BEGIN:VEVENT
DTSTART;TZID=America/Chicago:20220813T110000
DTEND;TZID=America/Chicago:20220813T140000
DTSTAMP:20260422T214144
CREATED:20220810T132309Z
LAST-MODIFIED:20220810T132309Z
UID:412697-1660388400-1660399200@977wmoi.com
SUMMARY:Monmouth-Roseville Titans Junior Class Cookout Fundraiser
DESCRIPTION:Serving hamburgers\, brats\, and porkchops at the Monmouth Fareway. Proceeds benefit the Junior Class at Monmouth-Roseville as they raise money for prom.
URL:https://977wmoi.com/event/monmouth-roseville-titans-junior-class-cookout-fundraiser/
END:VEVENT
BEGIN:VEVENT
DTSTART;TZID=America/Chicago:20220814T073000
DTEND;TZID=America/Chicago:20220814T103000
DTSTAMP:20260422T214144
CREATED:20220809T131046Z
LAST-MODIFIED:20220809T131046Z
UID:412643-1660462200-1660473000@977wmoi.com
SUMMARY:Monmouth VFW Breakfast Buffet
DESCRIPTION:Open to the entire public. Adults $9. Children under the age of 6 are $4. Breakfast is sponsored by the Monmouth Evening Lions Club and the Monmouth VFW Auxiliary.
URL:https://977wmoi.com/event/monmouth-vfw-breakfast-buffet-7/
END:VEVENT
BEGIN:VEVENT
DTSTART;TZID=America/Chicago:20220814T160000
DTEND;TZID=America/Chicago:20220814T180000
DTSTAMP:20260422T214144
CREATED:20220729T183136Z
LAST-MODIFIED:20220729T183136Z
UID:411978-1660492800-1660500000@977wmoi.com
SUMMARY:Little York Cedar Church Homemade Ice Cream Social
DESCRIPTION:Serving hot dogs\, sloppy joes\, chips\, desserts\, and homemade ice cream. Freewill donations accepted.
URL:https://977wmoi.com/event/little-york-cedar-church-homemade-ice-cream-social/
END:VEVENT
BEGIN:VEVENT
DTSTART;VALUE=DATE:20220815
DTEND;VALUE=DATE:20220826
DTSTAMP:20260422T214144
CREATED:20220803T130427Z
LAST-MODIFIED:20220803T130427Z
UID:412206-1660521600-1661471999@977wmoi.com
SUMMARY:‘Gateway2Galesburg’ Community Fair at Knox College
DESCRIPTION:We are excited to announce our 2nd Annual ‘Gateway2Galesburg’ Community Fair at Knox College! This event aims to allow YOU and your organization the chance to promote directly to Knox students\, faculty\, and staff!\n\nRegistration to attend this event is FREE. Samples/giveaways/promotional materials are recommended. All local organizations are invited\, with the exception of multi-level marketing and business/investment opportunities.\n\nWith the Knox community returning to Galesburg\, this event is a great opportunity to create relationships that help further both your interests and those of our 1500 community members.\n\nSpace is limited. Register HERE by AUGUST 25th!\nThe link to our Facebook event for weekly updates is HERE.\n\nIf you have any questions\, please reach out to careers@knox.edu.\n\n\n\n\n\n\n\n\n\n\n\n\n\n\n\n\n\n\n\n\n\n\n\n\n\n\n\n\n\n\nCLICK HERE! REGISTER A TABLE BY AUGUST 25TH\n\n\n\n\n\n\n\n\n\n\n\n\n\n\n\n\n\n\n\n\n\n\n\n\n\n\n\n\n\n\n\n\n\n\n\n\nMORE DETAILS ON THE EVENT HERE\n\n\n\n\n\n\n\n\n\n\n\n\n\n\n\n\n\n\n\n\n\n\n\n\n\n\n\n\n\n\n\n\n\n\n\n\nCLICK HERE TO EMAIL WITH QUESTIONS
URL:https://977wmoi.com/event/gateway2galesburg-community-fair-at-knox-college/
END:VEVENT
BEGIN:VEVENT
DTSTART;VALUE=DATE:20220815
DTEND;VALUE=DATE:20220821
DTSTAMP:20260422T214144
CREATED:20220809T190840Z
LAST-MODIFIED:20220809T190840Z
UID:412680-1660521600-1661039999@977wmoi.com
SUMMARY:Warren County YMCA 4th-6th Grade Flag Football
DESCRIPTION:League begins Saturday\, August 27th. Participants will learn football fundamentals without heavy contact. Games are played at the Warren County YMCA Fields on Saturday Mornings starting September 17th at 8:30 and 9:30 am.
URL:https://977wmoi.com/event/warren-county-ymca-4th-6th-grade-flag-football/
END:VEVENT
BEGIN:VEVENT
DTSTART;VALUE=DATE:20220815
DTEND;VALUE=DATE:20220821
DTSTAMP:20260422T214144
CREATED:20220809T191400Z
LAST-MODIFIED:20220809T191400Z
UID:412684-1660521600-1661039999@977wmoi.com
SUMMARY:Warren County YMCA 1st-3rd Grade Flag Football
DESCRIPTION:League begins Saturday\, August 27th. Games begin September 17th and will be played at 10:30 am and 11:30 am each week.
URL:https://977wmoi.com/event/warren-county-ymca-1st-3rd-grade-flag-football/
END:VEVENT
BEGIN:VEVENT
DTSTART;VALUE=DATE:20220815
DTEND;VALUE=DATE:20220823
DTSTAMP:20260422T214144
CREATED:20220809T192000Z
LAST-MODIFIED:20220809T192000Z
UID:412692-1660521600-1661212799@977wmoi.com
SUMMARY:4th - 5th Grade Fall Outdoor Soccer
DESCRIPTION:League practice begins Friday\, August 26th. Games will take place on Saturdays at the Knox County YMCA.
URL:https://977wmoi.com/event/4th-5th-grade-fall-outdoor-soccer/
END:VEVENT
BEGIN:VEVENT
DTSTART;TZID=America/Chicago:20220815T180000
DTEND;TZID=America/Chicago:20220815T190000
DTSTAMP:20260422T214144
CREATED:20220610T132523Z
LAST-MODIFIED:20220610T132523Z
UID:409953-1660586400-1660590000@977wmoi.com
SUMMARY:Free Wellness Program
DESCRIPTION:Sponsored by the Warren County Health Department. Program will be held at Meks on Main\, 201 North Main Street in Monmouth on July 25th\, August 1st\, August 8th\, and August 15th all from 6 to 7 pm. There will be guest speakers\, weekly prize drawings\, and topics will cover Strength Training\, Nutrition\, Mobility\, Preventative Care. Call 309-734-1314 extension 3 to register.
URL:https://977wmoi.com/event/free-wellness-program-4/
END:VEVENT
BEGIN:VEVENT
DTSTART;TZID=America/Chicago:20220816T160000
DTEND;TZID=America/Chicago:20220816T183000
DTSTAMP:20260422T214144
CREATED:20220607T181349Z
LAST-MODIFIED:20220607T181349Z
UID:409813-1660665600-1660674600@977wmoi.com
SUMMARY:Alexis Farmer's Market
DESCRIPTION:Held every Tuesday in the Alexis Park. Stop\, shop\, browse\, and chat. Eight vendors\, including Lee’s Bakery will be set up from 4 to 6:30 pm. New vendors are always welcome. Call 309-635-4666 to get involved.
URL:https://977wmoi.com/event/alexis-farmers-market-36/
END:VEVENT
BEGIN:VEVENT
DTSTART;VALUE=DATE:20220818
DTEND;VALUE=DATE:20220819
DTSTAMP:20260422T214144
CREATED:20220505T181246Z
LAST-MODIFIED:20220505T181246Z
UID:408470-1660780800-1660867199@977wmoi.com
SUMMARY:The Orpheum Theatre’s Throwback Thursday FREE Summer Movie Series
DESCRIPTION:A highly anticipated Galesburg tradition\, The Orpheum Theatre’s Throwback Thursdays FREE summer movie series will enter its twelfth year of screening films at least 20 years old\, and this year it’s back with the theme of ANIMATED CLASSICS! Thanks to sponsorship from F&M Bank\, The Throwback Thursdays 2022 Summer Movie Series boasts ten features this summer: \n8/18                            A Bug’s Life (1998) \n                                                              \nA Goofy Movie will kick off the series on Thursday\, June 16 with a 7pm screening; the rest of the films on the series will screen at both 2pm and 7pm on their respective Thursdays. Tickets are not required for these events; more information on the summer movies can be found on The Orpheum Theatre’s social media accounts\, as well as their website www.galesburgorpheum.org. The Orpheum Theatre is located at 57 South Kellogg Street in Downtown Galesburg\, with office hours Tuesday through Friday\, 10am-2pm.
URL:https://977wmoi.com/event/the-orpheum-theatres-throwback-thursday-free-summer-movie-series-10/
END:VEVENT
BEGIN:VEVENT
DTSTART;TZID=America/Chicago:20220818T163000
DTEND;TZID=America/Chicago:20220818T163000
DTSTAMP:20260422T214144
CREATED:20220718T130545Z
LAST-MODIFIED:20220718T130545Z
UID:411417-1660840200-1660840200@977wmoi.com
SUMMARY:Warren County Soil and Water Conservation District Annual Meeting
DESCRIPTION:The annual meeting is right around the corner!\nThis year will be at Meks on Main in Monmouth\, IL.\nNot only will we be enjoying the comfort of an air conditioned venue  but also a cash bar\, delicious meal (free) of steak- cooked by the one and only Tri-County Cattlemen; and a guest speaker!\n\n\nOur speaker will touch on cover crops. The good- the bad- and the ugly! (And the funding!)\n\n\nOur annual meeting will be ran through around 4:30-4:45\, dinner served at 5pm\, and our guest speaker will begin at 5:30!\n\n\nYou MUST RSVP to this event!\nYou can do that by calling or texting Shawnee at 309-299-5171! Or emailing her at shawnee.hartman@il.nacdnet.net or send a message to this Facebook page to be added to our list!\n\n\nThe Meal is free\, but you are responsible for any drink purchases from the cash bar!\nThere will be water and lemonade for those who do not wish to have any bar beverages!
URL:https://977wmoi.com/event/warren-county-soil-and-water-conservation-district-annual-meeting/
END:VEVENT
BEGIN:VEVENT
DTSTART;TZID=America/Chicago:20220819T100000
DTEND;TZID=America/Chicago:20220819T100000
DTSTAMP:20260422T214144
CREATED:20220705T132529Z
LAST-MODIFIED:20220705T132529Z
UID:410953-1660903200-1660903200@977wmoi.com
SUMMARY:W-HFB 14th Annual Golf Outing
DESCRIPTION:$300 per foursome. $75 per person. Includes 18 holes of golf\, cart\, and lunch. Registration from 9 to 10 am. Tee time at 10 am at Gibson Woods Golf Course in Monmouth. Contact the Warren-Henderson Farm Bureau at 309-734-9401 or the McDonough County Farm Bureau at 309-837-3350 to register.
URL:https://977wmoi.com/event/w-hfb-14th-annual-golf-outing/
END:VEVENT
BEGIN:VEVENT
DTSTART;TZID=America/Chicago:20220819T110000
DTEND;TZID=America/Chicago:20220819T130000
DTSTAMP:20260422T214144
CREATED:20220817T155648Z
LAST-MODIFIED:20220817T155648Z
UID:413197-1660906800-1660914000@977wmoi.com
SUMMARY:Raritan State Bank Cookout
DESCRIPTION:Held at the Raritan State Bank Pavilion. Proceeds to support WIRC-CAA Victim Services.
URL:https://977wmoi.com/event/raritan-state-bank-cookout-2/
END:VEVENT
BEGIN:VEVENT
DTSTART;TZID=America/Chicago:20220819T170000
DTEND;TZID=America/Chicago:20220819T190000
DTSTAMP:20260422T214144
CREATED:20220510T210732Z
LAST-MODIFIED:20220511T133946Z
UID:408651-1660928400-1660935600@977wmoi.com
SUMMARY:Monmouth Farmer's Market
DESCRIPTION:Monmouth Area Chamber of Commerce’s Farmer’s Market will be held Fridays in the Fortress Bank Parking Lot\, 300 Block of North Main in Monmouth.
URL:https://977wmoi.com/event/monmouth-farmers-market-14/
END:VEVENT
BEGIN:VEVENT
DTSTART;VALUE=DATE:20220820
DTEND;VALUE=DATE:20220821
DTSTAMP:20260422T214144
CREATED:20220629T164226Z
LAST-MODIFIED:20220629T164226Z
UID:410801-1660953600-1661039999@977wmoi.com
SUMMARY:2nd Annual Monmouth Area Vocational Scholarship Fundraiser - Fishing Derby\, Trivia\, and Dinner
DESCRIPTION:Sponsored by the Monmouth VFW Post 2301\, Monmouth Masonic Lodge #37\, Boy Scout Troop 705\, and Warren County Girl Scout Service Unit 882. A fishing derby will take place at Citizen’s Lake for anyone 12 years old and younger from 8 am noon. In the event from 5 to 9 pm at the Monmouth VFW\, there will be trivia from 5-7 pm\, whole hog raffle\, entertainment\, silent auction\, bake sale\, pork chop and fish dinners for $10\, and the awards for the fishing derby will be presented. More information can be found on their Facebook page\, or by calling 309-299-8783. Trivia is $80 for a team of 8. Mulligans can be purchased\, and prizes will be awarded to the top 3 teams.
URL:https://977wmoi.com/event/2nd-annual-monmouth-area-vocational-scholarship-fundraiser-fishing-derby-trivia-and-dinner/
END:VEVENT
BEGIN:VEVENT
DTSTART;TZID=America/Chicago:20220820T090000
DTEND;TZID=America/Chicago:20220820T090000
DTSTAMP:20260422T214144
CREATED:20220815T134126Z
LAST-MODIFIED:20220815T134126Z
UID:412994-1660986000-1660986000@977wmoi.com
SUMMARY:Knox County Housing Authority All-Star Saturday
DESCRIPTION:3 vs 3 basketball tournament. Layup contest. Food and beverages available. Ages 13 to 18 can participate. Two game guarantee. 10 team limit. $40 per team with t-shirt. Search Knox County Housing Authority on Facebook.
URL:https://977wmoi.com/event/knox-county-housing-authority-all-star-saturday/
END:VEVENT
BEGIN:VEVENT
DTSTART;TZID=America/Chicago:20220820T100000
DTEND;TZID=America/Chicago:20220820T100000
DTSTAMP:20260422T214144
CREATED:20220818T154445Z
LAST-MODIFIED:20220818T154445Z
UID:413258-1660989600-1660989600@977wmoi.com
SUMMARY:Storytime at the Warren County Public Library
DESCRIPTION:Every Saturday for children 0-5 and their siblings in the Children’s Room. Hear stories and enjoy a short craft or activity afterward.
URL:https://977wmoi.com/event/storytime-at-the-warren-county-public-library/
END:VEVENT
BEGIN:VEVENT
DTSTART;TZID=America/Chicago:20220820T100000
DTEND;TZID=America/Chicago:20220820T120000
DTSTAMP:20260422T214144
CREATED:20220804T130601Z
LAST-MODIFIED:20220804T130621Z
UID:412357-1660989600-1660996800@977wmoi.com
SUMMARY:Pattee Water Park Doggie Splash
DESCRIPTION:We are so excited to announce that on August 20th\, 2022 from 10:00am-12:00pm we will be having our first annual DOGGIE SPLASH!! This event will help Wiar Rescue\, our local animal shelter! Bring your pups to this fun event! \n\n\nAdmissions is $10 per dog and one person. Spectators’ admission is $5. All dogs will be divided into two weight classes: Under 50LBS and over 50LBS. Each weight class will have 1 hour to swim.\n\n\nAll dogs must be clean (no mud\, grass\, etc…) before they go into the pool.\n\n\nFor any additional questions\, please call the Warren County YMCA front desk at 309-734-3183 or email Staci at staci@warrencountyymca.org
URL:https://977wmoi.com/event/pattee-water-park-doggie-splash/
END:VEVENT
BEGIN:VEVENT
DTSTART;TZID=America/Chicago:20220820T123000
DTEND;TZID=America/Chicago:20220820T123000
DTSTAMP:20260422T214144
CREATED:20220712T143655Z
LAST-MODIFIED:20220712T143655Z
UID:411212-1660998600-1660998600@977wmoi.com
SUMMARY:Tri-County Cattlemen Beef Industry Tour
DESCRIPTION:This event is for anyone interested in the beef industry to learn from other cattle producers about management of cattle\, pasture\, and sale of product. This is an educational event\, an opportunity to network and engage\, and a social event at the conclusion of the event. This event will feature tours of Grateful Graze and Staker Acres\, a ribeye dinner\, and entertainment by Mad Hoss Jackson. The public is welcome to attend all or part of this Beef promotion event. Tickets and sponsorships are available for purchase online at tricountycattlemen.com. \nThe tour portion of the event will begin with charter buses leaving the Warren County Fairgrounds (Roseville\, IL) at 12:30 PM. The first stop of the tour will be at Grateful Graze in Cambridge\, IL. Monte and Robyn Bottins operate a 150 head rotational grazing operation that boasts soil health practices\, cutting edge grazing technology such as fenceless cattle tags\, and providing 100% homegrown beef to the surrounding area. The second stop of the tour at Staker Acres in Aledo\, IL will feature a combination grazing/confinement system. Steve Staker embarked on constructing a Britespan Hoop Barn and manure storage in 2020. This tour stop is an opportunity to learn about NRCS financial aid opportunities\, permitting in Illinois\, and things to consider in the construction process. \nThe tour charter buses will return to the fairgrounds at 5:30 for a social hour and dinner at 6:30. Dinner will include a ribeye dinner with an update from the Illinois Beef Association and honoring recognition of the Tri County 2022 Scholarship recipients. Post dinner entertainment by Mad Hoss Jackson will begin at 8.
URL:https://977wmoi.com/event/tri-county-cattlemen-beef-industry-tour/
END:VEVENT
BEGIN:VEVENT
DTSTART;TZID=America/Chicago:20220821T163000
DTEND;TZID=America/Chicago:20220821T183000
DTSTAMP:20260422T214144
CREATED:20220804T202600Z
LAST-MODIFIED:20220804T210338Z
UID:412416-1661099400-1661106600@977wmoi.com
SUMMARY:Faith United Presbyterian Church Pork Chop Dinner and Pie Social
DESCRIPTION:Join the Faith United Presbyterian Church\, 200 South 8th Street in Monmouth\, for pork chops\, baked beans\, applesauce\, drinks\, pie\, cake\, and ice cream. Free will donation. Indoor seating and drive-up service on 1st Avenue available.
URL:https://977wmoi.com/event/faith-united-presbyterian-church-pie-social/
END:VEVENT
BEGIN:VEVENT
DTSTART;VALUE=DATE:20220822
DTEND;VALUE=DATE:20220828
DTSTAMP:20260422T214144
CREATED:20220809T191214Z
LAST-MODIFIED:20220809T191214Z
UID:412682-1661126400-1661644799@977wmoi.com
SUMMARY:Warren County YMCA Pre-K - Kindergarten Flag Football
DESCRIPTION:League begins Tuesday\, September 13th. Participants will learn football fundaments. Games will be held on Tuesday Nights 4:30-5:30 pm.
URL:https://977wmoi.com/event/warren-county-ymca-pre-k-kindergarten-flag-football/
END:VEVENT
BEGIN:VEVENT
DTSTART;TZID=America/Chicago:20220822T150000
DTEND;TZID=America/Chicago:20220822T150000
DTSTAMP:20260422T214144
CREATED:20220718T130323Z
LAST-MODIFIED:20220718T130323Z
UID:411415-1661180400-1661180400@977wmoi.com
SUMMARY:Monmouth College Class of 2026 Walkout
DESCRIPTION:Monmouth College students will leave campus at 3 pm and walk around downtown Monmouth. All area businesses are encouraged to set up a table and hand out gifts\, information\, and/or coupons.
URL:https://977wmoi.com/event/monmouth-college-class-of-2026-walkout/
END:VEVENT
BEGIN:VEVENT
DTSTART;TZID=America/Chicago:20220822T170000
DTEND;TZID=America/Chicago:20220822T200000
DTSTAMP:20260422T214144
CREATED:20220412T183339Z
LAST-MODIFIED:20220412T183339Z
UID:407359-1661187600-1661198400@977wmoi.com
SUMMARY:Stronghurst Farmers Market
DESCRIPTION:Held Monday nights in downtown Stronghurst on Broadway Street. Sponsored by the Stronghurst Booster Club.
URL:https://977wmoi.com/event/stronghurst-farmers-market-8/
END:VEVENT
BEGIN:VEVENT
DTSTART;TZID=America/Chicago:20220823T160000
DTEND;TZID=America/Chicago:20220823T183000
DTSTAMP:20260422T214144
CREATED:20220607T181421Z
LAST-MODIFIED:20220607T181421Z
UID:409815-1661270400-1661279400@977wmoi.com
SUMMARY:Alexis Farmer's Market
DESCRIPTION:Held every Tuesday in the Alexis Park. Stop\, shop\, browse\, and chat. Eight vendors\, including Lee’s Bakery will be set up from 4 to 6:30 pm. New vendors are always welcome. Call 309-635-4666 to get involved.
URL:https://977wmoi.com/event/alexis-farmers-market-37/
END:VEVENT
BEGIN:VEVENT
DTSTART;TZID=America/Chicago:20220823T180000
DTEND;TZID=America/Chicago:20220823T200000
DTSTAMP:20260422T214144
CREATED:20220707T132039Z
LAST-MODIFIED:20220707T132039Z
UID:411062-1661277600-1661284800@977wmoi.com
SUMMARY:Arsenic and Old Lace Auditions
DESCRIPTION:Meet the Brewster family of Brooklyn\, New York — \nWhen they are not busy making special meals for the sick or providing used toys for local benefits\, sisters Martha and Abby Brewster brew up their own special concoction of Elderberry Wine\, laced with just enough arsenic to help lonely\, old widowers into the next world. “Must have quite a kick!\,” declares their nephew\, Mortimer. \nAuditions for Arsenic and Old Lace\, which will be performed as a 1940’s Radio-Play (no memorization!) will be held Tuesday\, August 23\, and Thursday\, August 25\, from 6-8pm\, at the BCA. No need to prepare anything in advance. There are parts for men and women in a variety of roles\, and there may be some double casting. In addition\, roles include the local radio announcer\, sound effects performers\, and pianist who provides mood music during the show. Performance dates are October 21 and 22. Rehearsals (no weekends) will begin the week of September 5.
URL:https://977wmoi.com/event/arsenic-and-old-lace-auditions/
END:VEVENT
BEGIN:VEVENT
DTSTART;VALUE=DATE:20220824
DTEND;VALUE=DATE:20220903
DTSTAMP:20260422T214144
CREATED:20220823T131432Z
LAST-MODIFIED:20220823T131432Z
UID:413432-1661299200-1662163199@977wmoi.com
SUMMARY:2022 Mum Orders through Stronghurst Booster Club
DESCRIPTION:The Booster Club is selling mums for $25 per mum. Pre-order deadline is 9/2/22. Please mail payments in a timely manor. Payments must be received by 9/9/22.   Payment can be given to a Booster Club Member or mailed to: \n\nThe Stronghurst Booster Club\nPO Box 307\nStronghurst\, IL 61480\n\nMum Pick up will be on 9/16/22 at Bob’s TV in Stronghurst from 8am-5pm.
URL:https://977wmoi.com/event/2022-mum-orders-through-stronghurst-booster-club/
END:VEVENT
BEGIN:VEVENT
DTSTART;TZID=America/Chicago:20220824T173000
DTEND;TZID=America/Chicago:20220824T173000
DTSTAMP:20260422T214144
CREATED:20220818T155224Z
LAST-MODIFIED:20220818T155224Z
UID:413274-1661362200-1661362200@977wmoi.com
SUMMARY:"Little Fires Everywhere" Book Discussion
DESCRIPTION:Held at the Warren County Public Library as part of the Adult Book Discussion Group.
URL:https://977wmoi.com/event/little-fires-everywhere-book-discussion/
END:VEVENT
BEGIN:VEVENT
DTSTART;VALUE=DATE:20220825
DTEND;VALUE=DATE:20220826
DTSTAMP:20260422T214144
CREATED:20220126T143237Z
LAST-MODIFIED:20220126T143237Z
UID:403621-1661385600-1661471999@977wmoi.com
SUMMARY:Warren County History Museum: Wild Boar to BaconFest
DESCRIPTION:Even will discuss pigs in history and popular culture with Cynthia Clampitt.
URL:https://977wmoi.com/event/warren-county-history-museum-wild-boar-to-baconfest/
END:VEVENT
BEGIN:VEVENT
DTSTART;TZID=America/Chicago:20220825T180000
DTEND;TZID=America/Chicago:20220825T200000
DTSTAMP:20260422T214144
CREATED:20220707T132124Z
LAST-MODIFIED:20220707T132124Z
UID:411064-1661450400-1661457600@977wmoi.com
SUMMARY:Arsenic and Old Lace Auditions
DESCRIPTION:Meet the Brewster family of Brooklyn\, New York — \nWhen they are not busy making special meals for the sick or providing used toys for local benefits\, sisters Martha and Abby Brewster brew up their own special concoction of Elderberry Wine\, laced with just enough arsenic to help lonely\, old widowers into the next world. “Must have quite a kick!\,” declares their nephew\, Mortimer. \nAuditions for Arsenic and Old Lace\, which will be performed as a 1940’s Radio-Play (no memorization!) will be held Tuesday\, August 23\, and Thursday\, August 25\, from 6-8pm\, at the BCA. No need to prepare anything in advance. There are parts for men and women in a variety of roles\, and there may be some double casting. In addition\, roles include the local radio announcer\, sound effects performers\, and pianist who provides mood music during the show. Performance dates are October 21 and 22. Rehearsals (no weekends) will begin the week of September 5.
URL:https://977wmoi.com/event/arsenic-and-old-lace-auditions-2/
END:VEVENT
END:VCALENDAR