BEGIN:VCALENDAR
VERSION:2.0
PRODID:-//Prairie Communications, LLC - ECPv6.15.20//NONSGML v1.0//EN
CALSCALE:GREGORIAN
METHOD:PUBLISH
X-ORIGINAL-URL:https://977wmoi.com
X-WR-CALDESC:Events for Prairie Communications, LLC
REFRESH-INTERVAL;VALUE=DURATION:PT1H
X-Robots-Tag:noindex
X-PUBLISHED-TTL:PT1H
BEGIN:VTIMEZONE
TZID:America/Chicago
BEGIN:DAYLIGHT
TZOFFSETFROM:-0600
TZOFFSETTO:-0500
TZNAME:CDT
DTSTART:20220313T080000
END:DAYLIGHT
BEGIN:STANDARD
TZOFFSETFROM:-0500
TZOFFSETTO:-0600
TZNAME:CST
DTSTART:20221106T070000
END:STANDARD
BEGIN:DAYLIGHT
TZOFFSETFROM:-0600
TZOFFSETTO:-0500
TZNAME:CDT
DTSTART:20230312T080000
END:DAYLIGHT
BEGIN:STANDARD
TZOFFSETFROM:-0500
TZOFFSETTO:-0600
TZNAME:CST
DTSTART:20231105T070000
END:STANDARD
BEGIN:DAYLIGHT
TZOFFSETFROM:-0600
TZOFFSETTO:-0500
TZNAME:CDT
DTSTART:20240310T080000
END:DAYLIGHT
BEGIN:STANDARD
TZOFFSETFROM:-0500
TZOFFSETTO:-0600
TZNAME:CST
DTSTART:20241103T070000
END:STANDARD
END:VTIMEZONE
BEGIN:VEVENT
DTSTART;TZID=America/Chicago:20230609T120000
DTEND;TZID=America/Chicago:20230609T130000
DTSTAMP:20260425T142336
CREATED:20230605T143816Z
LAST-MODIFIED:20230605T143906Z
UID:429050-1686312000-1686315600@977wmoi.com
SUMMARY:The Now Normal Series Lunch and Learn Series
DESCRIPTION:The Now Normal Series\, with the Galesburg Area Chamber of Commerce\, is a personal development opportunity to get back to growing ourselves\, leaving into our teams and growing our businesses. This 5-part series is led by Dr. Pete Kehoe\, Executive Director of The John Maxwell Team and Kelly Poyner\, both locally from The Transformational Team. Anyone looking to expand on their development is encouraged to attend! RVSP: https://bit.ly/NOWNormal_Generational\n\n\nNext in the series…\nGENERATIONAL DIVERSITY AT WORK\n Friday\, June 9\n 12-1pm\n Jimmy’s Pizza
URL:https://977wmoi.com/event/the-now-normal-series-lunch-and-learn-series/
END:VEVENT
BEGIN:VEVENT
DTSTART;TZID=America/Chicago:20230609T170000
DTEND;TZID=America/Chicago:20230609T200000
DTSTAMP:20260425T142336
CREATED:20230511T183927Z
LAST-MODIFIED:20230511T183927Z
UID:427888-1686330000-1686340800@977wmoi.com
SUMMARY:Monmouth Farmer's Market & More
DESCRIPTION:Located in the 100 block of South 1st Street
URL:https://977wmoi.com/event/monmouth-farmers-market-more-2/
END:VEVENT
BEGIN:VEVENT
DTSTART;TZID=America/Chicago:20230610T093000
DTEND;TZID=America/Chicago:20230610T110000
DTSTAMP:20260425T142336
CREATED:20230501T195043Z
LAST-MODIFIED:20230501T195043Z
UID:427195-1686389400-1686394800@977wmoi.com
SUMMARY:Lakeside Nature Center Free Nature Program
DESCRIPTION:Geared toward families and children. All ages are welcome! Dress for outdoor activities and stop by anytime between 9:30 am to 11 am. This session will focus on Water Safety.
URL:https://977wmoi.com/event/lakeside-nature-center-free-nature-program-4/
END:VEVENT
BEGIN:VEVENT
DTSTART;TZID=America/Chicago:20230610T103000
DTEND;TZID=America/Chicago:20230610T103000
DTSTAMP:20260425T142336
CREATED:20230525T162740Z
LAST-MODIFIED:20230525T162740Z
UID:428670-1686393000-1686393000@977wmoi.com
SUMMARY:14th Annual Gopher Open
DESCRIPTION:In memory of Jerry Huston\, join at Gibson Woods Golf Course for the annual Gopher Open. Registration from 10:30 to 11:30 am. Shotgun start at noon. Lunch provided during the round. Proceeds benefit the Monmouth-Roseville and Macomb Golf Programs.
URL:https://977wmoi.com/event/14th-annual-gopher-open/
END:VEVENT
BEGIN:VEVENT
DTSTART;TZID=America/Chicago:20230610T110000
DTEND;TZID=America/Chicago:20230610T120000
DTSTAMP:20260425T142336
CREATED:20230501T194505Z
LAST-MODIFIED:20230501T194505Z
UID:427187-1686394800-1686398400@977wmoi.com
SUMMARY:Little Sprouts at the Lakeside Nature Center
DESCRIPTION:Explore\, discover\, and create with your child during hands-on\, nature-based activities. This session will focus on Music in Nature. Geared toward 2-5 year olds. Cost is $5 per child (with guardian).
URL:https://977wmoi.com/event/little-sprouts-at-the-lakeside-nature-center-3/
END:VEVENT
BEGIN:VEVENT
DTSTART;TZID=America/Chicago:20230610T110000
DTEND;TZID=America/Chicago:20230610T130000
DTSTAMP:20260425T142336
CREATED:20230517T194628Z
LAST-MODIFIED:20230517T194628Z
UID:428217-1686394800-1686402000@977wmoi.com
SUMMARY:Plein Air Arts Affair with the BCA & Stewart House
DESCRIPTION:Mark your calendar to join us 11am-1pm Saturday\, June 10\, at The Stewart House\, 1015 East Euclid Avenue\, Monmouth. The Buchanan Center for the Arts and The Stewart House invite you to meet five regional artists: Cherry Simmons\, Shayla Ray\, Claire Geno\, Laura Cavanaugh\, and Ashley VanDeCasteele as they paint and create. The artwork created will be auctioned\, and proceeds will support programs at The Buchanan Center for the Arts and The Stewart House. See you on The Stewart House lawn!
URL:https://977wmoi.com/event/plein-air-arts-affair-with-the-bca-stewart-house/
END:VEVENT
BEGIN:VEVENT
DTSTART;TZID=America/Chicago:20230610T120000
DTEND;TZID=America/Chicago:20230610T150000
DTSTAMP:20260425T142336
CREATED:20230530T125650Z
LAST-MODIFIED:20230530T125650Z
UID:428750-1686398400-1686409200@977wmoi.com
SUMMARY:Free Mobile Microchip Clinic
DESCRIPTION:Join Freedom Ride Animal Rescue in the Farm King Parking Lot outside Monmouth for a free microchip clinic for your pets. Donations are welcomed.
URL:https://977wmoi.com/event/free-mobile-microchip-clinic/
END:VEVENT
BEGIN:VEVENT
DTSTART;TZID=America/Chicago:20230610T180000
DTEND;TZID=America/Chicago:20230610T220000
DTSTAMP:20260425T142336
CREATED:20230515T145500Z
LAST-MODIFIED:20230515T145500Z
UID:428017-1686420000-1686434400@977wmoi.com
SUMMARY:Knox County Relay for Life Annual Event
DESCRIPTION:Relay For Life of Knox County will host their annual community event in support of the American Cancer Society. \nThis free\, family-friend event will energize our community in the fight against cancer! Join us at the Galesburg High School Van Dyke Field at F&M Stadium on Saturday\, June 10th 6-10pm. The event will celebrate cancer survivors with a special lap\, recognize Relay teams who have conducted fundraising all year\, and honor those touched by cancer with a luminaria ceremony at 9pm. Food\, entertainment\, a silent auction and activities are also planned. \nAll survivors\, caregivers\, and anyone touched by cancer are invited to this FREE event! Survivors may register on the website relayforlife.org/knoxil although this is not required.  To purchase a personalized luminaria to be lit at the event\, visit relayforlife.org/knoxil.
URL:https://977wmoi.com/event/knox-county-relay-for-life-annual-event/
END:VEVENT
BEGIN:VEVENT
DTSTART;VALUE=DATE:20230612
DTEND;VALUE=DATE:20230613
DTSTAMP:20260425T142336
CREATED:20230524T134315Z
LAST-MODIFIED:20230524T134315Z
UID:428556-1686528000-1686614399@977wmoi.com
SUMMARY:Art Camp with the Galesburg Community Arts Center
DESCRIPTION:Art Camp is just 4 weeks away. Open to students in grades 5-8\, it will be held June 12 –16\, 9am-12pm at the Galesburg Community Arts Center\, 349 E Main Street\, Galesburg\, IL.\n\n\nRegister now for drawing\, painting\, sculpture\, printmaking and new this year\, music!\n\n\nFor more information and to register\, visit www.galesburgarts.org/art-camp
URL:https://977wmoi.com/event/art-camp-with-the-galesburg-community-arts-center/
END:VEVENT
BEGIN:VEVENT
DTSTART;TZID=America/Chicago:20230612T120000
DTEND;TZID=America/Chicago:20230612T193000
DTSTAMP:20260425T142336
CREATED:20230221T165441Z
LAST-MODIFIED:20230221T165441Z
UID:423353-1686571200-1686598200@977wmoi.com
SUMMARY:30th Annual Galesburg Chamber Golf Outing
DESCRIPTION:At the Soangetaha Country Club. 𝙏𝙚𝙖𝙢 𝙧𝙚𝙜𝙞𝙨𝙩𝙧𝙖𝙩𝙞𝙤𝙣 𝙬𝙞𝙡𝙡 𝙤𝙥𝙚𝙣 𝙨𝙤𝙤𝙣! 𝙎𝙏𝘼𝙔 𝙏𝙐𝙉𝙀𝘿!
URL:https://977wmoi.com/event/30th-annual-galesburg-chamber-golf-outing/
END:VEVENT
BEGIN:VEVENT
DTSTART;TZID=America/Chicago:20230612T130000
DTEND;TZID=America/Chicago:20230612T150000
DTSTAMP:20260425T142336
CREATED:20230501T164835Z
LAST-MODIFIED:20230501T164835Z
UID:427173-1686574800-1686582000@977wmoi.com
SUMMARY:Digital Design Camp with Clear Profits
DESCRIPTION:This digital summer camp provides a unique opportunity for local middle schoolers to learn more about graphic design and video from the Clear Profits Digital Marketing team. Camp will be held June 12th through June 16th at Clear Profits\, 227 South Main Street in Monmouth\, from 1 to 3 pm each day. Learn more and get registered at: https://clearprofitsdm.com/digital-design-camp/.
URL:https://977wmoi.com/event/digital-design-camp-with-clear-profits/
END:VEVENT
BEGIN:VEVENT
DTSTART;TZID=America/Chicago:20230613T140000
DTEND;TZID=America/Chicago:20230613T160000
DTSTAMP:20260425T142336
CREATED:20230524T134430Z
LAST-MODIFIED:20230524T134430Z
UID:428558-1686664800-1686672000@977wmoi.com
SUMMARY:KCAP Annual Meeting: Workforce Innovation
DESCRIPTION:Join on Tuesday\, June 13th at the Orpheum for a dynamic Annual Meeting that includes a panel of regional speakers\, interactive segments\, interviews from local community members and more. We will explore what Workforce Innovation looks like in our region. This event is always free as we invite all business and regional community members to attend. To RSVP follow the ticket link\, call 309-343-1194 or email Abby@knoxpartnership.com .
URL:https://977wmoi.com/event/kcap-annual-meeting-workforce-innovation/
END:VEVENT
BEGIN:VEVENT
DTSTART;TZID=America/Chicago:20230613T163000
DTEND;TZID=America/Chicago:20230613T183000
DTSTAMP:20260425T142336
CREATED:20230503T160754Z
LAST-MODIFIED:20230503T160754Z
UID:427360-1686673800-1686681000@977wmoi.com
SUMMARY:Monmouth Rotary Club Pork Chop BBQ
DESCRIPTION:Serving butterfly pork chop sandwiches\, applesauce\, chips\, and dessert. Drive-up next to the Pattee Plaza on the square in Downtown Monmouth. Freewill donation. Proceeds benefitting the Recharge Teen Center.
URL:https://977wmoi.com/event/monmouth-rotary-club-pork-chop-bbq-3/
END:VEVENT
BEGIN:VEVENT
DTSTART;TZID=America/Chicago:20230613T190000
DTEND;TZID=America/Chicago:20230613T190000
DTSTAMP:20260425T142336
CREATED:20230517T135844Z
LAST-MODIFIED:20230517T135844Z
UID:428153-1686682800-1686682800@977wmoi.com
SUMMARY:Knox County Right to Life Meeting
DESCRIPTION:Meeting will be held at the First Church of the Open Bible\, 521 West Losey Street in Galesburg\, and will also include education and letter writing.
URL:https://977wmoi.com/event/knox-county-right-to-life-meeting-23/
END:VEVENT
BEGIN:VEVENT
DTSTART;TZID=America/Chicago:20230614T100000
DTEND;TZID=America/Chicago:20230614T100000
DTSTAMP:20260425T142336
CREATED:20230613T152339Z
LAST-MODIFIED:20230613T152339Z
UID:429510-1686736800-1686736800@977wmoi.com
SUMMARY:Old Friends Talk Art at the BCA
DESCRIPTION:Free and open to the public in the BCA Gallery. Natalie Jackson will be the guest speaker to discuss her current exhibition Straight\, No Chaser.
URL:https://977wmoi.com/event/old-friends-talk-art-at-the-bca-5/
END:VEVENT
BEGIN:VEVENT
DTSTART;TZID=America/Chicago:20230615T080000
DTEND;TZID=America/Chicago:20230615T160000
DTSTAMP:20260425T142336
CREATED:20230419T160850Z
LAST-MODIFIED:20230419T160850Z
UID:426433-1686816000-1686844800@977wmoi.com
SUMMARY:ROE #33 & #26 WITcon Whatever It Takes Conference 2023
DESCRIPTION:Event will be held at Galesburg High School. The theme of WITcon23 is STUDENT ENGAGEMENT. KEYNOTE SPEAKER: Hal Bowman’s Teach Like A Rock Star is a research-based\, results-driven professional development event that provides educators with the most powerful tools\, strategies\, and resources available for creating an extraordinary learning environment – one where teachers have a profound educational and personal impact on the lives of students. This empowering\, engaging\, and entertaining workshop helps teachers discover the keys that drive all students to perform at their very highest levels. Cost is $99. QUESTIONS?  Please email ebaumgardner@roe33.net to contact Erica\, the PD Coordinator for the ROE 26 & ROE 33 Professional Development Consortium.
URL:https://977wmoi.com/event/roe-33-26-witcon-whatever-it-takes-conference-2023/
END:VEVENT
BEGIN:VEVENT
DTSTART;TZID=America/Chicago:20230615T120000
DTEND;TZID=America/Chicago:20230615T130000
DTSTAMP:20260425T142336
CREATED:20230606T200856Z
LAST-MODIFIED:20230606T200856Z
UID:429210-1686830400-1686834000@977wmoi.com
SUMMARY:BCA Summer Art on the Pattee Plaza
DESCRIPTION:This series is free for kindergarten through 8th grade students. Reservations are required and can be made by calling 309-734-3033. Classes are held noon to 1 pm with lunch included. June 15th: Hieroglyphic Cartouche. June 22nd: Model Magic with a Scavenger Hunt. June 29th: Fourth of July Fun. July 6th: Bubble Art and Magnet Mania. July 13th: Totem Sculptures. July 20th: Origami butterflies and frogs.
URL:https://977wmoi.com/event/bca-summer-art-on-the-pattee-plaza-2/
END:VEVENT
BEGIN:VEVENT
DTSTART;TZID=America/Chicago:20230615T180000
DTEND;TZID=America/Chicago:20230615T180000
DTSTAMP:20260425T142336
CREATED:20230609T130933Z
LAST-MODIFIED:20230609T130933Z
UID:429339-1686852000-1686852000@977wmoi.com
SUMMARY:Monmouth Noon Lions Club Ice Cream Social at Harmon Park
DESCRIPTION:Come on out to the Ice Cream Social!! Hear the Monmouth Municipal Band\, enjoy some ice cream and have some fun in the sun. Get your tickets from your local ball players\, and don’t forget to bring a lawn chair! Tickets are $4. Proceeds benefit the Little Lions Baseball League. Rain location is the ICS Gym. Facebook
URL:https://977wmoi.com/event/monmouth-noon-lions-club-ice-cream-social-at-harmon-park/
END:VEVENT
BEGIN:VEVENT
DTSTART;VALUE=DATE:20230616
DTEND;VALUE=DATE:20230618
DTSTAMP:20260425T142336
CREATED:20230501T153711Z
LAST-MODIFIED:20230501T153711Z
UID:427142-1686873600-1687046399@977wmoi.com
SUMMARY:Community Care Days
DESCRIPTION:Community Care Days is an intentional cooperative effort of local churches to minister to Warren County residents in the area of home repairs and maintenance.
URL:https://977wmoi.com/event/community-care-days-2/
END:VEVENT
BEGIN:VEVENT
DTSTART;TZID=America/Chicago:20230616T093000
DTEND;TZID=America/Chicago:20230616T113000
DTSTAMP:20260425T142336
CREATED:20230605T201551Z
LAST-MODIFIED:20230605T201551Z
UID:429098-1686907800-1686915000@977wmoi.com
SUMMARY:Gentlemen's Day at Strom Center in Monmouth
DESCRIPTION:All gentlemen will be honored at Strom Center. Stop by from muffins\, juice\, or coffee. There will be drawings throughout the morning\, concluding with a main drawing at 11:30 am.
URL:https://977wmoi.com/event/gentlemens-day-at-strom-center-in-monmouth/
END:VEVENT
BEGIN:VEVENT
DTSTART;TZID=America/Chicago:20230616T110000
DTEND;TZID=America/Chicago:20230616T130000
DTSTAMP:20260425T142336
CREATED:20230505T133713Z
LAST-MODIFIED:20230505T133713Z
UID:427512-1686913200-1686920400@977wmoi.com
SUMMARY:Raritan State Bank Cookout
DESCRIPTION:Held at the Raritan State Bank Pavilion. Proceeds benefitting Boy Scouts Troop #63.
URL:https://977wmoi.com/event/raritan-state-bank-cookout-4/
END:VEVENT
BEGIN:VEVENT
DTSTART;TZID=America/Chicago:20230616T170000
DTEND;TZID=America/Chicago:20230616T200000
DTSTAMP:20260425T142336
CREATED:20230511T184002Z
LAST-MODIFIED:20230511T184002Z
UID:427890-1686934800-1686945600@977wmoi.com
SUMMARY:Monmouth Farmer's Market & More
DESCRIPTION:Located in the 100 block of South 1st Street
URL:https://977wmoi.com/event/monmouth-farmers-market-more-3/
END:VEVENT
BEGIN:VEVENT
DTSTART;TZID=America/Chicago:20230616T190000
DTEND;TZID=America/Chicago:20230616T190000
DTSTAMP:20260425T142336
CREATED:20230605T201328Z
LAST-MODIFIED:20230605T201342Z
UID:429095-1686942000-1686942000@977wmoi.com
SUMMARY:John Conlee Returns to The Orpheum Theater
DESCRIPTION:John Conlee returns to The Orpheum Theater in Galesburg on Friday night June 16th!  Conlee is known for his 32 singles on the Billboard Hot Country Songs Chart in the 70’s\, 80’s and 90’s!  Hit songs include seven No. 1 hits: “Lady Lay Down”\, “Backside of Thirty”\, “Common Man”\, “I’m Only in It for the Love”\, “In My Eyes”\, “As Long As I’m Rockin’ with You” and “Got My Heart Set on You”.  \nTICKETS are available for\n\nVIP Section: $75.00\nMain Floor: $55.00\nMezzanine: $40.00\n\n\nCall for your tickets today at the Orpheum Theater at 309 342 2299 or log onto http://galesburgorpheum.org.
URL:https://977wmoi.com/event/john-conlee-returns-to-the-orpheum-theater/
END:VEVENT
BEGIN:VEVENT
DTSTART;VALUE=DATE:20230617
DTEND;VALUE=DATE:20230618
DTSTAMP:20260425T142336
CREATED:20230605T142221Z
LAST-MODIFIED:20230605T142221Z
UID:429044-1686960000-1687046399@977wmoi.com
SUMMARY:Silvie's Ride Against Child Abuse
DESCRIPTION:Day long event held in memory of Silvie Yocum. The day begins with an all you can eat breakfast buffet at the Elks Lodge\, 401 South Deere Road in Macomb\, open to the public from 7 am to 10 am\, $10 per person. All vehicles are welcome with registration from 8 am to 10 am\, $20 per vehicle\, $5 per passenger. Blessing of the bikes in the parking lot at 10 am prior to riders leaving at 10:30 am. Dinner will be served at 4:30.
URL:https://977wmoi.com/event/silvies-ride-against-child-abuse-3/
END:VEVENT
BEGIN:VEVENT
DTSTART;TZID=America/Chicago:20230617T080000
DTEND;TZID=America/Chicago:20230617T080000
DTSTAMP:20260425T142336
CREATED:20230605T201111Z
LAST-MODIFIED:20230605T201111Z
UID:429093-1686988800-1686988800@977wmoi.com
SUMMARY:Raritan Fire Department Golf Tournament
DESCRIPTION:4 person best ball. Registration begins at 8 am. Shotgun start at 9 am. Held at the Twin Oaks Golf Course in Blandinsville. Entry fee is $200 per team. Proceeds benefit Wounded Warriors Family Support.
URL:https://977wmoi.com/event/raritan-fire-department-golf-tournament-2/
END:VEVENT
BEGIN:VEVENT
DTSTART;TZID=America/Chicago:20230617T080000
DTEND;TZID=America/Chicago:20230617T120000
DTSTAMP:20260425T142336
CREATED:20230615T183837Z
LAST-MODIFIED:20230615T190230Z
UID:429636-1686988800-1687003200@977wmoi.com
SUMMARY:Village of Avon Farmers Market
DESCRIPTION:On the first and third Saturdays from May to October\, at the Market Village Hall 102 S Main St\, Avon\, IL 61415\, from 8am to noon. Fresh produce to mouth-watering baked goods. Make it a family event and bring your kids along. They can learn about agriculture through educational opportunities and experience the fun of community gathering made.
URL:https://977wmoi.com/event/village-of-avon-farmers-market/
END:VEVENT
BEGIN:VEVENT
DTSTART;TZID=America/Chicago:20230617T080000
DTEND;TZID=America/Chicago:20230617T140000
DTSTAMP:20260425T142336
CREATED:20230524T154132Z
LAST-MODIFIED:20230524T154132Z
UID:428580-1686988800-1687010400@977wmoi.com
SUMMARY:Friends of the Warren County Public Library Book Sale
DESCRIPTION:Book Sale with Friends of the Warren County Public Library on Saturday\, June 17 from 8:00 AM – 2:00 PM at 62 Public Square\, Monmouth. Freewill donations accepted.
URL:https://977wmoi.com/event/friends-of-the-warren-county-public-library-book-sale/
END:VEVENT
BEGIN:VEVENT
DTSTART;TZID=America/Chicago:20230617T083000
DTEND;TZID=America/Chicago:20230617T083000
DTSTAMP:20260425T142336
CREATED:20230328T192244Z
LAST-MODIFIED:20230524T201028Z
UID:425206-1686990600-1686990600@977wmoi.com
SUMMARY:Maple City Tractor Assoc. Father's Day Ride
DESCRIPTION:Maple City Antique Tractor Association invites you to our “Annual Father’s Day Ride and Parade”\, to start at 8:30 a.m. from 1554 – 70th Street\, (2-1/2 miles south of Monmouth\, IL\, on Old Highway 67).  Look for Maple City Tractor sign at the location.  We’ll stop at Burn’s Auction Service for lunch\, which will be purchased from the American Legion Hamburger Fry.  At 1:00 p.m. we will parade through the parking lots of retirement homes and nursing homes in Monmouth before we head back to load up to return home.
URL:https://977wmoi.com/event/maple-city-tractor-assoc-fathers-day-ride/
END:VEVENT
BEGIN:VEVENT
DTSTART;TZID=America/Chicago:20230617T100000
DTEND;TZID=America/Chicago:20230617T100000
DTSTAMP:20260425T142336
CREATED:20230519T184745Z
LAST-MODIFIED:20230519T184745Z
UID:428336-1686996000-1686996000@977wmoi.com
SUMMARY:Hula Hoop for Hygiene
DESCRIPTION:Try out your hula hooping skills during the Community Hygiene Pantry’s Hula Hoop event at the Monmouth Park Ball Diamond on North 11th Street. The event is open to all ages. $10 per person to enter\, hula hoops provided for the contest. Prizes given for 1st\, 2nd\, and 3rd places.
URL:https://977wmoi.com/event/hula-hoop-for-hygiene/
END:VEVENT
BEGIN:VEVENT
DTSTART;TZID=America/Chicago:20230617T120000
DTEND;TZID=America/Chicago:20230617T160000
DTSTAMP:20260425T142336
CREATED:20230601T132537Z
LAST-MODIFIED:20230601T132537Z
UID:428903-1687003200-1687017600@977wmoi.com
SUMMARY:Maple City Street Machines Cruise Night
DESCRIPTION:At Trax North Side Bar and Grill. Door prizes. Food available by North Trax. Question\, contact Don Paschal at 309-337-1027.
URL:https://977wmoi.com/event/maple-city-street-machines-cruise-night-2/
END:VEVENT
END:VCALENDAR