BEGIN:VCALENDAR
VERSION:2.0
PRODID:-//Prairie Communications, LLC - ECPv6.15.20//NONSGML v1.0//EN
CALSCALE:GREGORIAN
METHOD:PUBLISH
X-ORIGINAL-URL:https://977wmoi.com
X-WR-CALDESC:Events for Prairie Communications, LLC
REFRESH-INTERVAL;VALUE=DURATION:PT1H
X-Robots-Tag:noindex
X-PUBLISHED-TTL:PT1H
BEGIN:VTIMEZONE
TZID:America/Chicago
BEGIN:DAYLIGHT
TZOFFSETFROM:-0600
TZOFFSETTO:-0500
TZNAME:CDT
DTSTART:20220313T080000
END:DAYLIGHT
BEGIN:STANDARD
TZOFFSETFROM:-0500
TZOFFSETTO:-0600
TZNAME:CST
DTSTART:20221106T070000
END:STANDARD
BEGIN:DAYLIGHT
TZOFFSETFROM:-0600
TZOFFSETTO:-0500
TZNAME:CDT
DTSTART:20230312T080000
END:DAYLIGHT
BEGIN:STANDARD
TZOFFSETFROM:-0500
TZOFFSETTO:-0600
TZNAME:CST
DTSTART:20231105T070000
END:STANDARD
BEGIN:DAYLIGHT
TZOFFSETFROM:-0600
TZOFFSETTO:-0500
TZNAME:CDT
DTSTART:20240310T080000
END:DAYLIGHT
BEGIN:STANDARD
TZOFFSETFROM:-0500
TZOFFSETTO:-0600
TZNAME:CST
DTSTART:20241103T070000
END:STANDARD
END:VTIMEZONE
BEGIN:VEVENT
DTSTART;TZID=America/Chicago:20230804T170000
DTEND;TZID=America/Chicago:20230804T200000
DTSTAMP:20260425T215721
CREATED:20230613T134326Z
LAST-MODIFIED:20230613T134326Z
UID:429481-1691168400-1691179200@977wmoi.com
SUMMARY:Maple City Street Machines Monmouth Cruise Night
DESCRIPTION:Celebrating 24 years. Fun for the entire family! Food. Vendors. Door prizes with a grand prize of a Snap-on tool box. For more details\, contact Clifford at 309-221-8569.
URL:https://977wmoi.com/event/maple-city-street-machines-monmouth-cruise-night/
END:VEVENT
BEGIN:VEVENT
DTSTART;VALUE=DATE:20230805
DTEND;VALUE=DATE:20230807
DTSTAMP:20260425T215721
CREATED:20230726T181704Z
LAST-MODIFIED:20230731T165451Z
UID:431924-1691193600-1691366399@977wmoi.com
SUMMARY:Roseville's 175th Celebration Schedule of Events
DESCRIPTION:Saturday\, August 5th: 8 am 5K run/walk\, beginning at the Community Center\, breakfast served from 8:30 to 9:30 am\, 9 am Tot Trot\, 9:30 am live and silent auction\, 11-1 lunch will be served at the Roseville Lanes\, Ice Cream Shack\, and Twisted Too\, parade line up begins at noon at the Monmouth-Roseville Junior High with the parade starting at 1 pm\, featuring Native Indians with their Drum and Regalia\, there will be a quilt show from 2 to 4 pm at the Methodist Church\, and activities at the park from 2 to 5 pm. On Sunday\, August 6th at 10:30 am the Christian based Native American Worship at the Roseville City Park with Ceremonial Drum and Regalia\, open to all to attend.
URL:https://977wmoi.com/event/rosevilles-175th-celebration-schedule-of-events/
END:VEVENT
BEGIN:VEVENT
DTSTART;TZID=America/Chicago:20230805T080000
DTEND;TZID=America/Chicago:20230805T120000
DTSTAMP:20260425T215721
CREATED:20230615T184147Z
LAST-MODIFIED:20230615T184147Z
UID:429643-1691222400-1691236800@977wmoi.com
SUMMARY:Village of Avon Farmers Market
DESCRIPTION:On the first and third Saturdays from May to October\, at the Market Village Hall 102 S Main St\, Avon\, IL 61415\, from 8am to noon. Fresh produce to mouth-watering baked goods. Make it a family event and bring your kids along. They can learn about agriculture through educational opportunities and experience the fun of community gathering made.
URL:https://977wmoi.com/event/village-of-avon-farmers-market-4/
END:VEVENT
BEGIN:VEVENT
DTSTART;TZID=America/Chicago:20230806T120000
DTEND;TZID=America/Chicago:20230806T160000
DTSTAMP:20260425T215721
CREATED:20230713T132943Z
LAST-MODIFIED:20230713T132943Z
UID:431050-1691323200-1691337600@977wmoi.com
SUMMARY:Community Hygiene Pantry End of Summer Break Bash
DESCRIPTION:Free entry! Hygiene kits\, haircuts\, activities\, and DJ Junebug will be on hand for the kids. Event will be held at Park Plaza\, on East Main Street in Galesburg.
URL:https://977wmoi.com/event/community-hygiene-pantry-end-of-summer-break-bash/
END:VEVENT
BEGIN:VEVENT
DTSTART;TZID=America/Chicago:20230807T170000
DTEND;TZID=America/Chicago:20230807T190000
DTSTAMP:20260425T215721
CREATED:20230316T133206Z
LAST-MODIFIED:20230316T133206Z
UID:424570-1691427600-1691434800@977wmoi.com
SUMMARY:Stronghurst Farmers Market
DESCRIPTION:On Broadway Street in Stronghurst. Follow Stronghurst Farmers Market on Facebook.
URL:https://977wmoi.com/event/stronghurst-farmers-market-19/
END:VEVENT
BEGIN:VEVENT
DTSTART;TZID=America/Chicago:20230808T130000
DTEND;TZID=America/Chicago:20230808T150000
DTSTAMP:20260425T215721
CREATED:20230731T191149Z
LAST-MODIFIED:20230731T191149Z
UID:432173-1691499600-1691506800@977wmoi.com
SUMMARY:BINGO at Strom Center in Monmouth
DESCRIPTION:Cost is 25 cents per card. Refreshments and drink will be available.
URL:https://977wmoi.com/event/bingo-at-strom-center-in-monmouth-11/
END:VEVENT
BEGIN:VEVENT
DTSTART;TZID=America/Chicago:20230808T170000
DTEND;TZID=America/Chicago:20230808T193000
DTSTAMP:20260425T215721
CREATED:20230731T192355Z
LAST-MODIFIED:20230731T192355Z
UID:432186-1691514000-1691523000@977wmoi.com
SUMMARY:Stronghurst UMC Tuesday Night Out
DESCRIPTION:Join for pizza starting at 5 pm in the Fellowship Hall. A movie in the sanctuary will begin at 5:44pm. This is a free family friendly event.
URL:https://977wmoi.com/event/stronghurst-umc-tuesday-night-out/
END:VEVENT
BEGIN:VEVENT
DTSTART;TZID=America/Chicago:20230809T100000
DTEND;TZID=America/Chicago:20230809T100000
DTSTAMP:20260425T215721
CREATED:20230801T173439Z
LAST-MODIFIED:20230801T173439Z
UID:432237-1691575200-1691575200@977wmoi.com
SUMMARY:Old Friends Talk Art at the BCA
DESCRIPTION:Old Friends Talk Art presents Eric Engstrom. He will be discussing the farm and garden program at Monmouth College. Join us 10am Wednesday\, August 9\, in the BCA Gallery. Refreshments will be served. This event is free and open to the public and supported in part by the Jim and Jan DeYoung Charitable Trust. See you in the gallery.
URL:https://977wmoi.com/event/old-friends-talk-art-at-the-bca-8/
END:VEVENT
BEGIN:VEVENT
DTSTART;TZID=America/Chicago:20230809T110000
DTEND;TZID=America/Chicago:20230809T130000
DTSTAMP:20260425T215721
CREATED:20230728T151159Z
LAST-MODIFIED:20230728T151159Z
UID:432056-1691578800-1691586000@977wmoi.com
SUMMARY:Biodiesel and Ethanol Promotion in Stronghurst
DESCRIPTION:West Central FS and the Warren-Henderson Farm Bureau are teaming up to host a Biodiesel and Ethanol Promotion on Wednesday\, August 9th from 11:00 a.m. to 1:00 p.m. at the Stronghurst Fast Stop in Stronghurst (320 E Main St.). Fuel will be sold to the public at a discounted rate during this two-hour event and WCFS and W-HFB will be on hand to assist with pumping fuel and washing windshields. Free hot dogs\, chips and soda will be available to those who attend between the hours of 11:00 a.m. to 1:00 p.m.
URL:https://977wmoi.com/event/biodiesel-and-ethanol-promotion-in-stronghurst/
END:VEVENT
BEGIN:VEVENT
DTSTART;TZID=America/Chicago:20230809T113000
DTEND;TZID=America/Chicago:20230809T150000
DTSTAMP:20260425T215721
CREATED:20230731T192508Z
LAST-MODIFIED:20230809T141615Z
UID:432188-1691580600-1691593200@977wmoi.com
SUMMARY:*LOCATION CHANGE* Eagle View Community Health System Health Fair
DESCRIPTION:The forecast has changed and is going to be unfavorable for the health fair to be held at the park – so we will be moving it to the IL: Henderson County Health Department located at 208 W Elm St\, Gladstone\, IL 61437. Join for the 2023 Health Fair at the Stronghurst Park. There will be vendors\, games\, food\, free health screenings\, and more for the entire family!
URL:https://977wmoi.com/event/eagle-view-community-health-system-health-fair/
END:VEVENT
BEGIN:VEVENT
DTSTART;TZID=America/Chicago:20230809T130000
DTEND;TZID=America/Chicago:20230809T130000
DTSTAMP:20260425T215721
CREATED:20230731T192031Z
LAST-MODIFIED:20230731T192031Z
UID:432181-1691586000-1691586000@977wmoi.com
SUMMARY:BINGO at Strom Center in Oquawka
DESCRIPTION:Each person is allowed up to 4 cards free with each additional card 25 cents each. Refreshments will be served.
URL:https://977wmoi.com/event/bingo-at-strom-center-in-oquawka-9/
END:VEVENT
BEGIN:VEVENT
DTSTART;TZID=America/Chicago:20230809T130000
DTEND;TZID=America/Chicago:20230809T140000
DTSTAMP:20260425T215721
CREATED:20230629T163412Z
LAST-MODIFIED:20230629T163412Z
UID:430352-1691586000-1691589600@977wmoi.com
SUMMARY:Caregivers Support Group
DESCRIPTION:Monthly meetings are held the 2nd Wednesday of each month at the Warren County YMCA.
URL:https://977wmoi.com/event/caregivers-support-group/
END:VEVENT
BEGIN:VEVENT
DTSTART;VALUE=DATE:20230810
DTEND;VALUE=DATE:20230811
DTSTAMP:20260425T215721
CREATED:20230531T165419Z
LAST-MODIFIED:20230727T130633Z
UID:428859-1691625600-1691711999@977wmoi.com
SUMMARY:ROE #33 Summerfest
DESCRIPTION:Music\, activities\, food\, and fun for all ages!  For Mercer County it will be held at the Aledo Pool on August 10th from 4 to 7 pm. These events are free to attend.
URL:https://977wmoi.com/event/roe-33-summerfest-3/
END:VEVENT
BEGIN:VEVENT
DTSTART;TZID=America/Chicago:20230810T180000
DTEND;TZID=America/Chicago:20230810T200000
DTSTAMP:20260425T215721
CREATED:20230726T160541Z
LAST-MODIFIED:20230726T160541Z
UID:431897-1691690400-1691697600@977wmoi.com
SUMMARY:Fairy Shadow Lanterns with the Galesburg Parks & Rec
DESCRIPTION:Join for a night of fun crafts and friendship at the Lake Storey Pavillion. Cost is $10 per participant.
URL:https://977wmoi.com/event/fairy-shadow-lanterns-with-the-galesburg-parks-rec/
END:VEVENT
BEGIN:VEVENT
DTSTART;VALUE=DATE:20230811
DTEND;VALUE=DATE:20230813
DTSTAMP:20260425T215721
CREATED:20230328T192611Z
LAST-MODIFIED:20230328T192611Z
UID:425212-1691712000-1691884799@977wmoi.com
SUMMARY:Henderson County Old Tymers
DESCRIPTION:At the Henderson County Fairgrounds in Stronghurst.
URL:https://977wmoi.com/event/henderson-county-old-tymers/
END:VEVENT
BEGIN:VEVENT
DTSTART;VALUE=DATE:20230811
DTEND;VALUE=DATE:20230814
DTSTAMP:20260425T215721
CREATED:20230710T112606Z
LAST-MODIFIED:20230710T112606Z
UID:430796-1691712000-1691971199@977wmoi.com
SUMMARY:2023 Henderson County Olde Tyme Farm Show
DESCRIPTION:Held at the Henderson County Fairgrounds\, Route 94 in Stronghurst. The event will take place Friday\, August 11th through Sunday\, August 13th. Demonstrations\, vendors\, food\, and displays throughout\, plus a tractor parade at 1 pm on Saturday\, ham and bean supper from 4 to 7:30 pm. Then on Sunday there will be a tractor drive to Monmouth at 8 am. Gates open at 8 am daily\, free will donation. More information can be found on the Henderson County Olde Tymers Association on Facebook.
URL:https://977wmoi.com/event/2023-henderson-county-olde-tyme-farm-show/
END:VEVENT
BEGIN:VEVENT
DTSTART;TZID=America/Chicago:20230812T093000
DTEND;TZID=America/Chicago:20230812T110000
DTSTAMP:20260425T215721
CREATED:20230501T195238Z
LAST-MODIFIED:20230501T195238Z
UID:427199-1691832600-1691838000@977wmoi.com
SUMMARY:Lakeside Nature Center Free Nature Program
DESCRIPTION:Geared toward families and children. All ages are welcome! Dress for outdoor activities and stop by anytime between 9:30 am to 11 am. This session will focus on topics All About the Sun.
URL:https://977wmoi.com/event/lakeside-nature-center-free-nature-program-6/
END:VEVENT
BEGIN:VEVENT
DTSTART;TZID=America/Chicago:20230812T093000
DTEND;TZID=America/Chicago:20230812T110000
DTSTAMP:20260425T215721
CREATED:20230726T160958Z
LAST-MODIFIED:20230726T160958Z
UID:431901-1691832600-1691838000@977wmoi.com
SUMMARY:Learn All About the Sun with the Galesburg Parks & Rec
DESCRIPTION:Join at the Lakeside Nature Center and learn all about the power of the sun! The first 20 participants will create a solar print keepsake. This is a free event.
URL:https://977wmoi.com/event/learn-all-about-the-sun-with-the-galesburg-parks-rec/
END:VEVENT
BEGIN:VEVENT
DTSTART;TZID=America/Chicago:20230812T110000
DTEND;TZID=America/Chicago:20230812T120000
DTSTAMP:20260425T215721
CREATED:20230501T194740Z
LAST-MODIFIED:20230501T194740Z
UID:427191-1691838000-1691841600@977wmoi.com
SUMMARY:Little Sprouts at the Lakeside Nature Center
DESCRIPTION:Explore\, discover\, and create with your child during hands-on\, nature-based activities. This session will focus on Art in Nature. Geared toward 2-5 year olds. Cost is $5 per child (with guardian).
URL:https://977wmoi.com/event/little-sprouts-at-the-lakeside-nature-center-5/
END:VEVENT
BEGIN:VEVENT
DTSTART;TZID=America/Chicago:20230812T110000
DTEND;TZID=America/Chicago:20230812T140000
DTSTAMP:20260425T215721
CREATED:20230807T200151Z
LAST-MODIFIED:20230807T200151Z
UID:432515-1691838000-1691848800@977wmoi.com
SUMMARY:MRHS Marching Titans Charity Cookout
DESCRIPTION:Stop by for a cookout at the Monmouth Fareway\, benefitting the Monmouth-Roseville High School Marching Titans.
URL:https://977wmoi.com/event/mrhs-marching-titans-charity-cookout/
END:VEVENT
BEGIN:VEVENT
DTSTART;TZID=America/Chicago:20230812T163000
DTEND;TZID=America/Chicago:20230812T183000
DTSTAMP:20260425T215721
CREATED:20230731T192551Z
LAST-MODIFIED:20230731T192551Z
UID:432190-1691857800-1691865000@977wmoi.com
SUMMARY:Stronghurst UMC Ice Cream Social
DESCRIPTION:
URL:https://977wmoi.com/event/stronghurst-umc-ice-cream-social/
END:VEVENT
BEGIN:VEVENT
DTSTART;VALUE=DATE:20230813
DTEND;VALUE=DATE:20230814
DTSTAMP:20260425T215721
CREATED:20230802T203005Z
LAST-MODIFIED:20230802T203005Z
UID:432317-1691884800-1691971199@977wmoi.com
SUMMARY:Fall Flag Football at the Warren County YMCA
DESCRIPTION:League for 1st through 3rd grade kids and 4th through 6th graders begins Saturday\, August 26th with a clinic at the Warren County YMCA Fields. Practice begins the week of September 4th with games being held Saturday mornings starting September 16th between 8:30 and 11:30 am. Cost is $50 for members and $70 for nonmembers.
URL:https://977wmoi.com/event/fall-flag-football-at-the-warren-county-ymca/
END:VEVENT
BEGIN:VEVENT
DTSTART;TZID=America/Chicago:20230813T060000
DTEND;TZID=America/Chicago:20230813T120000
DTSTAMP:20260425T215721
CREATED:20230807T134434Z
LAST-MODIFIED:20230807T134434Z
UID:432437-1691906400-1691928000@977wmoi.com
SUMMARY:Keithsburg Fire Department Pancake Breakfast
DESCRIPTION:Serving pancakes\, sausage patties\, biscuits and gravy\, scrambled eggs\, and drink. Adults $8 and children $5. Raffle for 350 Legend Rifle\, tickets are $5 each or 5 for $20. 50/50 raffle as well. Money raised will go toward a new tanker truck for the Keithsburg Fire Department.
URL:https://977wmoi.com/event/keithsburg-fire-department-pancake-breakfast/
END:VEVENT
BEGIN:VEVENT
DTSTART;TZID=America/Chicago:20230813T153000
DTEND;TZID=America/Chicago:20230813T153000
DTSTAMP:20260425T215721
CREATED:20230718T210837Z
LAST-MODIFIED:20230718T210837Z
UID:431334-1691940600-1691940600@977wmoi.com
SUMMARY:Monmouth Area 85th Annual Old Timers Game
DESCRIPTION:Join at the Monmouth Park Ballfield at Captain Shimmin & Hall take on Captain Temple. Batting and fielding practice at 3:30 tp 4:30 pm. Pre-game ceremonies from 4:30 to 5 pm\, followed by the 85th Annual Old Timers Game.
URL:https://977wmoi.com/event/monmouth-area-85th-annual-old-timers-game/
END:VEVENT
BEGIN:VEVENT
DTSTART;TZID=America/Chicago:20230813T173000
DTEND;TZID=America/Chicago:20230813T173000
DTSTAMP:20260425T215721
CREATED:20230724T154510Z
LAST-MODIFIED:20230724T154510Z
UID:431707-1691947800-1691947800@977wmoi.com
SUMMARY:2nd Annual Doggie Splash at the Pattee Outdoor Waterpark
DESCRIPTION:August 13th\, 5:30pm small class\, 6:30pm large class. Register today at The Warren County YMCA!
URL:https://977wmoi.com/event/2nd-annual-doggie-splash-at-the-pattee-outdoor-waterpark/
END:VEVENT
BEGIN:VEVENT
DTSTART;TZID=America/Chicago:20230815T163000
DTEND;TZID=America/Chicago:20230815T184500
DTSTAMP:20260425T215721
CREATED:20230712T131621Z
LAST-MODIFIED:20230731T211356Z
UID:430937-1692117000-1692125100@977wmoi.com
SUMMARY:Warren County Soil and Water Conservation Annual Meeting & Steak Dinner
DESCRIPTION:Join for this free event to hear a year end review from the Warren County Soil and Water Conservation District. The meeting will begin at 4:30 pm followed by a steak dinner and guest speaker\, which will focus on Nutrient Management and Conservation. The event will be held at the Monmouth Country Club. RSVP by texting 309-299-5171
URL:https://977wmoi.com/event/warren-county-soil-and-water-conservation-annual-meeting-steak-dinner/
END:VEVENT
BEGIN:VEVENT
DTSTART;TZID=America/Chicago:20230815T173000
DTEND;TZID=America/Chicago:20230815T193000
DTSTAMP:20260425T215721
CREATED:20230801T193809Z
LAST-MODIFIED:20230801T193809Z
UID:432245-1692120600-1692127800@977wmoi.com
SUMMARY:West Central School District Back to School Night
DESCRIPTION:Bring your school supplies\, meet your teacher(s)\, and see your classroom(s). West Central Elementary is 5:30 to 6:30 pm\, West Central Middle School is 6 to 7:30 pm\, and West Central High School is 5:30 to 6:30 pm.
URL:https://977wmoi.com/event/west-central-school-district-back-to-school-night/
END:VEVENT
BEGIN:VEVENT
DTSTART;TZID=America/Chicago:20230817T163000
DTEND;TZID=America/Chicago:20230817T180000
DTSTAMP:20260425T215721
CREATED:20230809T130517Z
LAST-MODIFIED:20230809T130517Z
UID:432614-1692289800-1692295200@977wmoi.com
SUMMARY:M-R Junior High Backpack Night
DESCRIPTION:Walk through your schedule\, meet the staff\, practice opening your locker\, turn in athletic paperwork\, and learn about the VOICE program at the Junior High building in Roseville. A spaghetti supper will be provided by the 21st CCLC VOICE program.
URL:https://977wmoi.com/event/m-r-junior-high-backpack-night/
END:VEVENT
BEGIN:VEVENT
DTSTART;TZID=America/Chicago:20230818T110000
DTEND;TZID=America/Chicago:20230818T130000
DTSTAMP:20260425T215721
CREATED:20230505T133902Z
LAST-MODIFIED:20230505T133902Z
UID:427516-1692356400-1692363600@977wmoi.com
SUMMARY:Raritan State Bank Cookout
DESCRIPTION:Held at the Raritan State Bank Pavilion. Proceeds benefitting WIRC Victim Services.
URL:https://977wmoi.com/event/raritan-state-bank-cookout-6/
END:VEVENT
BEGIN:VEVENT
DTSTART;VALUE=DATE:20230819
DTEND;VALUE=DATE:20230820
DTSTAMP:20260425T215721
CREATED:20230815T144221Z
LAST-MODIFIED:20230815T144221Z
UID:432717-1692403200-1692489599@977wmoi.com
SUMMARY:St. James AME Church's Fish Fry
DESCRIPTION:Take out only at the St. Jame AME Church\, 900 South 3rd Street\, for a fish fry\, also serving spaghetti\, cole slaw\, applesauce\, and bread from 11 am to 2 pm and 4 pm to 6:30 pm. $10 donation suggested.
URL:https://977wmoi.com/event/st-james-ame-churchs-fish-fry/
END:VEVENT
END:VCALENDAR