BEGIN:VCALENDAR
VERSION:2.0
PRODID:-//Prairie Communications, LLC - ECPv6.15.20//NONSGML v1.0//EN
CALSCALE:GREGORIAN
METHOD:PUBLISH
X-WR-CALNAME:Prairie Communications, LLC
X-ORIGINAL-URL:https://977wmoi.com
X-WR-CALDESC:Events for Prairie Communications, LLC
REFRESH-INTERVAL;VALUE=DURATION:PT1H
X-Robots-Tag:noindex
X-PUBLISHED-TTL:PT1H
BEGIN:VTIMEZONE
TZID:UTC
BEGIN:STANDARD
TZOFFSETFROM:+0000
TZOFFSETTO:+0000
TZNAME:UTC
DTSTART:20180101T000000
END:STANDARD
END:VTIMEZONE
BEGIN:VEVENT
DTSTART;TZID=UTC:20190919T180000
DTEND;TZID=UTC:20190919T200000
DTSTAMP:20260423T231048
CREATED:20190916T181049Z
LAST-MODIFIED:20190916T181049Z
UID:369396-1568916000-1568923200@977wmoi.com
SUMMARY:DIY Pumpkins & Wood Tags
DESCRIPTION:At Personally Yours Creations\, 223 E Main Street in Galesburg. Event is just $15. For more information\, search them on Facebook.
URL:https://977wmoi.com/event/diy-pumpkins-wood-tags/
END:VEVENT
BEGIN:VEVENT
DTSTART;TZID=UTC:20190919T163000
DTEND;TZID=UTC:20190919T180000
DTSTAMP:20260423T231048
CREATED:20190916T181310Z
LAST-MODIFIED:20190916T181310Z
UID:369398-1568910600-1568916000@977wmoi.com
SUMMARY:Teacher's Night Out
DESCRIPTION:Play\, network\, and learn about ways to enhance your students’ museum experience at the Discovery Depot in Galesburg. Drinks and appetizers. Field trip information. Tour new science classroom. Event is FREE and for adults only\, exclusively for teachers\, assistants\, and administrators.
URL:https://977wmoi.com/event/teachers-night-out/
END:VEVENT
BEGIN:VEVENT
DTSTART;TZID=UTC:20190919T120000
DTEND;TZID=UTC:20190919T120000
DTSTAMP:20260423T231048
CREATED:20190827T200503Z
LAST-MODIFIED:20190827T200503Z
UID:368841-1568894400-1568894400@977wmoi.com
SUMMARY:Monmouth Associates Luncheon
DESCRIPTION:A college-community luncheon series featuring Monmouth speakers. Speakers will be Fareway Grocery Manager Brian Riley and Meat Manager Greg Stephens. Tickets are $10. Event will be held in the Highlander Room in the Stockdale Student Center. RSVP by September 17th by emailing alumni@monmouthcollege.edu or calling 309-457-2231.
URL:https://977wmoi.com/event/monmouth-associates-luncheon/
END:VEVENT
BEGIN:VEVENT
DTSTART;TZID=UTC:20190919T070000
DTEND;TZID=UTC:20190919T153000
DTSTAMP:20260423T231048
CREATED:20190909T183123Z
LAST-MODIFIED:20190909T183123Z
UID:369217-1568876400-1568907000@977wmoi.com
SUMMARY:Book and Gift Sale
DESCRIPTION:At the OSF HealthCare St. Mary Medical Center\, Conference Room 1B. Public access through Emergency Entrance.
URL:https://977wmoi.com/event/book-and-gift-sale-2/
END:VEVENT
BEGIN:VEVENT
DTSTART;TZID=UTC:20190918T113000
DTEND;TZID=UTC:20190918T123000
DTSTAMP:20260423T231048
CREATED:20190821T220110Z
LAST-MODIFIED:20190821T220110Z
UID:368651-1568806200-1568809800@977wmoi.com
SUMMARY:Bushnell Rec Center Blood Pressure Clinic
DESCRIPTION:FREE blood pressure screenings at the Bushnell Rec Center in Bushnell.
URL:https://977wmoi.com/event/bushnell-rec-center-blood-pressure-clinic/
END:VEVENT
BEGIN:VEVENT
DTSTART;TZID=UTC:20190918T090000
DTEND;TZID=UTC:20190918T170000
DTSTAMP:20260423T231048
CREATED:20190909T183003Z
LAST-MODIFIED:20190909T183003Z
UID:369215-1568797200-1568826000@977wmoi.com
SUMMARY:Book and Gift Sale
DESCRIPTION:At the OSF HealthCare St. Mary Medical Center\, Conference Room 1B. Public access through Emergency Entrance.
URL:https://977wmoi.com/event/book-and-gift-sale/
END:VEVENT
BEGIN:VEVENT
DTSTART;TZID=UTC:20190918T083000
DTEND;TZID=UTC:20190918T093000
DTSTAMP:20260423T231048
CREATED:20190821T220306Z
LAST-MODIFIED:20190821T220306Z
UID:368655-1568795400-1568799000@977wmoi.com
SUMMARY:Aledo YMCA Blood Pressure Clinic
DESCRIPTION:FREE blood pressure screenings at the Aledo YMCA in Aledo.
URL:https://977wmoi.com/event/aledo-ymca-blood-pressure-clinic-2/
END:VEVENT
BEGIN:VEVENT
DTSTART;TZID=UTC:20190918T080000
DTEND;TZID=UTC:20190918T090000
DTSTAMP:20260423T231048
CREATED:20190821T215955Z
LAST-MODIFIED:20190821T220016Z
UID:368649-1568793600-1568797200@977wmoi.com
SUMMARY:Jefferson House Blood Pressure Clinic
DESCRIPTION:FREE blood pressure screenings at Jefferson House in Macomb.
URL:https://977wmoi.com/event/jefferson-house-blood-pressure-clinic/
END:VEVENT
BEGIN:VEVENT
DTSTART;TZID=UTC:20190917T190000
DTEND;TZID=UTC:20190917T190000
DTSTAMP:20260423T231048
CREATED:20190827T195716Z
LAST-MODIFIED:20190827T195716Z
UID:368837-1568746800-1568746800@977wmoi.com
SUMMARY:Maple Leaf Community Concert Series: GIRLPOWER
DESCRIPTION:The first concert of the season. The L.A. Party Dolls present GIRLPOWER\, a tribute to the greatest ’60s era girl groups. Iconic songs by the Crystals\, Chiffons\, Supremes\, Ronettes\, and more. Children and students are always free. Season tickets are $70\, single concert tickets are $30 and both are available at the Monmouth Chamber of Commerce.
URL:https://977wmoi.com/event/maple-leaf-community-concert-series-girlpower/
END:VEVENT
BEGIN:VEVENT
DTSTART;TZID=UTC:20190917T100000
DTEND;TZID=UTC:20190917T110000
DTSTAMP:20260423T231048
CREATED:20190821T215901Z
LAST-MODIFIED:20190821T215901Z
UID:368647-1568714400-1568718000@977wmoi.com
SUMMARY:Grand Prairie Blood Pressure Clinic
DESCRIPTION:FREE blood pressure screenings at Grand Prairie in Macomb.
URL:https://977wmoi.com/event/grand-prairie-blood-pressure-clinic/
END:VEVENT
BEGIN:VEVENT
DTSTART;TZID=UTC:20190915T100000
DTEND;TZID=UTC:20190915T150000
DTSTAMP:20260423T231048
CREATED:20190909T182802Z
LAST-MODIFIED:20190909T182802Z
UID:369213-1568541600-1568559600@977wmoi.com
SUMMARY:VFW Post #2257 Car Cruise
DESCRIPTION:Located at 1001 Michigan Ave in Galesburg. No entry fee. FREE admission. Registration begins at 10am. Cruise ends at 3pm. Lunch will be available by Smokin Willie’s. 50/50 drawing and over $1\,000 in raffle items. Bake sale. Music by Jim Droke. Call 309-342-1181 for more information.
URL:https://977wmoi.com/event/vfw-post-2257-car-cruise/
END:VEVENT
BEGIN:VEVENT
DTSTART;TZID=UTC:20190914T170000
DTEND;TZID=UTC:20190914T170000
DTSTAMP:20260423T231048
CREATED:20190802T195317Z
LAST-MODIFIED:20190802T195317Z
UID:368103-1568480400-1568480400@977wmoi.com
SUMMARY:1st Annual Tailgate Party
DESCRIPTION:The United Sports Boosters will be hosting a tailgating party to raise money toward installing a seven lane all weather track\, reworking the long jump pit\, and improving the shotput and discus rings\, and also set up a permanent high jump area. The event will be held at the Monmouth VFW\, 830 N G Street. $100 donation gets you entrance for 2 people\, 2 complimentary meals and beverages\, and a raffle ticket. Food start at 5pm. Silent auction will be from 5 to 7:30. Music from The Dog & Dorann Show begins at 8pm. Ticket sales will be restricted to 200 tickets. Reserve your spot by August 30th by emailing unitedsportsboosters304@gmail.com or calling Tammy Davis at 309-536-0760. For more information\, contact United High School at 309-734-9411.
URL:https://977wmoi.com/event/1st-annual-tailgate-party/
END:VEVENT
BEGIN:VEVENT
DTSTART;TZID=UTC:20190914T163000
DTEND;TZID=UTC:20190914T200000
DTSTAMP:20260423T231048
CREATED:20190909T182533Z
LAST-MODIFIED:20190909T182533Z
UID:369211-1568478600-1568491200@977wmoi.com
SUMMARY:Oktoberfest
DESCRIPTION:Presented by the Prairie Players. Beer. Brats. Pretzels. The best German music for miles. Featuring the Heidelberg German Band. $5 admission.
URL:https://977wmoi.com/event/oktoberfest/
END:VEVENT
BEGIN:VEVENT
DTSTART;TZID=UTC:20190914T160000
DTEND;TZID=UTC:20190914T190000
DTSTAMP:20260423T231048
CREATED:20190823T191223Z
LAST-MODIFIED:20190905T185822Z
UID:368722-1568476800-1568487600@977wmoi.com
SUMMARY:Hog Roast
DESCRIPTION:Benefit for the Galesburg Rescue Mission and Women’s Shelter\, 435 E Third Street. Adults $7 donation and children 12 and under are $3. Tickets may be purchased at the Mission or at the door. For more information\, call 343-4151. Carry outs available.
URL:https://977wmoi.com/event/hog-roast/
END:VEVENT
BEGIN:VEVENT
DTSTART;TZID=UTC:20190914T110000
DTEND;TZID=UTC:20190914T130000
DTSTAMP:20260423T231048
CREATED:20190827T201519Z
LAST-MODIFIED:20190827T201519Z
UID:368857-1568458800-1568466000@977wmoi.com
SUMMARY:Hamburger Fry
DESCRIPTION:At the Monmouth American Legion
URL:https://977wmoi.com/event/hamburger-fry-3/
END:VEVENT
BEGIN:VEVENT
DTSTART;TZID=UTC:20190914T110000
DTEND;TZID=UTC:20190914T110000
DTSTAMP:20260423T231048
CREATED:20190820T234921Z
LAST-MODIFIED:20190820T234921Z
UID:368592-1568458800-1568458800@977wmoi.com
SUMMARY:The Woodshed's 3rd Annual Golf Outing
DESCRIPTION:The Woodshed\, 110 E 1st Ave Monmouth\, is having The Woodsheds  3rd Annual Golf Outing.\nSaturday\, September 14th at\nGibson Woods Golf Course\, Monmouth\nRegistration and Open Driving Range with Music by Carlos starts at 11am.\nShotgun start at 1pm.\nEarly Bird Registration $240\, per 4 man team\, includes cart\, ends September 7th.\nFood and Beverage provided throughout the day.\nTwo flights\, $400 1st\,  $200 2nd\,  and many hole prizes including a $10\,000 hole in one!\n\nProceeds to The Center for Youth & Family Solutions and\nThe Education Fund for the Children of Jenni Howe McGruder.\n\n\nFor more information Look for us on Facebook\, The Woodshed\,\nBecky Shearer\, and Gibson Woods
URL:https://977wmoi.com/event/the-woodsheds-3rd-annual-golf-outing/
END:VEVENT
BEGIN:VEVENT
DTSTART;TZID=UTC:20190914T110000
DTEND;TZID=UTC:20190914T110000
DTSTAMP:20260423T231048
CREATED:20190724T000043Z
LAST-MODIFIED:20190724T000043Z
UID:367812-1568458800-1568458800@977wmoi.com
SUMMARY:Fused Glass with Judi Minor in the BCA Classroom
DESCRIPTION:Create a Fused Glass Pocket Vase. Fee is $25 and includes instruction\, materials\, and refreshments. Call 309-734-3033 to reserve your spot today
URL:https://977wmoi.com/event/fused-glass-with-judi-minor-in-the-bca-classroom/
END:VEVENT
BEGIN:VEVENT
DTSTART;TZID=UTC:20190913T180000
DTEND;TZID=UTC:20190913T180000
DTSTAMP:20260423T231048
CREATED:20190909T182128Z
LAST-MODIFIED:20190909T182128Z
UID:369209-1568397600-1568397600@977wmoi.com
SUMMARY:Farm to Table Dinner
DESCRIPTION:With Chef Laura Lytle of Two Tomatoes Kitchen. Hosted at the Trillium Dell Farm\, 1277 Knox Road N in Knoxville. A portion of the proceeds for this event will go to Rafiki Wa Bukoba\, a nonprofit aimed at bettering the quality of the life for the Tanzania community. $50 a plate. $25 for those 18 and under. Live music. Silent auction.
URL:https://977wmoi.com/event/farm-to-table-dinner/
END:VEVENT
BEGIN:VEVENT
DTSTART;TZID=UTC:20190913T170000
DTEND;TZID=UTC:20190913T170000
DTSTAMP:20260423T231048
CREATED:20190827T201439Z
LAST-MODIFIED:20190827T201439Z
UID:368855-1568394000-1568394000@977wmoi.com
SUMMARY:Catfish Dinner
DESCRIPTION:At the Monmouth American Legion.
URL:https://977wmoi.com/event/catfish-dinner-3/
END:VEVENT
BEGIN:VEVENT
DTSTART;TZID=UTC:20190913T133000
DTEND;TZID=UTC:20190913T133000
DTSTAMP:20260423T231048
CREATED:20190904T185259Z
LAST-MODIFIED:20190904T185259Z
UID:369067-1568381400-1568381400@977wmoi.com
SUMMARY:Love Tea
DESCRIPTION:Sponsored by the Church Women United of Monmouth and Vicinity. Event will be held at First United Methodist Church\, 221 E Broadway. All ladies are invited. The speaker will be Lee Ann Porter from Loving Bottoms Diaper Bank. All attending are invited to bring a package of diapers to donate. Music will be provided by Bonnie Talbot. Each church represented on the board is asked to bring 2 dozen cookies for refreshments. For more information\, call 734-9437.
URL:https://977wmoi.com/event/love-tea/
END:VEVENT
BEGIN:VEVENT
DTSTART;TZID=UTC:20190911T180000
DTEND;TZID=UTC:20190911T200000
DTSTAMP:20260423T231048
CREATED:20190828T181735Z
LAST-MODIFIED:20190828T181735Z
UID:368907-1568224800-1568232000@977wmoi.com
SUMMARY:A Child’s Christmas in Wales Auditions
DESCRIPTION:At Wells Theater\, Monmouth College. Wednesday\, September 11\, 6pm Elementary/Middle School\, and 8pm High School/College/Adults. \nElementary/Middle School: *16 bars (30 seconds) of a favorite Christmas carol or hymn. Can be sung a cappella\, with recorded music\, or you can bring sheet music for our accompanist. *A short (less than 60 seconds) story about a favorite Christmas memory or tradition. Can be real or imagined! \nHigh School/College/Adult: *16 bars (30 seconds) of a favorite Christmas carol or hymn. Can be sung a cappella\, with recorded music\, or you can bring sheet music for our accompanist. *A short monologue from a contemporary or classical play. Actors who do not have a monologue can arrive early and read one provided\, or contact Todd Quick (TQUICK@monmouthcollege.edu) in advance. \nPhotos will be taken at auditions\, but actors are welcome to bring in photos and resumes if they desire. \nRehearsals are scheduled to begin in October. \nProduction is November 21-24\, 2019.
URL:https://977wmoi.com/event/a-childs-christmas-in-wales-auditions-2/
END:VEVENT
BEGIN:VEVENT
DTSTART;TZID=UTC:20190911T173000
DTEND;TZID=UTC:20190911T193000
DTSTAMP:20260423T231048
CREATED:20190821T181601Z
LAST-MODIFIED:20190821T181601Z
UID:368601-1568223000-1568230200@977wmoi.com
SUMMARY:Clay Classes with Janis Mars Wunderlich
DESCRIPTION:5:30 – 7:30 pm Wednesdays \nMonmouth College Ceramics Lab \nMcMichael Academic Building \nClay Classes begin Wednesday\, September 11. \n$20 per session\, is 10 weeks long \nRegister by calling 309-734-3033.
URL:https://977wmoi.com/event/clay-classes-with-janis-mars-wunderlich/
END:VEVENT
BEGIN:VEVENT
DTSTART;TZID=UTC:20190911T103000
DTEND;TZID=UTC:20190911T113000
DTSTAMP:20260423T231048
CREATED:20190821T215803Z
LAST-MODIFIED:20190821T215803Z
UID:368645-1568197800-1568201400@977wmoi.com
SUMMARY:Macomb YMCA Blood Pressure Clinic
DESCRIPTION:FREE blood pressure screenings at the YMCA Senior Center in Macomb.
URL:https://977wmoi.com/event/macomb-ymca-blood-pressure-clinic/
END:VEVENT
BEGIN:VEVENT
DTSTART;TZID=UTC:20190911T100000
DTEND;TZID=UTC:20190911T110000
DTSTAMP:20260423T231048
CREATED:20190821T215310Z
LAST-MODIFIED:20190821T215310Z
UID:368637-1568196000-1568199600@977wmoi.com
SUMMARY:Courtyard Estates Blood Pressure Clinic
DESCRIPTION:FREE blood pressure screenings at Courtyard Estates in Monmouth.
URL:https://977wmoi.com/event/courtyard-estates-blood-pressure-clinic/
END:VEVENT
BEGIN:VEVENT
DTSTART;TZID=UTC:20190911T090000
DTEND;TZID=UTC:20190911T110000
DTSTAMP:20260423T231048
CREATED:20190805T204009Z
LAST-MODIFIED:20190805T204009Z
UID:368129-1568192400-1568199600@977wmoi.com
SUMMARY:Senior Health Fair
DESCRIPTION:Join OSF HealthCare Holy Family Medical Center and Storm Center for FREE health screenings\, education\, information\, and resources from OSF Family\, Strom Center\, Eagle View Community Health Center\, Eye Surgeons Associates\, Jamieson Community Center\, Warren County Health Department\, Warren County Housing\, and more. A light breakfast will be provided. To be held at Strom Center\, 211 South A Street in Monmouth.
URL:https://977wmoi.com/event/senior-health-fair/
END:VEVENT
BEGIN:VEVENT
DTSTART;TZID=UTC:20190910T190000
DTEND;TZID=UTC:20190910T190000
DTSTAMP:20260423T231048
CREATED:20190822T184216Z
LAST-MODIFIED:20190822T184216Z
UID:368686-1568142000-1568142000@977wmoi.com
SUMMARY:Knox County Right to Life Meeting
DESCRIPTION:Meeting will be held at Corpus Christi Church on South Prairie Street (McAteer Center) in Galesburg. The meeting will include education and letter writing.
URL:https://977wmoi.com/event/knox-county-right-to-life-meeting-3/
END:VEVENT
BEGIN:VEVENT
DTSTART;TZID=UTC:20190910T183000
DTEND;TZID=UTC:20190910T183000
DTSTAMP:20260423T231048
CREATED:20190821T181405Z
LAST-MODIFIED:20190821T181405Z
UID:368596-1568140200-1568140200@977wmoi.com
SUMMARY:Artist in Residence Gallery Talk
DESCRIPTION:6:30 pm in the BCA Gallery\, Tuesday September 10th
URL:https://977wmoi.com/event/artist-in-residence-gallery-talk/
END:VEVENT
BEGIN:VEVENT
DTSTART;TZID=UTC:20190910T160000
DTEND;TZID=UTC:20190910T200000
DTSTAMP:20260423T231048
CREATED:20190828T181547Z
LAST-MODIFIED:20190828T181547Z
UID:368905-1568131200-1568145600@977wmoi.com
SUMMARY:A Child’s Christmas in Wales Auditions
DESCRIPTION:At Wells Theater\, Monmouth College. Tuesday\, September 10\, 4-6pm Elementary/Middle School\, and 6-8pm High School/College/Adults. \nElementary/Middle School:*16 bars (30 seconds) of a favorite Christmas carol or hymn. Can be sung a cappella\, with recorded music\, or you can bring sheet music for our accompanist. *A short (less than 60 seconds) story about a favorite Christmas memory or tradition. Can be real or imagined! \nHigh School/College/Adult: *16 bars (30 seconds) of a favorite Christmas carol or hymn. Can be sung a cappella\, with recorded music\, or you can bring sheet music for our accompanist. *A short monologue from a contemporary or classical play. Actors who do not have a monologue can arrive early and read one provided\, or contact Todd Quick (TQUICK@monmouthcollege.edu) in advance. \nPhotos will be taken at auditions\, but actors are welcome to bring in photos and resumes if they desire. \nRehearsals are scheduled to begin in October. \nProduction is November 21-24\, 2019.
URL:https://977wmoi.com/event/a-childs-christmas-in-wales-auditions/
END:VEVENT
BEGIN:VEVENT
DTSTART;TZID=UTC:20190909T160000
DTEND;TZID=UTC:20190909T160000
DTSTAMP:20260423T231048
CREATED:20190827T201354Z
LAST-MODIFIED:20190827T201354Z
UID:368853-1568044800-1568044800@977wmoi.com
SUMMARY:Parkinson's Support Group
DESCRIPTION:At the Monmouth YMCA
URL:https://977wmoi.com/event/parkinsons-support-group-4/
END:VEVENT
BEGIN:VEVENT
DTSTART;TZID=UTC:20190908T140000
DTEND;TZID=UTC:20190908T160000
DTSTAMP:20260423T231048
CREATED:20190821T181506Z
LAST-MODIFIED:20190821T181506Z
UID:368598-1567951200-1567958400@977wmoi.com
SUMMARY:Lawn Games at the Stewart House
DESCRIPTION:2-4 pm Sunday\, September 8th \n1015 E Euclid Ave \nPlay croquet\, quoits\, and more. Refreshments provided. \nAll ages welcomed and encouraged to wear white in the spirit of the occasion. Register by Aug 31 by calling 309-734-5154.
URL:https://977wmoi.com/event/lawn-games-at-the-stewart-house/
END:VEVENT
END:VCALENDAR