BEGIN:VCALENDAR
VERSION:2.0
PRODID:-//Prairie Communications, LLC - ECPv6.15.20//NONSGML v1.0//EN
CALSCALE:GREGORIAN
METHOD:PUBLISH
X-WR-CALNAME:Prairie Communications, LLC
X-ORIGINAL-URL:https://977wmoi.com
X-WR-CALDESC:Events for Prairie Communications, LLC
REFRESH-INTERVAL;VALUE=DURATION:PT1H
X-Robots-Tag:noindex
X-PUBLISHED-TTL:PT1H
BEGIN:VTIMEZONE
TZID:America/Chicago
BEGIN:DAYLIGHT
TZOFFSETFROM:-0600
TZOFFSETTO:-0500
TZNAME:CDT
DTSTART:20200308T080000
END:DAYLIGHT
BEGIN:STANDARD
TZOFFSETFROM:-0500
TZOFFSETTO:-0600
TZNAME:CST
DTSTART:20201101T070000
END:STANDARD
BEGIN:DAYLIGHT
TZOFFSETFROM:-0600
TZOFFSETTO:-0500
TZNAME:CDT
DTSTART:20210314T080000
END:DAYLIGHT
BEGIN:STANDARD
TZOFFSETFROM:-0500
TZOFFSETTO:-0600
TZNAME:CST
DTSTART:20211107T070000
END:STANDARD
BEGIN:DAYLIGHT
TZOFFSETFROM:-0600
TZOFFSETTO:-0500
TZNAME:CDT
DTSTART:20220313T080000
END:DAYLIGHT
BEGIN:STANDARD
TZOFFSETFROM:-0500
TZOFFSETTO:-0600
TZNAME:CST
DTSTART:20221106T070000
END:STANDARD
END:VTIMEZONE
BEGIN:VEVENT
DTSTART;TZID=America/Chicago:20211006T080000
DTEND;TZID=America/Chicago:20211006T100000
DTSTAMP:20260420T032100
CREATED:20210913T145857Z
LAST-MODIFIED:20210913T145857Z
UID:397526-1633507200-1633514400@977wmoi.com
SUMMARY:Henderson County Health Department COVID-19 Vaccine Clinic
DESCRIPTION:COVID 19 Vaccine Clinic every Wednesday from 8am- 10am. \nJohnson & Johnson\, Pfizer  and Moderna vaccine will be available. \nhttps://www.hendersoncountyhealthdepartmentillinois.org
URL:https://977wmoi.com/event/henderson-county-health-department-covid-19-vaccine-clinic-4/
END:VEVENT
BEGIN:VEVENT
DTSTART;TZID=America/Chicago:20211005T160000
DTEND;TZID=America/Chicago:20211005T183000
DTSTAMP:20260420T032100
CREATED:20210628T185628Z
LAST-MODIFIED:20210628T185628Z
UID:394324-1633449600-1633458600@977wmoi.com
SUMMARY:Alexis Farmer's Market
DESCRIPTION:Every Tuesday from May  through Oct\n4:00-6:30\nIn the Alexis Park\nRain or Shine\nVendors take Cash or Checks. Some Use Square\nHas a Variety of Crafters with their Own Unique Style\nThe only market where you’ll find Amish Baked Goods from Lee’s Bakery\nPlus many Other Vendors
URL:https://977wmoi.com/event/alexis-farmers-market-22/
END:VEVENT
BEGIN:VEVENT
DTSTART;TZID=America/Chicago:20211005T133000
DTEND;TZID=America/Chicago:20211005T153000
DTSTAMP:20260420T032100
CREATED:20210929T130716Z
LAST-MODIFIED:20210929T130716Z
UID:398264-1633440600-1633447800@977wmoi.com
SUMMARY:Knox County COVID-19 Vaccine Clinic
DESCRIPTION:At the Unified Command Vaccine Center 1:30pm-3:30pm Pfizer & Janssen (12 years of age and up)
URL:https://977wmoi.com/event/knox-county-covid-19-vaccine-clinic-15/
END:VEVENT
BEGIN:VEVENT
DTSTART;TZID=America/Chicago:20211004T170000
DTEND;TZID=America/Chicago:20211004T183000
DTSTAMP:20260420T032100
CREATED:20210920T201814Z
LAST-MODIFIED:20210920T201814Z
UID:397880-1633366800-1633372200@977wmoi.com
SUMMARY:Monmouth American Legion Soup Supper
DESCRIPTION:All you can eat. Serving chili\, loaded baked potato soup\, ham and beans and cornbread\, and sloppy joe sandwiches. Each meal comes with dessert\, drink\, and great friends to enjoy your meal with. A 50/50 raffle will be drawn at 6 pm. Cost is $8 for adults and $3 for children.
URL:https://977wmoi.com/event/monmouth-american-legion-soup-supper-2/
END:VEVENT
BEGIN:VEVENT
DTSTART;VALUE=DATE:20211004
DTEND;VALUE=DATE:20211009
DTSTAMP:20260420T032100
CREATED:20210908T151308Z
LAST-MODIFIED:20210908T151308Z
UID:397358-1633305600-1633737599@977wmoi.com
SUMMARY:City of Monmouth Fall Clean-Up Week
DESCRIPTION:Fall clean-up will be picked up on residents regular scheduled garbage day.
URL:https://977wmoi.com/event/city-of-monmouth-fall-clean-up-week/
END:VEVENT
BEGIN:VEVENT
DTSTART;TZID=America/Chicago:20211003T080000
DTEND;TZID=America/Chicago:20211003T080000
DTSTAMP:20260420T032100
CREATED:20210924T130134Z
LAST-MODIFIED:20210924T130134Z
UID:398075-1633248000-1633248000@977wmoi.com
SUMMARY:2021 Illinois State Cornhusking Contest
DESCRIPTION:At the Lewis Farm south east of Good Hope\, Illinois\, 14241 N 1800th RD Good Hope\, Illinois. Registration will start at 8 AM and contest begins at 9 AM. If contest is postponed or canceled it will be on the Illinois web site or Illinois Facebook page. Qualifying Huskers For National Competition: A National Cornhuskers Association member state may select their slate of contestants to national competition in any manner agreeable to the state. A state contest\, when possible\, is strongly recommended. If poor weather or crop failure prevents a state from holding a national qualifying contest\, the state may elect to send the preceding year’s qualifiers to the national contest for one year only. For more information contact Dick Humes \, Illinois State President\, at 309-729-5261 or Frank Hennenfent at frankhennenfent@yahoo.com
URL:https://977wmoi.com/event/2021-illinois-state-cornhusking-contest/
END:VEVENT
BEGIN:VEVENT
DTSTART;TZID=America/Chicago:20211002T180000
DTEND;TZID=America/Chicago:20211002T210000
DTSTAMP:20260420T032100
CREATED:20210909T132943Z
LAST-MODIFIED:20210909T132943Z
UID:397408-1633197600-1633208400@977wmoi.com
SUMMARY:Lake Warren Community Chili Cook-Off
DESCRIPTION:Held at the Community Center.
URL:https://977wmoi.com/event/lake-warren-community-chili-cook-off/
END:VEVENT
BEGIN:VEVENT
DTSTART;TZID=America/Chicago:20211002T090000
DTEND;TZID=America/Chicago:20211002T140000
DTSTAMP:20260420T032100
CREATED:20210920T135258Z
LAST-MODIFIED:20210920T135258Z
UID:397820-1633165200-1633183200@977wmoi.com
SUMMARY:Outdoorsmen Heritage Festival & Fish Fry
DESCRIPTION:Take a friend and bring a youngster. Experience stations include: shotgun clay bird trapshooting\, archery bow and arrow shooting\, a boater safety demonstration\, duck call training (FREE DR-85 for youth)\, and a waterfowl DOG retrieving demonstration. Event will be held at New Crystal Lake Club. Event starts at 9am\, fish fry at noon for a free will offering\, raffles\, 50/50\, and door prizes. Search http://facebook.com/FOHCWL for more.
URL:https://977wmoi.com/event/outdoorsmen-heritage-festival-fish-fry/
END:VEVENT
BEGIN:VEVENT
DTSTART;TZID=America/Chicago:20211001T170000
DTEND;TZID=America/Chicago:20211001T190000
DTSTAMP:20260420T032100
CREATED:20210924T131232Z
LAST-MODIFIED:20210924T131333Z
UID:398080-1633107600-1633114800@977wmoi.com
SUMMARY:Downtown Monmouth Farmer's Market
DESCRIPTION:Held in the Fortress Bank Parking lot\, next to Dairy Queen and Save-A-Lot on North Main Street.
URL:https://977wmoi.com/event/downtown-monmouth-farmers-market-15/
END:VEVENT
BEGIN:VEVENT
DTSTART;VALUE=DATE:20211001
DTEND;VALUE=DATE:20211018
DTSTAMP:20260420T032100
CREATED:20210920T203955Z
LAST-MODIFIED:20210920T203955Z
UID:397898-1633046400-1634515199@977wmoi.com
SUMMARY:Adult Volleyball Fall/Winter League
DESCRIPTION:Begins November 3rd and runs through February 23\, 2022. No games will be held November 24th\, December 29th\, or January 5th. 11 games and a double elimination tournament in competitive and non-competitive teams will be played at the Hawthorne gym and Lakeside Recreation Center. Early bird registration before October 3rd is $350\, but after cost is $390 per team. Registration ends October 17th. For more information\, contact the Galesburg Parks and Rec at 309-345-3683.
URL:https://977wmoi.com/event/adult-volleyball-fall-winter-league/
END:VEVENT
BEGIN:VEVENT
DTSTART;VALUE=DATE:20211001
DTEND;VALUE=DATE:20211002
DTSTAMP:20260420T032100
CREATED:20210901T145644Z
LAST-MODIFIED:20210901T145644Z
UID:397031-1633046400-1633132799@977wmoi.com
SUMMARY:Village of Stronghurst Fall Clean Up
DESCRIPTION:Reminder that yard waste\, liquids\, hazardous waste\, tires\, batteries\, electronics\, and large auto-truck parts are not included in the clean up per Waste Management.
URL:https://977wmoi.com/event/village-of-stronghurst-fall-clean-up/
END:VEVENT
BEGIN:VEVENT
DTSTART;TZID=America/Chicago:20210930T173000
DTEND;TZID=America/Chicago:20210930T173000
DTSTAMP:20260420T032100
CREATED:20210804T184745Z
LAST-MODIFIED:20210804T184745Z
UID:395846-1633023000-1633023000@977wmoi.com
SUMMARY:GreifShare Support Group
DESCRIPTION:Meets each Thursday at 5:30 pm at the Christian Church of Abingdon\, 409 South Main. This community outreach ministry is offered to anyone in need of help and encouragement after the death of a spouse\, family member\, or friend. Anyone and everyone is welcome. For more information\, call the church and ask for Pastor Will Brown at 309-462-3344.
URL:https://977wmoi.com/event/greifshare-support-group/
END:VEVENT
BEGIN:VEVENT
DTSTART;TZID=America/Chicago:20210930T083000
DTEND;TZID=America/Chicago:20210930T103000
DTSTAMP:20260420T032100
CREATED:20210929T130638Z
LAST-MODIFIED:20210929T130638Z
UID:398262-1632990600-1632997800@977wmoi.com
SUMMARY:Knox County COVID-19 Vaccine Clinic
DESCRIPTION:At the Unified Command Vaccine Center 8:30am-10:30am Moderna & Janssen (18 years of age and up)
URL:https://977wmoi.com/event/knox-county-covid-19-vaccine-clinic-14/
END:VEVENT
BEGIN:VEVENT
DTSTART;TZID=America/Chicago:20210929T180000
DTEND;TZID=America/Chicago:20210929T210000
DTSTAMP:20260420T032100
CREATED:20210902T195613Z
LAST-MODIFIED:20210902T195613Z
UID:397134-1632938400-1632949200@977wmoi.com
SUMMARY:Relay for Life Painting Party
DESCRIPTION:Participants can choose any design from Pinned It Creations in Monmouth from their Facebook page or create their own design. Price will vary based on design. BYOB. Light snacks will be provided. Contact Dina to reserve your spot at 309-221-2795. All proceeds benefit Relay for Life of Warren and Henderson County.
URL:https://977wmoi.com/event/relay-for-life-painting-party/
END:VEVENT
BEGIN:VEVENT
DTSTART;TZID=America/Chicago:20210929T133000
DTEND;TZID=America/Chicago:20210929T160000
DTSTAMP:20260420T032100
CREATED:20210826T134617Z
LAST-MODIFIED:20210826T134617Z
UID:396735-1632922200-1632931200@977wmoi.com
SUMMARY:WCHD First or Second Dose COVID Vaccine Clinic
DESCRIPTION:Pfizer\, Moderna\, and Johnson & Johnson will be available by appointment only. Call 309-734-0823 during regular business hours. Clinic will be held at the Warren County Health Department in Monmouth.
URL:https://977wmoi.com/event/wchd-first-or-second-dose-covid-vaccine-clinic-5/
END:VEVENT
BEGIN:VEVENT
DTSTART;TZID=America/Chicago:20210929T080000
DTEND;TZID=America/Chicago:20210929T100000
DTSTAMP:20260420T032100
CREATED:20210913T145806Z
LAST-MODIFIED:20210927T165932Z
UID:397524-1632902400-1632909600@977wmoi.com
SUMMARY:*CANCELED THIS WEEK ONLY* Henderson County Health Department COVID-19 Vaccine Clinic
DESCRIPTION:COVID 19 Vaccine Clinic every Wednesday from 8am- 10am. \nJohnson & Johnson\, Pfizer  and Moderna vaccine will be available. \nhttps://www.hendersoncountyhealthdepartmentillinois.org
URL:https://977wmoi.com/event/henderson-county-health-department-covid-19-vaccine-clinic-3/
END:VEVENT
BEGIN:VEVENT
DTSTART;TZID=America/Chicago:20210928T160000
DTEND;TZID=America/Chicago:20210928T183000
DTSTAMP:20260420T032100
CREATED:20210628T185549Z
LAST-MODIFIED:20210628T185549Z
UID:394321-1632844800-1632853800@977wmoi.com
SUMMARY:Alexis Farmer's Market
DESCRIPTION:Every Tuesday from May  through Oct\n4:00-6:30\nIn the Alexis Park\nRain or Shine\nVendors take Cash or Checks. Some Use Square\nHas a Variety of Crafters with their Own Unique Style\nThe only market where you’ll find Amish Baked Goods from Lee’s Bakery\nPlus many Other Vendors
URL:https://977wmoi.com/event/alexis-farmers-market-21/
END:VEVENT
BEGIN:VEVENT
DTSTART;TZID=America/Chicago:20210928T130000
DTEND;TZID=America/Chicago:20210928T150000
DTSTAMP:20260420T032100
CREATED:20210902T194753Z
LAST-MODIFIED:20210902T194753Z
UID:397128-1632834000-1632841200@977wmoi.com
SUMMARY:Monmouth Strom Center BINGO
DESCRIPTION:Cost is 25 cents per card. Refreshments and drink are available. You are invited to bring your own lunch at noon to enjoy prior to playing BINGO.
URL:https://977wmoi.com/event/monmouth-strom-center-bingo-4/
END:VEVENT
BEGIN:VEVENT
DTSTART;TZID=America/Chicago:20210927T173000
DTEND;TZID=America/Chicago:20210927T193000
DTSTAMP:20260420T032100
CREATED:20210922T131014Z
LAST-MODIFIED:20210922T131014Z
UID:397965-1632763800-1632771000@977wmoi.com
SUMMARY:Knox County COVID-19 Vaccine Clinic
DESCRIPTION:At the Galesburg Public Library 5:30pm-7:30pm Moderna\, Pfizer & Janssen.
URL:https://977wmoi.com/event/knox-county-covid-19-vaccine-clinic-13/
END:VEVENT
BEGIN:VEVENT
DTSTART;TZID=America/Chicago:20210927T163000
DTEND;TZID=America/Chicago:20210927T190000
DTSTAMP:20260420T032100
CREATED:20210917T205034Z
LAST-MODIFIED:20210917T205034Z
UID:397776-1632760200-1632769200@977wmoi.com
SUMMARY:Heritage Bible Church Indian Taco Supper
DESCRIPTION:Meal size taco and ice cream for the drive thru only event at 302 East Broadway in Monmouth. $8 donation.
URL:https://977wmoi.com/event/heritage-bible-church-indian-taco-supper-3/
END:VEVENT
BEGIN:VEVENT
DTSTART;TZID=America/Chicago:20210925T133000
DTEND;TZID=America/Chicago:20210925T133000
DTSTAMP:20260420T032100
CREATED:20210831T184145Z
LAST-MODIFIED:20210831T184145Z
UID:396963-1632576600-1632576600@977wmoi.com
SUMMARY:Tin Cup Mural Ribbon Cutting
DESCRIPTION:The Buchanan Center for the Arts\, in partnership with the Tin Cup\, invite you to a ribbon cutting at 1:30pm Saturday\, September 25\, at 226 S. Main Street\, Monmouth\, to celebrate the newest public art in Warren County. You Matter! is the work of BCA Artists in Residence\, Rebecca Quick and Kendall Thompson\, and reflects the colorful\, creative\, and strong history of our community. This project was made possible by the Galesburg Community Foundation\, the Illinois Arts Council Agency\, Smithfield Foods\, and the Warren County United Way. #GrantsInAction #ArtKeepsGoing #BuildingCommunityThroughTheArts #ArtsForAll
URL:https://977wmoi.com/event/tin-cup-mural-ribbon-cutting/
END:VEVENT
BEGIN:VEVENT
DTSTART;TZID=America/Chicago:20210925T110000
DTEND;TZID=America/Chicago:20210925T140000
DTSTAMP:20260420T032100
CREATED:20210922T135012Z
LAST-MODIFIED:20210922T135012Z
UID:397975-1632567600-1632578400@977wmoi.com
SUMMARY:Oquawka United Methodist Church Annual Homemade Chicken Noodle Dinner
DESCRIPTION:Featuring homemade chicken noodles\, mashed potatoes\, veggie\, salads\, and desserts\, iced tea\, coffee\, or lemonade. Carry-outs are available. Free will donation. Church is located at 302 North 3rd Street in Oquawka.
URL:https://977wmoi.com/event/oquawka-united-methodist-church-annual-homemade-chicken-noodle-dinner/
END:VEVENT
BEGIN:VEVENT
DTSTART;TZID=America/Chicago:20210925T080000
DTEND;TZID=America/Chicago:20210925T150000
DTSTAMP:20260420T032100
CREATED:20210810T164649Z
LAST-MODIFIED:20210810T164649Z
UID:396024-1632556800-1632582000@977wmoi.com
SUMMARY:Monmouth City Wide Yard and Business Sidewalk Sales
DESCRIPTION:The Monmouth Area Chamber of Commerce is hosting the 1st annual City Wide Yard Sales and Business Sales. Want to host a sale? Registration forms are available at the Chamber Office. For more information\, call 309-734-3181 or email assistant@monmouthilchamber.com.
URL:https://977wmoi.com/event/monmouth-city-wide-yard-and-business-sidewalk-sales-2/
END:VEVENT
BEGIN:VEVENT
DTSTART;TZID=America/Chicago:20210925T080000
DTEND;TZID=America/Chicago:20210925T120000
DTSTAMP:20260420T032100
CREATED:20210628T191213Z
LAST-MODIFIED:20210628T191213Z
UID:394366-1632556800-1632571200@977wmoi.com
SUMMARY:Galesburg Farmer's Market
DESCRIPTION:Simmons & Kellogg St\, Downtown Galesburg\, IL\, 362 E Simmons St\, Galesburg\, IL \nThe Galesburg Farmers’ Market has fresh fruits and veggies\, meats and eggs\, honey\, baked goods\, handmade crafts and jewelry\, and so much more. Located in downtown Galesburg near the corner of Simmons and Seminary streets.
URL:https://977wmoi.com/event/galesburg-farmers-market-15/
END:VEVENT
BEGIN:VEVENT
DTSTART;TZID=America/Chicago:20210925T070000
DTEND;TZID=America/Chicago:20210925T100000
DTSTAMP:20260420T032100
CREATED:20210917T184916Z
LAST-MODIFIED:20210917T184916Z
UID:397766-1632553200-1632564000@977wmoi.com
SUMMARY:Drive Thru Flu Vaccine Clinic
DESCRIPTION:The Knox County Health Department in conjunction with Hinchliff Pearson West will be holding their convenient Drive Thru Flu Vaccination Clinic on Saturday\, September 25th from 7:00 a.m. to 10:00 a.m. at Hinchliff Pearson West\, 1070 West Fremont Street\, Galesburg. This clinic is for those 18 years of age and up. At the Drive Thru Flu Vaccination Clinic\, Knox County Health Department staff will be practicing masking throughout the event\, and all individuals are being asked to wear face coverings as well. The cost for the flu vaccine this year is $35 for adults\, $70 for high-dose. Medicaid and Medicare\, cash\, check will be accepted.
URL:https://977wmoi.com/event/drive-thru-flu-vaccine-clinic/
END:VEVENT
BEGIN:VEVENT
DTSTART;VALUE=DATE:20210925
DTEND;VALUE=DATE:20210926
DTSTAMP:20260420T032100
CREATED:20210903T165122Z
LAST-MODIFIED:20210903T165122Z
UID:397198-1632528000-1632614399@977wmoi.com
SUMMARY:WIAR Rummage Sale
DESCRIPTION:The Western Illinois Animal Rescue rummage sale is a part of the Monmouth City Wide Yard sales going on throughout the day.
URL:https://977wmoi.com/event/wiar-rummage-sale/
END:VEVENT
BEGIN:VEVENT
DTSTART;VALUE=DATE:20210925
DTEND;VALUE=DATE:20210926
DTSTAMP:20260420T032100
CREATED:20210902T193758Z
LAST-MODIFIED:20210902T193758Z
UID:397114-1632528000-1632614399@977wmoi.com
SUMMARY:Schuyler Street Stroll in Oquawka
DESCRIPTION:Join in on the fun down by the river at Museum Park during the Annual Oquawka Schuyler Street Stroll. Crafters\, vendors\, food\, live music\, fun for all ages! Homemade chicken dinner at the Oquawka United Methodist Church at 3rd and Knox Street from 11 am to 2 pm. The 26th annual Car Cruise will be on display from 9 am to 3 pm. Also\, the Oquawka Horseshoe Club will host a horseshoe tourney at 10 behind the baseball diamond.
URL:https://977wmoi.com/event/schuyler-street-stroll-in-oquawka/
END:VEVENT
BEGIN:VEVENT
DTSTART;TZID=America/Chicago:20210924T200000
DTEND;TZID=America/Chicago:20210924T213000
DTSTAMP:20260420T032100
CREATED:20210920T201329Z
LAST-MODIFIED:20210920T201329Z
UID:397878-1632513600-1632519000@977wmoi.com
SUMMARY:Nature at Night: Compass Nature Quest
DESCRIPTION:Are you up for the challenge of navigating the dark woods with only a compass\, flashlight\, and your wits as your guide? Brush up on your orienteering skills when you follow the directions on the path to discovery with the Galesburg Parks and Recreation. Event will be held at the Lakeside Nature Center Shelter and is $5 per person; open to all ages. Registration is required.
URL:https://977wmoi.com/event/nature-at-night-compass-nature-quest/
END:VEVENT
BEGIN:VEVENT
DTSTART;TZID=America/Chicago:20210924T170000
DTEND;TZID=America/Chicago:20210924T190000
DTSTAMP:20260420T032100
CREATED:20210628T190641Z
LAST-MODIFIED:20210924T131733Z
UID:394350-1632502800-1632510000@977wmoi.com
SUMMARY:Downtown Monmouth Farmer's Market
DESCRIPTION:Held in the Fortress Bank Parking lot\, next to Dairy Queen and Save-A-Lot on North Main Street.
URL:https://977wmoi.com/event/downtown-monmouth-farmers-market-20/
END:VEVENT
BEGIN:VEVENT
DTSTART;TZID=America/Chicago:20210924T090000
DTEND;TZID=America/Chicago:20210924T110000
DTSTAMP:20260420T032100
CREATED:20210922T130856Z
LAST-MODIFIED:20210922T130856Z
UID:397963-1632474000-1632481200@977wmoi.com
SUMMARY:Knox County COVID-19 Vaccine Clinic
DESCRIPTION:At the First Christian Church\, Galesburg 9:00am-11:00am Moderna\, Pfizer & Janssen
URL:https://977wmoi.com/event/knox-county-covid-19-vaccine-clinic-12/
END:VEVENT
END:VCALENDAR