BEGIN:VCALENDAR
VERSION:2.0
PRODID:-//Prairie Communications, LLC - ECPv6.15.20//NONSGML v1.0//EN
CALSCALE:GREGORIAN
METHOD:PUBLISH
X-WR-CALNAME:Prairie Communications, LLC
X-ORIGINAL-URL:https://977wmoi.com
X-WR-CALDESC:Events for Prairie Communications, LLC
REFRESH-INTERVAL;VALUE=DURATION:PT1H
X-Robots-Tag:noindex
X-PUBLISHED-TTL:PT1H
BEGIN:VTIMEZONE
TZID:UTC
BEGIN:STANDARD
TZOFFSETFROM:+0000
TZOFFSETTO:+0000
TZNAME:UTC
DTSTART:20180101T000000
END:STANDARD
END:VTIMEZONE
BEGIN:VEVENT
DTSTART;TZID=UTC:20190910T190000
DTEND;TZID=UTC:20190910T190000
DTSTAMP:20260425T194145
CREATED:20190822T184216Z
LAST-MODIFIED:20190822T184216Z
UID:368686-1568142000-1568142000@977wmoi.com
SUMMARY:Knox County Right to Life Meeting
DESCRIPTION:Meeting will be held at Corpus Christi Church on South Prairie Street (McAteer Center) in Galesburg. The meeting will include education and letter writing.
URL:https://977wmoi.com/event/knox-county-right-to-life-meeting-3/
END:VEVENT
BEGIN:VEVENT
DTSTART;TZID=UTC:20190910T183000
DTEND;TZID=UTC:20190910T183000
DTSTAMP:20260425T194145
CREATED:20190821T181405Z
LAST-MODIFIED:20190821T181405Z
UID:368596-1568140200-1568140200@977wmoi.com
SUMMARY:Artist in Residence Gallery Talk
DESCRIPTION:6:30 pm in the BCA Gallery\, Tuesday September 10th
URL:https://977wmoi.com/event/artist-in-residence-gallery-talk/
END:VEVENT
BEGIN:VEVENT
DTSTART;TZID=UTC:20190910T160000
DTEND;TZID=UTC:20190910T200000
DTSTAMP:20260425T194145
CREATED:20190828T181547Z
LAST-MODIFIED:20190828T181547Z
UID:368905-1568131200-1568145600@977wmoi.com
SUMMARY:A Child’s Christmas in Wales Auditions
DESCRIPTION:At Wells Theater\, Monmouth College. Tuesday\, September 10\, 4-6pm Elementary/Middle School\, and 6-8pm High School/College/Adults. \nElementary/Middle School:*16 bars (30 seconds) of a favorite Christmas carol or hymn. Can be sung a cappella\, with recorded music\, or you can bring sheet music for our accompanist. *A short (less than 60 seconds) story about a favorite Christmas memory or tradition. Can be real or imagined! \nHigh School/College/Adult: *16 bars (30 seconds) of a favorite Christmas carol or hymn. Can be sung a cappella\, with recorded music\, or you can bring sheet music for our accompanist. *A short monologue from a contemporary or classical play. Actors who do not have a monologue can arrive early and read one provided\, or contact Todd Quick (TQUICK@monmouthcollege.edu) in advance. \nPhotos will be taken at auditions\, but actors are welcome to bring in photos and resumes if they desire. \nRehearsals are scheduled to begin in October. \nProduction is November 21-24\, 2019.
URL:https://977wmoi.com/event/a-childs-christmas-in-wales-auditions/
END:VEVENT
BEGIN:VEVENT
DTSTART;TZID=UTC:20190909T160000
DTEND;TZID=UTC:20190909T160000
DTSTAMP:20260425T194145
CREATED:20190827T201354Z
LAST-MODIFIED:20190827T201354Z
UID:368853-1568044800-1568044800@977wmoi.com
SUMMARY:Parkinson's Support Group
DESCRIPTION:At the Monmouth YMCA
URL:https://977wmoi.com/event/parkinsons-support-group-4/
END:VEVENT
BEGIN:VEVENT
DTSTART;TZID=UTC:20190908T140000
DTEND;TZID=UTC:20190908T160000
DTSTAMP:20260425T194145
CREATED:20190821T181506Z
LAST-MODIFIED:20190821T181506Z
UID:368598-1567951200-1567958400@977wmoi.com
SUMMARY:Lawn Games at the Stewart House
DESCRIPTION:2-4 pm Sunday\, September 8th \n1015 E Euclid Ave \nPlay croquet\, quoits\, and more. Refreshments provided. \nAll ages welcomed and encouraged to wear white in the spirit of the occasion. Register by Aug 31 by calling 309-734-5154.
URL:https://977wmoi.com/event/lawn-games-at-the-stewart-house/
END:VEVENT
BEGIN:VEVENT
DTSTART;TZID=UTC:20190908T073000
DTEND;TZID=UTC:20190908T110000
DTSTAMP:20260425T194145
CREATED:20190827T201259Z
LAST-MODIFIED:20190827T201259Z
UID:368851-1567927800-1567940400@977wmoi.com
SUMMARY:All You Can Eat Breakfast
DESCRIPTION:At the Monmouth VFW.
URL:https://977wmoi.com/event/all-you-can-eat-breakfast/
END:VEVENT
BEGIN:VEVENT
DTSTART;TZID=UTC:20190907T130000
DTEND;TZID=UTC:20190907T130000
DTSTAMP:20260425T194145
CREATED:20190827T203937Z
LAST-MODIFIED:20190827T203937Z
UID:368881-1567861200-1567861200@977wmoi.com
SUMMARY:The Grand Alumni Band: Music in the Park
DESCRIPTION:FREE concert event. At the Monmouth Park Myron Mikita Band Shelter. In case of rain event will be held in the MRHS Auditorium. 50/50 raffle ticket and t-shirt fundraiser. $1 per ticket or 6 for $5. Shirts are $10 each. All proceeds to benefit the Grand Alumni Band Youth Music Scholarship Fund. For more information\, call or text 309-536-3041.
URL:https://977wmoi.com/event/the-grand-alumni-band-music-in-the-park/
END:VEVENT
BEGIN:VEVENT
DTSTART;TZID=UTC:20190907T110000
DTEND;TZID=UTC:20190907T130000
DTSTAMP:20260425T194145
CREATED:20190827T201208Z
LAST-MODIFIED:20190827T201208Z
UID:368849-1567854000-1567861200@977wmoi.com
SUMMARY:Hamburger Fry
DESCRIPTION:At the Monmouth American Legion.
URL:https://977wmoi.com/event/hamburger-fry-2/
END:VEVENT
BEGIN:VEVENT
DTSTART;TZID=UTC:20190907T110000
DTEND;TZID=UTC:20190907T110000
DTSTAMP:20260425T194145
CREATED:20190823T011149Z
LAST-MODIFIED:20190823T011149Z
UID:368716-1567854000-1567854000@977wmoi.com
SUMMARY:2nd Annual Critter Cruz
DESCRIPTION:Sign up at The Corral from 11am to 12pm. Last vehicle/bike in by 6pm. $10 per person. Join them on the 2nd annual Critter Cruz benefit run. All proceeds go to the care\, housing food\, and medical needs of orphaned\, injured and sick animals of Critter Cove Wildlife Rescue and Rehab in Galesburg. All vehicles welcomed. There will be food\, 50/50 drawing\, music\, and a live auction. For more information\, search Critter Cove on Facebook.
URL:https://977wmoi.com/event/2nd-annual-critter-cruz/
END:VEVENT
BEGIN:VEVENT
DTSTART;TZID=UTC:20190907T100000
DTEND;TZID=UTC:20190907T150000
DTSTAMP:20260425T194145
CREATED:20190806T183351Z
LAST-MODIFIED:20190806T183351Z
UID:368203-1567850400-1567868400@977wmoi.com
SUMMARY:5th Annual Monarch Migration Festival
DESCRIPTION:At the Lakeside Nature Center in Galesburg\, 1033 S Lake Storey Road. Activity Schedule includes: 11am Monarch Butterfly and Endangered Species Act\, 11:30am Nature-Based Art\, Noon Small Steps\, Low Cost\, Big Impacts\, 12:30pm Monarch Meal Plan\, 1pm Story time in the garden\, 1:30pm Monarch Life Cycle 101\, 2pm Story time in the garden\, 2:30pm Butterfly costume parade\, and 3pm will be the Monarch Butterfly release.
URL:https://977wmoi.com/event/5th-annual-monarch-migration-festival/
END:VEVENT
BEGIN:VEVENT
DTSTART;TZID=UTC:20190907T080000
DTEND;TZID=UTC:20190907T080000
DTSTAMP:20260425T194145
CREATED:20190802T194702Z
LAST-MODIFIED:20190802T194702Z
UID:368101-1567843200-1567843200@977wmoi.com
SUMMARY:6th Annual Fall Festival 5K
DESCRIPTION:The Prime Beef Festival along with the Warren-Henderson Farm Bureau Young Leaders are hosting the 6th Annual Fall Festival 5K Run/Walk. The countryside course will take participants down and back along 80th Street just outside of Monmouth\, by the Bayer Learning Center. Each participant will receive a race t-shirt and an after race snack and beverage. Race begins at 8am with registration starting at 7:15am. Race fee is $25 before August 26th and $30 after. Forms can be mailed or given to the Warren-Henderson Farm Bureau\, PO Box 348\, Monmouth\, IL. Make checks payable to WHFB.
URL:https://977wmoi.com/event/6th-annual-fall-festival-5k/
END:VEVENT
BEGIN:VEVENT
DTSTART;VALUE=DATE:20190907
DTEND;VALUE=DATE:20190908
DTSTAMP:20260425T194145
CREATED:20190829T210557Z
LAST-MODIFIED:20190829T210557Z
UID:368956-1567814400-1567900799@977wmoi.com
SUMMARY:Macomb Balloon Rally
DESCRIPTION:6:45 am balloon flight. 6pm balloon flight. 6-9 pm Live music on Vince Grady Field\, Jera and the Absoluts. 7:30 pm balloon glow at Vince Grady Field. Information on the status of flights will be updated on the event’s Facebook page\, Macomb Balloon Rally.
URL:https://977wmoi.com/event/macomb-balloon-rally-2/
END:VEVENT
BEGIN:VEVENT
DTSTART;VALUE=DATE:20190907
DTEND;VALUE=DATE:20190908
DTSTAMP:20260425T194145
CREATED:20190827T203206Z
LAST-MODIFIED:20190827T203206Z
UID:368879-1567814400-1567900799@977wmoi.com
SUMMARY:Warren County Prime Beef Festival
DESCRIPTION:Fall Festival 5K at 8am. Car Show 8-4pm. Vendor Tent (8:30-3:30) in the Industrial Tent. Kids Day activities (10-11:30). Kids Day special\, each ride discounted by 1 ticket (12-4). Amusement rides 4-close. Demolition Derby at 7pm\, general admission if $10\, kids 5 and under are free.
URL:https://977wmoi.com/event/warren-county-prime-beef-festival-5/
END:VEVENT
BEGIN:VEVENT
DTSTART;TZID=UTC:20190906T173000
DTEND;TZID=UTC:20190906T173000
DTSTAMP:20260425T194145
CREATED:20190829T210356Z
LAST-MODIFIED:20190829T210356Z
UID:368954-1567791000-1567791000@977wmoi.com
SUMMARY:Macomb Balloon Rally
DESCRIPTION:5:30 to 6:30 pm WIU Jazz Studio Orchestra on Vince Grady Field. 6pm Balloon Flight\, balloons fly out from Vince Grady Field. Information on the status of flights will be updated on the event’s Facebook page\, Macomb Balloon Rally.
URL:https://977wmoi.com/event/macomb-balloon-rally/
END:VEVENT
BEGIN:VEVENT
DTSTART;TZID=UTC:20190906T170000
DTEND;TZID=UTC:20190906T170000
DTSTAMP:20260425T194145
CREATED:20190827T201129Z
LAST-MODIFIED:20190827T201129Z
UID:368847-1567789200-1567789200@977wmoi.com
SUMMARY:Catfish Dinner
DESCRIPTION:At the Monmouth American Legion
URL:https://977wmoi.com/event/catfish-dinner-2/
END:VEVENT
BEGIN:VEVENT
DTSTART;TZID=UTC:20190906T130000
DTEND;TZID=UTC:20190906T150000
DTSTAMP:20260425T194145
CREATED:20190823T202418Z
LAST-MODIFIED:20190823T202418Z
UID:368733-1567774800-1567782000@977wmoi.com
SUMMARY:Galesburg Police Chief Retirement Party
DESCRIPTION:Join the Galesburg Police Department for a Retirement Party to honor Chief David Christensen for 37 years of dedicated service to the Galesburg community. Public open house will be held at the Council Chambers in City Hall\, 55 West Tompkins Street.
URL:https://977wmoi.com/event/galesburg-police-chief-retirement-party/
END:VEVENT
BEGIN:VEVENT
DTSTART;TZID=UTC:20190906T120000
DTEND;TZID=UTC:20190906T130000
DTSTAMP:20260425T194145
CREATED:20190806T183012Z
LAST-MODIFIED:20190806T183012Z
UID:368201-1567771200-1567774800@977wmoi.com
SUMMARY:Lunch and Learn Brain Power
DESCRIPTION:Presented by the Illinois Extension Office. There will be 3 installments of classes to attend: August 23rd Hold That Thought!\, August 30th Two Heads are Better than One\, and September 6th 10 Warning Signs of Alzheimer’s. Each class will be held at the Galesburg Community Foundation\, 246 E Main Street from noon until 1pm. Bring your lunch! For more information on these sessions and to register\, visit https://go.illinois.edu/BrainPower.
URL:https://977wmoi.com/event/lunch-and-learn-brain-power-3/
END:VEVENT
BEGIN:VEVENT
DTSTART;VALUE=DATE:20190906
DTEND;VALUE=DATE:20190907
DTSTAMP:20260425T194145
CREATED:20190827T202945Z
LAST-MODIFIED:20190827T202945Z
UID:368877-1567728000-1567814399@977wmoi.com
SUMMARY:Warren County Prime Beef Festival
DESCRIPTION:G&M/WRAM Farmers Breakfast at 7:30 to 9am. Ag Day for Kids at Bayer Learning Center at 8;45 to 11:15. Special Persons Day at the Fair (12-2). Amusement rides begin at 4pm. Chicken Scramble and Calf Tagging at 6pm. Chuck Murphy in the Beer tent at 7pm.
URL:https://977wmoi.com/event/warren-county-prime-beef-festival-4/
END:VEVENT
BEGIN:VEVENT
DTSTART;TZID=UTC:20190905T133000
DTEND;TZID=UTC:20190905T153000
DTSTAMP:20260425T194145
CREATED:20190805T205723Z
LAST-MODIFIED:20190805T205723Z
UID:368135-1567690200-1567697400@977wmoi.com
SUMMARY:A Matter of Balance
DESCRIPTION:For adults 60 and older\, anyone interested in improving their balance\, flexibility\, and strength\, anyone who has fallen in the past or is concerned of falling\, and anyone who restricts their activities due to falling concerns. Call 309-734-5677 to register and learn more about this 8 week class. Will be held at the Oquawka Strom Center site\, 410 Schuyler Street.
URL:https://977wmoi.com/event/a-matter-of-balance/
END:VEVENT
BEGIN:VEVENT
DTSTART;TZID=UTC:20190905T090000
DTEND;TZID=UTC:20190905T100000
DTSTAMP:20260425T194145
CREATED:20190821T215147Z
LAST-MODIFIED:20190821T215147Z
UID:368635-1567674000-1567677600@977wmoi.com
SUMMARY:Hawthorne Inn Blood Pressure Clinic
DESCRIPTION:FREE blood pressure screenings at Hawthorne Inn in Galesburg.
URL:https://977wmoi.com/event/hawthorne-inn-blood-pressure-clinic-2/
END:VEVENT
BEGIN:VEVENT
DTSTART;TZID=UTC:20190905T090000
DTEND;TZID=UTC:20190905T090000
DTSTAMP:20260425T194145
CREATED:20190829T192508Z
LAST-MODIFIED:20190829T192508Z
UID:368944-1567674000-1567674000@977wmoi.com
SUMMARY:Galesburg Church Women Meeting
DESCRIPTION:To be held at the First Christian Church\, 301 N Broad Street. The program will be about “Christian Community Helping Neighbors.” Each person is asked to bring a non-perishable food item for the food pantry. All area women are invited. For more information\, call 342-2459.
URL:https://977wmoi.com/event/galesburg-church-women-meeting/
END:VEVENT
BEGIN:VEVENT
DTSTART;TZID=UTC:20190905T083000
DTEND;TZID=UTC:20190905T103000
DTSTAMP:20260425T194145
CREATED:20190821T215701Z
LAST-MODIFIED:20190821T215701Z
UID:368643-1567672200-1567679400@977wmoi.com
SUMMARY:Macomb Citizen's Bank Blood Pressure Clinic
DESCRIPTION:FREE blood pressure screenings at Citizen’s Bank Senior Day\, with free Pulse Ox testing too\, in Macomb.
URL:https://977wmoi.com/event/macomb-citizens-bank-blood-pressure-clinic/
END:VEVENT
BEGIN:VEVENT
DTSTART;VALUE=DATE:20190905
DTEND;VALUE=DATE:20190906
DTSTAMP:20260425T194145
CREATED:20190827T202633Z
LAST-MODIFIED:20190827T202711Z
UID:368874-1567641600-1567727999@977wmoi.com
SUMMARY:Warren County Prime Beef Festival
DESCRIPTION:Beef show at 8:30am and is open to Warren and Henderson County participation. Arm Band Night 5-10pm ($22). Livestock auction at 6:30 at the Monmouth American Legion. Oval Derby at 7pm\, $10 for general admission\, kids 5 and under are free.
URL:https://977wmoi.com/event/warren-county-prime-beef-festival-3/
END:VEVENT
BEGIN:VEVENT
DTSTART;TZID=UTC:20190904T170000
DTEND;TZID=UTC:20190904T170000
DTSTAMP:20260425T194145
CREATED:20190827T201033Z
LAST-MODIFIED:20190827T201033Z
UID:368845-1567616400-1567616400@977wmoi.com
SUMMARY:Prime Beef Festival Parade
DESCRIPTION:Awards will be given at the Fairgrounds at 6:30. Fair runs through September 7th.
URL:https://977wmoi.com/event/prime-beef-festival-parade/
END:VEVENT
BEGIN:VEVENT
DTSTART;TZID=UTC:20190904T120000
DTEND;TZID=UTC:20190904T130000
DTSTAMP:20260425T194145
CREATED:20190827T200711Z
LAST-MODIFIED:20190827T200711Z
UID:368843-1567598400-1567602000@977wmoi.com
SUMMARY:Monmouth On The Move Luncheon
DESCRIPTION:At Alfano’s\, sponsored by Warren County United Way.
URL:https://977wmoi.com/event/monmouth-on-the-move-luncheon/
END:VEVENT
BEGIN:VEVENT
DTSTART;TZID=UTC:20190904T103000
DTEND;TZID=UTC:20190904T113000
DTSTAMP:20260425T194145
CREATED:20190821T215540Z
LAST-MODIFIED:20190821T215540Z
UID:368641-1567593000-1567596600@977wmoi.com
SUMMARY:Colchester Senior Center Blood Pressure Clinic
DESCRIPTION:FREE blood pressure screenings at the Senior Center in Colchester.
URL:https://977wmoi.com/event/colchester-senior-center-blood-pressure-clinic/
END:VEVENT
BEGIN:VEVENT
DTSTART;TZID=UTC:20190904T100000
DTEND;TZID=UTC:20190904T110000
DTSTAMP:20260425T194145
CREATED:20190821T215034Z
LAST-MODIFIED:20190821T215034Z
UID:368633-1567591200-1567594800@977wmoi.com
SUMMARY:Seminary Estates Blood Pressure Clinic
DESCRIPTION:FREE blood pressure screenings at Seminary Estates in Galesburg.
URL:https://977wmoi.com/event/seminary-estates-blood-pressure-clinic-2/
END:VEVENT
BEGIN:VEVENT
DTSTART;VALUE=DATE:20190904
DTEND;VALUE=DATE:20190905
DTSTAMP:20260425T194145
CREATED:20190827T202430Z
LAST-MODIFIED:20190827T202430Z
UID:368871-1567555200-1567641599@977wmoi.com
SUMMARY:Warren County Prime Beef Festival
DESCRIPTION:Steer weigh-in (8-10am) at the Roseville Fairgrounds. Prime Beef run at 4:30. Parade at 5pm. Arm band night starting at 5pm ($22). Eternity Road in the Beer Tent (7pm).
URL:https://977wmoi.com/event/warren-county-prime-beef-festival-2/
END:VEVENT
BEGIN:VEVENT
DTSTART;TZID=UTC:20190903T160000
DTEND;TZID=UTC:20190903T160000
DTSTAMP:20260425T194145
CREATED:20190827T202134Z
LAST-MODIFIED:20190827T202134Z
UID:368869-1567526400-1567526400@977wmoi.com
SUMMARY:Warren County Prime Beef Festival
DESCRIPTION:Swine weigh-in (4-6). Swine show at the Roseville Fairgrounds at 6pm.
URL:https://977wmoi.com/event/warren-county-prime-beef-festival/
END:VEVENT
BEGIN:VEVENT
DTSTART;VALUE=DATE:20190902
DTEND;VALUE=DATE:20190908
DTSTAMP:20260425T194145
CREATED:20190826T183159Z
LAST-MODIFIED:20190826T183159Z
UID:368782-1567382400-1567900799@977wmoi.com
SUMMARY:48th Annual National Stearman Fly-In
DESCRIPTION:For a list of events\, visit http://stearmanflyin.com/.
URL:https://977wmoi.com/event/48th-annual-national-stearman-fly-in/
END:VEVENT
END:VCALENDAR