BEGIN:VCALENDAR
VERSION:2.0
PRODID:-//Prairie Communications, LLC - ECPv6.15.20//NONSGML v1.0//EN
CALSCALE:GREGORIAN
METHOD:PUBLISH
X-ORIGINAL-URL:https://977wmoi.com
X-WR-CALDESC:Events for Prairie Communications, LLC
REFRESH-INTERVAL;VALUE=DURATION:PT1H
X-Robots-Tag:noindex
X-PUBLISHED-TTL:PT1H
BEGIN:VTIMEZONE
TZID:America/Chicago
BEGIN:DAYLIGHT
TZOFFSETFROM:-0600
TZOFFSETTO:-0500
TZNAME:CDT
DTSTART:20220313T080000
END:DAYLIGHT
BEGIN:STANDARD
TZOFFSETFROM:-0500
TZOFFSETTO:-0600
TZNAME:CST
DTSTART:20221106T070000
END:STANDARD
BEGIN:DAYLIGHT
TZOFFSETFROM:-0600
TZOFFSETTO:-0500
TZNAME:CDT
DTSTART:20230312T080000
END:DAYLIGHT
BEGIN:STANDARD
TZOFFSETFROM:-0500
TZOFFSETTO:-0600
TZNAME:CST
DTSTART:20231105T070000
END:STANDARD
BEGIN:DAYLIGHT
TZOFFSETFROM:-0600
TZOFFSETTO:-0500
TZNAME:CDT
DTSTART:20240310T080000
END:DAYLIGHT
BEGIN:STANDARD
TZOFFSETFROM:-0500
TZOFFSETTO:-0600
TZNAME:CST
DTSTART:20241103T070000
END:STANDARD
END:VTIMEZONE
BEGIN:VEVENT
DTSTART;TZID=America/Chicago:20230923T100000
DTEND;TZID=America/Chicago:20230923T100000
DTSTAMP:20260421T190954
CREATED:20230915T133211Z
LAST-MODIFIED:20230915T133211Z
UID:434505-1695463200-1695463200@977wmoi.com
SUMMARY:Monmouth-Roseville Hall of Achievement Induction
DESCRIPTION:Join at the Warren County History Museum for the induction ceremony of Amy Gebauer Sestito\, Mike “Bo” Williams\, and Jane Kellogg into the Monmouth-Roseville Hall of Achievement.
URL:https://977wmoi.com/event/monmouth-roseville-hall-of-achievement-induction/
END:VEVENT
BEGIN:VEVENT
DTSTART;TZID=America/Chicago:20230923T100000
DTEND;TZID=America/Chicago:20230923T120000
DTSTAMP:20260421T190954
CREATED:20230501T200512Z
LAST-MODIFIED:20230501T200512Z
UID:427212-1695463200-1695470400@977wmoi.com
SUMMARY:Nature in Your Neighborhood at Inbinder Park
DESCRIPTION:Explore\, observe\, and discover new and amazing places in your own neighborhood. This free summer program features three or four exciting stations. All ages are welcome. Topic of discussion is Be a Bee and Butterfly Buddy.
URL:https://977wmoi.com/event/nature-in-your-neighborhood-at-inbinder-park/
END:VEVENT
BEGIN:VEVENT
DTSTART;TZID=America/Chicago:20230925T163000
DTEND;TZID=America/Chicago:20230925T190000
DTSTAMP:20260421T190954
CREATED:20230920T195117Z
LAST-MODIFIED:20230920T195117Z
UID:434781-1695659400-1695668400@977wmoi.com
SUMMARY:Heritage Bible Church Indian Taco Supper
DESCRIPTION:Drive thru only at the Heritage Bible Church in Monmouth for a meal size taco and ice cream. Meal costs $8.
URL:https://977wmoi.com/event/heritage-bible-church-indian-taco-supper-4/
END:VEVENT
BEGIN:VEVENT
DTSTART;TZID=America/Chicago:20230926T180000
DTEND;TZID=America/Chicago:20230926T200000
DTSTAMP:20260421T190954
CREATED:20230807T153029Z
LAST-MODIFIED:20230807T153029Z
UID:432477-1695751200-1695758400@977wmoi.com
SUMMARY:Charcoal Medium with the Galesburg Community Arts Center
DESCRIPTION:Join to unlock the mysteries of the charcoal medium with instructor Tina Browder. Cost is $25 per person.
URL:https://977wmoi.com/event/charcoal-medium-with-the-galesburg-community-arts-center/
END:VEVENT
BEGIN:VEVENT
DTSTART;TZID=America/Chicago:20230926T180000
DTEND;TZID=America/Chicago:20230926T200000
DTSTAMP:20260421T190954
CREATED:20230821T183202Z
LAST-MODIFIED:20230821T183202Z
UID:433229-1695751200-1695758400@977wmoi.com
SUMMARY:Ghost or Pumpkin Wall Hanging Decor Event
DESCRIPTION:Get ready for Halloween with the Galesburg Parks and Recreation by creating a ghost or pumpkin wall decoration. $15 for one project or $25 to create both. Event will be held at the Lake Storey Pavilion.
URL:https://977wmoi.com/event/ghost-or-pumpkin-wall-hanging-decor-event/
END:VEVENT
BEGIN:VEVENT
DTSTART;TZID=America/Chicago:20230928T173000
DTEND;TZID=America/Chicago:20230928T173000
DTSTAMP:20260421T190954
CREATED:20230927T134959Z
LAST-MODIFIED:20230927T134959Z
UID:435204-1695922200-1695922200@977wmoi.com
SUMMARY:West Central Homecoming Tailgate & Bonfire
DESCRIPTION:5:30 pm tailgate for athletes and students. 6 pm Power Buff. 7 pm Powder Puff. 8 pm bonfire.
URL:https://977wmoi.com/event/west-central-homecoming-tailgate-bonfire/
END:VEVENT
BEGIN:VEVENT
DTSTART;TZID=America/Chicago:20230928T180000
DTEND;TZID=America/Chicago:20230928T190000
DTSTAMP:20260421T190954
CREATED:20230501T153413Z
LAST-MODIFIED:20230501T153413Z
UID:427138-1695924000-1695927600@977wmoi.com
SUMMARY:Grief Support Group at Strom Center
DESCRIPTION:Strom Center is partnering with Legacy Estates and Beacon of Hope Hospice to offer a once a month Grief Support Group for 5 months. Session 5: Thursday\, September 28th – Celebration.
URL:https://977wmoi.com/event/grief-support-group-at-strom-center-5/
END:VEVENT
BEGIN:VEVENT
DTSTART;TZID=America/Chicago:20230928T180000
DTEND;TZID=America/Chicago:20230928T210000
DTSTAMP:20260421T190954
CREATED:20230807T150950Z
LAST-MODIFIED:20230807T150950Z
UID:432443-1695924000-1695934800@977wmoi.com
SUMMARY:Paint Crawl with the Galesburg Community Arts Center
DESCRIPTION:Join for an exciting night of paint\, jazz\, and Van Gogh. Part Paint by Number and part Pub Crawl. $35 for members. $40 for nonmembers.
URL:https://977wmoi.com/event/paint-crawl-with-the-galesburg-community-arts-center/
END:VEVENT
BEGIN:VEVENT
DTSTART;TZID=America/Chicago:20230928T190000
DTEND;TZID=America/Chicago:20230928T190000
DTSTAMP:20260421T190954
CREATED:20230926T132343Z
LAST-MODIFIED:20230926T132343Z
UID:435102-1695927600-1695927600@977wmoi.com
SUMMARY:United Red Storm Sports Boosters Homecoming Bonfire
DESCRIPTION:To celebrate Homecoming week\, join at United High School for a bonfire\, fun\, food\, car smashing\, and more\, provided by the United Sports Boosters.
URL:https://977wmoi.com/event/united-red-storm-sports-boosters-homecoming-bonfire/
END:VEVENT
BEGIN:VEVENT
DTSTART;TZID=America/Chicago:20230929T170000
DTEND;TZID=America/Chicago:20230929T190000
DTSTAMP:20260421T190954
CREATED:20230922T150109Z
LAST-MODIFIED:20230922T150148Z
UID:434935-1696006800-1696014000@977wmoi.com
SUMMARY:United FFA Hog Roast
DESCRIPTION:United FFA will hold their annual Hog Roast in the Common area inside United High School prior to the Homecoming football game against Abingdon-Avon. Cost is $5 for adults and $3 for kids.
URL:https://977wmoi.com/event/united-ffa-hog-roast-3/
END:VEVENT
BEGIN:VEVENT
DTSTART;TZID=America/Chicago:20230929T180000
DTEND;TZID=America/Chicago:20230929T180000
DTSTAMP:20260421T190954
CREATED:20230605T150214Z
LAST-MODIFIED:20230605T150214Z
UID:429060-1696010400-1696010400@977wmoi.com
SUMMARY:West Central Alumni Homecoming Event
DESCRIPTION:All West Central Heat\, Southern\, and Union alumni\, teachers\, and staff are invited to attend. Admission to the game is free. A social hour with light refreshments will begin at 6 pm. At 6:45 pm\, classes ending in a 3 or 8 will be recognized on the football field. Kick-off will be at 7 pm against Bushnell-Prairie City.
URL:https://977wmoi.com/event/west-central-alumni-homecoming-event/
END:VEVENT
BEGIN:VEVENT
DTSTART;TZID=America/Chicago:20230929T180000
DTEND;TZID=America/Chicago:20230929T180000
DTSTAMP:20260421T190954
CREATED:20230913T131759Z
LAST-MODIFIED:20230913T131759Z
UID:434314-1696010400-1696010400@977wmoi.com
SUMMARY:Western Illinois Museum LatinX Music & Dance Party
DESCRIPTION:The Western Illinois Museum and Casa Latina Cultural Center at WIU celebrate Hispanic Heritage Month with music and dance. On Friday\, September 29th special guests Daniel Rojas and Claire Happel Ashe will perform with the members of EnsAmble Ad Hoc on the Museum’s indoor Our Front Porch. At 6:00 pm the doors and bar open followed by two sets of music at 7:00 pm and 8:00 pm. Dance lessons will be available in between the sets of music. There is a suggested $5 donation at the door.
URL:https://977wmoi.com/event/western-illinois-museum-latinx-music-dance-party/
END:VEVENT
BEGIN:VEVENT
DTSTART;TZID=America/Chicago:20230929T190000
DTEND;TZID=America/Chicago:20230929T190000
DTSTAMP:20260421T190954
CREATED:20230313T194143Z
LAST-MODIFIED:20230313T194143Z
UID:424400-1696014000-1696014000@977wmoi.com
SUMMARY:The Great Nicola Magic Festival After Dark
DESCRIPTION:Join the Warren County History Museum for the 4th Annual festival from the hometown of the Greatest Mystifier ever known.  Event for those 21 years and older at Meks on Main\, 201 North Main Street in Monmouth.
URL:https://977wmoi.com/event/the-great-nicola-magic-festival-after-dark/
END:VEVENT
BEGIN:VEVENT
DTSTART;TZID=America/Chicago:20230929T200000
DTEND;TZID=America/Chicago:20230929T213000
DTSTAMP:20260421T190954
CREATED:20230913T165402Z
LAST-MODIFIED:20230913T165402Z
UID:434371-1696017600-1696023000@977wmoi.com
SUMMARY:Galesburg Parks & Rec Nature at Night
DESCRIPTION:Join to learn more about things that go bump in the night at the Lakeside Nature Center Shelter in Galesburg. $5 per participant\, open to all ages. Must register by September 28th.
URL:https://977wmoi.com/event/galesburg-parks-rec-nature-at-night/
END:VEVENT
BEGIN:VEVENT
DTSTART;VALUE=DATE:20230930
DTEND;VALUE=DATE:20231001
DTSTAMP:20260421T190954
CREATED:20230912T131216Z
LAST-MODIFIED:20230912T131216Z
UID:434227-1696032000-1696118399@977wmoi.com
SUMMARY:Prairie Players Civic Theatre Presents A Murder Is Announced
DESCRIPTION:It’s time to buy your tickets and put on your sleuthing caps as Prairie Players Civic Theatre presents A Murder Is Announced directed by Zach Hunter on September 30\, October 6 & 7 at 7:30 P.M. and October 1 & 8 at 2:00 P.M. at their theater at 160 S. Seminary Street in Galesburg\, Illinois. Ticket prices are 16.00 for adults and 9.00 for students.
URL:https://977wmoi.com/event/prairie-players-civic-theatre-presents-a-murder-is-announced/
END:VEVENT
BEGIN:VEVENT
DTSTART;TZID=America/Chicago:20230930T070000
DTEND;TZID=America/Chicago:20230930T103000
DTSTAMP:20260421T190954
CREATED:20230925T201439Z
LAST-MODIFIED:20230925T201439Z
UID:435071-1696057200-1696069800@977wmoi.com
SUMMARY:Pancakes for Paws
DESCRIPTION:Join the Knox County Sheriff’s Office for a flapjack fundraiser breakfast event at 152 South Kellogg Street in Galesburg. All donations will benefit the Knox County Sheriff’s Office K9 fund.
URL:https://977wmoi.com/event/pancakes-for-paws/
END:VEVENT
BEGIN:VEVENT
DTSTART;TZID=America/Chicago:20230930T080000
DTEND;TZID=America/Chicago:20230930T120000
DTSTAMP:20260421T190954
CREATED:20230926T193916Z
LAST-MODIFIED:20230926T194004Z
UID:435155-1696060800-1696075200@977wmoi.com
SUMMARY:Alexis Presbyterian Women’s Group Fall Bazaar
DESCRIPTION:The Alexis Presbyterian Women’s group will sponsor a Fall Bazaar this Saturday\, September 30th from 8 am to 12 pm at the Alexis United Presbyterian Church. There will be a breakfast\, bake sale\, fall and Christmas crafts\, raffle\, antiques\, white elephant\, pumpkins\, and more. All are welcome!
URL:https://977wmoi.com/event/alexis-united-presbyterian-church-woman-fall-bazaar/
LOCATION:Alexis United Presbyterian Church
END:VEVENT
BEGIN:VEVENT
DTSTART;TZID=America/Chicago:20230930T090000
DTEND;TZID=America/Chicago:20230930T090000
DTSTAMP:20260421T190954
CREATED:20230920T144346Z
LAST-MODIFIED:20230927T144008Z
UID:434742-1696064400-1696064400@977wmoi.com
SUMMARY:Reserve Artisan Ales Oktoberfest 5K and Community Event
DESCRIPTION:5K run and walk will begin at 9 am with awards and Oktoberfest events to follow at Reserve Artisan Ales in Galesburg. Events include a bags tournament\, German food\, kids crafts\, live music\, Stein holding\, and more. Free entry and family friendly event. Proceeds from the 5K will benefit the Knox County Humane Society.
URL:https://977wmoi.com/event/reserve-artisan-ales-oktoberfest-5k-and-community-event/
END:VEVENT
BEGIN:VEVENT
DTSTART;TZID=America/Chicago:20230930T100000
DTEND;TZID=America/Chicago:20230930T120000
DTSTAMP:20260421T190954
CREATED:20230821T183015Z
LAST-MODIFIED:20230821T183015Z
UID:433227-1696068000-1696075200@977wmoi.com
SUMMARY:Junior Lifeguard Training
DESCRIPTION:Those interested in becoming a lifeguard are encouraged to register for this Junior Lifeguard Training session at the Hawthorne Pool in Galesburg. This is for ages 10 to 14. Cost is $15 per person.
URL:https://977wmoi.com/event/junior-lifeguard-training/
END:VEVENT
BEGIN:VEVENT
DTSTART;TZID=America/Chicago:20230930T123000
DTEND;TZID=America/Chicago:20230930T123000
DTSTAMP:20260421T190954
CREATED:20230313T194334Z
LAST-MODIFIED:20230313T194334Z
UID:424402-1696077000-1696077000@977wmoi.com
SUMMARY:The Great Nicola Magic Festival Family Day
DESCRIPTION:Join the Warren County History Museum for the 4th Annual festival from the hometown of the Greatest Mystifier ever known. Held at the Warren County History Museum for all ages! Magical and entertaining shows. Crafts and activities. Cotton candy and slushies. Giveaways. Johnsons Smokehouse and much more!
URL:https://977wmoi.com/event/the-great-nicola-magic-festival-family-day-2/
END:VEVENT
BEGIN:VEVENT
DTSTART;TZID=America/Chicago:20230930T173000
DTEND;TZID=America/Chicago:20230930T173000
DTSTAMP:20260421T190954
CREATED:20230921T191938Z
LAST-MODIFIED:20230921T191938Z
UID:434879-1696095000-1696095000@977wmoi.com
SUMMARY:OSF Children's Hospital Harvest Hustle 5K/1M Run/Walk
DESCRIPTION:5K/1.5 Mile Run/Walk: Both courses begin and end on Galesburg Jr/Sr High Campus. 5K course will go behind Field House and turn on Dayton Drive. The course will wind through the neighborhood and return back to campus. The route ends with final lap inside F&M Bank Stadium. The route does NOT cross any major streets. \nThe 1.5 mile course also begins on campus and will circle back around campus ending with last lap inside F&M Bank Stadium. \nParticipants are encouraged to run or walk either course. Wagons and strollers are permitted. Pets will NOT be allowed in the event. \nGive Back\, Galesburg Harvest Hustle (runsignup.com)
URL:https://977wmoi.com/event/osf-childrens-hospital-harvest-hustle-5k-1m-run-walk/
END:VEVENT
BEGIN:VEVENT
DTSTART;TZID=America/Chicago:20231001T080000
DTEND;TZID=America/Chicago:20231001T080000
DTSTAMP:20260421T190954
CREATED:20230927T144803Z
LAST-MODIFIED:20230927T144803Z
UID:435220-1696147200-1696147200@977wmoi.com
SUMMARY:2023 Illinois State Cornhusking Contest
DESCRIPTION:Illinois State Cornhusking contest will take place at the Hennenfent Farm\, west of 1063 30th Street\, Smithshire\, IL. Illinois membership is required to pick in the classes to qualify for the national cornhusking contest. Illinois membership is $3 for youth and $15 for all adult classes. Top 3 contestants in each class qualify for the national contest. Classes include age groups from 10 to 14 years old up to the 50 and older and any age categories\, which can be seen here: Illinois Corn Husking. Registration begins at 8 am with the contest to start at 9 am.
URL:https://977wmoi.com/event/2023-illinois-state-cornhusking-contest/
END:VEVENT
BEGIN:VEVENT
DTSTART;TZID=America/Chicago:20231001T133000
DTEND;TZID=America/Chicago:20231001T150000
DTSTAMP:20260421T190954
CREATED:20230912T133220Z
LAST-MODIFIED:20230912T133220Z
UID:434237-1696167000-1696172400@977wmoi.com
SUMMARY:Knox County Right to Life Annual Life Chain
DESCRIPTION:Nationwide interdenominational\, peaceful\, prayerful demonstration since 1987. Christians standing for 1 hour holding Pro-Life signs along Henderson and Fremont Streets in Galesburg.
URL:https://977wmoi.com/event/knox-county-right-to-life-annual-life-chain/
END:VEVENT
BEGIN:VEVENT
DTSTART;TZID=America/Chicago:20231002T170000
DTEND;TZID=America/Chicago:20231002T183000
DTSTAMP:20260421T190954
CREATED:20230915T181140Z
LAST-MODIFIED:20230915T181140Z
UID:434537-1696266000-1696271400@977wmoi.com
SUMMARY:Monmouth American Legion Soup Supper
DESCRIPTION:Chili\, Spinach Bisque & Vegetable Beef\nSandwich: Sloppy Joe’s\nDessert & Drinks will be provided.\n50/50 drawing at 6:00pm.\nPrice Adult $9 & Child $3\nAll you can eat.
URL:https://977wmoi.com/event/monmouth-american-legion-soup-supper-18/
END:VEVENT
BEGIN:VEVENT
DTSTART;VALUE=DATE:20231003
DTEND;VALUE=DATE:20231005
DTSTAMP:20260421T190954
CREATED:20230922T133653Z
LAST-MODIFIED:20230922T133653Z
UID:434896-1696291200-1696463999@977wmoi.com
SUMMARY:Engine and Caboose Series at the Discovery Depot
DESCRIPTION:Weekly free program with admission focusing on skill development for toddlers and pre-k aged children at the Discovery Depot in Galesburg. Held on Tuesdays and Wednesday form 10:30 to 11:30 am. A book will be read at 10:30. Schedule is as follows: October 3rd & 4th – We’re Goin on a Leaf Hunt\, skill focus is gross motor; October 10th & 11th – Sparky the Fire Dog\, skill focus is fire safety; October 17th & 18th – Where Does Kitty Go in the Rain?\, skill focus is STEM; October 24th & 25th – Spookley the Square Pumpkin\, skill focus is pre-math; October 31st & November 1st – Trick or Treat\, skill focus is fine motor.
URL:https://977wmoi.com/event/engine-and-caboose-series-at-the-discovery-depot/
END:VEVENT
BEGIN:VEVENT
DTSTART;TZID=America/Chicago:20231005T130000
DTEND;TZID=America/Chicago:20231005T130000
DTSTAMP:20260421T190954
CREATED:20231003T165342Z
LAST-MODIFIED:20231003T165342Z
UID:435566-1696510800-1696510800@977wmoi.com
SUMMARY:Medicare Informational Meeting at Strom Center in Oquawka
DESCRIPTION:Medicare informational meeting will be held at the Strom Center location in Oquawka. Sign-up is not required\, but appreciated to ensure enough handouts are available.
URL:https://977wmoi.com/event/medicare-informational-meeting-at-strom-center-in-oquawka/
END:VEVENT
BEGIN:VEVENT
DTSTART;TZID=America/Chicago:20231005T173000
DTEND;TZID=America/Chicago:20231005T173000
DTSTAMP:20260421T190954
CREATED:20230926T131645Z
LAST-MODIFIED:20230926T141956Z
UID:435092-1696527000-1696527000@977wmoi.com
SUMMARY:Scotch Tasting and Rare Bottle Auction
DESCRIPTION:The Galesburg Lions Club presents single malt tastings\, buffet pairings\, and silent and live auction items. Doors open at 5:30 pm\, tasting and buffet begin at 6 pm\, and live auction begins at 7:30 pm. Event will be held at the Knox-Galesburg Symphony Building\, 95 North Seminary Street. Event is sponsored by Market Alley Wines. Must be 21 or over to attend. Register here: Scotch Tasting and Rare Bottle Auction | October 05\, 2023 (eventcreate.com)
URL:https://977wmoi.com/event/scotch-tasting-and-rare-bottle-auction/
END:VEVENT
BEGIN:VEVENT
DTSTART;VALUE=DATE:20231006
DTEND;VALUE=DATE:20231007
DTSTAMP:20260421T190954
CREATED:20230913T191418Z
LAST-MODIFIED:20230913T191418Z
UID:434388-1696550400-1696636799@977wmoi.com
SUMMARY:Monmouth College Homecoming Events for Friday
DESCRIPTION:7:30 am-4:30 pm – Art Show – America Questions No Answers by artist Jesse Howard\, Hewes Library.\n9 am – 40th Reunion Golf Group\, Gibson Woods; Join classmates from the Class of 1983 for a 9 am tee time at Gibson Woods. (Pay individually at Gibson Woods).\n12 pm – Meaning of Life Lunch\, Weeks House; Bring a sack lunch\, bring a friend and discuss life’s deeper purpose with faculty and students.\n2 pm – Champion Miller Headstone Dedication\, Monmouth Cemetery; Reception to follow at The Champion Miller Center for Equity\, Inclusion\, and Community; The center was dedicated in Champion Miller’s name in 2022. Previously unmarked\, a SOfIA research project in 2022 lead to the exact location of Champion Miller’s final resting place.\n3:30 pm – Alumni Office Re-dedication\, Mellinger Office of Development & College Relations.\n5 pm – Alumni Impact Awards\, Center for Science and Business\, Mellinger Commons; A recognition of alumni and members of the Monmouth College community who have made a significant impact on the College and their community.\n\nHonorees: \nBrig. Gen. Christopher F. Lawson ’88 – Hall of Achievement\nRichard Yahnke ’66 – Distinguished Alumnus Award\nChuck L. Bushey Jr. ’73 – Distinguished Service Award\nRoy J. Sye ’13 – Young Alumnus Award\nThe Dew Family – Family of the Year\nAndre Audette – Hatch Distinguished Teaching Award \n\n5 pm – 15th Reunion Social\, Market Alley Wines; Join classmates from the Class of 2008 for wine and reminiscing. (Cash bar).\n6 pm – Fighting Scots Volleyball vs. Greenville\, Glennie Gymnasium; The 2023 Fighting Scots Volleyball Team is hoping that this Homecoming\, alumni are able to come back to Monmouth and be recognized for all the amazing things they accomplished not only in crimson and white\, but also beyond the Monmouth doors! The future is bright for the program\, but the team wants to honor the amazing women that came before them.\n7 pm – Ross Clayton Concert\, April Zorn Memorial Stadium; We know him as Ross Donnan ’12\, but he’s known on The Voice as Ross Clayton and will be coming back to campus for a special concert on the football field!\n7 pm – 40th Reunion Reception\, Mellinger Office of Development & College Relations; Join classmates from the Class of 1983 for refreshments\, hors d’oeuvres and reminiscing with a special viewing of the Ross Clayton concert and Spirit Shout fireworks. (Cost: $20).\n7 pm – 35th Reunion Reception\, 510 N 12th St\, Monmouth\, IL 61462; Join classmates from the Class of 1988 for hors d’oeuvres\, refreshments and reminiscing. (Cost: $20).\n8 pm – 30th Reunion Social\, Danny’s Tap; Join classmates from the Class of 1993 for pizza\, cocktails and reminiscing. (Cash bar).\n8 pm – 20th Reunion Social\, Tootie’s D.T.L.; Join classmates from the Class of 2003 for pizza\, cocktails and reminiscing. (Cash bar).\n8 pm – Spirit Shout\, April Zorn Memorial Stadium; Students will dance\, shout and cheer for a Fighting Scots’ victory\, Homecoming Queen and King will be announced\, and we’ll close the evening with a spectacular fireworks show.
URL:https://977wmoi.com/event/monmouth-college-homecoming-events-for-friday/
END:VEVENT
BEGIN:VEVENT
DTSTART;VALUE=DATE:20231007
DTEND;VALUE=DATE:20231008
DTSTAMP:20260421T190954
CREATED:20230913T191502Z
LAST-MODIFIED:20230913T191502Z
UID:434390-1696636800-1696723199@977wmoi.com
SUMMARY:Monmouth College Homecoming Events for Saturday
DESCRIPTION:8:30 am – M Club Hall of Fame Induction Ceremony\, Huff Athletic Center Fieldhouse\n\nHonorees:\nMichael Blodgett ’11\nKendra (James) Peurach ’08\nLuke Reschke ’09  \n\n9:00 am – Great Lecture Series 2023: At the Edge of a Green Field: Athletes and Writers on the Same Page by David Wright\, Hewes Library.\n10:00 am – Fraternity & Sorority Life Hall of Fame Induction\, Center for Science and Business\, Mellinger Commons; Immediately following the ceremony: Kappa Delta Rose Ceremony\, Center for Science & Business.\n\nHonorees:\nJohn Courson ’64 (Tau Kappa Epsilon)\nDonald “Mac” McKinley ’50 (Sigma Phi Epsilon)\nHilary Hawkinson Stott ’07 (Kappa Kappa Gamma) \n\n10 am – 7 pm – Alumni Tailgate\, Pattee Hall Parking Lot\, North Sixth Street Lot; Gather for an alumni tailgate! Greek Organizations\, the Class of 1983\, 1988\, 1993\, 1998\, 2003\, 2008\, 2013 and 2018 will have designated spaces. (Cost $50). Free tailgating is available at the parking lot at 400 E. Euclid Ave.\n10:30 am – 12:00 pm – Departmental Open Houses; Walk through classrooms and catch up with your favorite professors.\n\nAustin Hall: Music\nCenter for Science and Business: Biology\, Chemistry\, Political Science\, Physics & Engineering and Psychology\nMcMichael Academic: Art                                                                        Wallace Hall: Education\, English\, Classics\, Communication and History   Weeks House: Philosophy and Religious Studies\nWells Theatre: Theatre \n\n11:30 am – Parade; See the floats and hear the pipe band\, marching band and fraternity songs. (Class of 1983\, 1988\, 1993\, 1998\, 2003\, 2008\, 2013 and 2018 will walk in Parade). Following the parade\, go directly to the Tartan Terrace for Reunion Class Photos.\nNoon – Reunion Class Photos\, Tartan Terrace\, Hewes Library; Reunion classes will gather to have group photos taken directly following the parade. Einstein Bros. Bagels will be open starting at 12 p.m.\, so grab a drink and join your class photo!\nNoon – 2 pm – Alumni Lunch\, April Zorn Memorial Stadium\, East Hilltop; Join fellow Fighting Scots alumni for lunch on the hilltop before the game. (Cost: $15).\nNoon-5 pm – Art Show – America Questions No Answers by artist Jesse Howard\, Hewes Library.\n12:30 pm – 15th Reunion Reception\, Mellinger Office of Development & College Relations; Join classmates from the Class of 2008 for refreshments\, hors d’oeuvres and reminiscing with a special viewing of kickoff. (Cost: $20).\n1:30 – 3:30 pm – Alumni Board Hospitality Tent\, April Zorn Memorial Stadium\, East Hilltop; Visit the Alumni Tent to say hello to Alumni Board members and get snacks and swag!\n2 pm – Fighting Scots Football Game vs. Grinnell\, April Zorn Memorial Stadium.\n5 pm – 25th Reunion Reception\, Mellinger Office of Development & College Relations; Join classmates from the Class of 1998 for refreshments\, hors d’oeuvres and reminiscing following the football game. (Cost: $20).\n5 pm – 35th Reunion Social\, Tootie’s D.T.L.; Join classmates from the Class of 1988 for pizza\, cocktails and reminiscing. (Cash bar).\n5 – 8 pm – All Monmouth Reunion Celebration\, The American Legion; Gather with fellow alumni for hors d’oeuvres and drinks and reminisce about your days at Monmouth College. All alumni and friends are welcome to join the celebration.\n6 pm – 5th Reunion Social\, 1st Avenue Lounge; Join classmates from the Class of 2018 for pizza\, cocktails and reminiscing. (Cash bar).\n6 pm – 10th Reunion Social\, Danny’s Tap; Join classmates from the Class of 2013 for pizza\, cocktails and reminiscing. (Cash bar).\n7:30 pm – College Choirs Concert\, Dahl Chapel\, Kasch Performance Hall; Featuring a wide range of repertoire from classic to contemporary\, the Homecoming Choir Concert will include performances by the Monmouth Chorale\, Concert Choir\, and Chamber Choir. Choir alumni are invited to join us at the end of the concert to sing “A Flame of White and Crimson”!
URL:https://977wmoi.com/event/monmouth-college-homecoming-events-for-saturday/
END:VEVENT
BEGIN:VEVENT
DTSTART;VALUE=DATE:20231007
DTEND;VALUE=DATE:20231009
DTSTAMP:20260421T190954
CREATED:20230925T191609Z
LAST-MODIFIED:20230925T191609Z
UID:435066-1696636800-1696809599@977wmoi.com
SUMMARY:Old Roseville Days
DESCRIPTION:All are invited to attend Roseville during their Old Roseville Days event\, featuring garage sales and vendors.
URL:https://977wmoi.com/event/old-roseville-days-9/
END:VEVENT
END:VCALENDAR