BEGIN:VCALENDAR
VERSION:2.0
PRODID:-//Prairie Communications, LLC - ECPv6.15.20//NONSGML v1.0//EN
CALSCALE:GREGORIAN
METHOD:PUBLISH
X-ORIGINAL-URL:https://977wmoi.com
X-WR-CALDESC:Events for Prairie Communications, LLC
REFRESH-INTERVAL;VALUE=DURATION:PT1H
X-Robots-Tag:noindex
X-PUBLISHED-TTL:PT1H
BEGIN:VTIMEZONE
TZID:America/Chicago
BEGIN:DAYLIGHT
TZOFFSETFROM:-0600
TZOFFSETTO:-0500
TZNAME:CDT
DTSTART:20220313T080000
END:DAYLIGHT
BEGIN:STANDARD
TZOFFSETFROM:-0500
TZOFFSETTO:-0600
TZNAME:CST
DTSTART:20221106T070000
END:STANDARD
BEGIN:DAYLIGHT
TZOFFSETFROM:-0600
TZOFFSETTO:-0500
TZNAME:CDT
DTSTART:20230312T080000
END:DAYLIGHT
BEGIN:STANDARD
TZOFFSETFROM:-0500
TZOFFSETTO:-0600
TZNAME:CST
DTSTART:20231105T070000
END:STANDARD
BEGIN:DAYLIGHT
TZOFFSETFROM:-0600
TZOFFSETTO:-0500
TZNAME:CDT
DTSTART:20240310T080000
END:DAYLIGHT
BEGIN:STANDARD
TZOFFSETFROM:-0500
TZOFFSETTO:-0600
TZNAME:CST
DTSTART:20241103T070000
END:STANDARD
END:VTIMEZONE
BEGIN:VEVENT
DTSTART;TZID=America/Chicago:20231005T130000
DTEND;TZID=America/Chicago:20231005T130000
DTSTAMP:20260422T052415
CREATED:20231003T165342Z
LAST-MODIFIED:20231003T165342Z
UID:435566-1696510800-1696510800@977wmoi.com
SUMMARY:Medicare Informational Meeting at Strom Center in Oquawka
DESCRIPTION:Medicare informational meeting will be held at the Strom Center location in Oquawka. Sign-up is not required\, but appreciated to ensure enough handouts are available.
URL:https://977wmoi.com/event/medicare-informational-meeting-at-strom-center-in-oquawka/
END:VEVENT
BEGIN:VEVENT
DTSTART;TZID=America/Chicago:20231005T173000
DTEND;TZID=America/Chicago:20231005T173000
DTSTAMP:20260422T052415
CREATED:20230926T131645Z
LAST-MODIFIED:20230926T141956Z
UID:435092-1696527000-1696527000@977wmoi.com
SUMMARY:Scotch Tasting and Rare Bottle Auction
DESCRIPTION:The Galesburg Lions Club presents single malt tastings\, buffet pairings\, and silent and live auction items. Doors open at 5:30 pm\, tasting and buffet begin at 6 pm\, and live auction begins at 7:30 pm. Event will be held at the Knox-Galesburg Symphony Building\, 95 North Seminary Street. Event is sponsored by Market Alley Wines. Must be 21 or over to attend. Register here: Scotch Tasting and Rare Bottle Auction | October 05\, 2023 (eventcreate.com)
URL:https://977wmoi.com/event/scotch-tasting-and-rare-bottle-auction/
END:VEVENT
BEGIN:VEVENT
DTSTART;VALUE=DATE:20231006
DTEND;VALUE=DATE:20231007
DTSTAMP:20260422T052415
CREATED:20230913T191418Z
LAST-MODIFIED:20230913T191418Z
UID:434388-1696550400-1696636799@977wmoi.com
SUMMARY:Monmouth College Homecoming Events for Friday
DESCRIPTION:7:30 am-4:30 pm – Art Show – America Questions No Answers by artist Jesse Howard\, Hewes Library.\n9 am – 40th Reunion Golf Group\, Gibson Woods; Join classmates from the Class of 1983 for a 9 am tee time at Gibson Woods. (Pay individually at Gibson Woods).\n12 pm – Meaning of Life Lunch\, Weeks House; Bring a sack lunch\, bring a friend and discuss life’s deeper purpose with faculty and students.\n2 pm – Champion Miller Headstone Dedication\, Monmouth Cemetery; Reception to follow at The Champion Miller Center for Equity\, Inclusion\, and Community; The center was dedicated in Champion Miller’s name in 2022. Previously unmarked\, a SOfIA research project in 2022 lead to the exact location of Champion Miller’s final resting place.\n3:30 pm – Alumni Office Re-dedication\, Mellinger Office of Development & College Relations.\n5 pm – Alumni Impact Awards\, Center for Science and Business\, Mellinger Commons; A recognition of alumni and members of the Monmouth College community who have made a significant impact on the College and their community.\n\nHonorees: \nBrig. Gen. Christopher F. Lawson ’88 – Hall of Achievement\nRichard Yahnke ’66 – Distinguished Alumnus Award\nChuck L. Bushey Jr. ’73 – Distinguished Service Award\nRoy J. Sye ’13 – Young Alumnus Award\nThe Dew Family – Family of the Year\nAndre Audette – Hatch Distinguished Teaching Award \n\n5 pm – 15th Reunion Social\, Market Alley Wines; Join classmates from the Class of 2008 for wine and reminiscing. (Cash bar).\n6 pm – Fighting Scots Volleyball vs. Greenville\, Glennie Gymnasium; The 2023 Fighting Scots Volleyball Team is hoping that this Homecoming\, alumni are able to come back to Monmouth and be recognized for all the amazing things they accomplished not only in crimson and white\, but also beyond the Monmouth doors! The future is bright for the program\, but the team wants to honor the amazing women that came before them.\n7 pm – Ross Clayton Concert\, April Zorn Memorial Stadium; We know him as Ross Donnan ’12\, but he’s known on The Voice as Ross Clayton and will be coming back to campus for a special concert on the football field!\n7 pm – 40th Reunion Reception\, Mellinger Office of Development & College Relations; Join classmates from the Class of 1983 for refreshments\, hors d’oeuvres and reminiscing with a special viewing of the Ross Clayton concert and Spirit Shout fireworks. (Cost: $20).\n7 pm – 35th Reunion Reception\, 510 N 12th St\, Monmouth\, IL 61462; Join classmates from the Class of 1988 for hors d’oeuvres\, refreshments and reminiscing. (Cost: $20).\n8 pm – 30th Reunion Social\, Danny’s Tap; Join classmates from the Class of 1993 for pizza\, cocktails and reminiscing. (Cash bar).\n8 pm – 20th Reunion Social\, Tootie’s D.T.L.; Join classmates from the Class of 2003 for pizza\, cocktails and reminiscing. (Cash bar).\n8 pm – Spirit Shout\, April Zorn Memorial Stadium; Students will dance\, shout and cheer for a Fighting Scots’ victory\, Homecoming Queen and King will be announced\, and we’ll close the evening with a spectacular fireworks show.
URL:https://977wmoi.com/event/monmouth-college-homecoming-events-for-friday/
END:VEVENT
BEGIN:VEVENT
DTSTART;VALUE=DATE:20231007
DTEND;VALUE=DATE:20231008
DTSTAMP:20260422T052415
CREATED:20230913T191502Z
LAST-MODIFIED:20230913T191502Z
UID:434390-1696636800-1696723199@977wmoi.com
SUMMARY:Monmouth College Homecoming Events for Saturday
DESCRIPTION:8:30 am – M Club Hall of Fame Induction Ceremony\, Huff Athletic Center Fieldhouse\n\nHonorees:\nMichael Blodgett ’11\nKendra (James) Peurach ’08\nLuke Reschke ’09  \n\n9:00 am – Great Lecture Series 2023: At the Edge of a Green Field: Athletes and Writers on the Same Page by David Wright\, Hewes Library.\n10:00 am – Fraternity & Sorority Life Hall of Fame Induction\, Center for Science and Business\, Mellinger Commons; Immediately following the ceremony: Kappa Delta Rose Ceremony\, Center for Science & Business.\n\nHonorees:\nJohn Courson ’64 (Tau Kappa Epsilon)\nDonald “Mac” McKinley ’50 (Sigma Phi Epsilon)\nHilary Hawkinson Stott ’07 (Kappa Kappa Gamma) \n\n10 am – 7 pm – Alumni Tailgate\, Pattee Hall Parking Lot\, North Sixth Street Lot; Gather for an alumni tailgate! Greek Organizations\, the Class of 1983\, 1988\, 1993\, 1998\, 2003\, 2008\, 2013 and 2018 will have designated spaces. (Cost $50). Free tailgating is available at the parking lot at 400 E. Euclid Ave.\n10:30 am – 12:00 pm – Departmental Open Houses; Walk through classrooms and catch up with your favorite professors.\n\nAustin Hall: Music\nCenter for Science and Business: Biology\, Chemistry\, Political Science\, Physics & Engineering and Psychology\nMcMichael Academic: Art                                                                        Wallace Hall: Education\, English\, Classics\, Communication and History   Weeks House: Philosophy and Religious Studies\nWells Theatre: Theatre \n\n11:30 am – Parade; See the floats and hear the pipe band\, marching band and fraternity songs. (Class of 1983\, 1988\, 1993\, 1998\, 2003\, 2008\, 2013 and 2018 will walk in Parade). Following the parade\, go directly to the Tartan Terrace for Reunion Class Photos.\nNoon – Reunion Class Photos\, Tartan Terrace\, Hewes Library; Reunion classes will gather to have group photos taken directly following the parade. Einstein Bros. Bagels will be open starting at 12 p.m.\, so grab a drink and join your class photo!\nNoon – 2 pm – Alumni Lunch\, April Zorn Memorial Stadium\, East Hilltop; Join fellow Fighting Scots alumni for lunch on the hilltop before the game. (Cost: $15).\nNoon-5 pm – Art Show – America Questions No Answers by artist Jesse Howard\, Hewes Library.\n12:30 pm – 15th Reunion Reception\, Mellinger Office of Development & College Relations; Join classmates from the Class of 2008 for refreshments\, hors d’oeuvres and reminiscing with a special viewing of kickoff. (Cost: $20).\n1:30 – 3:30 pm – Alumni Board Hospitality Tent\, April Zorn Memorial Stadium\, East Hilltop; Visit the Alumni Tent to say hello to Alumni Board members and get snacks and swag!\n2 pm – Fighting Scots Football Game vs. Grinnell\, April Zorn Memorial Stadium.\n5 pm – 25th Reunion Reception\, Mellinger Office of Development & College Relations; Join classmates from the Class of 1998 for refreshments\, hors d’oeuvres and reminiscing following the football game. (Cost: $20).\n5 pm – 35th Reunion Social\, Tootie’s D.T.L.; Join classmates from the Class of 1988 for pizza\, cocktails and reminiscing. (Cash bar).\n5 – 8 pm – All Monmouth Reunion Celebration\, The American Legion; Gather with fellow alumni for hors d’oeuvres and drinks and reminisce about your days at Monmouth College. All alumni and friends are welcome to join the celebration.\n6 pm – 5th Reunion Social\, 1st Avenue Lounge; Join classmates from the Class of 2018 for pizza\, cocktails and reminiscing. (Cash bar).\n6 pm – 10th Reunion Social\, Danny’s Tap; Join classmates from the Class of 2013 for pizza\, cocktails and reminiscing. (Cash bar).\n7:30 pm – College Choirs Concert\, Dahl Chapel\, Kasch Performance Hall; Featuring a wide range of repertoire from classic to contemporary\, the Homecoming Choir Concert will include performances by the Monmouth Chorale\, Concert Choir\, and Chamber Choir. Choir alumni are invited to join us at the end of the concert to sing “A Flame of White and Crimson”!
URL:https://977wmoi.com/event/monmouth-college-homecoming-events-for-saturday/
END:VEVENT
BEGIN:VEVENT
DTSTART;VALUE=DATE:20231007
DTEND;VALUE=DATE:20231009
DTSTAMP:20260422T052415
CREATED:20230925T191609Z
LAST-MODIFIED:20230925T191609Z
UID:435066-1696636800-1696809599@977wmoi.com
SUMMARY:Old Roseville Days
DESCRIPTION:All are invited to attend Roseville during their Old Roseville Days event\, featuring garage sales and vendors.
URL:https://977wmoi.com/event/old-roseville-days-9/
END:VEVENT
BEGIN:VEVENT
DTSTART;TZID=America/Chicago:20231007T080000
DTEND;TZID=America/Chicago:20231007T160000
DTSTAMP:20260422T052415
CREATED:20230925T191337Z
LAST-MODIFIED:20230925T191357Z
UID:435059-1696665600-1696694400@977wmoi.com
SUMMARY:Roseville Flower Shop Open House
DESCRIPTION:Join at the Roseville Flower Shop during their fall open house\, featuring giveaways and new merchandise.
URL:https://977wmoi.com/event/roseville-il-flower-shop-open-house/
END:VEVENT
BEGIN:VEVENT
DTSTART;TZID=America/Chicago:20231007T090000
DTEND;TZID=America/Chicago:20231007T120000
DTSTAMP:20260422T052415
CREATED:20230918T154524Z
LAST-MODIFIED:20230918T154524Z
UID:434609-1696669200-1696680000@977wmoi.com
SUMMARY:City of Monmouth Shredding Day
DESCRIPTION:Held at Citizen’s Lake\, in the parking lot of the old municipal pool.
URL:https://977wmoi.com/event/city-of-monmouth-shredding-day-2/
END:VEVENT
BEGIN:VEVENT
DTSTART;TZID=America/Chicago:20231007T103000
DTEND;TZID=America/Chicago:20231007T130000
DTSTAMP:20260422T052415
CREATED:20230922T134130Z
LAST-MODIFIED:20230922T134130Z
UID:434906-1696674600-1696683600@977wmoi.com
SUMMARY:Build Glow in the Dark Monsters at the Discovery Depot
DESCRIPTION:Free with admission at the Discovery Depot in Galesburg.
URL:https://977wmoi.com/event/build-glow-in-the-dark-monsters-at-the-discovery-depot/
END:VEVENT
BEGIN:VEVENT
DTSTART;TZID=America/Chicago:20231007T190000
DTEND;TZID=America/Chicago:20231007T190000
DTSTAMP:20260422T052415
CREATED:20231003T165516Z
LAST-MODIFIED:20231003T165516Z
UID:435568-1696705200-1696705200@977wmoi.com
SUMMARY:Rock N Roll BINGO
DESCRIPTION:Eagle View Community Health System is hosting a Rock N Roll BINGO night at Mama’s Place in Oquawka. $5 per BINGO card. All proceeds will benefit the WEE Care Program.
URL:https://977wmoi.com/event/rock-n-roll-bingo/
END:VEVENT
BEGIN:VEVENT
DTSTART;VALUE=DATE:20231008
DTEND;VALUE=DATE:20231009
DTSTAMP:20260422T052415
CREATED:20230913T191544Z
LAST-MODIFIED:20230913T191544Z
UID:434392-1696723200-1696809599@977wmoi.com
SUMMARY:Monmouth College Homecoming Events for Sunday
DESCRIPTION:10:30 a.m. ― Alumni Softball Game\, Softball Field; Includes free cookout lunch following the game. Softball alumni wishing to play can contact Coach Alexa McClaughry\, although all are welcome to attend.\n1-9 pm – Art Show – America Questions No Answers by artist Jesse Howard\, Hewes Library.\n2 pm – Organ Recital\, Dahl Chapel\, Kasch Performance Hall; Come celebrate the rededication of the Dahl Chapel Organ. Dr. Solee Lee-Clark will present an organ recital featuring the music of William Byrd\, G. H. Handel\, and Franz Liszt. Following the performance will be a post-concert discussion of the renovation project led by Randall E. Karstens\, organ technician.
URL:https://977wmoi.com/event/monmouth-college-homecoming-events-for-sunday/
END:VEVENT
BEGIN:VEVENT
DTSTART;TZID=America/Chicago:20231008T080000
DTEND;TZID=America/Chicago:20231008T160000
DTSTAMP:20260422T052415
CREATED:20230925T191431Z
LAST-MODIFIED:20230925T191431Z
UID:435062-1696752000-1696780800@977wmoi.com
SUMMARY:Roseville Flower Shop Fall Open House
DESCRIPTION:Join at the Roseville Flower Shop during their fall open house\, featuring giveaways and new merchandise.
URL:https://977wmoi.com/event/roseville-flower-shop-fall-open-house/
END:VEVENT
BEGIN:VEVENT
DTSTART;TZID=America/Chicago:20231009T163000
DTEND;TZID=America/Chicago:20231009T174500
DTSTAMP:20260422T052415
CREATED:20230922T134939Z
LAST-MODIFIED:20230922T134939Z
UID:434916-1696869000-1696873500@977wmoi.com
SUMMARY:Kids Canvas Club at the Discovery Depot
DESCRIPTION:Join the kid style painting party and create your own masterpiece at the Discovery Depot in Galesburg. Pre-registration required. Ages 7 and older are welcome. Limited spots available. Supplies and snack provided. Cost is $12.
URL:https://977wmoi.com/event/kids-canvas-club-at-the-discovery-depot/
END:VEVENT
BEGIN:VEVENT
DTSTART;TZID=America/Chicago:20231009T180000
DTEND;TZID=America/Chicago:20231009T200000
DTSTAMP:20260422T052415
CREATED:20231004T111600Z
LAST-MODIFIED:20231004T111600Z
UID:435597-1696874400-1696881600@977wmoi.com
SUMMARY:Draconid Meteor Shower Viewing Party
DESCRIPTION:Carl Sandburg College’s Alumni Relations invites everyone to spend an evening under the stars for their Draconid Meteor Shower Viewing Party at the Fine Arts Theater\, Room F118 on the Galesburg Campus. Astronomy themed refreshments will be served. All ages are welcome and this event is free to attend.
URL:https://977wmoi.com/event/draconid-meteor-shower-viewing-party/
END:VEVENT
BEGIN:VEVENT
DTSTART;VALUE=DATE:20231010
DTEND;VALUE=DATE:20231012
DTSTAMP:20260422T052415
CREATED:20230922T133803Z
LAST-MODIFIED:20230922T133803Z
UID:434898-1696896000-1697068799@977wmoi.com
SUMMARY:Engine and Caboose Series at the Discovery Depot
DESCRIPTION:Weekly free program with admission focusing on skill development for toddlers and pre-k aged children at the Discovery Depot in Galesburg. Held on Tuesdays and Wednesday form 10:30 to 11:30 am. A book will be read at 10:30. Schedule is as follows: October 10th & 11th – Sparky the Fire Dog\, skill focus is fire safety; October 17th & 18th – Where Does Kitty Go in the Rain?\, skill focus is STEM; October 24th & 25th – Spookley the Square Pumpkin\, skill focus is pre-math; October 31st & November 1st – Trick or Treat\, skill focus is fine motor.
URL:https://977wmoi.com/event/engine-and-caboose-series-at-the-discovery-depot-2/
END:VEVENT
BEGIN:VEVENT
DTSTART;TZID=America/Chicago:20231010T170000
DTEND;TZID=America/Chicago:20231010T193000
DTSTAMP:20260422T052415
CREATED:20231003T180458Z
LAST-MODIFIED:20231003T180458Z
UID:435575-1696957200-1696966200@977wmoi.com
SUMMARY:Tuesday Night Out at the Stronghurst Methodist Church
DESCRIPTION:Join for a free meal and an evening of fellowship and games.
URL:https://977wmoi.com/event/tuesday-night-out-at-the-stronghurst-methodist-church/
END:VEVENT
BEGIN:VEVENT
DTSTART;TZID=America/Chicago:20231010T190000
DTEND;TZID=America/Chicago:20231010T190000
DTSTAMP:20260422T052415
CREATED:20230928T152042Z
LAST-MODIFIED:20230928T152042Z
UID:435313-1696964400-1696964400@977wmoi.com
SUMMARY:Maple Leaf Community Concert Series: 7000 Miles to Broadway - J. Robert Spencer
DESCRIPTION:Tony Award-nominee and original Jersey Boys star J. Robert Spencer (Bobby) takes you on a musical journey across genres and decades with his show 7000 Miles to Broadway.  Bobby travels down life’s highway sharing insightful and hilarious stories from growing up in Texas\, family roadtrips in the wood-paneled yellow station wagon while singing along to classic country\, rock n roll & B’way favorites on the car radio and 8-tracks. From Willie Nelson’s country twang to the smooth crooning sounds of Frank Sinatra and the pop favorites of Franki Valli\, 7\,000 Miles to Broadway is chock full of radio and favorite Broadway hits! Held inside Dahl Chapel and Auditorium on the Monmouth College campus. Individual and membership tickets can be purchased locally at the Buchanan Center for the Arts or at the door the night of.
URL:https://977wmoi.com/event/maple-leaf-community-concert-series-7000-miles-to-broadway-j-robert-spencer/
END:VEVENT
BEGIN:VEVENT
DTSTART;TZID=America/Chicago:20231011T130000
DTEND;TZID=America/Chicago:20231011T130000
DTSTAMP:20260422T052415
CREATED:20231003T163708Z
LAST-MODIFIED:20231003T163708Z
UID:435551-1697029200-1697029200@977wmoi.com
SUMMARY:Opioid Informational Training
DESCRIPTION:Informational meeting and training will be held at the Oak Terrace Community Room.
URL:https://977wmoi.com/event/opioid-informational-training/
END:VEVENT
BEGIN:VEVENT
DTSTART;TZID=America/Chicago:20231012T130000
DTEND;TZID=America/Chicago:20231012T130000
DTSTAMP:20260422T052415
CREATED:20231003T164937Z
LAST-MODIFIED:20231003T164937Z
UID:435559-1697115600-1697115600@977wmoi.com
SUMMARY:Warren County TRIAD at Strom Center in Monmouth
DESCRIPTION:The October presenter for the monthly TRIAD meeting will be Strom Center Director Carol McCrery\, discussing Medicare and Medicare Part D.
URL:https://977wmoi.com/event/warren-county-triad-at-strom-center-in-monmouth/
END:VEVENT
BEGIN:VEVENT
DTSTART;TZID=America/Chicago:20231012T170000
DTEND;TZID=America/Chicago:20231012T210000
DTSTAMP:20260422T052415
CREATED:20231005T135605Z
LAST-MODIFIED:20231005T135605Z
UID:435680-1697130000-1697144400@977wmoi.com
SUMMARY:8th Annual Boos and Brews
DESCRIPTION:Join sponsors G&M Distributors and the Iron Spike at the Iron Spike Brewing Company for Beer and Wine Tasting with raffles and auction items. All proceeds benefit the programs at the Discovery Depot Children’s Museum.
URL:https://977wmoi.com/event/8th-annual-boos-and-brews/
END:VEVENT
BEGIN:VEVENT
DTSTART;TZID=America/Chicago:20231012T180000
DTEND;TZID=America/Chicago:20231012T193000
DTSTAMP:20260422T052415
CREATED:20231003T165155Z
LAST-MODIFIED:20231003T165208Z
UID:435561-1697133600-1697139000@977wmoi.com
SUMMARY:Medicare Informational Meeting at Strom Center
DESCRIPTION:Medicare informational meeting will be held at the Strom Center location in Monmouth. Sign-up is not required\, but appreciated to ensure enough handouts are available.
URL:https://977wmoi.com/event/medicare-informational-meeting-at-strom-center/
END:VEVENT
BEGIN:VEVENT
DTSTART;TZID=America/Chicago:20231012T180000
DTEND;TZID=America/Chicago:20231012T200000
DTSTAMP:20260422T052415
CREATED:20230913T182309Z
LAST-MODIFIED:20230913T182331Z
UID:434382-1697133600-1697140800@977wmoi.com
SUMMARY:Galesburg Parks & Rec Craft Night Out
DESCRIPTION:Create a spooky decorative hat out of paper mâché and ghost in a tiny bottle at the Lake Storey Pavilion in Galesburg. Cost is $15 per person.
URL:https://977wmoi.com/event/galesburg-parks-rec-craft-night-out/
END:VEVENT
BEGIN:VEVENT
DTSTART;TZID=America/Chicago:20231012T190000
DTEND;TZID=America/Chicago:20231012T190000
DTSTAMP:20260422T052415
CREATED:20230915T125718Z
LAST-MODIFIED:20230915T125718Z
UID:434484-1697137200-1697137200@977wmoi.com
SUMMARY:The Temptations & The Four Tops
DESCRIPTION:FPC Live Presents\nThe Temptations & The Four Tops\nat The Orpheum Theater\nThursday\, October 12\, 2023\nDoors 7:00PM | Show 8:00PM\nAll Ages\nTickets $59.50 | $69.50 | $89.50 | $125 |\nReserved Seating\n bit.ly/TempsTopsMadison \nTickets available at madisonorpheum.com or The Sylvee box office during their business hours listed here: https://www.thesylvee.com/info/faq/
URL:https://977wmoi.com/event/the-temptations-the-four-tops/
END:VEVENT
BEGIN:VEVENT
DTSTART;TZID=America/Chicago:20231013T130000
DTEND;TZID=America/Chicago:20231013T130000
DTSTAMP:20260422T052415
CREATED:20231003T165257Z
LAST-MODIFIED:20231003T165257Z
UID:435564-1697202000-1697202000@977wmoi.com
SUMMARY:Medicare Informational Meeting at Strom Center
DESCRIPTION:Medicare informational meeting will be held at the Strom Center location in Monmouth. Sign-up is not required\, but appreciated to ensure enough handouts are available.
URL:https://977wmoi.com/event/medicare-informational-meeting-at-strom-center-2/
END:VEVENT
BEGIN:VEVENT
DTSTART;TZID=America/Chicago:20231013T190000
DTEND;TZID=America/Chicago:20231013T210000
DTSTAMP:20260422T052415
CREATED:20230926T194612Z
LAST-MODIFIED:20230926T194612Z
UID:435180-1697223600-1697230800@977wmoi.com
SUMMARY:Teen Open Swim at the Hawthorne Pool
DESCRIPTION:Join the Galesburg Parks and Rec for a Teen Open Swim at the Hawthorne Pool. For ages 12 to 18. $5 per swimmer.
URL:https://977wmoi.com/event/teen-open-swim-at-the-hawthorne-pool/
END:VEVENT
BEGIN:VEVENT
DTSTART;TZID=America/Chicago:20231014T080000
DTEND;TZID=America/Chicago:20231014T160000
DTSTAMP:20260422T052415
CREATED:20230925T191507Z
LAST-MODIFIED:20230925T191507Z
UID:435064-1697270400-1697299200@977wmoi.com
SUMMARY:Roseville Flower Shop Fall Open House
DESCRIPTION:Join at the Roseville Flower Shop during their fall open house\, featuring giveaways and new merchandise.
URL:https://977wmoi.com/event/roseville-flower-shop-fall-open-house-2/
END:VEVENT
BEGIN:VEVENT
DTSTART;TZID=America/Chicago:20231014T080000
DTEND;TZID=America/Chicago:20231014T220000
DTSTAMP:20260422T052415
CREATED:20230919T204155Z
LAST-MODIFIED:20230919T204155Z
UID:434681-1697270400-1697320800@977wmoi.com
SUMMARY:Ride 17 Music Festival: A County-Wide Celebration of Music and Community
DESCRIPTION:Get ready to ride along Illinois Route 17 as the highly-anticipated Ride 17 Music Festival is on its way. This county-wide festival will be a day filled with a variety of performances\, local vendors\, engaging activities\, and unforgettable memories. Residents\, locals\, and non-locals are invited to come along with their friends\, family\, and their love for music. \nThe Ride 17 Music Festival will take place on October 14th\, from 8:00 AM to 10:00 PM. Additional events will run to 1am. In the quaint small towns that make up MerCo\, this event aims to showcase the region’s talent\, both from within the county and from neighboring artists. \nFrom coffee-house ballads to foot-tapping country\, there will be a diverse range of genres for all to enjoy. \nAs the Ride 17 Music Festival comes to life\, we want to extend our gratitude to the support from the community\, the sponsors\, and everyone responsible for making this event happen. \nSo mark your calendars and save the date for the Ride 17 Music Festival on October 14th! Come for the music and stay for the fun. \n \nFor more information and updates on the Ride 17 Music Festival\, visit www.visitmerco.com/ride-17 or follow us on Facebook @Ride17MusicFest.
URL:https://977wmoi.com/event/ride-17-music-festival-a-county-wide-celebration-of-music-and-community/
END:VEVENT
BEGIN:VEVENT
DTSTART;TZID=America/Chicago:20231014T093000
DTEND;TZID=America/Chicago:20231014T110000
DTSTAMP:20260422T052415
CREATED:20230913T165615Z
LAST-MODIFIED:20230913T165615Z
UID:434373-1697275800-1697281200@977wmoi.com
SUMMARY:Harvest Fun with the Galesburg Parks & Rec
DESCRIPTION:Explore the Lakeside Nature Center Garden in Galesburg then decorate your own pumpkin with materials collected from nature. Free event\, open to all ages.
URL:https://977wmoi.com/event/harvest-fun-with-the-galesburg-parks-rec/
END:VEVENT
BEGIN:VEVENT
DTSTART;TZID=America/Chicago:20231014T103000
DTEND;TZID=America/Chicago:20231014T123000
DTSTAMP:20260422T052415
CREATED:20230922T134319Z
LAST-MODIFIED:20230922T134319Z
UID:434908-1697279400-1697286600@977wmoi.com
SUMMARY:Design and Create a Costume Mask
DESCRIPTION:$1 with admission at the Discovery Depot in Galesburg\, stop by and create a costume mask.
URL:https://977wmoi.com/event/design-and-create-a-costume-mask/
END:VEVENT
BEGIN:VEVENT
DTSTART;TZID=America/Chicago:20231014T110000
DTEND;TZID=America/Chicago:20231014T120000
DTSTAMP:20260422T052415
CREATED:20230913T181828Z
LAST-MODIFIED:20230913T181828Z
UID:434378-1697281200-1697284800@977wmoi.com
SUMMARY:Little Sprouts at the Lakeside Nature Center
DESCRIPTION:Join the Galesburg Parks and Rec to explore activities that will investigate the gardens to find fall friends\, learn about leaves\, create a fall craft\, and more! Class will be held outdoors at the Nature Center Shelter.
URL:https://977wmoi.com/event/little-sprouts-at-the-lakeside-nature-center-6/
END:VEVENT
BEGIN:VEVENT
DTSTART;TZID=America/Chicago:20231014T110000
DTEND;TZID=America/Chicago:20231014T130000
DTSTAMP:20260422T052415
CREATED:20231004T110642Z
LAST-MODIFIED:20231004T110642Z
UID:435591-1697281200-1697288400@977wmoi.com
SUMMARY:Paper Making & Journal Making Class at the BCA Part 1
DESCRIPTION:Join Rebecca Quick in the BCA gallery as she teaches paper making and journal making methods. From 11am to 1pm on Saturday\, October 14\, participants will learn how to make paper from scratch. The following week from 11am-1pm on Saturday\, October 21\, participants will assemble their paper into a journal. Please note this is a two-part class. Class fee is included with your BCA membership. Non-members $10. Scholarships are available. Call 309-734-3033 to reserve your spot today.
URL:https://977wmoi.com/event/paper-making-journal-making-class-at-the-bca-part-1/
END:VEVENT
END:VCALENDAR