BEGIN:VCALENDAR
VERSION:2.0
PRODID:-//Prairie Communications, LLC - ECPv6.15.20//NONSGML v1.0//EN
CALSCALE:GREGORIAN
METHOD:PUBLISH
X-ORIGINAL-URL:https://977wmoi.com
X-WR-CALDESC:Events for Prairie Communications, LLC
REFRESH-INTERVAL;VALUE=DURATION:PT1H
X-Robots-Tag:noindex
X-PUBLISHED-TTL:PT1H
BEGIN:VTIMEZONE
TZID:America/Chicago
BEGIN:DAYLIGHT
TZOFFSETFROM:-0600
TZOFFSETTO:-0500
TZNAME:CDT
DTSTART:20210314T080000
END:DAYLIGHT
BEGIN:STANDARD
TZOFFSETFROM:-0500
TZOFFSETTO:-0600
TZNAME:CST
DTSTART:20211107T070000
END:STANDARD
BEGIN:DAYLIGHT
TZOFFSETFROM:-0600
TZOFFSETTO:-0500
TZNAME:CDT
DTSTART:20220313T080000
END:DAYLIGHT
BEGIN:STANDARD
TZOFFSETFROM:-0500
TZOFFSETTO:-0600
TZNAME:CST
DTSTART:20221106T070000
END:STANDARD
BEGIN:DAYLIGHT
TZOFFSETFROM:-0600
TZOFFSETTO:-0500
TZNAME:CDT
DTSTART:20230312T080000
END:DAYLIGHT
BEGIN:STANDARD
TZOFFSETFROM:-0500
TZOFFSETTO:-0600
TZNAME:CST
DTSTART:20231105T070000
END:STANDARD
END:VTIMEZONE
BEGIN:VEVENT
DTSTART;TZID=America/Chicago:20220203T190000
DTEND;TZID=America/Chicago:20220203T210000
DTSTAMP:20260420T060312
CREATED:20220127T183424Z
LAST-MODIFIED:20220201T152548Z
UID:403716-1643914800-1643922000@977wmoi.com
SUMMARY:**POSTPONED** Mellinger Foundation / Security Savings Bank College Information Night
DESCRIPTION:Representatives from several area colleges and universities will be available to discuss financing\, admission requirements\, and scholarships\, in addition to answer questions regarding FAFSA applications. All prospective students and their parents are welcome to attend the event\, which will take place at the Buchanan Center for the Arts. The Edward Arthur Mellinger Foundation annually awards college scholarship money to students in six area counties: Warren\, Henderson\, Mercer\, Knox\, McDonough and Fulton. For more information\, contact the Foundation office at (309) 734-2419\, or Foundation President Gary Martin at (309) 255-7224.
URL:https://977wmoi.com/event/mellinger-foundation-security-savings-bank-college-information-night/
LOCATION:Buchanan Center for the Arts\, 64 Public Square\, Monmouth\, IL\, 61462
END:VEVENT
BEGIN:VEVENT
DTSTART;TZID=America/Chicago:20220204T180000
DTEND;TZID=America/Chicago:20220204T193000
DTSTAMP:20260420T060312
CREATED:20220118T143624Z
LAST-MODIFIED:20220118T143624Z
UID:403206-1643997600-1644003000@977wmoi.com
SUMMARY:Discovery Depot's Daddy Daughter Sweet Soiree
DESCRIPTION:An evening Valentines gala especially designed for dads\, or grandpas\, and daughters. Held at the Discovery Depot in Galesburg. Tickets are $20 per couple\, add an extra daughter(s) for $7.50 each. Night will include games\, music\, creations\, photo memories\, and sweet treats. Tickets sold in advance at the Discovery Depot or call to purchase at 309-344-8876.
URL:https://977wmoi.com/event/discovery-depots-daddy-daughter-sweet-soiree/
END:VEVENT
BEGIN:VEVENT
DTSTART;TZID=America/Chicago:20220205T160000
DTEND;TZID=America/Chicago:20220205T200000
DTSTAMP:20260420T060312
CREATED:20220118T174357Z
LAST-MODIFIED:20220118T174357Z
UID:403237-1644076800-1644091200@977wmoi.com
SUMMARY:Soup Supper at Avon Fire Department
DESCRIPTION:The Avon Fire Department will hold their annual soup supper Saturday\, Feb. 5 from 4 to 8 p.m. at the Avon Fire Station\, 105 Clinton Street. The department plans to serve vegetable and chili soups\, along with vegetable trays and desserts. There will also be a 50/50 drawing.\nA free will donation will be accepted and the money raised will go for specialty equipment for the department.
URL:https://977wmoi.com/event/soup-supper-at-avon-fire-department/
END:VEVENT
BEGIN:VEVENT
DTSTART;TZID=America/Chicago:20220206T183000
DTEND;TZID=America/Chicago:20220206T183000
DTSTAMP:20260420T060312
CREATED:20220120T192435Z
LAST-MODIFIED:20220120T192435Z
UID:403361-1644172200-1644172200@977wmoi.com
SUMMARY:Knox County Right to Life Interdenominational Prayer Service
DESCRIPTION:Traci Brown will be the guest speaker at this event at St. Patrick’s Church\, 858 South Academy Street in Galesburg. Brown’s topic will be ‘A Loving Choice to Give. A Loving Choice to Receive. Adoption a Loving Option.’ Admission is free and refreshments and fellowship will follow the prayer service. A free will offering will be taken.
URL:https://977wmoi.com/event/knox-county-right-to-life-interdenominational-prayer-service/
END:VEVENT
BEGIN:VEVENT
DTSTART;TZID=America/Chicago:20220207T110000
DTEND;TZID=America/Chicago:20220207T130000
DTSTAMP:20260420T060312
CREATED:20220124T191716Z
LAST-MODIFIED:20220124T191716Z
UID:403514-1644231600-1644238800@977wmoi.com
SUMMARY:Chicken & Noodle Lunch Benefitting Special Olympics Illinois
DESCRIPTION:Linda’s Salsa is hosting a homemade chicken and noodle lunch that will benefit the Lake Storey Polar Plunge and Special Olympics Illinois-Region F. Orders are to-go and delivery is available for three or more orders in Monmouth. Reserve your lunch by texting 309-337-9326.
URL:https://977wmoi.com/event/chicken-noodle-lunch-benefitting-special-olympics-illinois/
END:VEVENT
BEGIN:VEVENT
DTSTART;TZID=America/Chicago:20220207T170000
DTEND;TZID=America/Chicago:20220207T183000
DTSTAMP:20260420T060312
CREATED:20210920T202526Z
LAST-MODIFIED:20210920T202526Z
UID:397888-1644253200-1644258600@977wmoi.com
SUMMARY:Monmouth American Legion Soup Supper
DESCRIPTION:All you can eat. Serving chili\, loaded baked potato\, spinach bisque\, and sloppy joe sandwiches. Each meal includes a dessert\, drink\, and great friends to enjoy your meal with. A 50/50 raffle will be drawn at 6 pm. Cost is $8 for adults and $3 for children.
URL:https://977wmoi.com/event/monmouth-american-legion-soup-supper-6/
END:VEVENT
BEGIN:VEVENT
DTSTART;TZID=America/Chicago:20220208T190000
DTEND;TZID=America/Chicago:20220208T190000
DTSTAMP:20260420T060312
CREATED:20220128T141343Z
LAST-MODIFIED:20220128T141343Z
UID:403751-1644346800-1644346800@977wmoi.com
SUMMARY:Knox County Right to Life Meeting
DESCRIPTION:Meeting will be held at the Road to Freedom Church\, 1701 Mulberry in Galesburg\, and will include education and letter writing.
URL:https://977wmoi.com/event/knox-county-right-to-life-meeting-14/
END:VEVENT
BEGIN:VEVENT
DTSTART;TZID=America/Chicago:20220209T100000
DTEND;TZID=America/Chicago:20220209T100000
DTSTAMP:20260420T060312
CREATED:20220118T194531Z
LAST-MODIFIED:20220118T194531Z
UID:403242-1644400800-1644400800@977wmoi.com
SUMMARY:BCA's OLD FRIENDS TALK ART
DESCRIPTION:Sit in on a table read of Mark Twain’s delightful essay\, “The Diary of Adam and Eve\,” performed by Bill Wallace and Cathy Sheagren. Originally published in 1906\, Twain cleverly explores the courtship and marriage of the world’s first couple and their lives in (and out) of paradise. OFTA audience members will observe a working rehearsal with Wallace and Sheagren\, as they work through portions of the script to determine its “playability.” Held at the Buchanan Center for the Arts Gallery.
URL:https://977wmoi.com/event/bcas-old-friends-talk-art/
END:VEVENT
BEGIN:VEVENT
DTSTART;TZID=America/Chicago:20220209T140000
DTEND;TZID=America/Chicago:20220209T170000
DTSTAMP:20260420T060312
CREATED:20220127T190530Z
LAST-MODIFIED:20220127T190530Z
UID:403731-1644415200-1644426000@977wmoi.com
SUMMARY:WCHD 5-11 COVID-19 Vaccination Clinic
DESCRIPTION:Clinics are held at the Warren County Health Department\, 240 South Main Street in Monmouth. Appointments must be scheduled prior by calling 309-734-0823.
URL:https://977wmoi.com/event/wchd-5-11-covid-19-vaccination-clinic/
END:VEVENT
BEGIN:VEVENT
DTSTART;TZID=America/Chicago:20220211T090000
DTEND;TZID=America/Chicago:20220211T120000
DTSTAMP:20260420T060312
CREATED:20220127T190814Z
LAST-MODIFIED:20220127T190814Z
UID:403733-1644570000-1644580800@977wmoi.com
SUMMARY:WCHD 12+ COVID-19 Vaccination & Booster Clinic
DESCRIPTION:Pfizer\, Moderna\, and Johnson & Johnson will all be available. Pfizer or Moderna boosters are available if you have previously received Pfizer or Moderna more than 5 months ago. Johnson & Johnson boosters are available if you received your initial dose at least 2 months ago. Clinics are held at the Warren County Health Department\, 240 South Main Street in Monmouth. Schedule an appointment by calling 309-734-0823.
URL:https://977wmoi.com/event/wchd-12-covid-19-vaccination-booster-clinic/
END:VEVENT
BEGIN:VEVENT
DTSTART;TZID=America/Chicago:20220212T170000
DTEND;TZID=America/Chicago:20220212T170000
DTSTAMP:20260420T060312
CREATED:20220118T142106Z
LAST-MODIFIED:20220118T142106Z
UID:403195-1644685200-1644685200@977wmoi.com
SUMMARY:Tri-County Cattlemen's Association Annual Banquet
DESCRIPTION:Held at Western Illinois University in the University Union Grand Ballroom. Social hour begins at 5 pm followed by dinner and a program at 6 pm. Felix and Fingers Dueling Piano Band will perform at 8 pm. Tickets are $35. Contact a Tri-County board member or visit https://www.tricountycattlemen.com/banquet to reserve your tickets!
URL:https://977wmoi.com/event/tri-county-cattlemens-association-annual-banquet/
END:VEVENT
BEGIN:VEVENT
DTSTART;VALUE=DATE:20220214
DTEND;VALUE=DATE:20220301
DTSTAMP:20260420T060312
CREATED:20220214T145200Z
LAST-MODIFIED:20220214T145200Z
UID:404416-1644796800-1646092799@977wmoi.com
SUMMARY:W-H Farm Bureau Evelyn K. Titus Scholarship Applications Now Open
DESCRIPTION:Evelyn K. Titus Scholarship Applications are currently open! Each year\, the scholarship is awarded to one male and female Warren County high school senior continuing their education in Agriculture or Family & Consumer Sciences related fields of study. The $1\,000 scholarship can be renewable for up to four years. The deadline to submit complete applications is February 28th!\n\n\nGuidelines and the application can be found at whfarmbureau.org under the Foundation tab. Also under the Foundation tab: find information on other local and state-wide scholarships.
URL:https://977wmoi.com/event/w-h-farm-bureau-evelyn-k-titus-scholarship-applications-now-open/
END:VEVENT
BEGIN:VEVENT
DTSTART;TZID=America/Chicago:20220214T080000
DTEND;TZID=America/Chicago:20220214T160000
DTSTAMP:20260420T060312
CREATED:20220210T154803Z
LAST-MODIFIED:20220210T154803Z
UID:404311-1644825600-1644854400@977wmoi.com
SUMMARY:Mammography Day
DESCRIPTION:OSF Healthcare and Eagle View Community Health System are offering a Mammography Day on Monday\, February 14 from 8am to 4pm at OSF Holy Family Medical Center in Monmouth. Call 309-867-2202 for more information and to sign up. If you need transportation\, ask our receptionist how we can help.
URL:https://977wmoi.com/event/mammography-day/
END:VEVENT
BEGIN:VEVENT
DTSTART;VALUE=DATE:20220217
DTEND;VALUE=DATE:20220315
DTSTAMP:20260420T060312
CREATED:20220216T140710Z
LAST-MODIFIED:20220216T140710Z
UID:404584-1645056000-1647302399@977wmoi.com
SUMMARY:Monmouth Chamber Seeking Nominations
DESCRIPTION:The Monmouth Chamber of Commerce is inviting residents and business owners to help recognize businesses\, organizations or individuals who have made a significant contribution to the community this past year. The Chamber relies on our community for nominations for the awards and appreciates your time in making the nominations. Winners of these awards are honored at our Annual Awards Dinner this spring.\nPlease email assistant@monmouthilchamber.com or mail submissions to 89 Public Square\, Monmouth\, IL 61462 no later than March 14\, 2022.
URL:https://977wmoi.com/event/monmouth-chamber-seeking-nominations/
END:VEVENT
BEGIN:VEVENT
DTSTART;TZID=America/Chicago:20220217T120000
DTEND;TZID=America/Chicago:20220217T120000
DTSTAMP:20260420T060312
CREATED:20220112T162011Z
LAST-MODIFIED:20220112T162011Z
UID:402989-1645099200-1645099200@977wmoi.com
SUMMARY:Monmouth Associates Luncheon
DESCRIPTION:PRESENTERS: Janis Mars Wunderlich and Bob Holschuh Simmons \nTHURSDAY\, FEBRUARY 17| NOON \nMonmouth College \nHighlander Room\, Stockdale Student Center \n$12 per ticket \nArt professor Janis Mars Wunderlich and classics professor Bob Holschuh Simmons \nare two examples of Monmouth College faculty who have forged strong relationships between the College and the community. Public art that Janis has coordinated and contributed to\, with Monmouth students\, is visible all over campus and in town. Bob \nhas brought the classical world to life through interactive activities\, most notably \nClassics Day\, an award-winning regional festival that attracts hundreds of visitors to \nthe community. Janis\, Bob and some of their students will share how their work \nbuilds bridges between the campus and local community\, as well as the benefits \nof engaging in experiential learning in the arts and humanities. \nParking \nStockdale Student Center lot or along North Ninth Street. \nRSVP FEBRUARY 14 \n309-457-2231
URL:https://977wmoi.com/event/monmouth-associates-luncheon-2/
END:VEVENT
BEGIN:VEVENT
DTSTART;TZID=America/Chicago:20220217T160000
DTEND;TZID=America/Chicago:20220217T200000
DTSTAMP:20260420T060312
CREATED:20220209T150859Z
LAST-MODIFIED:20220209T150859Z
UID:404230-1645113600-1645128000@977wmoi.com
SUMMARY:WIU RockyTHON (aka Dance Marathon) Spaghetti Dinner Feb. 17
DESCRIPTION:On top of spaghetti\, all covered with cheese …. \nDon’t worry about supper Thursday\, Feb. 17 because Western Illinois University’s RockyTHON\, a student-led organization that raises money and awareness for the Children’s Miracle Network Hospitals\, has got you covered with an all-you-can-eat spaghetti dinner. \nThe event will be held from 4-8 p.m. Feb. 17 at the Macomb American Legion\, 221 E. Washington St. Advance tickets are $7 ($10 at the door). The event is part of the student organization’s year-round effort to raise money for Children’s Miracle Network hospitals\, St. Louis Children’s Hospital and SSM Health Cardinal Glennon. The year-long event culminates March 26\, 2022\, with the 12-hour Dance Marathon\, which honors the 12-hour shifts of doctors and nurses\, as well as children who are unable to stand. \nAdvance tickets can be purchased through Venmo @WIUROCKYTHON\, and also by contacting rockython@wiu.edu. Face coverings are required for all attendees (including those picking up carry-out orders). \nWestern’s RockyTHON is entering its ninth year on the WIU campus. Donations are welcome\, and may be made by visiting the WIU RockyThon website at WIUDM.com/ or e-mailing RockyTHON@wiu.edu. Additional details and more events can be found on the WIU RockyThon Facebook page.
URL:https://977wmoi.com/event/wiu-rockython-aka-dance-marathon-spaghetti-dinner-feb-17/
END:VEVENT
BEGIN:VEVENT
DTSTART;TZID=America/Chicago:20220217T193000
DTEND;TZID=America/Chicago:20220220T220000
DTSTAMP:20260420T060312
CREATED:20220209T145916Z
LAST-MODIFIED:20220209T150352Z
UID:404226-1645126200-1645394400@977wmoi.com
SUMMARY:The Revolutionists
DESCRIPTION:After a two-year wait\, the show will go on! \n\n\nThe Monmouth College Department of Theatre presents “The Revolutionists” at Wells Theatre next weekend\, Feb. 17-20. Directed by Vanessa Campagna\, and featuring Carolyn Suda on the cello\, the performance showcases four women who lived boldly in France during the French Revolution’s Reign of Terror in the 1790s.\n\n\nPurchase your tickets today! \nwww.showtix4u.com/event-details/60757
URL:https://977wmoi.com/event/the-revolutionists/
END:VEVENT
BEGIN:VEVENT
DTSTART;TZID=America/Chicago:20220218T090000
DTEND;TZID=America/Chicago:20220218T120000
DTSTAMP:20260420T060312
CREATED:20220127T190913Z
LAST-MODIFIED:20220127T190913Z
UID:403735-1645174800-1645185600@977wmoi.com
SUMMARY:WCHD 12+ COVID-19 Vaccination & Booster Clinic
DESCRIPTION:Pfizer\, Moderna\, and Johnson & Johnson will all be available. Pfizer or Moderna boosters are available if you have previously received Pfizer or Moderna more than 5 months ago. Johnson & Johnson boosters are available if you received your initial dose at least 2 months ago. Clinics are held at the Warren County Health Department\, 240 South Main Street in Monmouth. Schedule an appointment by calling 309-734-0823.
URL:https://977wmoi.com/event/wchd-12-covid-19-vaccination-booster-clinic-2/
END:VEVENT
BEGIN:VEVENT
DTSTART;TZID=America/Chicago:20220221T160000
DTEND;TZID=America/Chicago:20220221T180000
DTSTAMP:20260420T060312
CREATED:20220214T144819Z
LAST-MODIFIED:20220214T144819Z
UID:404411-1645459200-1645466400@977wmoi.com
SUMMARY:Special Olympics Illinois Region F Pulled Pork Dinner Fundraiser
DESCRIPTION:Linda’s Salsa is hosting a Pulled Pork Dinner Fundraiser to benefit the Polar Plunge for Special Olympics Illinois Region F. For a $10 donation the dinner will include a pulled pork sandwich\, scalloped potatoes\, baked beans\, and dessert. Pick-up is at Linda’s Salsa\, 1343 South Main Street in Monmouth. Reserve your dinner by texting 309-337-9326 by February 19th.
URL:https://977wmoi.com/event/special-olympics-illinois-region-f-pulled-pork-dinner-fundraiser/
END:VEVENT
BEGIN:VEVENT
DTSTART;TZID=America/Chicago:20220222T180000
DTEND;TZID=America/Chicago:20220222T193000
DTSTAMP:20260420T060312
CREATED:20220210T153454Z
LAST-MODIFIED:20220210T153454Z
UID:404302-1645552800-1645558200@977wmoi.com
SUMMARY:Dual Credit Informational Meeting
DESCRIPTION:Dual Credit Informational Meeting at United High School on February 22 at 6 PM. Learn about dual credit and the steps to take for students to enroll in classes. A Carl Sandburg College representative will be hosting.
URL:https://977wmoi.com/event/dual-credit-informational-meeting/
END:VEVENT
BEGIN:VEVENT
DTSTART;TZID=America/Chicago:20220223T070000
DTEND;TZID=America/Chicago:20220223T100000
DTSTAMP:20260420T060312
CREATED:20220209T150614Z
LAST-MODIFIED:20220209T150614Z
UID:404228-1645599600-1645610400@977wmoi.com
SUMMARY:WIU Collegiate FFA Chapter Plans Feb. 23 Pancake Breakfast
DESCRIPTION:The Western Illinois University Collegiate FFA (CFFA) chapter will host a drive-through\, fundraising pancake breakfast from 7-10 a.m. Wednesday\, Feb. 23 in the basement of Knoblauch Hall. \nThe menu will include pancakes\, eggs\, side of meat\, milk\, orange juice and water. \nTickets are $5 in advance from any CFFA member\, or in the School of Agriculture office in Knoblauch Hall\, or $6 at the door. Advance sales can be made by Monday\, Feb. 21\, using cash\, check or Venmo. \nThe event is open to the public. \nThis is one of CFFA’s fundraisers each year. The chapter competes at the state and national level and helps with the University’s Greenhand Conference\, an annual\, agriculture-related event in Macomb for students from nearly 35 high schools. \nFor more information\, contact Kristy Weidhuner at k-weidhuner@wiu.edu.
URL:https://977wmoi.com/event/wiu-collegiate-ffa-chapter-plans-feb-23-pancake-breakfast/
END:VEVENT
BEGIN:VEVENT
DTSTART;TZID=America/Chicago:20220223T170000
DTEND;TZID=America/Chicago:20220223T170000
DTSTAMP:20260420T060312
CREATED:20220217T140857Z
LAST-MODIFIED:20220217T140857Z
UID:404646-1645635600-1645635600@977wmoi.com
SUMMARY:West Central FFA Alumni Auction
DESCRIPTION:The West Central FFA will be hosting their annual alumni auction at the Barn at Fairview Acres\, and they would love for you to join!\n\n\nSocial Hour begins at 5pm.\nDinner will be served at 6pm with the Meeting and Auction to follow! The meal will be provided by Papa’s and include Brisket\, Pulled Pork\, Turkey\, Baked Beans\, Cheesy Potatoes\, & Coleslaw.\n\n\nThis year’s auctioneer will be Rob Janssen from Janssen Auctioneers.\n\n\nAll proceeds go to the Alumni Tractor Pull and the West Central FFA Chapter.
URL:https://977wmoi.com/event/west-central-ffa-alumni-auction/
END:VEVENT
BEGIN:VEVENT
DTSTART;TZID=America/Chicago:20220225T110000
DTEND;TZID=America/Chicago:20220225T180000
DTSTAMP:20260420T060312
CREATED:20220221T185645Z
LAST-MODIFIED:20220221T185645Z
UID:404799-1645786800-1645812000@977wmoi.com
SUMMARY:Calvary Baptist Church's Annual Fried Chicken Dinner
DESCRIPTION:Calvary Baptist Church’s Annual Fried Chicken Dinner is 11 a.m. to 6 p.m. Friday\, February 25\, at the church\, 1000 South 1st Street in Monmouth. \nCarry-out and delivery is available\, all are welcome. Masks optional. \nSuggested donation is $12 per dinner. \nFor more information\, call (309) 397-6901.
URL:https://977wmoi.com/event/calvary-baptist-churchs-annual-fried-chicken-dinner/
LOCATION:Calvary Baptist Church\, 1000 South 1st Street\, Monmouth\, IL\, 61462\, United States
END:VEVENT
BEGIN:VEVENT
DTSTART;TZID=America/Chicago:20220225T170000
DTEND;TZID=America/Chicago:20220225T170000
DTSTAMP:20260420T060312
CREATED:20220117T190055Z
LAST-MODIFIED:20220117T190055Z
UID:403174-1645808400-1645808400@977wmoi.com
SUMMARY:Trivia Night at the Monmouth Country Club
DESCRIPTION:Members and guests\, join for a night to outwit your competitors with general facts and trivia. Table of 8 is $80. Pulled pork and sides will be available for purchase. Bar opens at 5 pm. Trivia begins at 6:30 pm. Payouts to the winners! Call 309-255-3140 to register your table today.
URL:https://977wmoi.com/event/trivia-night-at-the-monmouth-country-club/
END:VEVENT
BEGIN:VEVENT
DTSTART;TZID=America/Chicago:20220226T090000
DTEND;TZID=America/Chicago:20220226T120000
DTSTAMP:20260420T060312
CREATED:20220127T191002Z
LAST-MODIFIED:20220127T191002Z
UID:403737-1645866000-1645876800@977wmoi.com
SUMMARY:WCHD 12+ COVID-19 Vaccination & Booster Clinic
DESCRIPTION:Pfizer\, Moderna\, and Johnson & Johnson will all be available. Pfizer or Moderna boosters are available if you have previously received Pfizer or Moderna more than 5 months ago. Johnson & Johnson boosters are available if you received your initial dose at least 2 months ago. Clinics are held at the Warren County Health Department\, 240 South Main Street in Monmouth. Schedule an appointment by calling 309-734-0823.
URL:https://977wmoi.com/event/wchd-12-covid-19-vaccination-booster-clinic-3/
END:VEVENT
BEGIN:VEVENT
DTSTART;TZID=America/Chicago:20220226T110000
DTEND;TZID=America/Chicago:20220226T140000
DTSTAMP:20260420T060312
CREATED:20220224T142239Z
LAST-MODIFIED:20220224T142252Z
UID:404958-1645873200-1645884000@977wmoi.com
SUMMARY:Friends of the Library Book Sale
DESCRIPTION:Friends of the Macomb Public Library will be hosting a book sale on Saturday\, February 26\, 2022 from 11am to 2pm at the Library Annex\, 109 East Jefferson Street in Macomb. Featuring mysteries\, westerns\, science fiction\, and oversized books. Also CD’s\, DVD’s and audio books. Masks will be required. All proceeds are reinvested in the library.
URL:https://977wmoi.com/event/friends-of-the-library-book-sale-2/
END:VEVENT
BEGIN:VEVENT
DTSTART;TZID=America/Chicago:20220226T200000
DTEND;TZID=America/Chicago:20220226T220000
DTSTAMP:20260420T060312
CREATED:20220223T162945Z
LAST-MODIFIED:20220223T162945Z
UID:404907-1645905600-1645912800@977wmoi.com
SUMMARY:Heartsick performing live at Wake N Bake
DESCRIPTION:Heartsick will be performing live at Wake N Bake in Burlington\, Iowa at 8pm on Saturday\, February 26th. Wake N Bake is located at 713 Jefferson Street in Burlington.
URL:https://977wmoi.com/event/heartsick-performing-live-at-wake-n-bake/
END:VEVENT
BEGIN:VEVENT
DTSTART;TZID=America/Chicago:20220227T140000
DTEND;TZID=America/Chicago:20220227T150000
DTSTAMP:20260420T060312
CREATED:20220223T162034Z
LAST-MODIFIED:20220224T151853Z
UID:404903-1645970400-1645974000@977wmoi.com
SUMMARY:2022 Polar Plunge
DESCRIPTION:The 2022 Polar Plunge will take place at Lake Storey beach in Galesburg starting at 2pm on Sunday\, February 27th. You can watch and cheer on the plungers\, or be brave and plunge yourself. All donations will benefit Special Olympic athletes in Illinois to compete in the summer games and many other ways as well.
URL:https://977wmoi.com/event/2022-polar-plunge/
END:VEVENT
BEGIN:VEVENT
DTSTART;TZID=America/Chicago:20220228T170000
DTEND;TZID=America/Chicago:20220228T190000
DTSTAMP:20260420T060312
CREATED:20220210T153956Z
LAST-MODIFIED:20220210T153956Z
UID:404305-1646067600-1646074800@977wmoi.com
SUMMARY:Diabetes Support Group Meeting
DESCRIPTION:Diabetes Support Group Meeting at OSF Holy Family in Monmouth\nMonday\, Feb. 28th Starting at 5pm. Free and Open to the Public in the\nWellness Center Classroom. Dr. Jeremiah Bushmaker will be on-hand\nto discuss proper foot care and the impact it has on managing your\ndiabetes. Address questions about this event to Tina Canada at (309)\n734-1424.
URL:https://977wmoi.com/event/diabetes-support-group-meeting/
END:VEVENT
BEGIN:VEVENT
DTSTART;TZID=America/Chicago:20220301T170000
DTEND;TZID=America/Chicago:20220301T180000
DTSTAMP:20260420T060312
CREATED:20220215T140434Z
LAST-MODIFIED:20220215T140434Z
UID:404503-1646154000-1646157600@977wmoi.com
SUMMARY:Galesburg Chamber Quarterly Roundtable
DESCRIPTION:Interchange exchange at the Galesburg Chamber’s quarterly roundtable for businesses to discuss what’s working for them\, form collaborations\, and to work together for the betterment of the community. Event will be held at Lenny’s Grill & Subs in Galesburg.
URL:https://977wmoi.com/event/galesburg-chamber-quarterly-roundtable/
END:VEVENT
END:VCALENDAR