BEGIN:VCALENDAR
VERSION:2.0
PRODID:-//Prairie Communications, LLC - ECPv6.15.20//NONSGML v1.0//EN
CALSCALE:GREGORIAN
METHOD:PUBLISH
X-ORIGINAL-URL:https://977wmoi.com
X-WR-CALDESC:Events for Prairie Communications, LLC
REFRESH-INTERVAL;VALUE=DURATION:PT1H
X-Robots-Tag:noindex
X-PUBLISHED-TTL:PT1H
BEGIN:VTIMEZONE
TZID:America/Chicago
BEGIN:DAYLIGHT
TZOFFSETFROM:-0600
TZOFFSETTO:-0500
TZNAME:CDT
DTSTART:20210314T080000
END:DAYLIGHT
BEGIN:STANDARD
TZOFFSETFROM:-0500
TZOFFSETTO:-0600
TZNAME:CST
DTSTART:20211107T070000
END:STANDARD
BEGIN:DAYLIGHT
TZOFFSETFROM:-0600
TZOFFSETTO:-0500
TZNAME:CDT
DTSTART:20220313T080000
END:DAYLIGHT
BEGIN:STANDARD
TZOFFSETFROM:-0500
TZOFFSETTO:-0600
TZNAME:CST
DTSTART:20221106T070000
END:STANDARD
BEGIN:DAYLIGHT
TZOFFSETFROM:-0600
TZOFFSETTO:-0500
TZNAME:CDT
DTSTART:20230312T080000
END:DAYLIGHT
BEGIN:STANDARD
TZOFFSETFROM:-0500
TZOFFSETTO:-0600
TZNAME:CST
DTSTART:20231105T070000
END:STANDARD
END:VTIMEZONE
BEGIN:VEVENT
DTSTART;TZID=America/Chicago:20221027T130000
DTEND;TZID=America/Chicago:20221027T153000
DTSTAMP:20260419T193239
CREATED:20220826T205855Z
LAST-MODIFIED:20220826T205855Z
UID:413644-1666875600-1666884600@977wmoi.com
SUMMARY:Take Charge: Chronic Disease Self-Management Plan
DESCRIPTION:This is a 6 week virtual series begins October 27 and will take place each Thursday through December 8. (No class on Holiday\, November 24). Participants will learn to thrive\, not just survive with your ongoing health conditions. Discover healthy ways to live with chronic conditions such as arthritis\, diabetes\, heart disease and others. Find practical ways to deal with pain and fatigue\, discover better nutrition and exercise choices\, understand treatment choices\, and learn better ways to talk with your doctors and family about your health.
URL:https://977wmoi.com/event/take-charge-chronic-disease-self-management-plan/
END:VEVENT
BEGIN:VEVENT
DTSTART;TZID=America/Chicago:20221028T160000
DTEND;TZID=America/Chicago:20221028T190000
DTSTAMP:20260419T193239
CREATED:20221024T131753Z
LAST-MODIFIED:20221024T131753Z
UID:417222-1666972800-1666983600@977wmoi.com
SUMMARY:Knox County YMCA Childwatch Halloween Party
DESCRIPTION:We will hold our annual Childwatch Halloween Party on Friday\, October 28th from 4-7pm in the McBride Gym!! This event is for 10 years and under. This is FREE for members and $5 per child for non-members. No registration is required. Parents can drop kids off\, but MUST stay on Y property. We hope to see your kid(s) there!!
URL:https://977wmoi.com/event/knox-county-ymca-childwatch-halloween-party/
END:VEVENT
BEGIN:VEVENT
DTSTART;VALUE=DATE:20221029
DTEND;VALUE=DATE:20221030
DTSTAMP:20260419T193239
CREATED:20220126T143459Z
LAST-MODIFIED:20220126T143459Z
UID:403625-1667001600-1667087999@977wmoi.com
SUMMARY:Warren County History Museum: Fractured Spirits
DESCRIPTION:Event will discuss hauntings at the Peoria State Hospital with Sylvia Shults.
URL:https://977wmoi.com/event/warren-county-history-museum-fractured-spirits/
END:VEVENT
BEGIN:VEVENT
DTSTART;TZID=America/Chicago:20221029T090000
DTEND;TZID=America/Chicago:20221029T090000
DTSTAMP:20260419T193239
CREATED:20220824T130845Z
LAST-MODIFIED:20220824T130845Z
UID:413495-1667034000-1667034000@977wmoi.com
SUMMARY:9th Annual Halloween Hustle 5K Run/Walk
DESCRIPTION:Cost: $25 (includes t-shirt & runners bib)\nLocation: Starting line at Oquawka Track\n(Located on the corner of 8th and Knox\, next to Faith Bible Church)\nTime: 9:00 am\n\n\nHow to Register:\n1. Register & pay online by visiting Eagle View Community Health System – Run for the Health of It – Halloween Hustle registration information at GetMeRegistered.com\n\n\nOR\n2. Click here for a printable registration form that can be mailed with payment to:\nEagle View Community Health System\nAttn: Emily Higgins\nP.O Box 198\nOquawka\, IL 61469\nPlease make all checks out to: Eagle View Community Health System
URL:https://977wmoi.com/event/9th-annual-halloween-hustle-5k-run-walk/
END:VEVENT
BEGIN:VEVENT
DTSTART;TZID=America/Chicago:20221029T100000
DTEND;TZID=America/Chicago:20221029T100000
DTSTAMP:20260419T193239
CREATED:20220825T200045Z
LAST-MODIFIED:20220825T200045Z
UID:413591-1667037600-1667037600@977wmoi.com
SUMMARY:Trick or Treat on the Square in Monmouth
DESCRIPTION:The Warren County Public Library will host a Trick or Treating event during their weekly Storey Time around the Square in Downtown Monmouth.
URL:https://977wmoi.com/event/trick-or-treat-on-the-square-in-monmouth/
END:VEVENT
BEGIN:VEVENT
DTSTART;TZID=America/Chicago:20221029T100000
DTEND;TZID=America/Chicago:20221029T100000
DTSTAMP:20260419T193239
CREATED:20220928T132402Z
LAST-MODIFIED:20220928T132402Z
UID:415753-1667037600-1667037600@977wmoi.com
SUMMARY:Trick or Treat on the Monmouth Downtown Square
DESCRIPTION:Show off your costume and trick or treat at local business. Start at the Warren County Public Library to hear a story and then enjoy tricking or treating on the square. This is a free event for children of all ages and their guardians.
URL:https://977wmoi.com/event/trick-or-treat-on-the-monmouth-downtown-square/
END:VEVENT
BEGIN:VEVENT
DTSTART;TZID=America/Chicago:20221029T100000
DTEND;TZID=America/Chicago:20221029T120000
DTSTAMP:20260419T193239
CREATED:20221025T132403Z
LAST-MODIFIED:20221025T132403Z
UID:417312-1667037600-1667044800@977wmoi.com
SUMMARY:Prescription Drug Take Back Day
DESCRIPTION:Where: Galesburg Public Safety Bldg.\n150 S. Broad St. Galesburg\, IL. 61401\nThe National Prescription Drug Take Back Day aims to provide a safe\, convenient and responsible means of disposing of prescription drugs. Last October\, an estimated total weight of 744\,082 lbs. was collected nationwide!
URL:https://977wmoi.com/event/prescription-drug-take-back-day/
END:VEVENT
BEGIN:VEVENT
DTSTART;TZID=America/Chicago:20221029T120000
DTEND;TZID=America/Chicago:20221029T160000
DTSTAMP:20260419T193239
CREATED:20221012T134920Z
LAST-MODIFIED:20221012T134920Z
UID:416511-1667044800-1667059200@977wmoi.com
SUMMARY:WIAR Happy Howloween 5K and 1 Mile Walk
DESCRIPTION:Please join on Saturday\, October 29\, 2022 for the annual Howloween Run. There will be a 5k run/walk along with a 1 mile Fun Walk. Well behaved pets on leashes are welcome to come. Both races will start and finish at WIAR. There will be prizes for 1st\, 2nd and 3rd places finishes in the 5K for Men\, Women and Children. There will also be a prize for the 1st dog across the finish line.\nAfter the race\, join for refreshments\, prize presentation and a costume party for the kids and dogs. There will be prizes for the best child costume and best dog costume. A photo backdrop will be set up for pictures.\n5K Registration fee $25 before October 15\, 2022- $30 after October 16\,2022\n1Mile Registration fee $20 before October 15\, 2022- $25 after October 16\, 2022\nEarly registration must be received by October 15\, 2022 to guarantee your t-shirt on race day.\nSign up at WIAR Rescue.
URL:https://977wmoi.com/event/wiar-happy-howloween-5k-and-1-mile-walk/
END:VEVENT
BEGIN:VEVENT
DTSTART;TZID=America/Chicago:20221029T140000
DTEND;TZID=America/Chicago:20221029T140000
DTSTAMP:20260419T193239
CREATED:20220930T131012Z
LAST-MODIFIED:20220930T131012Z
UID:415901-1667052000-1667052000@977wmoi.com
SUMMARY:WCHM Scarecrow from Scratch
DESCRIPTION:Build a scarecrow from scratch at the Warren County History Museum. Straw will be provided\, but please bring your own supplies to create your scarecrow. Free and open to the public. A special guest judge will be awarding prizes.
URL:https://977wmoi.com/event/wchm-scarecrow-from-scratch/
END:VEVENT
BEGIN:VEVENT
DTSTART;TZID=America/Chicago:20221029T170000
DTEND;TZID=America/Chicago:20221029T190000
DTSTAMP:20260419T193239
CREATED:20221027T181522Z
LAST-MODIFIED:20221027T181522Z
UID:417491-1667062800-1667070000@977wmoi.com
SUMMARY:Village of Little York Trick or Treating
DESCRIPTION:
URL:https://977wmoi.com/event/village-of-little-york-trick-or-treating/
END:VEVENT
BEGIN:VEVENT
DTSTART;TZID=America/Chicago:20221029T220000
DTEND;TZID=America/Chicago:20221029T220000
DTSTAMP:20260419T193239
CREATED:20220919T155447Z
LAST-MODIFIED:20220919T155447Z
UID:415012-1667080800-1667080800@977wmoi.com
SUMMARY:The Rocky Horror Picture Show
DESCRIPTION:At the Historic and Spooky Orpheum Theatre. Doors open at 10 pm. Costume contest at 11 pm. Screening of the show at midnight. Adults 18 and older can attend. $10 tickets in advance. $12 at the door.
URL:https://977wmoi.com/event/the-rocky-horror-picture-show/
END:VEVENT
BEGIN:VEVENT
DTSTART;TZID=America/Chicago:20221031T170000
DTEND;TZID=America/Chicago:20221031T200000
DTSTAMP:20260419T193239
CREATED:20221021T164942Z
LAST-MODIFIED:20221021T164942Z
UID:417156-1667235600-1667246400@977wmoi.com
SUMMARY:City of Galesburg Trick or Treating Hours
DESCRIPTION:
URL:https://977wmoi.com/event/city-of-galesburg-trick-or-treating-hours-2/
END:VEVENT
BEGIN:VEVENT
DTSTART;TZID=America/Chicago:20221031T173000
DTEND;TZID=America/Chicago:20221031T190000
DTSTAMP:20260419T193239
CREATED:20221020T131803Z
LAST-MODIFIED:20221020T131803Z
UID:417021-1667237400-1667242800@977wmoi.com
SUMMARY:Monmouth Evening Lions Club Trunk or Treat
DESCRIPTION:Annual Monmouth Evening Lions Club Halloween Event Monmouth Fire Department at the north fire station October 31\, 2022 5:30-7pm Hot dogs\, chips\, water\, candy and treat bags Stop by and see us!
URL:https://977wmoi.com/event/monmouth-evening-lions-club-trunk-or-treat/
END:VEVENT
BEGIN:VEVENT
DTSTART;TZID=America/Chicago:20221031T173000
DTEND;TZID=America/Chicago:20221031T193000
DTSTAMP:20260419T193239
CREATED:20221005T131621Z
LAST-MODIFIED:20221005T131621Z
UID:416130-1667237400-1667244600@977wmoi.com
SUMMARY:Village of Stronghurst Trick or Treating
DESCRIPTION:
URL:https://977wmoi.com/event/village-of-stronghurst-trick-or-treating/
END:VEVENT
BEGIN:VEVENT
DTSTART;TZID=America/Chicago:20221031T173000
DTEND;TZID=America/Chicago:20221031T200000
DTSTAMP:20260419T193239
CREATED:20221003T151355Z
LAST-MODIFIED:20221018T151437Z
UID:416027-1667237400-1667246400@977wmoi.com
SUMMARY:City of Monmouth Trick or Treating Hours
DESCRIPTION:Annual Trick or Treating event at the Monmouth Fire Station will also coincide with City of Monmouth hours.
URL:https://977wmoi.com/event/city-of-monmouth-trick-or-treating-hours-2/
END:VEVENT
BEGIN:VEVENT
DTSTART;TZID=America/Chicago:20221031T173000
DTEND;TZID=America/Chicago:20221031T200000
DTSTAMP:20260419T193239
CREATED:20221013T164111Z
LAST-MODIFIED:20221013T164111Z
UID:416604-1667237400-1667246400@977wmoi.com
SUMMARY:3rd Annual Kirkwood Fire Trunk-or-Treat
DESCRIPTION:Join the Kirkwood Fire Department for a Trunk-or-Treating event at the firehouse. The department will also be handing out hotdogs while supplies last. Other community members and first responders will also be set up passing out treats.
URL:https://977wmoi.com/event/3rd-annual-kirkwood-fire-trunk-or-treat/
END:VEVENT
BEGIN:VEVENT
DTSTART;TZID=America/Chicago:20221031T173000
DTEND;TZID=America/Chicago:20221031T200000
DTSTAMP:20260419T193239
CREATED:20221013T164143Z
LAST-MODIFIED:20221013T164143Z
UID:416606-1667237400-1667246400@977wmoi.com
SUMMARY:Village of Kirkwood Trick or Treating
DESCRIPTION:
URL:https://977wmoi.com/event/village-of-kirkwood-trick-or-treating/
END:VEVENT
BEGIN:VEVENT
DTSTART;TZID=America/Chicago:20221031T180000
DTEND;TZID=America/Chicago:20221031T200000
DTSTAMP:20260419T193239
CREATED:20221020T131928Z
LAST-MODIFIED:20221020T131928Z
UID:417023-1667239200-1667246400@977wmoi.com
SUMMARY:First Christian Church Trunk or Treat
DESCRIPTION:Join the First Christian Church\, 514 North Sunny Lane for their Trunk or Treating event. Candy. Hayrack rides. Hotdogs.
URL:https://977wmoi.com/event/first-christian-church-trunk-or-treat-2/
END:VEVENT
BEGIN:VEVENT
DTSTART;VALUE=DATE:20221101
DTEND;VALUE=DATE:20221108
DTSTAMP:20260419T193239
CREATED:20221024T131204Z
LAST-MODIFIED:20221024T131204Z
UID:417215-1667260800-1667865599@977wmoi.com
SUMMARY:Santa for Seniors Applications Now Available
DESCRIPTION:Strom Center’s Santa for Senior applications are now available\, which can be picked up at the office or by calling 309-734-5677. Deadline for applications is November 12th.
URL:https://977wmoi.com/event/santa-for-seniors-applications-now-available/
END:VEVENT
BEGIN:VEVENT
DTSTART;VALUE=DATE:20221101
DTEND;VALUE=DATE:20221114
DTSTAMP:20260419T193239
CREATED:20221026T164909Z
LAST-MODIFIED:20221026T164909Z
UID:417428-1667260800-1668383999@977wmoi.com
SUMMARY:Toy Drive Donation Drop-Off at Legacy Estates in Monmouth
DESCRIPTION:November 1st through December 1st\, new\, unwrapped toys will be collected at Legacy Estates of Monmouth\, 1200 West Broadway\, for the Jamieson Community Center Christmas Store. For more information\, feel free to call 309-734-0909 or Jamieson Center at 309-734-4251.
URL:https://977wmoi.com/event/toy-drive-donation-drop-off-at-legacy-estates-in-monmouth/
END:VEVENT
BEGIN:VEVENT
DTSTART;TZID=America/Chicago:20221102T173000
DTEND;TZID=America/Chicago:20221102T190000
DTSTAMP:20260419T193239
CREATED:20221014T131415Z
LAST-MODIFIED:20221014T131415Z
UID:416651-1667410200-1667415600@977wmoi.com
SUMMARY:Bereavement Support Group
DESCRIPTION:Three consecutive Wednesdays remain. November 2nd – Understanding the Grief Process. November 9th – Developing Realistic Memories. November 16th – Healing for the Holidays. Events are free and open to the public and will be held at OSF Holy Family Medical Center\, use the west side door. For more information or to RSVP\, call Doug Gibb at 309-342-3007.
URL:https://977wmoi.com/event/bereavement-support-group-2/
END:VEVENT
BEGIN:VEVENT
DTSTART;TZID=America/Chicago:20221103T140000
DTEND;TZID=America/Chicago:20221103T150000
DTSTAMP:20260419T193239
CREATED:20220826T212331Z
LAST-MODIFIED:20220826T212331Z
UID:413652-1667484000-1667487600@977wmoi.com
SUMMARY:The Trauma Informed Care Professional Webinar
DESCRIPTION:Becoming “trauma-informed” means recognizing that people often have many different types of trauma in their lives. People who have been traumatized need support and understanding from those around them\, including long-term care professionals. Often\, trauma survivors can be retraumatized by well-meaning caregivers and community service providers. Understanding the inﬂuence of trauma is an essential ﬁrst step in becoming a compassionate and supportive professional. This session will provide participants with a shared understanding and language of trauma\, awareness of the prevalence of trauma\, and a shift in thinking to become more trauma-informed and aware.
URL:https://977wmoi.com/event/the-trauma-informed-care-professional-webinar/
END:VEVENT
BEGIN:VEVENT
DTSTART;TZID=America/Chicago:20221104T090000
DTEND;TZID=America/Chicago:20221104T150000
DTSTAMP:20260419T193239
CREATED:20221019T130207Z
LAST-MODIFIED:20221019T130207Z
UID:416869-1667552400-1667574000@977wmoi.com
SUMMARY:Keep the Community Warm Event
DESCRIPTION:Event in remembrance of Hattie Garrett with proceeds benefitting Strom Senior Center’s Emergency Fund. On the 1st Floor of Strom Center in Monmouth in the Dining Hall\, winter coats\, hats\, gloves\, scarves\, socks\, blankets\, and pillows will be available for the entire family for $5 or less.
URL:https://977wmoi.com/event/keep-the-community-warm-event/
END:VEVENT
BEGIN:VEVENT
DTSTART;TZID=America/Chicago:20221104T153000
DTEND;TZID=America/Chicago:20221104T153000
DTSTAMP:20260419T193239
CREATED:20221026T145452Z
LAST-MODIFIED:20221026T145452Z
UID:417398-1667575800-1667575800@977wmoi.com
SUMMARY:Lego Building Challenge
DESCRIPTION:Visit the Warren County Public Library and use your creativity and building skills to create a masterpiece using Lego bricks.
URL:https://977wmoi.com/event/lego-building-challenge-2/
END:VEVENT
BEGIN:VEVENT
DTSTART;TZID=America/Chicago:20221104T160000
DTEND;TZID=America/Chicago:20221104T190000
DTSTAMP:20260419T193239
CREATED:20221011T185834Z
LAST-MODIFIED:20221011T185834Z
UID:416466-1667577600-1667588400@977wmoi.com
SUMMARY:Roseville Amish School Benefit Supper
DESCRIPTION:Join for a benefit supper at St. Patrick’s Community Center\, located west of Roseville 7 miles on Highway 116 and 1 mile south. Serving mashed potatoes\, dressing\, gravy\, noodles\, grilled chicken\, ham\, green beans\, salad\, and desserts. Carryout available.
URL:https://977wmoi.com/event/roseville-amish-school-benefit-supper-3/
END:VEVENT
BEGIN:VEVENT
DTSTART;TZID=America/Chicago:20221104T193000
DTEND;TZID=America/Chicago:20221104T193000
DTSTAMP:20260419T193239
CREATED:20221024T133233Z
LAST-MODIFIED:20221024T133233Z
UID:417226-1667590200-1667590200@977wmoi.com
SUMMARY:2nd Annual Dueling Pianos KCCDD Fundraiser
DESCRIPTION:Dueling Pianos Performed by Fun Pianos\nWe are proud to bring back Dueling Pianos at The Vault performed by Fun Pianos! Proceeds benefit KCCDD. \n\nSponsorship is $550. Includes a table for 10\, two large charcuterie boards\, and promotion leading up to and at the event. \nGeneral admission is $30. \nTables are $270. You get 10 for the price of 9! Please include names of people attending. \nGather charcuterie board details: \nSmall – 3 types of artisan cheeses and 2 types of cured meats\, fruit\, honey\, olives and nuts. Crackers on the side in a box. Board feeds 4-6 people. \nLarge – 4 types of artisan cheeses and 3 types of cured meats\, fruit\, honey\, olives\, nuts\, crudites and dip. Crackers on the side in a box. Board feeds 8-10 people.
URL:https://977wmoi.com/event/2nd-annual-dueling-pianos-kccdd-fundraiser/
END:VEVENT
BEGIN:VEVENT
DTSTART;TZID=America/Chicago:20221105T090000
DTEND;TZID=America/Chicago:20221105T120000
DTSTAMP:20260419T193239
CREATED:20221019T130314Z
LAST-MODIFIED:20221019T130314Z
UID:416872-1667638800-1667649600@977wmoi.com
SUMMARY:Keep the Community Warm Event
DESCRIPTION:Event in remembrance of Hattie Garrett with proceeds benefitting Strom Senior Center’s Emergency Fund. On the 1st Floor of Strom Center in Monmouth in the Dining Hall\, winter coats\, hats\, gloves\, scarves\, socks\, blankets\, and pillows will be available for the entire family for $5 or less.
URL:https://977wmoi.com/event/keep-the-community-warm-event-2/
END:VEVENT
BEGIN:VEVENT
DTSTART;TZID=America/Chicago:20221105T160000
DTEND;TZID=America/Chicago:20221105T190000
DTSTAMP:20260419T193239
CREATED:20221031T194432Z
LAST-MODIFIED:20221031T194432Z
UID:417751-1667664000-1667674800@977wmoi.com
SUMMARY:Carman Veterans Memorial Soup Supper
DESCRIPTION:At the Carman Community Center. Serving 4 pm to 7pm. Free will donation. Bake sale will be ongoing and a gun raffle drawing will follow.
URL:https://977wmoi.com/event/carman-veterans-memorial-soup-supper/
END:VEVENT
BEGIN:VEVENT
DTSTART;TZID=America/Chicago:20221105T170000
DTEND;TZID=America/Chicago:20221105T170000
DTSTAMP:20260419T193239
CREATED:20221020T132344Z
LAST-MODIFIED:20221020T145512Z
UID:417029-1667667600-1667667600@977wmoi.com
SUMMARY:Eagle View Community Health System Trivia Night
DESCRIPTION:Event will be held at Mama’s Place in Oquawka. Doors open at 5 pm. Trivia begins at 6 pm. $10 per person. 6 to 10 members per team. Free will donation bake sale. Silent auction. Friendly competition. Call Cathy at 309-867-2202 to sign up.
URL:https://977wmoi.com/event/eagle-view-community-health-system-trivia-night/
END:VEVENT
BEGIN:VEVENT
DTSTART;TZID=America/Chicago:20221105T180000
DTEND;TZID=America/Chicago:20221105T180000
DTSTAMP:20260419T193239
CREATED:20220919T155742Z
LAST-MODIFIED:20220919T155742Z
UID:415014-1667671200-1667671200@977wmoi.com
SUMMARY:Music Trivia
DESCRIPTION:At the KC Hall in Galesburg. Doors open at 6 pm. Trivia at 7 pm. $120 a team. Includes mulligans and doubler. Food available for purchase. Silent auction and raffles. Proceeds benefit Galesburg Silver Streaks. Contact Coach Thompson to sign up\, ccthompson2@galesburg205.org.
URL:https://977wmoi.com/event/music-trivia/
END:VEVENT
END:VCALENDAR