BEGIN:VCALENDAR
VERSION:2.0
PRODID:-//Prairie Communications, LLC - ECPv6.15.20//NONSGML v1.0//EN
CALSCALE:GREGORIAN
METHOD:PUBLISH
X-WR-CALNAME:Prairie Communications, LLC
X-ORIGINAL-URL:https://977wmoi.com
X-WR-CALDESC:Events for Prairie Communications, LLC
REFRESH-INTERVAL;VALUE=DURATION:PT1H
X-Robots-Tag:noindex
X-PUBLISHED-TTL:PT1H
BEGIN:VTIMEZONE
TZID:America/Chicago
BEGIN:DAYLIGHT
TZOFFSETFROM:-0600
TZOFFSETTO:-0500
TZNAME:CDT
DTSTART:20210314T080000
END:DAYLIGHT
BEGIN:STANDARD
TZOFFSETFROM:-0500
TZOFFSETTO:-0600
TZNAME:CST
DTSTART:20211107T070000
END:STANDARD
BEGIN:DAYLIGHT
TZOFFSETFROM:-0600
TZOFFSETTO:-0500
TZNAME:CDT
DTSTART:20220313T080000
END:DAYLIGHT
BEGIN:STANDARD
TZOFFSETFROM:-0500
TZOFFSETTO:-0600
TZNAME:CST
DTSTART:20221106T070000
END:STANDARD
BEGIN:DAYLIGHT
TZOFFSETFROM:-0600
TZOFFSETTO:-0500
TZNAME:CDT
DTSTART:20230312T080000
END:DAYLIGHT
BEGIN:STANDARD
TZOFFSETFROM:-0500
TZOFFSETTO:-0600
TZNAME:CST
DTSTART:20231105T070000
END:STANDARD
END:VTIMEZONE
BEGIN:VEVENT
DTSTART;TZID=America/Chicago:20220503T153000
DTEND;TZID=America/Chicago:20220503T173000
DTSTAMP:20260421T104146
CREATED:20220331T131225Z
LAST-MODIFIED:20220331T131225Z
UID:406607-1651591800-1651599000@977wmoi.com
SUMMARY:2022 MRHS Spring Fundamentals Clinic
DESCRIPTION:It’s time for the Spring Fundamentals Clinic! This clinic is for athletes grades 5 through 10. Focusing on motions\, jumps\, and (everyone’s favorite) stunts! Participants will learn material to perform together for family & friends at the close of the clinic. Register below BEFORE APRIL 18TH!\n\n\nGreat opportunity for girls interested in tryouts at the end of May!\n\n\nMay 2 & 3 — 3:30-5:30pm @ MRHS\n$40 – includes shirt\nCurrent Grades 5-10 (any school + home school welcome!)\nMore details can be found on the registration form. Message us here or Coach Benson directly with any questions!\n\n\nYou can find the form “2022 MRHS Cheer Fundamentals Clinic (Grades 5-10)” at: https://form.jotform.com/jbenson24/2022springclinic
URL:https://977wmoi.com/event/2022-mrhs-spring-fundamentals-clinic-2/
END:VEVENT
BEGIN:VEVENT
DTSTART;TZID=America/Chicago:20220502T170000
DTEND;TZID=America/Chicago:20220502T183000
DTSTAMP:20260421T104146
CREATED:20210920T203122Z
LAST-MODIFIED:20210920T203122Z
UID:397894-1651510800-1651516200@977wmoi.com
SUMMARY:Monmouth American Legion Soup Supper
DESCRIPTION:All you can eat. Serving chili\, creamy potato soup\, beef and noodles\, and grilled cheese sandwiches. Each meal comes with a dessert\, drink\, and great friends to enjoy your meal with. A 50/50 raffle will be drawn at 6 pm. Cost is $8 for adults and $3 for children.
URL:https://977wmoi.com/event/monmouth-american-legion-soup-supper-9/
END:VEVENT
BEGIN:VEVENT
DTSTART;TZID=America/Chicago:20220502T153000
DTEND;TZID=America/Chicago:20220502T173000
DTSTAMP:20260421T104146
CREATED:20220331T130159Z
LAST-MODIFIED:20220331T130159Z
UID:406605-1651505400-1651512600@977wmoi.com
SUMMARY:2022 MRHS Spring Fundamentals Clinic
DESCRIPTION:It’s time for the Spring Fundamentals Clinic! This clinic is for athletes grades 5 through 10. Focusing on motions\, jumps\, and (everyone’s favorite) stunts! Participants will learn material to perform together for family & friends at the close of the clinic. Register below BEFORE APRIL 18TH!\n\n\nGreat opportunity for girls interested in tryouts at the end of May!\n\n\nMay 2 & 3 — 3:30-5:30pm @ MRHS\n$40 – includes shirt\nCurrent Grades 5-10 (any school + home school welcome!)\nMore details can be found on the registration form. Message us here or Coach Benson directly with any questions!\n\n\nYou can find the form “2022 MRHS Cheer Fundamentals Clinic (Grades 5-10)” at: https://form.jotform.com/jbenson24/2022springclinic
URL:https://977wmoi.com/event/2022-mrhs-spring-fundamentals-clinic/
END:VEVENT
BEGIN:VEVENT
DTSTART;TZID=America/Chicago:20220501T120000
DTEND;TZID=America/Chicago:20220501T180000
DTSTAMP:20260421T104146
CREATED:20220428T205859Z
LAST-MODIFIED:20220428T205859Z
UID:408089-1651406400-1651428000@977wmoi.com
SUMMARY:Solidarity Kermes for Diana Juarez
DESCRIPTION:In support of medical expenses for Diana Juarez. Event will be held at 425 North 11th Street in Monmouth. Tacos for $2. Cold drinks and desserts.
URL:https://977wmoi.com/event/solidarity-kermes-for-diana-juarez/
END:VEVENT
BEGIN:VEVENT
DTSTART;VALUE=DATE:20220501
DTEND;VALUE=DATE:20220523
DTSTAMP:20260421T104146
CREATED:20220426T163934Z
LAST-MODIFIED:20220426T163934Z
UID:407933-1651363200-1653263999@977wmoi.com
SUMMARY:Call to Artists: Art from the Heartland at the BCA
DESCRIPTION:The Buchanan Center for the Arts is calling all local and regional artists to submit their artwork by Saturday\, June 25th for the Art from the Heartland exhibition\, which will be in the gallery July 5th through August 26th. More details can be found at http://bcaarts.org.
URL:https://977wmoi.com/event/call-to-artists-art-from-the-heartland-at-the-bca/
END:VEVENT
BEGIN:VEVENT
DTSTART;TZID=America/Chicago:20220430T193000
DTEND;TZID=America/Chicago:20220430T193000
DTSTAMP:20260421T104146
CREATED:20220428T155322Z
LAST-MODIFIED:20220428T155322Z
UID:408062-1651347000-1651347000@977wmoi.com
SUMMARY:Galesburg Community Chorus Production
DESCRIPTION:
URL:https://977wmoi.com/event/galesburg-community-chorus-production/
END:VEVENT
BEGIN:VEVENT
DTSTART;TZID=America/Chicago:20220430T100000
DTEND;TZID=America/Chicago:20220430T140000
DTSTAMP:20260421T104146
CREATED:20220301T195441Z
LAST-MODIFIED:20220301T195441Z
UID:405242-1651312800-1651327200@977wmoi.com
SUMMARY:BCA Tromp-As-Writ: Mug Rug Class
DESCRIPTION:Tromp-As-Writ Weaving Guild will host four classes on weaving in the BCA Classroom. Participants learn the art of weaving basics while they create a mug rug. Beginners are encouraged to enroll! \nClasses are 10am-2pm Saturdays: April 30\, May 7\, and May 14. Class size is limited to 10 participants. Class fee for BCA members is $15 (for all four classes); Non-members $20 (for all four classes). Scholarships are available through the BCA. (You are welcome to bring a snack lunch.) Call the BCA at 309-734-3033 to reserve your spot.
URL:https://977wmoi.com/event/bca-tromp-as-writ-mug-rug-class-2/
END:VEVENT
BEGIN:VEVENT
DTSTART;TZID=America/Chicago:20220430T100000
DTEND;TZID=America/Chicago:20220430T120000
DTSTAMP:20260421T104146
CREATED:20220406T195334Z
LAST-MODIFIED:20220406T195334Z
UID:407115-1651312800-1651320000@977wmoi.com
SUMMARY:Prescription Drug Drop Off
DESCRIPTION:Join Representatives Dan Swanson and Norine Hammond along with the Galesburg Police Department for this event as they will be collecting unwanted or expired prescription drugs and safely disposing of them for FREE. The drive-thru drop off event will be held at the Galesburg Police Department\, 150 South Bend Street in Galesburg.
URL:https://977wmoi.com/event/prescription-drug-drop-off/
END:VEVENT
BEGIN:VEVENT
DTSTART;TZID=America/Chicago:20220430T090000
DTEND;TZID=America/Chicago:20220430T120000
DTSTAMP:20260421T104146
CREATED:20220405T185712Z
LAST-MODIFIED:20220405T185712Z
UID:407028-1651309200-1651320000@977wmoi.com
SUMMARY:City of Monmouth Shred Day
DESCRIPTION:Held at Citizens Lake in the Parking lot of the old Municipal Pool.
URL:https://977wmoi.com/event/city-of-monmouth-shred-day/
END:VEVENT
BEGIN:VEVENT
DTSTART;TZID=America/Chicago:20220429T170000
DTEND;TZID=America/Chicago:20220429T170000
DTSTAMP:20260421T104146
CREATED:20220405T194020Z
LAST-MODIFIED:20220405T194020Z
UID:407038-1651251600-1651251600@977wmoi.com
SUMMARY:Monmouth Area Chamber's Annual Membership & Awards Dinner Presents: Casino Night
DESCRIPTION:Held at the Monmouth Country Club. Tickets are $50 and includes a meal catered by the Patton Block and two complementary cocktails from Midwest Bank. Registration and cocktails are from 5 pm to 6 pm. Awards and dinner from 6 to 7 pm. Casino play 7 to 10 pm. Silent auction and prize winners will be announced at 10 pm.
URL:https://977wmoi.com/event/monmouth-area-chambers-annual-membership-awards-dinner-presents-casino-night/
END:VEVENT
BEGIN:VEVENT
DTSTART;TZID=America/Chicago:20220429T084500
DTEND;TZID=America/Chicago:20220429T120000
DTSTAMP:20260421T104146
CREATED:20220323T141235Z
LAST-MODIFIED:20220323T141235Z
UID:406198-1651221900-1651233600@977wmoi.com
SUMMARY:Health and Trade Career Exploration
DESCRIPTION:West central will hold a hands-on experience for Juniors and Seniors will be held at Fairview Center Church\, 1506 90th Street\, Monmouth. Registration is required http://go.illinois.edu/TradeExploration.
URL:https://977wmoi.com/event/health-and-trade-career-exploration/
END:VEVENT
BEGIN:VEVENT
DTSTART;TZID=America/Chicago:20220429T073000
DTEND;TZID=America/Chicago:20220429T170000
DTSTAMP:20260421T104146
CREATED:20220412T203016Z
LAST-MODIFIED:20220412T203016Z
UID:407369-1651217400-1651251600@977wmoi.com
SUMMARY:1st Christian Church Missionary Circle Rummage and Bake Sale
DESCRIPTION:Homemade pies\, bread\, cakes\, and cookies! Great assortment of household items. All clothing sold by the item or bag. Price is reduced each hour until closing. Sale will be held at 514 North Sunny Lane in Monmouth. All proceeds will support local and Worldwide Missions.
URL:https://977wmoi.com/event/1st-christian-church-missionary-circle-rummage-and-bake-sale/
END:VEVENT
BEGIN:VEVENT
DTSTART;TZID=America/Chicago:20220428T073000
DTEND;TZID=America/Chicago:20220428T083000
DTSTAMP:20260421T104146
CREATED:20220309T141651Z
LAST-MODIFIED:20220309T141651Z
UID:405570-1651131000-1651134600@977wmoi.com
SUMMARY:Healthy Workplace Virtual Events: OSF OnCall Virtual Urgent Care
DESCRIPTION:3 Part Series – Taking care of yourself\, so you can take care of others \nSpeakers: Kate Barth\, VP of On Demand Services and Brandi Clark\, VP of OSF OnCall Digital Care \nTopics covered during this session:\n•    How advances in digital and virtual healthcare allow convenience for all\n•    How provider consultation improves patient outcomes and increases satisfaction\n•    How digital care improves rural access to care \nRegister online by March 23 HERE
URL:https://977wmoi.com/event/healthy-workplace-virtual-events-osf-oncall-virtual-urgent-care/
END:VEVENT
BEGIN:VEVENT
DTSTART;TZID=America/Chicago:20220425T163000
DTEND;TZID=America/Chicago:20220425T190000
DTSTAMP:20260421T104146
CREATED:20220412T164508Z
LAST-MODIFIED:20220421T134551Z
UID:407338-1650904200-1650913200@977wmoi.com
SUMMARY:Heritage Bible Church Spring Indian Taco Supper
DESCRIPTION:Drive-thru only. $8 donation for plate size taco with toppings and ice cream. Donation proceeds will benefit Strom Center.
URL:https://977wmoi.com/event/heritage-bible-church-spring-indian-taco-supper/
END:VEVENT
BEGIN:VEVENT
DTSTART;TZID=America/Chicago:20220424T073000
DTEND;TZID=America/Chicago:20220424T103000
DTSTAMP:20260421T104146
CREATED:20220418T162417Z
LAST-MODIFIED:20220418T162417Z
UID:407572-1650785400-1650796200@977wmoi.com
SUMMARY:Monmouth VFW Breakfast Buffet
DESCRIPTION:Sponsored by the Monmouth VFW Auxiliary and the Monmouth American Legion Auxiliary. Cost for adults is $8 and children under the age of 6 are $4. Open to everyone in the public.
URL:https://977wmoi.com/event/monmouth-vfw-breakfast-buffet-5/
END:VEVENT
BEGIN:VEVENT
DTSTART;TZID=America/Chicago:20220423T173000
DTEND;TZID=America/Chicago:20220423T173000
DTSTAMP:20260421T104146
CREATED:20220406T205131Z
LAST-MODIFIED:20220406T205131Z
UID:407122-1650735000-1650735000@977wmoi.com
SUMMARY:KCCDD's 15th Annual Auction - Spring Break at the Park!
DESCRIPTION:$25 admission at the Knights of Columbus Hall in Galesburg. Gates open at 5:30. Nightly events will entail a live and silent auction\, dinner\, raffles\, and more. For more information search KCCDDINC on Facebook.
URL:https://977wmoi.com/event/kccdds-15th-annual-auction-spring-break-at-the-park/
END:VEVENT
BEGIN:VEVENT
DTSTART;TZID=America/Chicago:20220423T130000
DTEND;TZID=America/Chicago:20220424T170000
DTSTAMP:20260421T104146
CREATED:20220209T152053Z
LAST-MODIFIED:20220209T152053Z
UID:404237-1650718800-1650819600@977wmoi.com
SUMMARY:2022 Lions League Baseball
DESCRIPTION:Who’s eligible: Minors: Boys & Girls 8\,9 year olds; Majors: Boys & Girls 10\,11\,12 year olds \nPlayer Evaluations: All players will participate in a player evaluation session conducted at Harmon Park Attendance is mandatory. Players must attend ONE of the dates. All players will be on a team: Majors will be drafted and minors will be placed \nApril 23rd: Minor Evaluations – 8 & 9 year olds at 1pm at Harmon Park. Major Evaluations – 10\, 11 & 12 year olds at 2:30 pm at Harmon Park \nApril 24th: Minor Evaluations – 8 & 9 year olds at 1pm at Harmon Park. Major Evaluations – 10\, 11 & 12 year olds at 2:30 pm at Harmon Park \nContact Monmouth Noon Lions Club for more information
URL:https://977wmoi.com/event/2022-lions-league-baseball/
END:VEVENT
BEGIN:VEVENT
DTSTART;TZID=America/Chicago:20220423T100000
DTEND;TZID=America/Chicago:20220423T140000
DTSTAMP:20260421T104146
CREATED:20220301T195350Z
LAST-MODIFIED:20220301T195350Z
UID:405240-1650708000-1650722400@977wmoi.com
SUMMARY:BCA Tromp-As-Writ: Mug Rug Class
DESCRIPTION:Tromp-As-Writ Weaving Guild will host four classes on weaving in the BCA Classroom. Participants learn the art of weaving basics while they create a mug rug. Beginners are encouraged to enroll! \nClasses are 10am-2pm Saturdays: April 23\, April 30\, May 7\, and May 14. Class size is limited to 10 participants. Class fee for BCA members is $15 (for all four classes); Non-members $20 (for all four classes). Scholarships are available through the BCA. (You are welcome to bring a snack lunch.) Call the BCA at 309-734-3033 to reserve your spot.
URL:https://977wmoi.com/event/bca-tromp-as-writ-mug-rug-class/
END:VEVENT
BEGIN:VEVENT
DTSTART;TZID=America/Chicago:20220423T070000
DTEND;TZID=America/Chicago:20220423T150000
DTSTAMP:20260421T104146
CREATED:20220309T183504Z
LAST-MODIFIED:20220309T183504Z
UID:405619-1650697200-1650726000@977wmoi.com
SUMMARY:56th Annual Kiwanis Pancake Day
DESCRIPTION:All-you-can-eat pancakes and sausage (milk and coffee will be served)\, with drive-thru service available at the back of the American Legion building. The Kiwanis will be serving from 7 a.m. to 3 p.m. at the American Legion building in Monmouth\, North 11th Street and Route 34. Tickets are $7 for adults\, $3 for children 10 and younger. Fresh whole hog sausage will be available for $4 per pound. More information at www.facebook.com/kiwanismonmouth
URL:https://977wmoi.com/event/56th-annual-kiwanis-pancake-day/
LOCATION:American Legion Monmouth IL\, 1110 North 11th Street\, Monmouth\, IL\, 61462\, United States
END:VEVENT
BEGIN:VEVENT
DTSTART;VALUE=DATE:20220423
DTEND;VALUE=DATE:20220425
DTSTAMP:20260421T104146
CREATED:20220405T193729Z
LAST-MODIFIED:20220405T193729Z
UID:407036-1650672000-1650844799@977wmoi.com
SUMMARY:2022 Lions League Baseball Player Evaluations
DESCRIPTION:All players will participate in a player evaluation session conducted at Harmon Park in Monmouth. Attendance is mandatory. Players must attend ONE of the evaluation dates. All players will be placed on a team. Majors will be drafted\, and minors will be placed. Minors are boys and girls aged 8 and 9 years old. Majors are boys and girls aged 10\, 11\, or 12 years old. A player must be 8 years old before September 1\, 2022 and cannot be 13 before September 1\, 2022. Evaluation days are April 23rd and 24th. Minor evaluations on the 23rd begin at 1 pm. Major evaluations on the 23rd will follow at 2:30 pm. Minor evaluations on the 24th are at 1 pm and major evaluations follow again at 2:30 pm.
URL:https://977wmoi.com/event/2022-lions-league-baseball-player-evaluations/
END:VEVENT
BEGIN:VEVENT
DTSTART;TZID=America/Chicago:20220422T173000
DTEND;TZID=America/Chicago:20220422T200000
DTSTAMP:20260421T104146
CREATED:20220328T154334Z
LAST-MODIFIED:20220328T154334Z
UID:406413-1650648600-1650657600@977wmoi.com
SUMMARY:Stronghurst Booster Club Family BINGO Night
DESCRIPTION:At the Stronghurst American Legion. All ages are welcome. Hot dogs\, chips\, cookies\, and drinks will be provided beginning at 5:30 pm. BINGO begins at 6 pm.
URL:https://977wmoi.com/event/stronghurst-booster-club-family-bingo-night/
END:VEVENT
BEGIN:VEVENT
DTSTART;TZID=America/Chicago:20220422T173000
DTEND;TZID=America/Chicago:20220422T200000
DTSTAMP:20260421T104146
CREATED:20220316T143502Z
LAST-MODIFIED:20220316T143502Z
UID:405943-1650648600-1650657600@977wmoi.com
SUMMARY:Family BINGO Night
DESCRIPTION:Join at the Stronghurst American Legion for a FREE family fun night of BINGO! All ages are welcome. Hotdogs\, chips\, a cookie\, and drink will be provided beginning at 5:30 pm. Bingo games will begin at 6pm.
URL:https://977wmoi.com/event/family-bingo-night/
END:VEVENT
BEGIN:VEVENT
DTSTART;TZID=America/Chicago:20220422T170000
DTEND;TZID=America/Chicago:20220422T190000
DTSTAMP:20260421T104146
CREATED:20220418T170104Z
LAST-MODIFIED:20220418T170104Z
UID:407580-1650646800-1650654000@977wmoi.com
SUMMARY:Monmouth VFW Community Dinner
DESCRIPTION:Friday April 22 Monmouth VFW will be serving Pork Chop Sandwiches with 2 sides from 5:00-7:00. Public Welcome!
URL:https://977wmoi.com/event/monmouth-vfw-community-dinner/
END:VEVENT
BEGIN:VEVENT
DTSTART;TZID=America/Chicago:20220422T163000
DTEND;TZID=America/Chicago:20220422T183000
DTSTAMP:20260421T104146
CREATED:20220330T125619Z
LAST-MODIFIED:20220330T125619Z
UID:406478-1650645000-1650652200@977wmoi.com
SUMMARY:ICS Serenata Drive-thru Dinner
DESCRIPTION:SAVE THE DATE! IT’S BACK! \nThe ICS Serenata Drive-thru Dinner will be Friday\, April 22nd\, from 4:30pm to 6:30pm. Come out and enjoy authentic Mexican food prepared by Jalisco’s. More information is coming soon.
URL:https://977wmoi.com/event/ics-serenata-drive-thru-dinner/
END:VEVENT
BEGIN:VEVENT
DTSTART;TZID=America/Chicago:20220420T153000
DTEND;TZID=America/Chicago:20220420T180000
DTSTAMP:20260421T104146
CREATED:20220405T193125Z
LAST-MODIFIED:20220405T193125Z
UID:407034-1650468600-1650477600@977wmoi.com
SUMMARY:Monmouth-Roseville Developmental & Preschool Screenings
DESCRIPTION:Developmental screenings are for all families with children ages birth to 5 who want to know more about their child’s development. A Preschool screening must take place before Preschool enrollment can be considered. Requirements for a Preschool screening include: the child must be 3 years of age\, proof of income\, birth certificate\, and proof of residency. Screenings will be held at Lincoln Early Childhood in Monmouth. Call 309-734-2222 to schedule your appointment.
URL:https://977wmoi.com/event/monmouth-roseville-developmental-preschool-screenings-2/
END:VEVENT
BEGIN:VEVENT
DTSTART;TZID=America/Chicago:20220420T090000
DTEND;TZID=America/Chicago:20220420T120000
DTSTAMP:20260421T104146
CREATED:20220405T192701Z
LAST-MODIFIED:20220405T192701Z
UID:407032-1650445200-1650456000@977wmoi.com
SUMMARY:Monmouth-Roseville Developmental & Preschool Screenings
DESCRIPTION:Developmental screenings are for all families with children ages birth to 5 who want to know more about their child’s development. A Preschool screening must take place before Preschool enrollment can be considered. Requirements for a Preschool screening include: the child must be 3 years of age\, proof of income\, birth certificate\, and proof of residency. Screenings will be held at Lincoln Early Childhood in Monmouth. Call 309-734-2222 to schedule your appointment.
URL:https://977wmoi.com/event/monmouth-roseville-developmental-preschool-screenings/
END:VEVENT
BEGIN:VEVENT
DTSTART;VALUE=DATE:20220418
DTEND;VALUE=DATE:20220429
DTSTAMP:20260421T104146
CREATED:20220322T133422Z
LAST-MODIFIED:20220322T133422Z
UID:406118-1650240000-1651190399@977wmoi.com
SUMMARY:WCHD Discounted Lab Draw
DESCRIPTION:$75 lab fee includes: full lipid panel. hemoglobin A1c\, comprehensive metabolic panel\, and complete blood count. PSA screenings are $30. This lab work is by appointment only. Call 309-734-1314 ext. 3. Clients will need to fast for these labs\, so noting except water for 12 hours prior to your appointment.
URL:https://977wmoi.com/event/wchd-discounted-lab-draw-2/
END:VEVENT
BEGIN:VEVENT
DTSTART;TZID=America/Chicago:20220416T130000
DTEND;TZID=America/Chicago:20220416T130000
DTSTAMP:20260421T104146
CREATED:20220412T132709Z
LAST-MODIFIED:20220412T132709Z
UID:407287-1650114000-1650114000@977wmoi.com
SUMMARY:18th Annual Stronghurst Easter Egg Hunt
DESCRIPTION:Get your Easter baskets ready! This is an egg hunt you won’t want to miss! For children up to 10 years of age. Please bring your own basket. In case of inclement weather\, Easter goodie bags will be handed out at 1:00 pm in the Park Shelter House.
URL:https://977wmoi.com/event/18th-annual-stronghurst-easter-egg-hunt/
END:VEVENT
BEGIN:VEVENT
DTSTART;TZID=America/Chicago:20220416T100000
DTEND;TZID=America/Chicago:20220416T120000
DTSTAMP:20260421T104146
CREATED:20220330T133134Z
LAST-MODIFIED:20220330T133134Z
UID:406496-1650103200-1650110400@977wmoi.com
SUMMARY:A Hoppin' Good Time at the Kirkwood Park District
DESCRIPTION:Signups for a bike raffle. Two bikes for each age group\, 6 bikes total. $2 a ticket or $10 for 6 tickets. Easter egg hunt for age groups 0-3\, 3-6\, and 6-9 from 10:30 to 11 am. Duck Pool and pictures with the Easter Bunny begin at 11 am followed by story time and the bike raffle winner’s announcement from 11:30 to noon.
URL:https://977wmoi.com/event/a-hoppin-good-time-at-the-kirkwood-park-district/
END:VEVENT
BEGIN:VEVENT
DTSTART;TZID=America/Chicago:20220416T100000
DTEND;TZID=America/Chicago:20220416T100000
DTSTAMP:20260421T104146
CREATED:20220328T154156Z
LAST-MODIFIED:20220328T154156Z
UID:406411-1650103200-1650103200@977wmoi.com
SUMMARY:Faith Bible Easter Egg Hunt
DESCRIPTION:For preschoolers through 6th grade. After the egg hunt\, the children will hear the story of the empty “egg” that represents the empty tomb. Held at the Faith Bible Church\, 807 Warren Street in Oquawka.
URL:https://977wmoi.com/event/faith-bible-easter-egg-hunt/
END:VEVENT
END:VCALENDAR