BEGIN:VCALENDAR
VERSION:2.0
PRODID:-//Prairie Communications, LLC - ECPv6.15.20//NONSGML v1.0//EN
CALSCALE:GREGORIAN
METHOD:PUBLISH
X-ORIGINAL-URL:https://977wmoi.com
X-WR-CALDESC:Events for Prairie Communications, LLC
REFRESH-INTERVAL;VALUE=DURATION:PT1H
X-Robots-Tag:noindex
X-PUBLISHED-TTL:PT1H
BEGIN:VTIMEZONE
TZID:America/Chicago
BEGIN:DAYLIGHT
TZOFFSETFROM:-0600
TZOFFSETTO:-0500
TZNAME:CDT
DTSTART:20220313T080000
END:DAYLIGHT
BEGIN:STANDARD
TZOFFSETFROM:-0500
TZOFFSETTO:-0600
TZNAME:CST
DTSTART:20221106T070000
END:STANDARD
BEGIN:DAYLIGHT
TZOFFSETFROM:-0600
TZOFFSETTO:-0500
TZNAME:CDT
DTSTART:20230312T080000
END:DAYLIGHT
BEGIN:STANDARD
TZOFFSETFROM:-0500
TZOFFSETTO:-0600
TZNAME:CST
DTSTART:20231105T070000
END:STANDARD
BEGIN:DAYLIGHT
TZOFFSETFROM:-0600
TZOFFSETTO:-0500
TZNAME:CDT
DTSTART:20240310T080000
END:DAYLIGHT
BEGIN:STANDARD
TZOFFSETFROM:-0500
TZOFFSETTO:-0600
TZNAME:CST
DTSTART:20241103T070000
END:STANDARD
END:VTIMEZONE
BEGIN:VEVENT
DTSTART;TZID=America/Chicago:20230714T170000
DTEND;TZID=America/Chicago:20230714T200000
DTSTAMP:20260419T112229
CREATED:20230511T184236Z
LAST-MODIFIED:20230511T184236Z
UID:427898-1689354000-1689364800@977wmoi.com
SUMMARY:Monmouth Farmer's Market & More
DESCRIPTION:Located in the 100 block of South 1st Street
URL:https://977wmoi.com/event/monmouth-farmers-market-more-7/
END:VEVENT
BEGIN:VEVENT
DTSTART;VALUE=DATE:20230715
DTEND;VALUE=DATE:20230716
DTSTAMP:20260419T112229
CREATED:20230329T135335Z
LAST-MODIFIED:20230329T135335Z
UID:425272-1689379200-1689465599@977wmoi.com
SUMMARY:Christmas in July Rummage Sale
DESCRIPTION:At the Stronghurst American Legion
URL:https://977wmoi.com/event/christmas-in-july-rummage-sale/
END:VEVENT
BEGIN:VEVENT
DTSTART;VALUE=DATE:20230715
DTEND;VALUE=DATE:20230720
DTSTAMP:20260419T112229
CREATED:20230706T142927Z
LAST-MODIFIED:20230706T142927Z
UID:430609-1689379200-1689811199@977wmoi.com
SUMMARY:McDonough County Fair 4-H Show Schedule
DESCRIPTION:
URL:https://977wmoi.com/event/mcdonough-county-fair-4-h-show-schedule/
END:VEVENT
BEGIN:VEVENT
DTSTART;VALUE=DATE:20230715
DTEND;VALUE=DATE:20230716
DTSTAMP:20260419T112229
CREATED:20230706T162013Z
LAST-MODIFIED:20230706T162013Z
UID:430632-1689379200-1689465599@977wmoi.com
SUMMARY:Saturday at the Knox County Fair
DESCRIPTION:Robbo’s Extreme Demolition Dery in the grandstands at 5:30 pm. Adult tickets are $10\, students are $5. Spectator pit passes are $20. Sam N Marshas Delite/Inlaws N Outlaws in the Entertainment Tent. Amusement ride armbands are $25 from 1 to 4 pm. Individual tickets for rides from 5:30 pm to 10 pm. A complete list of events can be found online at Knox County Fair | Illinois (knoxfair.com).
URL:https://977wmoi.com/event/saturday-at-the-knox-county-fair/
END:VEVENT
BEGIN:VEVENT
DTSTART;TZID=America/Chicago:20230715T080000
DTEND;TZID=America/Chicago:20230715T120000
DTSTAMP:20260419T112229
CREATED:20230615T184116Z
LAST-MODIFIED:20230615T184116Z
UID:429641-1689408000-1689422400@977wmoi.com
SUMMARY:Village of Avon Farmers Market
DESCRIPTION:On the first and third Saturdays from May to October\, at the Market Village Hall 102 S Main St\, Avon\, IL 61415\, from 8am to noon. Fresh produce to mouth-watering baked goods. Make it a family event and bring your kids along. They can learn about agriculture through educational opportunities and experience the fun of community gathering made.
URL:https://977wmoi.com/event/village-of-avon-farmers-market-3/
END:VEVENT
BEGIN:VEVENT
DTSTART;TZID=America/Chicago:20230715T110000
DTEND;TZID=America/Chicago:20230715T130000
DTSTAMP:20260419T112229
CREATED:20230711T154655Z
LAST-MODIFIED:20230711T154655Z
UID:430901-1689418800-1689426000@977wmoi.com
SUMMARY:Glass Etching at the BCA
DESCRIPTION:Join us Saturday\, July 15 from 11am to 1pm in the BCA Classroom as Rebecca Quick teaches an introduction to glass etching. Each participant will receive one water bottle for the class. What a fun way to hydrate throughout the summer with a piece of artwork! This class is designed for participants 12 years and older. Class fee is $10\, BCA members are free. Scholarships are available. Call 309-734-3033 to reserve your spot today.
URL:https://977wmoi.com/event/glass-etching-at-the-bca/
END:VEVENT
BEGIN:VEVENT
DTSTART;TZID=America/Chicago:20230715T110000
DTEND;TZID=America/Chicago:20230715T140000
DTSTAMP:20260419T112229
CREATED:20230710T114457Z
LAST-MODIFIED:20230710T114457Z
UID:430798-1689418800-1689429600@977wmoi.com
SUMMARY:Warren County Crimestoppers BBQ
DESCRIPTION:Join the Warren County Crimestoppers for lunch at the Monmouth Fareway parking lot. Serving specialty blended burgers\, brats\, and tenderized pork chops.
URL:https://977wmoi.com/event/warren-county-crimestoppers-bbq/
END:VEVENT
BEGIN:VEVENT
DTSTART;TZID=America/Chicago:20230715T120000
DTEND;TZID=America/Chicago:20230715T120000
DTSTAMP:20260419T112229
CREATED:20230629T162758Z
LAST-MODIFIED:20230629T162758Z
UID:430344-1689422400-1689422400@977wmoi.com
SUMMARY:Strom Center in Monmouth Potluck
DESCRIPTION:Plates\, silverware\, and cups will be furnished. Bring a food dish to share. BINGO will be played following the meal.
URL:https://977wmoi.com/event/strom-center-in-monmouth-potluck/
END:VEVENT
BEGIN:VEVENT
DTSTART;TZID=America/Chicago:20230715T173000
DTEND;TZID=America/Chicago:20230715T173000
DTSTAMP:20260419T112229
CREATED:20230606T185953Z
LAST-MODIFIED:20230606T190012Z
UID:429189-1689442200-1689442200@977wmoi.com
SUMMARY:Warren County Fair Pageant
DESCRIPTION:The Miss Warren County Queen\, Junior Miss\, and Little Miss pageant will be held at the Fairgrounds in Roseville. Food tent will be set up beginning at 5 pm. Home (ilwcf.com)
URL:https://977wmoi.com/event/warren-county-fair-pageant/
END:VEVENT
BEGIN:VEVENT
DTSTART;TZID=America/Chicago:20230715T190000
DTEND;TZID=America/Chicago:20230715T190000
DTSTAMP:20260419T112229
CREATED:20230706T130229Z
LAST-MODIFIED:20230706T130229Z
UID:430589-1689447600-1689447600@977wmoi.com
SUMMARY:The Goldenrods: Music on Our Front Porch at the Western Illinois Museum
DESCRIPTION:Join us in welcoming the musical duo The Goldenrods to Our Front Porch.  Hailing from St. Louis\, Ryan Koenig on octave mandolin\, fiddle\, plectrum banjo\, and guitar along with Jess Adkins on vocals\, guitar\, and accordion\, will bring a fresh take on “country and midwestern” music. Performing original material as well as traditional regional music from Louisiana to Wisconsin\, the Museum is proud to feature The Goldenrods on Our Front Porch. The Our Front Porch series is set in a truly convivial space with gorgeous windows\, great lighting\, and historic artifacts. The doors and bar open at 6:30 pm. Come early to view the current exhibit\,  explore our collection\, socialize with friends and family\, and enjoy our casual atmosphere.  There is a suggested $5 donation at the door.
URL:https://977wmoi.com/event/the-goldenrods-music-on-our-front-porch-at-the-western-illinois-museum/
END:VEVENT
BEGIN:VEVENT
DTSTART;VALUE=DATE:20230716
DTEND;VALUE=DATE:20230717
DTSTAMP:20260419T112229
CREATED:20230606T190115Z
LAST-MODIFIED:20230606T190115Z
UID:429192-1689465600-1689551999@977wmoi.com
SUMMARY:Warren County Fair Sunday Events
DESCRIPTION:Church in the Park at 10 am. Mud volleyball at 1 pm. Food tent will be available beginning at 1 pm.
URL:https://977wmoi.com/event/warren-county-fair-sunday-events/
END:VEVENT
BEGIN:VEVENT
DTSTART;TZID=America/Chicago:20230716T073000
DTEND;TZID=America/Chicago:20230716T073000
DTSTAMP:20260419T112229
CREATED:20230531T164945Z
LAST-MODIFIED:20230531T164945Z
UID:428849-1689492600-1689492600@977wmoi.com
SUMMARY:Warren County Agricultural Fair 5K Run/Walk
DESCRIPTION:Entry fee is $25. Race day entries will begin at 7:30 am at the Warren County Fairgrounds in Roseville. Pre-register by June 30th to be guaranteed a t-shirt. Race begins at 8 am. A kids run will also take place. Email warrencofair1928@gmail.com for more information or to register.
URL:https://977wmoi.com/event/warren-county-agricultural-fair-5k-run-walk-2/
END:VEVENT
BEGIN:VEVENT
DTSTART;TZID=America/Chicago:20230716T163000
DTEND;TZID=America/Chicago:20230716T190000
DTSTAMP:20260419T112229
CREATED:20230703T151557Z
LAST-MODIFIED:20230703T151628Z
UID:430450-1689525000-1689534000@977wmoi.com
SUMMARY:Gerlaw Christian Church Annual Homemade Ice Cream Social
DESCRIPTION:Join for old fashioned homemade ice cream\, toppings\, cake\, cookies\, and pie. Dine-in or carry-out available at the Gerlaw Christian Church\, 948 245th Ave. Free will donation.
URL:https://977wmoi.com/event/gerlaw-christian-church-annual-homemade-ice-cream-social-2/
END:VEVENT
BEGIN:VEVENT
DTSTART;TZID=America/Chicago:20230717T180000
DTEND;TZID=America/Chicago:20230717T190000
DTSTAMP:20260419T112229
CREATED:20230629T164801Z
LAST-MODIFIED:20230629T164801Z
UID:430368-1689616800-1689620400@977wmoi.com
SUMMARY:Open Mic Night at the Galesburg Public Library
DESCRIPTION:All are invited to come sing\, play music\, tell jokes\, recite poetry\, or try out any other type of performance in front of a crowd. Snacks and refreshments will be available while watching the performances. Walk-ins are welcomed\, but advance signups will have first priority.
URL:https://977wmoi.com/event/open-mic-night-at-the-galesburg-public-library/
END:VEVENT
BEGIN:VEVENT
DTSTART;TZID=America/Chicago:20230718T100000
DTEND;TZID=America/Chicago:20230718T140000
DTSTAMP:20260419T112229
CREATED:20230713T132507Z
LAST-MODIFIED:20230713T132507Z
UID:431048-1689674400-1689688800@977wmoi.com
SUMMARY:Summer Food & Hygiene Drive
DESCRIPTION:The Community Hygiene Pantry and FISH Food Pantry will be at Nature’s Treatment parking lot in Galesburg to collect food and hygiene donations to help stock their shelves.
URL:https://977wmoi.com/event/summer-food-hygiene-drive/
END:VEVENT
BEGIN:VEVENT
DTSTART;VALUE=DATE:20230719
DTEND;VALUE=DATE:20230720
DTSTAMP:20260419T112229
CREATED:20230531T165341Z
LAST-MODIFIED:20230531T165341Z
UID:428857-1689724800-1689811199@977wmoi.com
SUMMARY:ROE #33 Summerfest
DESCRIPTION:Music\, activities\, food\, and fun for all ages! For Warren County the event will be at the Warren County Fairgrounds in Roseville on July 19th from 5 to 7 pm. For Mercer County it will be held at the Aledo Pool on July 27th from 4 to 7 pm. For Knox County the event will be held at Rotary Park on August 2nd from 5 to 7 pm. These events are free to attend.
URL:https://977wmoi.com/event/roe-33-summerfest-2/
END:VEVENT
BEGIN:VEVENT
DTSTART;VALUE=DATE:20230719
DTEND;VALUE=DATE:20230720
DTSTAMP:20260419T112229
CREATED:20230606T190346Z
LAST-MODIFIED:20230606T192339Z
UID:429194-1689724800-1689811199@977wmoi.com
SUMMARY:Warren County Fair Wednesday Events
DESCRIPTION:Poultry show at 9 am\, followed by the rabbit show. Bucket calf and dairy show at 1 pm\, followed by the goat show. Family night and summer fest in the grandstands with free entry beginning at 5pm. Food tent available beginning at 5 pm. Family night includes a chicken and pig scramble\, following the conclusion of a kiddie tractor pedal pull at 5: 30 pm. Bounce houses from 5 to 8:30 pm.
URL:https://977wmoi.com/event/warren-county-fair-wednesday-events/
END:VEVENT
BEGIN:VEVENT
DTSTART;TZID=America/Chicago:20230719T090000
DTEND;TZID=America/Chicago:20230719T173000
DTSTAMP:20260419T112229
CREATED:20230719T143655Z
LAST-MODIFIED:20230719T143655Z
UID:431379-1689757200-1689787800@977wmoi.com
SUMMARY:Walk-In Sports Physicals at MDH Monmouth Clinic
DESCRIPTION:$10 cash or check only for walk-in sports physicals will be offered at the MDH Monmouth Clinic\, 2 AmericInn Way\, Suite B&C\, Monmouth.
URL:https://977wmoi.com/event/walk-in-sports-physicals-at-mdh-monmouth-clinic/
END:VEVENT
BEGIN:VEVENT
DTSTART;TZID=America/Chicago:20230719T180000
DTEND;TZID=America/Chicago:20230719T180000
DTSTAMP:20260419T112229
CREATED:20230706T162849Z
LAST-MODIFIED:20230706T162849Z
UID:430635-1689789600-1689789600@977wmoi.com
SUMMARY:Henderson County Fair Queen Pageant
DESCRIPTION:Held at the Barn at Fairview Acres in Biggsville. A complete list of events can be found at Henderson County Fair (hendersoncofair.com)
URL:https://977wmoi.com/event/henderson-county-fair-queen-pageant/
END:VEVENT
BEGIN:VEVENT
DTSTART;VALUE=DATE:20230720
DTEND;VALUE=DATE:20230721
DTSTAMP:20260419T112229
CREATED:20230606T190918Z
LAST-MODIFIED:20230606T190918Z
UID:429196-1689811200-1689897599@977wmoi.com
SUMMARY:Warren County Fair Thursday Events
DESCRIPTION:Swine show at 8 am followed by the sheep show\, recognition program\, breeding beef show\, and the steer show. Master showmanship will be at the conclusion of each species showmanship class and winners will be announced at the end of the steer show. Also\, the flower show is at 10 am and horticulture at 1 pm. The Annual Livestock Premium Auction will be at 6 pm in the Swine show ring. Triple J Bull Riding in the grandstands begins at 7 pm. Admission prices are $10 and kids 3 and younger are free. Staggard will be in the Entertainment Tent following the grandstand event.
URL:https://977wmoi.com/event/warren-county-fair-thursday-events/
END:VEVENT
BEGIN:VEVENT
DTSTART;VALUE=DATE:20230720
DTEND;VALUE=DATE:20230721
DTSTAMP:20260419T112229
CREATED:20230714T141545Z
LAST-MODIFIED:20230714T141545Z
UID:431108-1689811200-1689897599@977wmoi.com
SUMMARY:McAlister's Deli Free Tea Day
DESCRIPTION:Come one\, Come ALL! Thursday\, July 20th marks the 15th Annual FREE TEA DAY! All day long\, enjoy a 32 oz. Sweet or Unsweet Tea on McAlister’s including your favorite flavor shots or Tea combos. No purchase necessary! Valid in-store\, online at www.mcalisters.deli.com\, or on the McAlister’s Deli app. Limit one per guest in-store. Limit 4 free teas per order through the McAlister’s Deli website or app.
URL:https://977wmoi.com/event/mcalisters-deli-free-tea-day/
END:VEVENT
BEGIN:VEVENT
DTSTART;TZID=America/Chicago:20230720T120000
DTEND;TZID=America/Chicago:20230720T130000
DTSTAMP:20260419T112229
CREATED:20230606T201232Z
LAST-MODIFIED:20230606T201232Z
UID:429221-1689854400-1689858000@977wmoi.com
SUMMARY:BCA Summer Art at the Pattee Plaza
DESCRIPTION:This series is free for kindergarten through 8th grade students. Reservations are required and can be made by calling 309-734-3033. Classes are held noon to 1 pm with lunch included. July 20th: Origami butterflies and frogs.
URL:https://977wmoi.com/event/bca-summer-art-at-the-pattee-plaza/
END:VEVENT
BEGIN:VEVENT
DTSTART;TZID=America/Chicago:20230720T173000
DTEND;TZID=America/Chicago:20230720T193000
DTSTAMP:20260419T112229
CREATED:20230706T130327Z
LAST-MODIFIED:20230706T130327Z
UID:430591-1689874200-1689881400@977wmoi.com
SUMMARY:The Good Time Gals: Music on Our Front Porch at the Western Illinois Museum
DESCRIPTION:The Good Time Gals will no doubt bring some excitement to Our Front Porch. Join us for a memorable evening as part of our popular music series set in the most unexpected and interesting venue in McDonough County. On Thursday\, July 20th\, The Good Time Gals will share their original material that pulls influences of Americana\, Blues\, Vintage Jazz\, Honky Tonk\, and Western Swing\, elevated by rich vocal harmonies and bold arrangements. The doors and bar open at 5:00 with two sets of music starting at 5:30 pm. This talented “all-gal” quartet is composed of “Miss Myra” Burnette on guitar and vocals and Debbie Briggs on lead vocals\, Beth Varela on percussion and cello\, and Alissa Jacobsen on fiddle.  Their unique sound will surely keep toes tapping and hearts humming well after the show has ended.  With performances at some of the finest venues and festivals in Minnesota\, the Museum could not be more excited to welcome The Good Time Gals to Our Front Porch.  Give them a listen on Spotify.
URL:https://977wmoi.com/event/the-good-time-gals-music-on-our-front-porch-at-the-western-illinois-museum/
END:VEVENT
BEGIN:VEVENT
DTSTART;VALUE=DATE:20230721
DTEND;VALUE=DATE:20230722
DTSTAMP:20260419T112229
CREATED:20230606T191244Z
LAST-MODIFIED:20230606T191244Z
UID:429198-1689897600-1689983999@977wmoi.com
SUMMARY:Warren County Fair Friday Events
DESCRIPTION:Junior barrow show at 8 am\, followed by the junior swine show\, junior sheep show\, and the junior meat goat show. Junior home economics show is at 9 am. Open textiles\, crafts\, and fine art show at 9 am. Open dairy\, apiary\, and culinary at 9 am. Bounce house inflatables from 6 to 9 pm. Power wheels derby at 6:30 pm. Demo derby at 7 pm. Madd Hoss Jackson in the Entertainment Tent.
URL:https://977wmoi.com/event/warren-county-fair-friday-events/
END:VEVENT
BEGIN:VEVENT
DTSTART;TZID=America/Chicago:20230721T110000
DTEND;TZID=America/Chicago:20230721T130000
DTSTAMP:20260419T112229
CREATED:20230505T133809Z
LAST-MODIFIED:20230505T133809Z
UID:427514-1689937200-1689944400@977wmoi.com
SUMMARY:Raritan State Bank Cookout
DESCRIPTION:Held at the Raritan State Bank Pavilion. Proceeds benefitting Three Feathers Outreach.
URL:https://977wmoi.com/event/raritan-state-bank-cookout-5/
END:VEVENT
BEGIN:VEVENT
DTSTART;TZID=America/Chicago:20230721T170000
DTEND;TZID=America/Chicago:20230721T190000
DTSTAMP:20260419T112229
CREATED:20230609T144921Z
LAST-MODIFIED:20230609T144921Z
UID:429367-1689958800-1689966000@977wmoi.com
SUMMARY:20th Art from the HeARTland Gallery Reception
DESCRIPTION:The 20th Art from the HeARTland Gallery Reception will be held at the Buchanan Center for the Arts\, 64 Public Square in downtown Monmouth. Pieces will be on display through September 8th.
URL:https://977wmoi.com/event/20th-art-from-the-heartland-gallery-reception/
END:VEVENT
BEGIN:VEVENT
DTSTART;TZID=America/Chicago:20230721T170000
DTEND;TZID=America/Chicago:20230721T200000
DTSTAMP:20260419T112229
CREATED:20230511T184354Z
LAST-MODIFIED:20230511T184354Z
UID:427900-1689958800-1689969600@977wmoi.com
SUMMARY:Monmouth Farmer's Market & More
DESCRIPTION:Located in the 100 block of South 1st Street
URL:https://977wmoi.com/event/monmouth-farmers-market-more-8/
END:VEVENT
BEGIN:VEVENT
DTSTART;TZID=America/Chicago:20230721T190000
DTEND;TZID=America/Chicago:20230721T190000
DTSTAMP:20260419T112229
CREATED:20230501T200721Z
LAST-MODIFIED:20230501T200721Z
UID:427214-1689966000-1689966000@977wmoi.com
SUMMARY:Free Family Movie Night
DESCRIPTION:Bring a lawn chair or blanket and enjoy Strange World\, which will begin at dusk at the Lake Storey West Lawn Pavilion. Free popcorn available while supplies last. The mobile playground truck and games will be on hand from 7 to 8 pm.
URL:https://977wmoi.com/event/free-family-movie-night/
END:VEVENT
BEGIN:VEVENT
DTSTART;TZID=America/Chicago:20230721T190000
DTEND;TZID=America/Chicago:20230721T190000
DTSTAMP:20260419T112229
CREATED:20230523T131119Z
LAST-MODIFIED:20230523T131119Z
UID:428467-1689966000-1689966000@977wmoi.com
SUMMARY:Warren County Agricultural Fair Demo Derby
DESCRIPTION:Held at the Warren County Fairgrounds in Roseville. No entry fee. Pit passes are $20. Trophies and cash prizes will be given to Top 5 of each class. For all rules and regulations\, visit the Warren County Fair Demo Facebook page.
URL:https://977wmoi.com/event/warren-county-agricultural-fair-demo-derby/
END:VEVENT
BEGIN:VEVENT
DTSTART;VALUE=DATE:20230722
DTEND;VALUE=DATE:20230723
DTSTAMP:20260419T112229
CREATED:20230518T191047Z
LAST-MODIFIED:20230518T191047Z
UID:428283-1689984000-1690070399@977wmoi.com
SUMMARY:Western Illinois Animal Rescue Golf Outing
DESCRIPTION:Mark your calendars! Shotgun start at the Twin Oaks Country Club in Blandinsville. More details coming soon!
URL:https://977wmoi.com/event/western-illinois-animal-rescue-golf-outing/
END:VEVENT
END:VCALENDAR